{"text_format":"1","workbook":"xlsx","n_sheets":17,"sheets":["MENU","Atividade 1","Atividade 2","Atividade 3","Atividade 4","Atividade 5","Atividade 6","Atividade 7","Atividade 8","Atividade 9","Geral Propriedade","Pessoal","Gerais","Sugestões de custos","Instruções","GRÁFICO","BD Caminhos"],"not_rendered":{"charts":13,"images":25,"macros":1,"external_links":0,"defined_names":31,"comments":0,"pivot_tables":3},"unopened":[],"bounds":{"document_bytes":16777216,"sheet_cells":100000,"rows_first":2000,"rows_last":500,"rows_between":2000,"halvings":0,"cell_chars":16384,"cell_head_chars":4096},"cells_cut":0,"cells_raw":0,"read":"whole","date_system":"1900"}

{"sheet":"MENU","index":0,"n_rows":1048576,"n_cols":16383,"rows_kept":4500,"cut":true,"hidden":false,"merged":[[7,1,8,9],[1048575,16382,1048575,16383],[1,1,1,2],[2,1,2,2],[3,1,3,2],[0,1,0,2],[1,3,1,5],[2,3,2,5],[3,3,3,5],[5,5,6,6]],"bounds":{"rows_first":2000,"rows_last":500,"rows_between":2000,"halvings":0}}
[null,"Dados da Propriedade"]
[null,"Produtor(a):",null,null,null,null,null,null,null,null,null,null,null,null,null,null,null,null,null,null,null,null,null,null,null,null,null,null,null,null,null,null,null,null,null,null,null,null,null,null,null,null,null,null,null,null,{"$f":"B25&\".\"&\" \" &C25","v":"1. Avicultura"}]
[null,"Município:",null,null,null,null,null,null,null,null,null,null,null,null,null,null,null,null,null,null,null,null,null,null,null,null,null,null,null,null,null,null,null,null,null,null,null,null,null,null,null,null,null,null,null,null,"2. Suinocultura"]
[null,"Área da Propriedade:",null,null,null,null,null,null,null,null,null,null,null,null,null,null,null,null,null,null,null,null,null,null,null,null,null,null,null,null,null,null,null,null,null,null,null,null,null,null,null,null,null,null,null,null,"3. Lavoura de Soja"]
[null,null,null,null,null,null,null,null,null,null,null,null,null,null,null,null,null,null,null,null,null,null,null,null,null,null,null,null,null,null,null,null,null,null,null,null,null,null,null,null,null,null,null,null,null,null,"4. Lavoura de Milho"]
[null,null,null,null,null,0,null,null,null,null,null,null,null,null,null,null,null,null,null,null,null,null,null,null,null,null,null,null,null,null,null,null,null,null,null,null,null,null,null,null,null,null,null,null,null,null,"5. Bovinocultura de Leite"]
[null,null,null,null,null,null,null,null,null,null,null,null,null,null,null,null,null,null,null,null,null,null,null,null,null,null,null,null,null,null,null,null,null,null,null,null,null,null,null,null,null,null,null,null,null,null,"6. Bovinocultura de Corte"]
[null,"FLUXO DE CAIXA ANUAL",null,null,null,null,null,null,null,null,null,null,null,null,null,null,null,null,null,null,null,null,null,null,null,null,null,null,null,null,null,null,null,null,null,null,null,null,null,null,null,null,null,null,null,null,"7. Atividade"]
[null,null,null,null,null,null,null,null,null,null,null,null,null,null,null,null,null,null,null,null,null,null,null,null,null,null,null,null,null,null,null,null,null,null,null,null,null,null,null,null,null,null,null,null,null,null,"8. Atividade"]
[null,null,null,null,null,null,null,null,null,null,null,null,null,null,null,null,null,null,null,null,null,null,null,null,null,null,null,null,null,null,null,null,null,null,null,null,null,null,null,null,null,null,null,null,null,null,"9. Atividade"]
[null,null,null,null,null,null,null,null,null,null,null,null,null,null,null,null,null,null,null,null,null,null,null,null,null,null,null,null,null,null,null,null,null,null,null,null,null,null,null,null,null,null,null,null,null,null,"Obs.: Para alterar a atividade e/ou o ano inicial da atividade, digite a informação desejada. Clique com o botão \"ATUALIZAR ANO\" ou \"ATUALIZAR ATIVIDADE\"."]
[null,null,null,null,null,null,null,null,null,null,null,null,null,null,null,null,null,null,null,null,null,null,null,null,null,null,null,null,null,null,null,null,null,null,null,null,null,null,null,null,null,null,null,null,null,null,"IMPORTANTE: Clique no botão de \"INSTRUÇÕES\" e leia atentamente todas elas antes de iniciar o uso das planilhas."]
[]
[]
[]
[]
[]
[]
[]
[]
[]
[]
[]
[null,null,"ÍNDICE"]
[null,1,"Avicultura"]
[null,2,"Suinocultura"]
[null,3,"Lavoura de Soja"]
[null,4,"Lavoura de Milho"]
[null,5,"Bovinocultura de Leite"]
[null,6,"Bovinocultura de Corte"]
[null,7,"Atividade"]
[null,8,"Atividade"]
[null,9,"Atividade"]
[]
[]
[]
[]
[]
[]
[]
[]
[]
[]
[]
[]
[]
[]
[]
[]
[]
[]
[]
[]
[]
[]
[]
[]
[]
[]
[]
[]
[]
[]
[]
[]
[]
[]
[]
[]
[]
[]
[]
[]
[]
[]
[]
[]
[]
[]
[]
[]
[]
[]
[]
[]
[]
[]
[]
[]
[]
[]
[]
[]
[]
[]
[]
[]
[]
[]
[]
[]
[null,null,null,null,null,null,null,null,null,null,null,null,"Bini"]
[null,null,null,null,null,null,null,null,null,null,null,null,"Gherpelli"]
[]
[]
[]
[]
[null,null,null,null,null,null,null,null,null,null,null,null,"Pessoais"]
[null,null,null,null,null,null,null,null,null,null,null,null,"Diversos"]
[null,null,null,null,null,null,null,null,null,null,null,null,"Instruções"]
[null,null,null,null,null,null,null,null,null,null,null,null,"Resumo Propriedade"]
[null,null,null,null,null,null,null,null,null,null,null,null,"Gráficos"]
[null,null,null,null,null,null,null,null,null,null,null,null,"Sugestões Custos"]
[]
[]
[]
[]
[]
[]
[]
[]
[]
[]
[]
[]
[]
[]
[]
[]
[]
[]
[]
[]
[]
[]
[]
[]
[]
[]
[]
[]
[]
[]
[]
[]
[]
[]
[]
[]
[]
[]
[]
[]
[]
[]
[]
[]
[]
[]
[]
[]
[]
[]
[]
[]
[]
[]
[]
[]
[]
[]
[]
[]
[]
[]
[]
[]
[]
[]
[]
[]
[]
[]
[]
[]
[]
[]
[]
[]
[]
[]
[]
[]
[]
[]
[]
[]
[]
[]
[]
[]
[]
[]
[]
[]
[]
[]
[]
[]
[]
[]
[]
[]
[]
[]
[]
[]
[]
[]
[]
[]
[]
[]
[]
[]
[]
[]
[]
[]
[]
[]
[]
[]
[]
[]
[]
[]
[]
[]
[]
[]
[]
[]
[]
[]
[]
[]
[]
[]
[]
[]
[]
[]
[]
[]
[]
[]
[]
[]
[]
[]
[]
[]
[]
[]
[]
[]
[]
[]
[]
[]
[]
[]
[]
[]
[]
[]
[]
[]
[]
[]
[]
[]
[]
[]
[]
[]
[]
[]
[]
[]
[]
[]
[]
[]
[]
[]
[]
[]
[]
[]
[]
[]
[]
[]
[]
[]
[]
[]
[]
[]
[]
[]
[]
[]
[]
[]
[]
[]
[]
[]
[]
[]
[]
[]
[]
[]
[]
[]
[]
[]
[]
[]
[]
[]
[]
[]
[]
[]
[]
[]
[]
[]
[]
[]
[]
[]
[]
[]
[]
[]
[]
[]
[]
[]
[]
[]
[]
[]
[]
[]
[]
[]
[]
[]
[]
[]
[]
[]
[]
[]
[]
[]
[]
[]
[]
[]
[]
[]
[]
[]
[]
[]
[]
[]
[]
[]
[]
[]
[]
[]
[]
[]
[]
[]
[]
[]
[]
[]
[]
[]
[]
[]
[]
[]
[]
[]
[]
[]
[]
[]
[]
[]
[]
[]
[]
[]
[]
[]
[]
[]
[]
[]
[]
[]
[]
[]
[]
[]
[]
[]
[]
[]
[]
[]
[]
[]
[]
[]
[]
[]
[]
[]
[]
[]
[]
[]
[]
[]
[]
[]
[]
[]
[]
[]
[]
[]
[]
[]
[]
[]
[]
[]
[]
[]
[]
[]
[]
[]
[]
[]
[]
[]
[]
[]
[]
[]
[]
[]
[]
[]
[]
[]
[]
[]
[]
[]
[]
[]
[]
[]
[]
[]
[]
[]
[]
[]
[]
[]
[]
[]
[]
[]
[]
[]
[]
[]
[]
[]
[]
[]
[]
[]
[]
[]
[]
[]
[]
[]
[]
[]
[]
[]
[]
[]
[]
[]
[]
[]
[]
[]
[]
[]
[]
[]
[]
[]
[]
[]
[]
[]
[]
[]
[]
[]
[]
[]
[]
[]
[]
[]
[]
[]
[]
[]
[]
[]
[]
[]
[]
[]
[]
[]
[]
[]
[]
[]
[]
[]
[]
[]
[]
[]
[]
[]
[]
[]
[]
[]
[]
[]
[]
[]
[]
[]
[]
[]
[]
[]
[]
[]
[]
[]
[]
[]
[]
[]
[]
[]
[]
[]
[]
[]
[]
[]
[]
[]
[]
[]
[]
[]
[]
[]
[]
[]
[]
[]
[]
[]
[]
[]
[]
[]
[]
[]
[]
[]
[]
[]
[]
[]
[]
[]
[]
[]
[]
[]
[]
[]
[]
[]
[]
[]
[]
[]
[]
[]
[]
[]
[]
[]
[]
[]
[]
[]
[]
[]
[]
[]
[]
[]
[]
[]
[]
[]
[]
[]
[]
[]
[]
[]
[]
[]
[]
[]
[]
[]
[]
[]
[]
[]
[]
[]
[]
[]
[]
[]
[]
[]
[]
[]
[]
[]
[]
[]
[]
[]
[]
[]
[]
[]
[]
[]
[]
[]
[]
[]
[]
[]
[]
[]
[]
[]
[]
[]
[]
[]
[]
[]
[]
[]
[]
[]
[]
[]
[]
[]
[]
[]
[]
[]
[]
[]
[]
[]
[]
[]
[]
[]
[]
[]
[]
[]
[]
[]
[]
[]
[]
[]
[]
[]
[]
[]
[]
[]
[]
[]
[]
[]
[]
[]
[]
[]
[]
[]
[]
[]
[]
[]
[]
[]
[]
[]
[]
[]
[]
[]
[]
[]
[]
[]
[]
[]
[]
[]
[]
[]
[]
[]
[]
[]
[]
[]
[]
[]
[]
[]
[]
[]
[]
[]
[]
[]
[]
[]
[]
[]
[]
[]
[]
[]
[]
[]
[]
[]
[]
[]
[]
[]
[]
[]
[]
[]
[]
[]
[]
[]
[]
[]
[]
[]
[]
[]
[]
[]
[]
[]
[]
[]
[]
[]
[]
[]
[]
[]
[]
[]
[]
[]
[]
[]
[]
[]
[]
[]
[]
[]
[]
[]
[]
[]
[]
[]
[]
[]
[]
[]
[]
[]
[]
[]
[]
[]
[]
[]
[]
[]
[]
[]
[]
[]
[]
[]
[]
[]
[]
[]
[]
[]
[]
[]
[]
[]
[]
[]
[]
[]
[]
[]
[]
[]
[]
[]
[]
[]
[]
[]
[]
[]
[]
[]
[]
[]
[]
[]
[]
[]
[]
[]
[]
[]
[]
[]
[]
[]
[]
[]
[]
[]
[]
[]
[]
[]
[]
[]
[]
[]
[]
[]
[]
[]
[]
[]
[]
[]
[]
[]
[]
[]
[]
[]
[]
[]
[]
[]
[]
[]
[]
[]
[]
[]
[]
[]
[]
[]
[]
[]
[]
[]
[]
[]
[]
[]
[]
[]
[]
[]
[]
[]
[]
[]
[]
[]
[]
[]
[]
[]
[]
[]
[]
[]
[]
[]
[]
[]
[]
[]
[]
[]
[]
[]
[]
[]
[]
[]
[]
[]
[]
[]
[]
[]
[]
[]
[]
[]
[]
[]
[]
[]
[]
[]
[]
[]
[]
[]
[]
[]
[]
[]
[]
[]
[]
[]
[]
[]
[]
[]
[]
[]
[]
[]
[]
[]
[]
[]
[]
[]
[]
[]
[]
[]
[]
[]
[]
[]
[]
[]
[]
[]
[]
[]
[]
[]
[]
[]
[]
[]
[]
[]
[]
[]
[]
[]
[]
[]
[]
[]
[]
[]
[]
[]
[]
[]
[]
[]
[]
[]
[]
[]
[]
[]
[]
[]
[]
[]
[]
[]
[]
[]
[]
[]
[]
[]
[]
[]
[]
[]
[]
[]
[]
[]
[]
[]
[]
[]
[]
[]
[]
[]
[]
[]
[]
[]
[]
[]
[]
[]
[]
[]
[]
[]
[]
[]
[]
[]
[]
[]
[]
[]
[]
[]
[]
[]
[]
[]
[]
[]
[]
[]
[]
[]
[]
[]
[]
[]
[]
[]
[]
[]
[]
[]
[]
[]
[]
[]
[]
[]
[]
[]
[]
[]
[]
[]
[]
[]
[]
[]
[]
[]
[]
[]
[]
[]
[]
[]
[]
[]
[]
[]
[]
[]
[]
[]
[]
[]
[]
[]
[]
[]
[]
[]
[]
[]
[]
[]
[]
[]
[]
[]
[]
[]
[]
[]
[]
[]
[]
[]
[]
[]
[]
[]
[]
[]
[]
[]
[]
[]
[]
[]
[]
[]
[]
[]
[]
[]
[]
[]
[]
[]
[]
[]
[]
[]
[]
[]
[]
[]
[]
[]
[]
[]
[]
[]
[]
[]
[]
[]
[]
[]
[]
[]
[]
[]
[]
[]
[]
[]
[]
[]
[]
[]
[]
[]
[]
[]
[]
[]
[]
[]
[]
[]
[]
[]
[]
[]
[]
[]
[]
[]
[]
[]
[]
[]
[]
[]
[]
[]
[]
[]
[]
[]
[]
[]
[]
[]
[]
[]
[]
[]
[]
[]
[]
[]
[]
[]
[]
[]
[]
[]
[]
[]
[]
[]
[]
[]
[]
[]
[]
[]
[]
[]
[]
[]
[]
[]
[]
[]
[]
[]
[]
[]
[]
[]
[]
[]
[]
[]
[]
[]
[]
[]
[]
[]
[]
[]
[]
[]
[]
[]
[]
[]
[]
[]
[]
[]
[]
[]
[]
[]
[]
[]
[]
[]
[]
[]
[]
[]
[]
[]
[]
[]
[]
[]
[]
[]
[]
[]
[]
[]
[]
[]
[]
[]
[]
[]
[]
[]
[]
[]
[]
[]
[]
[]
[]
[]
[]
[]
[]
[]
[]
[]
[]
[]
[]
[]
[]
[]
[]
[]
[]
[]
[]
[]
[]
[]
[]
[]
[]
[]
[]
[]
[]
[]
[]
[]
[]
[]
[]
[]
[]
[]
[]
[]
[]
[]
[]
[]
[]
[]
[]
[]
[]
[]
[]
[]
[]
[]
[]
[]
[]
[]
[]
[]
[]
[]
[]
[]
[]
[]
[]
[]
[]
[]
[]
[]
[]
[]
[]
[]
[]
[]
[]
[]
[]
[]
[]
[]
[]
[]
[]
[]
[]
[]
[]
[]
[]
[]
[]
[]
[]
[]
[]
[]
[]
[]
[]
[]
[]
[]
[]
[]
[]
[]
[]
[]
[]
[]
[]
[]
[]
[]
[]
[]
[]
[]
[]
[]
[]
[]
[]
[]
[]
[]
[]
[]
[]
[]
[]
[]
[]
[]
[]
[]
[]
[]
[]
[]
[]
[]
[]
[]
[]
[]
[]
[]
[]
[]
[]
[]
[]
[]
[]
[]
[]
[]
[]
[]
[]
[]
[]
[]
[]
[]
[]
[]
[]
[]
[]
[]
[]
[]
[]
[]
[]
[]
[]
[]
[]
[]
[]
[]
[]
[]
[]
[]
[]
[]
[]
[]
[]
[]
[]
[]
[]
[]
[]
[]
[]
[]
[]
[]
[]
[]
[]
[]
[]
[]
[]
[]
[]
[]
[]
[]
[]
[]
[]
[]
[]
[]
[]
[]
[]
[]
[]
[]
[]
[]
[]
[]
[]
[]
[]
[]
[]
[]
[]
[]
[]
[]
[]
[]
[]
[]
[]
[]
[]
[]
[]
[]
[]
[]
[]
[]
[]
[]
[]
[]
[]
[]
[]
[]
[]
[]
[]
[]
[]
[]
[]
[]
[]
[]
[]
[]
[]
[]
[]
[]
[]
[]
[]
[]
[]
[]
[]
[]
[]
[]
[]
[]
[]
[]
[]
[]
[]
[]
[]
[]
[]
[]
[]
[]
[]
[]
[]
[]
[]
[]
[]
[]
[]
[]
[]
[]
[]
[]
[]
[]
[]
[]
[]
[]
[]
[]
[]
[]
[]
[]
[]
[]
[]
[]
[]
[]
[]
[]
[]
[]
[]
[]
[]
[]
[]
[]
[]
[]
[]
[]
[]
[]
[]
[]
[]
[]
[]
[]
[]
[]
[]
[]
[]
[]
[]
[]
[]
[]
[]
[]
[]
[]
[]
[]
[]
[]
[]
[]
[]
[]
[]
[]
[]
[]
[]
[]
[]
[]
[]
[]
[]
[]
[]
[]
[]
[]
[]
[]
[]
[]
[]
[]
[]
[]
[]
[]
[]
[]
[]
[]
[]
[]
[]
[]
[]
[]
[]
[]
[]
[]
[]
[]
[]
[]
[]
[]
[]
[]
[]
[]
[]
[]
[]
[]
[]
[]
[]
[]
[]
[]
[]
[]
[]
[]
[]
[]
[]
[]
[]
[]
[]
[]
[]
[]
[]
[]
[]
[]
[]
[]
[]
[]
[]
[]
[]
[]
[]
[]
[]
[]
[]
[]
[]
[]
[]
[]
[]
[]
[]
[]
[]
[]
[]
[]
[]
[]
[]
[]
[]
[]
[]
[]
[]
[]
[]
[]
[]
[]
[]
[]
[]
[]
[]
[]
[]
[]
[]
[]
[]
[]
[]
[]
[]
[]
[]
[]
[]
[]
[]
[]
[]
[]
[]
[]
[]
[]
[]
[]
[]
[]
[]
[]
[]
[]
[]
[]
[]
[]
[]
[]
[]
[]
[]
[]
[]
[]
[]
[]
[]
[]
[]
[]
[]
[]
[]
[]
[]
[]
[]
[]
[]
[]
[]
[]
[]
[]
[]
[]
[]
[]
[]
[]
[]
[]
[]
[]
[]
[]
[]
[]
[]
[]
[]
[]
[]
[]
[]
[]
[]
[]
[]
[]
[]
[]
[]
[]
[]
[]
[]
[]
[]
[]
[]
[]
[]
[]
[]
[]
[]
[]
[]
[]
[]
[]
[]
[]
[]
[]
[]
[]
[]
[]
[]
[]
[]
[]
[]
[]
[]
[]
[]
[]
[]
[]
[]
[]
[]
[]
[]
[]
[]
[]
[]
[]
[]
[]
[]
[]
[]
[]
[]
[]
[]
[]
[]
[]
[]
[]
[]
[]
[]
[]
[]
[]
[]
[]
[]
[]
[]
[]
[]
[]
[]
[]
[]
[]
[]
[]
[]
[]
[]
[]
[]
[]
[]
[]
[]
[]
[]
[]
[]
[]
[]
[]
[]
[]
[]
[]
[]
[]
[]
[]
[]
[]
[]
[]
[]
[]
[]
[]
[]
[]
[]
[]
[]
[]
[]
[]
[]
[]
[]
[]
[]
[]
[]
[]
[]
[]
[]
[]
[]
[]
[]
[]
[]
[]
[]
[]
[]
[]
[]
[]
[]
[]
[]
[]
[]
[]
[]
[]
[]
[]
[]
[]
[]
[]
[]
[]
[]
[]
[]
[]
[]
[]
[]
[]
[]
[]
[]
[]
[]
[]
[]
[]
[]
[]
[]
[]
[]
[]
[]
[]
[]
[]
[]
[]
[]
[]
[]
[]
[]
[]
[]
[]
[]
[]
[]
[]
[]
[]
[]
[]
[]
[]
[]
[]
[]
[]
[]
[]
[]
[]
[]
[]
[]
[]
[]
[]
[]
[]
[]
[]
[]
[]
[]
[]
[]
[]
[]
[]
[]
[]
[]
[]
[]
[]
[]
[]
[]
[]
[]
[]
[]
[]
[]
[]
[]
[]
[]
[]
[]
[]
[]
[]
[]
[]
[]
[]
[]
[]
[]
[]
[]
[]
[]
[]
[]
[]
[]
[]
[]
[]
[]
[]
[]
[]
[]
[]
[]
[]
[]
[]
[]
[]
[]
[]
[]
[]
[]
[]
[]
[]
[]
[]
[]
[]
[]
[]
[]
[]
[]
[]
[]
[]
[]
[]
[]
[]
[]
[]
[]
[]
[]
[]
[]
[]
[]
[]
[]
[]
[]
[]
[]
[]
[]
[]
[]
[]
[]
[]
[]
[]
[]
[]
[]
[]
[]
[]
[]
[]
[]
[]
[]
[]
[]
[]
[]
[]
[]
[]
[]
[]
[]
[]
[]
[]
[]
[]
[]
[]
[]
[]
[]
[]
[]
[]
[]
[]
[]
[]
[]
[]
[]
[]
[]
[]
[]
[]
[]
[]
[]
[]
[]
[]
[]
[]
[]
[]
[]
[]
[]
[]
[]
[]
[]
[]
[]
[]
[]
[]
[]
[]
[]
[]
[]
[]
[]
[]
[]
[]
[]
[]
[]
[]
[]
[]
[]
[]
[]
[]
[]
[]
[]
[]
[]
[]
[]
[]
[]
[]
[]
[]
[]
[]
[]
[]
[]
[]
[]
[]
[]
[]
[]
[]
[]
[]
[]
[]
[]
[]
[]
[]
[]
[]
[]
[]
[]
[]
[]
[]
[]
[]
[]
[]
[]
[]
[]
[]
[]
[]
[]
[]
[]
[]
[]
[]
[]
[]
[]
[]
[]
[]
[]
[]
[]
[]
[]
[]
[]
[]
[]
[]
[]
[]
[]
[]
[]
[]
[]
[]
[]
[]
[]
[]
[]
[]
[]
[]
[]
[]
[]
[]
[]
[]
[]
[]
[]
[]
[]
[]
[]
[]
[]
[]
[]
[]
[]
[]
[]
[]
[]
[]
[]
[]
[]
[]
[]
[]
[]
[]
[]
[]
[]
[]
[]
[]
[]
[]
[]
[]
[]
[]
[]
[]
[]
[]
[]
[]
[]
[]
[]
[]
[]
[]
[]
[]
[]
[]
[]
[]
[]
[]
[]
[]
[]
[]
[]
[]
[]
[]
[]
[]
[]
[]
[]
[]
[]
[]
[]
[]
[]
[]
[]
[]
[]
[]
[]
[]
[]
[]
[]
[]
[]
[]
[]
[]
[]
[]
[]
[]
[]
[]
[]
[]
[]
[]
[]
[]
[]
[]
[]
[]
[]
[]
[]
[]
[]
[]
[]
[]
[]
[]
[]
[]
[]
[]
[]
[]
[]
[]
[]
[]
[]
[]
[]
[]
[]
[]
[]
[]
[]
[]
[]
[]
[]
[]
[]
[]
[]
[]
[]
[]
[]
[]
[]
[]
[]
[]
[]
[]
[]
[]
[]
[]
[]
[]
[]
[]
[]
[]
[]
[]
[]
[]
[]
[]
[]
[]
[]
[]
[]
[]
[]
[]
[]
[]
[]
[]
[]
[]
[]
[]
[]
[]
[]
[]
[]
[]
[]
[]
[]
[]
[]
[]
[]
[]
[]
[]
[]
[]
[]
[]
[]
[]
[]
[]
[]
[]
[]
[]
[]
[]
[]
[]
[]
[]
[]
[]
[]
[]
[]
[]
[]
[]
[]
[]
[]
[]
[]
[]
[]
[]
[]
[]
[]
[]
[]
[]
[]
[]
[]
[]
[]
[]
[]
[]
[]
[]
[]
[]
[]
[]
[]
[]
[]
[]
[]
[]
[]
[]
[]
[]
[]
[]
[]
[]
[]
[]
[]
[]
[]
[]
[]
[]
[]
[]
[]
[]
[]
[]
[]
[]
[]
[]
[]
[]
[]
[]
[]
[]
[]
[]
[]
[]
[]
[]
[]
[]
[]
[]
[]
[]
[]
[]
[]
[]
[]
[]
[]
[]
[]
[]
[]
[]
[]
[]
[]
[]
[]
[]
[]
[]
[]
[]
[]
[]
[]
[]
[]
[]
[]
[]
[]
[]
[]
[]
[]
[]
[]
[]
[]
[]
[]
[]
[]
[]
[]
[]
[]
[]
[]
[]
[]
[]
[]
[]
[]
[]
[]
[]
[]
[]
[]
[]
[]
[]
[]
[]
[]
[]
[]
[]
[]
[]
[]
[]
[]
[]
[]
[]
[]
[]
[]
[]
[]
[]
[]
[]
[]
[]
[]
[]
[]
[]
[]
[]
[]
[]
[]
[]
[]
[]
[]
[]
[]
[]
[]
[]
[]
[]
[]
[]
[]
[]
[]
[]
[]
[]
[]
[]
[]
[]
[]
[]
[]
[]
[]
[]
[]
[]
[]
[]
[]
[]
[]
[]
[]
[]
[]
[]
[]
[]
[]
[]
[]
[]
[]
[]
[]
[]
[]
[]
[]
[]
[]
[]
[]
[]
[]
[]
[]
[]
[]
[]
[]
[]
[]
[]
[]
[]
[]
[]
[]
[]
[]
[]
[]
[]
[]
[]
[]
[]
[]
[]
[]
[]
[]
[]
[]
[]
[]
[]
[]
[]
[]
[]
[]
[]
[]
[]
[]
[]
[]
[]
[]
[]
[]
[]
[]
[]
[]
[]
[]
[]
[]
[]
[]
[]
[]
[]
[]
[]
[]
[]
[]
[]
[]
[]
[]
[]
[]
[]
[]
[]
[]
[]
[]
[]
[]
[]
[]
[]
[]
[]
[]
[]
[]
[]
[]
[]
[]
[]
[]
[]
[]
[]
[]
[]
[]
[]
[]
[]
[]
[]
[]
[]
[]
[]
[]
[]
[]
[]
[]
[]
[]
[]
[]
[]
[]
[]
[]
[]
[]
[]
[]
[]
[]
[]
[]
[]
[]
[]
[]
[]
[]
[]
[]
[]
[]
[]
[]
[]
[]
[]
[]
[]
[]
[]
[]
[]
[]
[]
[]
[]
[]
[]
[]
[]
[]
[]
[]
[]
[]
[]
[]
[]
[]
[]
[]
[]
[]
[]
[]
[]
[]
[]
[]
[]
[]
[]
[]
[]
[]
[]
[]
[]
[]
[]
[]
[]
[]
[]
[]
[]
[]
[]
[]
[]
[]
[]
[]
[]
[]
[]
[]
[]
[]
[]
[]
[]
[]
[]
[]
[]
[]
[]
[]
[]
[]
[]
[]
[]
[]
[]
[]
[]
[]
[]
[]
[]
[]
[]
[]
[]
[]
[]
[]
[]
[]
[]
[]
[]
[]
[]
[]
[]
[]
[]
[]
[]
[]
[]
[]
[]
[]
[]
[]
[]
[]
[]
[]
[]
[]
[]
[]
[]
[]
[]
[]
[]
[]
[]
[]
[]
[]
[]
[]
[]
[]
[]
[]
[]
[]
[]
[]
[]
[]
[]
[]
[]
[]
[]
[]
[]
[]
[]
[]
[]
[]
[]
[]
[]
[]
[]
[]
[]
[]
[]
[]
[]
[]
[]
[]
[]
[]
[]
[]
[]
[]
[]
[]
[]
[]
[]
[]
[]
[]
[]
[]
[]
[]
[]
[]
[]
[]
[]
[]
[]
[]
[]
[]
[]
[]
[]
[]
[]
[]
[]
[]
[]
[]
[]
[]
[]
[]
[]
[]
[]
[]
[]
[]
[]
[]
[]
[]
[]
[]
[]
[]
[]
[]
[]
[]
[]
[]
[]
[]
[]
[]
[]
[]
[]
[]
[]
[]
[]
[]
[]
[]
[]
[]
[]
[]
[]
[]
[]
[]
[]
[]
[]
[]
[]
[]
[]
[]
[]
[]
[]
[]
[]
[]
[]
[]
[]
[]
[]
[]
[]
[]
[]
[]
[]
[]
[]
[]
[]
[]
[]
[]
[]
[]
[]
[]
[]
[]
[]
[]
[]
[]
[]
[]
[]
[]
[]
[]
[]
[]
[]
[]
[]
[]
[]
[]
[]
[]
[]
[]
[]
[]
[]
[]
[]
[]
[]
[]
[]
[]
[]
[]
[]
[]
[]
[]
[]
[]
[]
[]
[]
[]
[]
[]
[]
[]
[]
[]
[]
[]
[]
[]
[]
[]
[]
[]
[]
[]
[]
[]
[]
[]
[]
[]
[]
[]
[]
[]
[]
[]
[]
[]
[]
[]
[]
[]
[]
[]
[]
[]
[]
[]
[]
[]
[]
[]
[]
[]
[]
[]
[]
[]
[]
[]
[]
[]
[]
[]
[]
[]
[]
[]
[]
[]
[]
[]
[]
[]
[]
[]
[]
[]
[]
[]
[]
[]
[]
[]
[]
[]
[]
[]
[]
[]
[]
[]
[]
[]
[]
[]
[]
[]
[]
[]
[]
[]
[]
[]
[]
[]
[]
[]
[]
[]
[]
[]
[]
[]
[]
[]
[]
[]
[]
[]
[]
[]
[]
[]
[]
[]
[]
[]
[]
[]
[]
[]
[]
[]
[]
[]
[]
[]
[]
[]
[]
[]
[]
[]
[]
[]
[]
[]
[]
[]
[]
[]
[]
[]
[]
[]
[]
[]
[]
[]
[]
[]
[]
[]
[]
[]
[]
[]
[]
[]
[]
[]
[]
[]
[]
[]
[]
[]
[]
[]
[]
[]
[]
[]
[]
[]
[]
[]
[]
[]
[]
[]
[]
[]
[]
[]
[]
[]
[]
[]
[]
[]
[]
[]
[]
[]
[]
[]
[]
[]
[]
[]
[]
[]
[]
[]
[]
[]
[]
[]
[]
[]
[]
[]
[]
[]
[]
[]
[]
[]
[]
[]
[]
[]
[]
[]
[]
[]
[]
[]
[]
[]
[]
[]
[]
[]
[]
[]
[]
[]
[]
[]
[]
[]
[]
[]
[]
[]
[]
[]
[]
[]
[]
[]
[]
[]
[]
[]
[]
[]
[]
[]
[]
[]
[]
[]
[]
[]
[]
[]
[]
[]
[]
[]
[]
[]
[]
[]
[]
[]
[]
[]
[]
[]
[]
[]
[]
[]
[]
[]
[]
[]
[]
[]
[]
[]
[]
[]
[]
[]
[]
[]
[]
[]
[]
[]
[]
[]
[]
[]
[]
[]
[]
[]
[]
[]
[]
[]
[]
[]
[]
[]
[]
[]
[]
[]
[]
[]
[]
[]
[]
[]
[]
[]
[]
[]
[]
[]
[]
[]
[]
[]
[]
[]
[]
[]
[]
[]
[]
[]
[]
[]
[]
[]
[]
[]
[]
[]
[]
[]
[]
[]
[]
[]
[]
[]
[]
[]
[]
[]
[]
[]
[]
[]
[]
[]
[]
[]
[]
[]
[]
[]
[]
[]
[]
[]
[]
[]
[]
[]
[]
[]
[]
[]
[]
[]
[]
[]
[]
[]
[]
[]
[]
[]
[]
[]
[]
[]
[]
[]
[]
[]
[]
[]
[]
[]
[]
[]
[]
[]
[]
[]
[]
[]
[]
[]
[]
[]
[]
[]
[]
[]
[]
[]
[]
[]
[]
[]
[]
[]
[]
[]
[]
[]
[]
[]
[]
[]
[]
[]
[]
[]
[]
[]
[]
[]
[]
[]
[]
[]
[]
[]
[]
[]
[]
[]
[]
[]
[]
[]
[]
[]
[]
[]
[]
[]
[]
[]
[]
[]
[]
[]
[]
[]
[]
[]
[]
[]
[]
[]
[]
[]
[]
[]
[]
[]
[]
[]
[]
[]
[]
[]
[]
[]
[]
[]
[]
[]
[]
[]
[]
[]
[]
[]
[]
[]
[]
[]
[]
[]
[]
[]
[]
[]
[]
[]
[]
[]
[]
[]
[]
[]
[]
[]
[]
[]
[]
[]
[]
[]
[]
[]
[]
[]
[]
[]
[]
[]
[]
[]
[]
[]
[]
[]
[]
[]
[]
[]
[]
[]
[]
[]
[]
[]
[]
[]
[]
[]
[]
[]
[]
[]
[]
[]
[]
[]
[]
[]
[]
[]
[]
[]
[]
[]
[]
[]
[]
[]
[]
[]
[]
[]
[]
[]
[]
[]
[]
[]
[]
[]
[]
[]
[]
[]
[]
[]
[]
[]
[]
[]
[]
[]
[]
[]
[]
[]
[]
[]
[]
[]
[]
[]
[]
[]
[]
[]
[]
[]
[]
[]
[]
[]
[]
[]
[]
[]
[]
[]
[]
[]
[]
[]
[]
[]
[]
[]
[]
[]
[]
[]
[]
[]
[]
[]
[]
[]
[]
[]
[]
[]
[]
[]
[]
[]
[]
[]
[]
[]
[]
[]
[]
[]
[]
[]
[]
[]
[]
[]
[]
[]
[]
[]
[]
[]
[]
[]
[]
[]
[]
[]
[]
[]
[]
[]
[]
[]
[]
[]
[]
[]
[]
[]
[]
[]
[]
[]
[]
[]
[]
[]
[]
[]
[]
[]
[]
[]
[]
[]
[]
[]
[]
[]
[]
[]
[]
[]
[]
[]
[]
[]
[]
[]
[]
[]
[]
[]
[]
[]
[]
[]
[]
[]
[]
[]
[]
[]
[]
[]
[]
[]
[]
[]
[]
[]
[]
[]
[]
[]
[]
[]
[]
[]
[]
[]
[]
[]
[]
[]
[]
[]
[]
[]
[]
[]
[]
[]
[]
[]
[]
[]
[]
[]
[]
[]
[]
[]
[]
[]
[]
[]
[]
[]
[]
[]
[]
[]
[]
[]
[]
[]
[]
[]
[]
[]
[]
[]
[]
[]
[]
[]
[]
[]
[]
[]
[]
[]
[]
[]
[]
[]
[]
[]
[]
[]
[]
[]
[]
[]
[]
[]
[]
[]
[]
[]
[]
[]
[]
[]
[]
[]
[]
[]
[]
[]
[]
[]
[]
[]
[]
[]
[]
[]
[]
[]
[]
[]
[]
[]
[]
[]
[]
[]
[]
[]
[]
[]
[]
[]
[]
[]
[]
[]
[]
[]
[]
[]
[]
[]
[]
[]
[]
[]
[]
[]
[]
[]
[]
[]
[]
[]
[]
[]
[]
[]
[]
[]
[]
[]
[]
[]
[]
[]
[]
[]
[]
[]
[]
[]
[]
[]
[]
[]
[]
[]
[]
[]
[]
[]
[]
[]
[]
[]
[]
[]
[]
[]
[]
[]
[]
[]
[]
[]
[]
[]
[]
[]
[]
[]
[]
[]
[]
[]
[]
[]
[]
[]
[]
[]
[]
[]
[]
[]
[]
[]
[]
[]
[]
[]
[]
[]
[]
[]
[]
[]
[]
[]
[]
[]
[]
[]
[]
[]
[]
[]
[]
[]
[]
[]
[]
[]
[]
[]
[]
[]
[]
[]
[]
[]
[]
[]
[]
[]
[]
[]
[]
[]
[]
[]
[]
[]
[]
[]
[]
[]
[]
[]
[]
[]
[]
[]
[]
[]
[]
[]
[]
[]
[]
[]
[]
[]
[]
[]
[]
[]
[]
[]
[]
[]
[]
[]
[]
[null,null,null,null,null,null,null,null,null,null,null,null,null,null,null,null,null,null,null,null,null,null,null,null,null,null,null,null,null,null,null,null,null,null,null,null,null,null,null,null,null,null,null,null,null,null,null,null,null,null,null,null,null,null,null,null,null,null,null,null,null,null,null,null,null,null,null,null,null,null,null,null,null,null,null,null,null,null,null,null,null,null,null,null,null,null,null,null,null,null,null,null,null,null,null,null,null,null,null,null,null,null,null,null,null,null,null,null,null,null,null,null,null,null,null,null,null,null,null,null,null,null,null,null,null,null,null,null,null,null,null,null,null,null,null,null,null,null,null,null,null,null,null,null,null,null,null,null,null,null,null,null,null,null,null,null,null,null,null,null,null,null,null,null,null,null,null,null,null,null,null,null,null,null,null,null,null,null,null,null,null,null,null,null,null,null,null,null,null,null,null,null,null,null,null,null,null,null,null,null,null,null,null,null,null,null,null,null,null,null,null,null,null,null,null,null,null,null,null,null,null,null,null,null,null,null,null,null,null,null,null,null,null,null,null,null,null,null,null,null,null,null,null,null,null,null,null,null,null,null,null,null,null,null,null,null,null,null,null,null,null,null,null,null,null,null,null,null,null,null,null,null,null,null,null,null,null,null,null,null,null,null,null,null,null,null,null,null,null,null,null,null,null,null,null,null,null,null,null,null,null,null,null,null,null,null,null,null,null,null,null,null,null,null,null,null,null,null,null,null,null,null,null,null,null,null,null,null,null,null,null,null,null,null,null,null,null,null,null,null,null,null,null,null,null,null,null,null,null,null,null,null,null,null,null,null,null,null,null,null,null,null,null,null,null,null,null,null,null,null,null,null,null,null,null,null,null,null,null,null,null,null,null,null,null,null,null,null,null,null,null,null,null,null,null,null,null,null,null,null,null,null,null,null,null,null,null,null,null,null,null,null,null,null,null,null,null,null,null,null,null,null,null,null,null,null,null,null,null,null,null,null,null,null,null,null,null,null,null,null,null,null,null,null,null,null,null,null,null,null,null,null,null,null,null,null,null,null,null,null,null,null,null,null,null,null,null,null,null,null,null,null,null,null,null,null,null,null,null,null,null,null,null,null,null,null,null,null,null,null,null,null,null,null,null,null,null,null,null,null,null,null,null,null,null,null,null,null,null,null,null,null,null,null,null,null,null,null,null,null,null,null,null,null,null,null,null,null,null,null,null,null,null,null,null,null,null,null,null,null,null,null,null,null,null,null,null,null,null,null,null,null,null,null,null,null,null,null,null,null,null,null,null,null,null,null,null,null,null,null,null,null,null,null,null,null,null,null,null,null,null,null,null,null,null,null,null,null,null,null,null,null,null,null,null,null,null,null,null,null,null,null,null,null,null,null,null,null,null,null,null,null,null,null,null,null,null,null,null,null,null,null,null,null,null,null,null,null,null,null,null,null,null,null,null,null,null,null,null,null,null,null,null,null,null,null,null,null,null,null,null,null,null,null,null,null,null,null,null,null,null,null,null,null,null,null,null,null,null,null,null,null,null,null,null,null,null,null,null,null,null,null,null,null,null,null,null,null,null,null,null,null,null,null,null,null,null,null,null,null,null,null,null,null,null,null,null,null,null,null,null,null,null,null,null,null,null,null,null,null,null,null,null,null,null,null,null,null,null,null,null,null,null,null,null,null,null,null,null,null,null,null,null,null,null,null,null,null,null,null,null,null,null,null,null,null,null,null,null,null,null,null,null,null,null,null,null,null,null,null,null,null,null,null,null,null,null,null,null,null,null,null,null,null,null,null,null,null,null,null,null,null,null,null,null,null,null,null,null,null,null,null,null,null,null,null,null,null,null,null,null,null,null,null,null,null,null,null,null,null,null,null,null,null,null,null,null,null,null,null,null,null,null,null,null,null,null,null,null,null,null,null,null,null,null,null,null,null,null,null,null,null,null,null,null,null,null,null,null,null,null,null,null,null,null,null,null,null,null,null,null,null,null,null,null,null,null,null,null,null,null,null,null,null,null,null,null,null,null,null,null,null,null,null,null,null,null,null,null,null,null,null,null,null,null,null,null,null,null,null,null,null,null,null,null,null,null,null,null,null,null,null,null,null,null,null,null,null,null,null,null,null,null,null,null,null,null,null,null,null,null,null,null,null,null,null,null,null,null,null,null,null,null,null,null,null,null,null,null,null,null,null,null,null,null,null,null,null,null,null,null,null,null,null,null,null,null,null,null,null,null,null,null,null,null,null,null,null,null,null,null,null,null,null,null,null,null,null,null,null,null,null,null,null,null,null,null,null,null,null,null,null,null,null,null,null,null,null,null,null,null,null,null,null,null,null,null,null,null,null,null,null,null,null,null,null,null,null,null,null,null,null,null,null,null,null,null,null,null,null,null,null,null,null,null,null,null,null,null,null,null,null,null,null,null,null,null,null,null,null,null,null,null,null,null,null,null,null,null,null,null,null,null,null,null,null,null,null,null,null,null,null,null,null,null,null,null,null,null,null,null,null,null,null,null,null,null,null,null,null,null,null,null,null,null,null,null,null,null,null,null,null,null,null,null,null,null,null,null,null,null,null,null,null,null,null,null,null,null,null,null,null,null,null,null,null,null,null,null,null,null,null,null,null,null,null,null,null,null,null,null,null,null,null,null,null,null,null,null,null,null,null,null,null,null,null,null,null,null,null,null,null,null,null,null,null,null,null,null,null,null,null,null,null,null,null,null,null,null,null,null,null,null,null,null,null,null,null,null,null,null,null,null,null,null,null,null,null,null,null,null,null,null,null,null,null,null,null,null,null,null,null,null,null,null,null,null,null,null,null,null,null,null,null,null,null,null,null,null,null,null,null,null,null,null,null,null,null,null,null,null,null,null,null,null,null,null,null,null,null,null,null,null,null,null,null,null,null,null,null,null,null,null,null,null,null,null,null,null,null,null,null,null,null,null,null,null,null,null,null,null,null,null,null,null,null,null,null,null,null,null,null,null,null,null,null,null,null,null,null,null,null,null,null,null,null,null,null,null,null,null,null,null,null,null,null,null,null,null,null,null,null,null,null,null,null,null,null,null,null,null,null,null,null,null,null,null,null,null,null,null,null,null,null,null,null,null,null,null,null,null,null,null,null,null,null,null,null,null,null,null,null,null,null,null,null,null,null,null,null,null,null,null,null,null,null,null,null,null,null,null,null,null,null,null,null,null,null,null,null,null,null,null,null,null,null,null,null,null,null,null,null,null,null,null,null,null,null,null,null,null,null,null,null,null,null,null,null,null,null,null,null,null,null,null,null,null,null,null,null,null,null,null,null,null,null,null,null,null,null,null,null,null,null,null,null,null,null,null,null,null,null,null,null,null,null,null,null,null,null,null,null,null,null,null,null,null,null,null,null,null,null,null,null,null,null,null,null,null,null,null,null,null,null,null,null,null,null,null,null,null,null,null,null,null,null,null,null,null,null,null,null,null,null,null,null,null,null,null,null,null,null,null,null,null,null,null,null,null,null,null,null,null,null,null,null,null,null,null,null,null,null,null,null,null,null,null,null,null,null,null,null,null,null,null,null,null,null,null,null,null,null,null,null,null,null,null,null,null,null,null,null,null,null,null,null,null,null,null,null,null,null,null,null,null,null,null,null,null,null,null,null,null,null,null,null,null,null,null,null,null,null,null,null,null,null,null,null,null,null,null,null,null,null,null,null,null,null,null,null,null,null,null,null,null,null,null,null,null,null,null,null,null,null,null,null,null,null,null,null,null,null,null,null,null,null,null,null,null,null,null,null,null,null,null,null,null,null,null,null,null,null,null,null,null,null,null,null,null,null,null,null,null,null,null,null,null,null,null,null,null,null,null,null,null,null,null,null,null,null,null,null,null,null,null,null,null,null,null,null,null,null,null,null,null,null,null,null,null,null,null,null,null,null,null,null,null,null,null,null,null,null,null,null,null,null,null,null,null,null,null,null,null,null,null,null,null,null,null,null,null,null,null,null,null,null,null,null,null,null,null,null,null,null,null,null,null,null,null,null,null,null,null,null,null,null,null,null,null,null,null,null,null,null,null,null,null,null,null,null,null,null,null,null,null,null,null,null,null,null,null,null,null,null,null,null,null,null,null,null,null,null,null,null,null,null,null,null,null,null,null,null,null,null,null,null,null,null,null,null,null,null,null,null,null,null,null,null,null,null,null,null,null,null,null,null,null,null,null,null,null,null,null,null,null,null,null,null,null,null,null,null,null,null,null,null,null,null,null,null,null,null,null,null,null,null,null,null,null,null,null,null,null,null,null,null,null,null,null,null,null,null,null,null,null,null,null,null,null,null,null,null,null,null,null,null,null,null,null,null,null,null,null,null,null,null,null,null,null,null,null,null,null,null,null,null,null,null,null,null,null,null,null,null,null,null,null,null,null,null,null,null,null,null,null,null,null,null,null,null,null,null,null,null,null,null,null,null,null,null,null,null,null,null,null,null,null,null,null,null,null,null,null,null,null,null,null,null,null,null,null,null,null,null,null,null,null,null,null,null,null,null,null,null,null,null,null,null,null,null,null,null,null,null,null,null,null,null,null,null,null,null,null,null,null,null,null,null,null,null,null,null,null,null,null,null,null,null,null,null,null,null,null,null,null,null,null,null,null,null,null,null,null,null,null,null,null,null,null,null,null,null,null,null,null,null,null,null,null,null,null,null,null,null,null,null,null,null,null,null,null,null,null,null,null,null,null,null,null,null,null,null,null,null,null,null,null,null,null,null,null,null,null,null,null,null,null,null,null,null,null,null,null,null,null,null,null,null,null,null,null,null,null,null,null,null,null,null,null,null,null,null,null,null,null,null,null,null,null,null,null,null,null,null,null,null,null,null,null,null,null,null,null,null,null,null,null,null,null,null,null,null,null,null,null,null,null,null,null,null,null,null,null,null,null,null,null,null,null,null,null,null,null,null,null,null,null,null,null,null,null,null,null,null,null,null,null,null,null,null,null,null,null,null,null,null,null,null,null,null,null,null,null,null,null,null,null,null,null,null,null,null,null,null,null,null,null,null,null,null,null,null,null,null,null,null,null,null,null,null,null,null,null,null,null,null,null,null,null,null,null,null,null,null,null,null,null,null,null,null,null,null,null,null,null,null,null,null,null,null,null,null,null,null,null,null,null,null,null,null,null,null,null,null,null,null,null,null,null,null,null,null,null,null,null,null,null,null,null,null,null,null,null,null,null,null,null,null,null,null,null,null,null,null,null,null,null,null,null,null,null,null,null,null,null,null,null,null,null,null,null,null,null,null,null,null,null,null,null,null,null,null,null,null,null,null,null,null,null,null,null,null,null,null,null,null,null,null,null,null,null,null,null,null,null,null,null,null,null,null,null,null,null,null,null,null,null,null,null,null,null,null,null,null,null,null,null,null,null,null,null,null,null,null,null,null,null,null,null,null,null,null,null,null,null,null,null,null,null,null,null,null,null,null,null,null,null,null,null,null,null,null,null,null,null,null,null,null,null,null,null,null,null,null,null,null,null,null,null,null,null,null,null,null,null,null,null,null,null,null,null,null,null,null,null,null,null,null,null,null,null,null,null,null,null,null,null,null,null,null,null,null,null,null,null,null,null,null,null,null,null,null,null,null,null,null,null,null,null,null,null,null,null,null,null,null,null,null,null,null,null,null,null,null,null,null,null,null,null,null,null,null,null,null,null,null,null,null,null,null,null,null,null,null,null,null,null,null,null,null,null,null,null,null,null,null,null,null,null,null,null,null,null,null,null,null,null,null,null,null,null,null,null,null,null,null,null,null,null,null,null,null,null,null,null,null,null,null,null,null,null,null,null,null,null,null,null,null,null,null,null,null,null,null,null,null,null,null,null,null,null,null,null,null,null,null,null,null,null,null,null,null,null,null,null,null,null,null,null,null,null,null,null,null,null,null,null,null,null,null,null,null,null,null,null,null,null,null,null,null,null,null,null,null,null,null,null,null,null,null,null,null,null,null,null,null,null,null,null,null,null,null,null,null,null,null,null,null,null,null,null,null,null,null,null,null,null,null,null,null,null,null,null,null,null,null,null,null,null,null,null,null,null,null,null,null,null,null,null,null,null,null,null,null,null,null,null,null,null,null,null,null,null,null,null,null,null,null,null,null,null,null,null,null,null,null,null,null,null,null,null,null,null,null,null,null,null,null,null,null,null,null,null,null,null,null,null,null,null,null,null,null,null,null,null,null,null,null,null,null,null,null,null,null,null,null,null,null,null,null,null,null,null,null,null,null,null,null,null,null,null,null,null,null,null,null,null,null,null,null,null,null,null,null,null,null,null,null,null,null,null,null,null,null,null,null,null,null,null,null,null,null,null,null,null,null,null,null,null,null,null,null,null,null,null,null,null,null,null,null,null,null,null,null,null,null,null,null,null,null,null,null,null,null,null,null,null,null,null,null,null,null,null,null,null,null,null,null,null,null,null,null,null,null,null,null,null,null,null,null,null,null,null,null,null,null,null,null,null,null,null,null,null,null,null,null,null,null,null,null,null,null,null,null,null,null,null,null,null,null,null,null,null,null,null,null,null,null,null,null,null,null,null,null,null,null,null,null,null,null,null,null,null,null,null,null,null,null,null,null,null,null,null,null,null,null,null,null,null,null,null,null,null,null,null,null,null,null,null,null,null,null,null,null,null,null,null,null,null,null,null,null,null,null,null,null,null,null,null,null,null,null,null,null,null,null,null,null,null,null,null,null,null,null,null,null,null,null,null,null,null,null,null,null,null,null,null,null,null,null,null,null,null,null,null,null,null,null,null,null,null,null,null,null,null,null,null,null,null,null,null,null,null,null,null,null,null,null,null,null,null,null,null,null,null,null,null,null,null,null,null,null,null,null,null,null,null,null,null,null,null,null,null,null,null,null,null,null,null,null,null,null,null,null,null,null,null,null,null,null,null,null,null,null,null,null,null,null,null,null,null,null,null,null,null,null,null,null,null,null,null,null,null,null,null,null,null,null,null,null,null,null,null,null,null,null,null,null,null,null,null,null,null,null,null,null,null,null,null,null,null,null,null,null,null,null,null,null,null,null,null,null,null,null,null,null,null,null,null,null,null,null,null,null,null,null,null,null,null,null,null,null,null,null,null,null,null,null,null,null,null,null,null,null,null,null,null,null,null,null,null,null,null,null,null,null,null,null,null,null,null,null,null,null,null,null,null,null,null,null,null,null,null,null,null,null,null,null,null,null,null,null,null,null,null,null,null,null,null,null,null,null,null,null,null,null,null,null,null,null,null,null,null,null,null,null,null,null,null,null,null,null,null,null,null,null,null,null,null,null,null,null,null,null,null,null,null,null,null,null,null,null,null,null,null,null,null,null,null,null,null,null,null,null,null,null,null,null,null,null,null,null,null,null,null,null,null,null,null,null,null,null,null,null,null,null,null,null,null,null,null,null,null,null,null,null,null,null,null,null,null,null,null,null,null,null,null,null,null,null,null,null,null,null,null,null,null,null,null,null,null,null,null,null,null,null,null,null,null,null,null,null,null,null,null,null,null,null,null,null,null,null,null,null,null,null,null,null,null,null,null,null,null,null,null,null,null,null,null,null,null,null,null,null,null,null,null,null,null,null,null,null,null,null,null,null,null,null,null,null,null,null,null,null,null,null,null,null,null,null,null,null,null,null,null,null,null,null,null,null,null,null,null,null,null,null,null,null,null,null,null,null,null,null,null,null,null,null,null,null,null,null,null,null,null,null,null,null,null,null,null,null,null,null,null,null,null,null,null,null,null,null,null,null,null,null,null,null,null,null,null,null,null,null,null,null,null,null,null,null,null,null,null,null,null,null,null,null,null,null,null,null,null,null,null,null,null,null,null,null,null,null,null,null,null,null,null,null,null,null,null,null,null,null,null,null,null,null,null,null,null,null,null,null,null,null,null,null,null,null,null,null,null,null,null,null,null,null,null,null,null,null,null,null,null,null,null,null,null,null,null,null,null,null,null,null,null,null,null,null,null,null,null,null,null,null,null,null,null,null,null,null,null,null,null,null,null,null,null,null,null,null,null,null,null,null,null,null,null,null,null,null,null,null,null,null,null,null,null,null,null,null,null,null,null,null,null,null,null,null,null,null,null,null,null,null,null,null,null,null,null,null,null,null,null,null,null,null,null,null,null,null,null,null,null,null,null,null,null,null,null,null,null,null,null,null,null,null,null,null,null,null,null,null,null,null,null,null,null,null,null,null,null,null,null,null,null,null,null,null,null,null,null,null,null,null,null,null,null,null,null,null,null,null,null,null,null,null,null,null,null,null,null,null,null,null,null,null,null,null,null,null,null,null,null,null,null,null,null,null,null,null,null,null,null,null,null,null,null,null,null,null,null,null,null,null,null,null,null,null,null,null,null,null,null,null,null,null,null,null,null,null,null,null,null,null,null,null,null,null,null,null,null,null,null,null,null,null,null,null,null,null,null,null,null,null,null,null,null,null,null,null,null,null,null,null,null,null,null,null,null,null,null,null,null,null,null,null,null,null,null,null,null,null,null,null,null,null,null,null,null,null,null,null,null,null,null,null,null,null,null,null,null,null,null,null,null,null,null,null,null,null,null,null,null,null,null,null,null,null,null,null,null,null,null,null,null,null,null,null,null,null,null,null,null,null,null,null,null,null,null,null,null,null,null,null,null,null,null,null,null,null,null,null,null,null,null,null,null,null,null,null,null,null,null,null,null,null,null,null,null,null,null,null,null,null,null,null,null,null,null,null,null,null,null,null,null,null,null,null,null,null,null,null,null,null,null,null,null,null,null,null,null,null,null,null,null,null,null,null,null,null,null,null,null,null,null,null,null,null,null,null,null,null,null,null,null,null,null,null,null,null,null,null,null,null,null,null,null,null,null,null,null,null,null,null,null,null,null,null,null,null,null,null,null,null,null,null,null,null,null,null,null,null,null,null,null,null,null,null,null,null,null,null,null,null,null,null,null,null,null,null,null,null,null,null,null,null,null,null,null,null,null,null,null,null,null,null,null,null,null,null,null,null,null,null,null,null,null,null,null,null,null,null,null,null,null,null,null,null,null,null,null,null,null,null,null,null,null,null,null,null,null,null,null,null,null,null,null,null,null,null,null,null,null,null,null,null,null,null,null,null,null,null,null,null,null,null,null,null,null,null,null,null,null,null,null,null,null,null,null,null,null,null,null,null,null,null,null,null,null,null,null,null,null,null,null,null,null,null,null,null,null,null,null,null,null,null,null,null,null,null,null,null,null,null,null,null,null,null,null,null,null,null,null,null,null,null,null,null,null,null,null,null,null,null,null,null,null,null,null,null,null,null,null,null,null,null,null,null,null,null,null,null,null,null,null,null,null,null,null,null,null,null,null,null,null,null,null,null,null,null,null,null,null,null,null,null,null,null,null,null,null,null,null,null,null,null,null,null,null,null,null,null,null,null,null,null,null,null,null,null,null,null,null,null,null,null,null,null,null,null,null,null,null,null,null,null,null,null,null,null,null,null,null,null,null,null,null,null,null,null,null,null,null,null,null,null,null,null,null,null,null,null,null,null,null,null,null,null,null,null,null,null,null,null,null,null,null,null,null,null,null,null,null,null,null,null,null,null,null,null,null,null,null,null,null,null,null,null,null,null,null,null,null,null,null,null,null,null,null,null,null,null,null,null,null,null,null,null,null,null,null,null,null,null,null,null,null,null,null,null,null,null,null,null,null,null,null,null,null,null,null,null,null,null,null,null,null,null,null,null,null,null,null,null,null,null,null,null,null,null,null,null,null,null,null,null,null,null,null,null,null,null,null,null,null,null,null,null,null,null,null,null,null,null,null,null,null,null,null,null,null,null,null,null,null,null,null,null,null,null,null,null,null,null,null,null,null,null,null,null,null,null,null,null,null,null,null,null,null,null,null,null,null,null,null,null,null,null,null,null,null,null,null,null,null,null,null,null,null,null,null,null,null,null,null,null,null,null,null,null,null,null,null,null,null,null,null,null,null,null,null,null,null,null,null,null,null,null,null,null,null,null,null,null,null,null,null,null,null,null,null,null,null,null,null,null,null,null,null,null,null,null,null,null,null,null,null,null,null,null,null,null,null,null,null,null,null,null,null,null,null,null,null,null,null,null,null,null,null,null,null,null,null,null,null,null,null,null,null,null,null,null,null,null,null,null,null,null,null,null,null,null,null,null,null,null,null,null,null,null,null,null,null,null,null,null,null,null,null,null,null,null,null,null,null,null,null,null,null,null,null,null,null,null,null,null,null,null,null,null,null,null,null,null,null,null,null,null,null,null,null,null,null,null,null,null,null,null,null,null,null,null,null,null,null,null,null,null,null,null,null,null,null,null,null,null,null,null,null,null,null,null,null,null,null,null,null,null,null,null,null,null,null,null,null,null,null,null,null,null,null,null,null,null,null,null,null,null,null,null,null,null,null,null,null,null,null,null,null,null,null,null,null,null,null,null,null,null,null,null,null,null,null,null,null,null,null,null,null,null,null,null,null,null,null,null,null,null,null,null,null,null,null,null,null,null,null,null,null,null,null,null,null,null,null,null,null,null,null,null,null,null,null,null,null,null,null,null,null,null,null,null,null,null,null,null,null,null,null,null,null,null,null,null,null,null,null,null,null,null,null,null,null,null,null,null,null,null,null,null,null,null,null,null,null,null,null,null,null,null,null,null,null,null,null,null,null,null,null,null,null,null,null,null,null,null,null,null,null,null,null,null,null,null,null,null,null,null,null,null,null,null,null,null,null,null,null,null,null,null,null,null,null,null,null,null,null,null,null,null,null,null,null,null,null,null,null,null,null,null,null,null,null,null,null,null,null,null,null,null,null,null,null,null,null,null,null,null,null,null,null,null,null,null,null,null,null,null,null,null,null,null,null,null,null,null,null,null,null,null,null,null,null,null,null,null,null,null,null,null,null,null,null,null,null,null,null,null,null,null,null,null,null,null,null,null,null,null,null,null,null,null,null,null,null,null,null,null,null,null,null,null,null,null,null,null,null,null,null,null,null,null,null,null,null,null,null,null,null,null,null,null,null,null,null,null,null,null,null,null,null,null,null,null,null,null,null,null,null,null,null,null,null,null,null,null,null,null,null,null,null,null,null,null,null,null,null,null,null,null,null,null,null,null,null,null,null,null,null,null,null,null,null,null,null,null,null,null,null,null,null,null,null,null,null,null,null,null,null,null,null,null,null,null,null,null,null,null,null,null,null,null,null,null,null,null,null,null,null,null,null,null,null,null,null,null,null,null,null,null,null,null,null,null,null,null,null,null,null,null,null,null,null,null,null,null,null,null,null,null,null,null,null,null,null,null,null,null,null,null,null,null,null,null,null,null,null,null,null,null,null,null,null,null,null,null,null,null,null,null,null,null,null,null,null,null,null,null,null,null,null,null,null,null,null,null,null,null,null,null,null,null,null,null,null,null,null,null,null,null,null,null,null,null,null,null,null,null,null,null,null,null,null,null,null,null,null,null,null,null,null,null,null,null,null,null,null,null,null,null,null,null,null,null,null,null,null,null,null,null,null,null,null,null,null,null,null,null,null,null,null,null,null,null,null,null,null,null,null,null,null,null,null,null,null,null,null,null,null,null,null,null,null,null,null,null,null,null,null,null,null,null,null,null,null,null,null,null,null,null,null,null,null,null,null,null,null,null,null,null,null,null,null,null,null,null,null,null,null,null,null,null,null,null,null,null,null,null,null,null,null,null,null,null,null,null,null,null,null,null,null,null,null,null,null,null,null,null,null,null,null,null,null,null,null,null,null,null,null,null,null,null,null,null,null,null,null,null,null,null,null,null,null,null,null,null,null,null,null,null,null,null,null,null,null,null,null,null,null,null,null,null,null,null,null,null,null,null,null,null,null,null,null,null,null,null,null,null,null,null,null,null,null,null,null,null,null,null,null,null,null,null,null,null,null,null,null,null,null,null,null,null,null,null,null,null,null,null,null,null,null,null,null,null,null,null,null,null,null,null,null,null,null,null,null,null,null,null,null,null,null,null,null,null,null,null,null,null,null,null,null,null,null,null,null,null,null,null,null,null,null,null,null,null,null,null,null,null,null,null,null,null,null,null,null,null,null,null,null,null,null,null,null,null,null,null,null,null,null,null,null,null,null,null,null,null,null,null,null,null,null,null,null,null,null,null,null,null,null,null,null,null,null,null,null,null,null,null,null,null,null,null,null,null,null,null,null,null,null,null,null,null,null,null,null,null,null,null,null,null,null,null,null,null,null,null,null,null,null,null,null,null,null,null,null,null,null,null,null,null,null,null,null,null,null,null,null,null,null,null,null,null,null,null,null,null,null,null,null,null,null,null,null,null,null,null,null,null,null,null,null,null,null,null,null,null,null,null,null,null,null,null,null,null,null,null,null,null,null,null,null,null,null,null,null,null,null,null,null,null,null,null,null,null,null,null,null,null,null,null,null,null,null,null,null,null,null,null,null,null,null,null,null,null,null,null,null,null,null,null,null,null,null,null,null,null,null,null,null,null,null,null,null,null,null,null,null,null,null,null,null,null,null,null,null,null,null,null,null,null,null,null,null,null,null,null,null,null,null,null,null,null,null,null,null,null,null,null,null,null,null,null,null,null,null,null,null,null,null,null,null,null,null,null,null,null,null,null,null,null,null,null,null,null,null,null,null,null,null,null,null,null,null,null,null,null,null,null,null,null,null,null,null,null,null,null,null,null,null,null,null,null,null,null,null,null,null,null,null,null,null,null,null,null,null,null,null,null,null,null,null,null,null,null,null,null,null,null,null,null,null,null,null,null,null,null,null,null,null,null,null,null,null,null,null,null,null,null,null,null,null,null,null,null,null,null,null,null,null,null,null,null,null,null,null,null,null,null,null,null,null,null,null,null,null,null,null,null,null,null,null,null,null,null,null,null,null,null,null,null,null,null,null,null,null,null,null,null,null,null,null,null,null,null,null,null,null,null,null,null,null,null,null,null,null,null,null,null,null,null,null,null,null,null,null,null,null,null,null,null,null,null,null,null,null,null,null,null,null,null,null,null,null,null,null,null,null,null,null,null,null,null,null,null,null,null,null,null,null,null,null,null,null,null,null,null,null,null,null,null,null,null,null,null,null,null,null,null,null,null,null,null,null,null,null,null,null,null,null,null,null,null,null,null,null,null,null,null,null,null,null,null,null,null,null,null,null,null,null,null,null,null,null,null,null,null,null,null,null,null,null,null,null,null,null,null,null,null,null,null,null,null,null,null,null,null,null,null,null,null,null,null,null,null,null,null,null,null,null,null,null,null,null,null,null,null,null,null,null,null,null,null,null,null,null,null,null,null,null,null,null,null,null,null,null,null,null,null,null,null,null,null,null,null,null,null,null,null,null,null,null,null,null,null,null,null,null,null,null,null,null,null,null,null,null,null,null,null,null,null,null,null,null,null,null,null,null,null,null,null,null,null,null,null,null,null,null,null,null,null,null,null,null,null,null,null,null,null,null,null,null,null,null,null,null,null,null,null,null,null,null,null,null,null,null,null,null,null,null,null,null,null,null,null,null,null,null,null,null,null,null,null,null,null,null,null,null,null,null,null,null,null,null,null,null,null,null,null,null,null,null,null,null,null,null,null,null,null,null,null,null,null,null,null,null,null,null,null,null,null,null,null,null,null,null,null,null,null,null,null,null,null,null,null,null,null,null,null,null,null,null,null,null,null,null,null,null,null,null,null,null,null,null,null,null,null,null,null,null,null,null,null,null,null,null,null,null,null,null,null,null,null,null,null,null,null,null,null,null,null,null,null,null,null,null,null,null,null,null,null,null,null,null,null,null,null,null,null,null,null,null,null,null,null,null,null,null,null,null,null,null,null,null,null,null,null,null,null,null,null,null,null,null,null,null,null,null,null,null,null,null,null,null,null,null,null,null,null,null,null,null,null,null,null,null,null,null,null,null,null,null,null,null,null,null,null,null,null,null,null,null,null,null,null,null,null,null,null,null,null,null,null,null,null,null,null,null,null,null,null,null,null,null,null,null,null,null,null,null,null,null,null,null,null,null,null,null,null,null,null,null,null,null,null,null,null,null,null,null,null,null,null,null,null,null,null,null,null,null,null,null,null,null,null,null,null,null,null,null,null,null,null,null,null,null,null,null,null,null,null,null,null,null,null,null,null,null,null,null,null,null,null,null,null,null,null,null,null,null,null,null,null,null,null,null,null,null,null,null,null,null,null,null,null,null,null,null,null,null,null,null,null,null,null,null,null,null,null,null,null,null,null,null,null,null,null,null,null,null,null,null,null,null,null,null,null,null,null,null,null,null,null,null,null,null,null,null,null,null,null,null,null,null,null,null,null,null,null,null,null,null,null,null,null,null,null,null,null,null,null,null,null,null,null,null,null,null,null,null,null,null,null,null,null,null,null,null,null,null,null,null,null,null,null,null,null,null,null,null,null,null,null,null,null,null,null,null,null,null,null,null,null,null,null,null,null,null,null,null,null,null,null,null,null,null,null,null,null,null,null,null,null,null,null,null,null,null,null,null,null,null,null,null,null,null,null,null,null,null,null,null,null,null,null,null,null,null,null,null,null,null,null,null,null,null,null,null,null,null,null,null,null,null,null,null,null,null,null,null,null,null,null,null,null,null,null,null,null,null,null,null,null,null,null,null,null,null,null,null,null,null,null,null,null,null,null,null,null,null,null,null,null,null,null,null,null,null,null,null,null,null,null,null,null,null,null,null,null,null,null,null,null,null,null,null,null,null,null,null,null,null,null,null,null,null,null,null,null,null,null,null,null,null,null,null,null,null,null,null,null,null,null,null,null,null,null,null,null,null,null,null,null,null,null,null,null,null,null,null,null,null,null,null,null,null,null,null,null,null,null,null,null,null,null,null,null,null,null,null,null,null,null,null,null,null,null,null,null,null,null,null,null,null,null,null,null,null,null,null,null,null,null,null,null,null,null,null,null,null,null,null,null,null,null,null,null,null,null,null,null,null,null,null,null,null,null,null,null,null,null,null,null,null,null,null,null,null,null,null,null,null,null,null,null,null,null,null,null,null,null,null,null,null,null,null,null,null,null,null,null,null,null,null,null,null,null,null,null,null,null,null,null,null,null,null,null,null,null,null,null,null,null,null,null,null,null,null,null,null,null,null,null,null,null,null,null,null,null,null,null,null,null,null,null,null,null,null,null,null,null,null,null,null,null,null,null,null,null,null,null,null,null,null,null,null,null,null,null,null,null,null,null,null,null,null,null,null,null,null,null,null,null,null,null,null,null,null,null,null,null,null,null,null,null,null,null,null,null,null,null,null,null,null,null,null,null,null,null,null,null,null,null,null,null,null,null,null,null,null,null,null,null,null,null,null,null,null,null,null,null,null,null,null,null,null,null,null,null,null,null,null,null,null,null,null,null,null,null,null,null,null,null,null,null,null,null,null,null,null,null,null,null,null,null,null,null,null,null,null,null,null,null,null,null,null,null,null,null,null,null,null,null,null,null,null,null,null,null,null,null,null,null,null,null,null,null,null,null,null,null,null,null,null,null,null,null,null,null,null,null,null,null,null,null,null,null,null,null,null,null,null,null,null,null,null,null,null,null,null,null,null,null,null,null,null,null,null,null,null,null,null,null,null,null,null,null,null,null,null,null,null,null,null,null,null,null,null,null,null,null,null,null,null,null,null,null,null,null,null,null,null,null,null,null,null,null,null,null,null,null,null,null,null,null,null,null,null,null,null,null,null,null,null,null,null,null,null,null,null,null,null,null,null,null,null,null,null,null,null,null,null,null,null,null,null,null,null,null,null,null,null,null,null,null,null,null,null,null,null,null,null,null,null,null,null,null,null,null,null,null,null,null,null,null,null,null,null,null,null,null,null,null,null,null,null,null,null,null,null,null,null,null,null,null,null,null,null,null,null,null,null,null,null,null,null,null,null,null,null,null,null,null,null,null,null,null,null,null,null,null,null,null,null,null,null,null,null,null,null,null,null,null,null,null,null,null,null,null,null,null,null,null,null,null,null,null,null,null,null,null,null,null,null,null,null,null,null,null,null,null,null,null,null,null,null,null,null,null,null,null,null,null,null,null,null,null,null,null,null,null,null,null,null,null,null,null,null,null,null,null,null,null,null,null,null,null,null,null,null,null,null,null,null,null,null,null,null,null,null,null,null,null,null,null,null,null,null,null,null,null,null,null,null,null,null,null,null,null,null,null,null,null,null,null,null,null,null,null,null,null,null,null,null,null,null,null,null,null,null,null,null,null,null,null,null,null,null,null,null,null,null,null,null,null,null,null,null,null,null,null,null,null,null,null,null,null,null,null,null,null,null,null,null,null,null,null,null,null,null,null,null,null,null,null,null,null,null,null,null,null,null,null,null,null,null,null,null,null,null,null,null,null,null,null,null,null,null,null,null,null,null,null,null,null,null,null,null,null,null,null,null,null,null,null,null,null,null,null,null,null,null,null,null,null,null,null,null,null,null,null,null,null,null,null,null,null,null,null,null,null,null,null,null,null,null,null,null,null,null,null,null,null,null,null,null,null,null,null,null,null,null,null,null,null,null,null,null,null,null,null,null,null,null,null,null,null,null,null,null,null,null,null,null,null,null,null,null,null,null,null,null,null,null,null,null,null,null,null,null,null,null,null,null,null,null,null,null,null,null,null,null,null,null,null,null,null,null,null,null,null,null,null,null,null,null,null,null,null,null,null,null,null,null,null,null,null,null,null,null,null,null,null,null,null,null,null,null,null,null,null,null,null,null,null,null,null,null,null,null,null,null,null,null,null,null,null,null,null,null,null,null,null,null,null,null,null,null,null,null,null,null,null,null,null,null,null,null,null,null,null,null,null,null,null,null,null,null,null,null,null,null,null,null,null,null,null,null,null,null,null,null,null,null,null,null,null,null,null,null,null,null,null,null,null,null,null,null,null,null,null,null,null,null,null,null,null,null,null,null,null,null,null,null,null,null,null,null,null,null,null,null,null,null,null,null,null,null,null,null,null,null,null,null,null,null,null,null,null,null,null,null,null,null,null,null,null,null,null,null,null,null,null,null,null,null,null,null,null,null,null,null,null,null,null,null,null,null,null,null,null,null,null,null,null,null,null,null,null,null,null,null,null,null,null,null,null,null,null,null,null,null,null,null,null,null,null,null,null,null,null,null,null,null,null,null,null,null,null,null,null,null,null,null,null,null,null,null,null,null,null,null,null,null,null,null,null,null,null,null,null,null,null,null,null,null,null,null,null,null,null,null,null,null,null,null,null,null,null,null,null,null,null,null,null,null,null,null,null,null,null,null,null,null,null,null,null,null,null,null,null,null,null,null,null,null,null,null,null,null,null,null,null,null,null,null,null,null,null,null,null,null,null,null,null,null,null,null,null,null,null,null,null,null,null,null,null,null,null,null,null,null,null,null,null,null,null,null,null,null,null,null,null,null,null,null,null,null,null,null,null,null,null,null,null,null,null,null,null,null,null,null,null,null,null,null,null,null,null,null,null,null,null,null,null,null,null,null,null,null,null,null,null,null,null,null,null,null,null,null,null,null,null,null,null,null,null,null,null,null,null,null,null,null,null,null,null,null,null,null,null,null,null,null,null,null,null,null,null,null,null,null,null,null,null,null,null,null,null,null,null,null,null,null,null,null,null,null,null,null,null,null,null,null,null,null,null,null,null,null,null,null,null,null,null,null,null,null,null,null,null,null,null,null,null,null,null,null,null,null,null,null,null,null,null,null,null,null,null,null,null,null,null,null,null,null,null,null,null,null,null,null,null,null,null,null,null,null,null,null,null,null,null,null,null,null,null,null,null,null,null,null,null,null,null,null,null,null,null,null,null,null,null,null,null,null,null,null,null,null,null,null,null,null,null,null,null,null,null,null,null,null,null,null,null,null,null,null,null,null,null,null,null,null,null,null,null,null,null,null,null,null,null,null,null,null,null,null,null,null,null,null,null,null,null,null,null,null,null,null,null,null,null,null,null,null,null,null,null,null,null,null,null,null,null,null,null,null,null,null,null,null,null,null,null,null,null,null,null,null,null,null,null,null,null,null,null,null,null,null,null,null,null,null,null,null,null,null,null,null,null,null,null,null,null,null,null,null,null,null,null,null,null,null,null,null,null,null,null,null,null,null,null,null,null,null,null,null,null,null,null,null,null,null,null,null,null,null,null,null,null,null,null,null,null,null,null,null,null,null,null,null,null,null,null,null,null,null,null,null,null,null,null,null,null,null,null,null,null,null,null,null,null,null,null,null,null,null,null,null,null,null,null,null,null,null,null,null,null,null,null,null,null,null,null,null,null,null,null,null,null,null,null,null,null,null,null,null,null,null,null,null,null,null,null,null,null,null,null,null,null,null,null,null,null,null,null,null,null,null,null,null,null,null,null,null,null,null,null,null,null,null,null,null,null,null,null,null,null,null,null,null,null,null,null,null,null,null,null,null,null,null,null,null,null,null,null,null,null,null,null,null,null,null,null,null,null,null,null,null,null,null,null,null,null,null,null,null,null,null,null,null,null,null,null,null,null,null,null,null,null,null,null,null,null,null,null,null,null,null,null,null,null,null,null,null,null,null,null,null,null,null,null,null,null,null,null,null,null,null,null,null,null,null,null,null,null,null,null,null,null,null,null,null,null,null,null,null,null,null,null,null,null,null,null,null,null,null,null,null,null,null,null,null,null,null,null,null,null,null,null,null,null,null,null,null,null,null,null,null,null,null,null,null,null,null,null,null,null,null,null,null,null,null,null,null,null,null,null,null,null,null,null,null,null,null,null,null,null,null,null,null,null,null,null,null,null,null,null,null,null,null,null,null,null,null,null,null,null,null,null,null,null,null,null,null,null,null,null,null,null,null,null,null,null,null,null,null,null,null,null,null,null,null,null,null,null,null,null,null,null,null,null,null,null,null,null,null,null,null,null,null,null,null,null,null,null,null,null,null,null,null,null,null,null,null,null,null,null,null,null,null,null,null,null,null,null,null,null,null,null,null,null,null,null,null,null,null,null,null,null,null,null,null,null,null,null,null,null,null,null,null,null,null,null,null,null,null,null,null,null,null,null,null,null,null,null,null,null,null,null,null,null,null,null,null,null,null,null,null,null,null,null,null,null,null,null,null,null,null,null,null,null,null,null,null,null,null,null,null,null,null,null,null,null,null,null,null,null,null,null,null,null,null,null,null,null,null,null,null,null,null,null,null,null,null,null,null,null,null,null,null,null,null,null,null,null,null,null,null,null,null,null,null,null,null,null,null,null,null,null,null,null,null,null,null,null,null,null,null,null,null,null,null,null,null,null,null,null,null,null,null,null,null,null,null,null,null,null,null,null,null,null,null,null,null,null,null,null,null,null,null,null,null,null,null,null,null,null,null,null,null,null,null,null,null,null,null,null,null,null,null,null,null,null,null,null,null,null,null,null,null,null,null,null,null,null,null,null,null,null,null,null,null,null,null,null,null,null,null,null,null,null,null,null,null,null,null,null,null,null,null,null,null,null,null,null,null,null,null,null,null,null,null,null,null,null,null,null,null,null,null,null,null,null,null,null,null,null,null,null,null,null,null,null,null,null,null,null,null,null,null,null,null,null,null,null,null,null,null,null,null,null,null,null,null,null,null,null,null,null,null,null,null,null,null,null,null,null,null,null,null,null,null,null,null,null,null,null,null,null,null,null,null,null,null,null,null,null,null,null,null,null,null,null,null,null,null,null,null,null,null,null,null,null,null,null,null,null,null,null,null,null,null,null,null,null,null,null,null,null,null,null,null,null,null,null,null,null,null,null,null,null,null,null,null,null,null,null,null,null,null,null,null,null,null,null,null,null,null,null,null,null,null,null,null,null,null,null,null,null,null,null,null,null,null,null,null,null,null,null,null,null,null,null,null,null,null,null,null,null,null,null,null,null,null,null,null,null,null,null,null,null,null,null,null,null,null,null,null,null,null,null,null,null,null,null,null,null,null,null,null,null,null,null,null,null,null,null,null,null,null,null,null,null,null,null,null,null,null,null,null,null,null,null,null,null,null,null,null,null,null,null,null,null,null,null,null,null,null,null,null,null,null,null,null,null,null,null,null,null,null,null,null,null,null,null,null,null,null,null,null,null,null,null,null,null,null,null,null,null,null,null,null,null,null,null,null,null,null,null,null,null,null,null,null,null,null,null,null,null,null,null,null,null,null,null,null,null,null,null,null,null,null,null,null,null,null,null,null,null,null,null,null,null,null,null,null,null,null,null,null,null,null,null,null,null,null,null,null,null,null,null,null,null,null,null,null,null,null,null,null,null,null,null,null,null,null,null,null,null,null,null,null,null,null,null,null,null,null,null,null,null,null,null,null,null,null,null,null,null,null,null,null,null,null,null,null,null,null,null,null,null,null,null,null,null,null,null,null,null,null,null,null,null,null,null,null,null,null,null,null,null,null,null,null,null,null,null,null,null,null,null,null,null,null,null,null,null,null,null,null,null,null,null,null,null,null,null,null,null,null,null,null,null,null,null,null,null,null,null,null,null,null,null,null,null,null,null,null,null,null,null,null,null,null,null,null,null,null,null,null,null,null,null,null,null,null,null,null,null,null,null,null,null,null,null,null,null,null,null,null,null,null,null,null,null,null,null,null,null,null,null,null,null,null,null,null,null,null,null,null,null,null,null,null,null,null,null,null,null,null,null,null,null,null,null,null,null,null,null,null,null,null,null,null,null,null,null,null,null,null,null,null,null,null,null,null,null,null,null,null,null,null,null,null,null,null,null,null,null,null,null,null,null,null,null,null,null,null,null,null,null,null,null,null,null,null,null,null,null,null,null,null,null,null,null,null,null,null,null,null,null,null,null,null,null,null,null,null,null,null,null,null,null,null,null,null,null,null,null,null,null,null,null,null,null,null,null,null,null,null,null,null,null,null,null,null,null,null,null,null,null,null,null,null,null,null,null,null,null,null,null,null,null,null,null,null,null,null,null,null,null,null,null,null,null,null,null,null,null,null,null,null,null,null,null,null,null,null,null,null,null,null,null,null,null,null,null,null,null,null,null,null,null,null,null,null,null,null,null,null,null,null,null,null,null,null,null,null,null,null,null,null,null,null,null,null,null,null,null,null,null,null,null,null,null,null,null,null,null,null,null,null,null,null,null,null,null,null,null,null,null,null,null,null,null,null,null,null,null,null,null,null,null,null,null,null,null,null,null,null,null,null,null,null,null,null,null,null,null,null,null,null,null,null,null,null,null,null,null,null,null,null,null,null,null,null,null,null,null,null,null,null,null,null,null,null,null,null,null,null,null,null,null,null,null,null,null,null,null,null,null,null,null,null,null,null,null,null,null,null,null,null,null,null,null,null,null,null,null,null,null,null,null,null,null,null,null,null,null,null,null,null,null,null,null,null,null,null,null,null,null,null,null,null,null,null,null,null,null,null,null,null,null,null,null,null,null,null,null,null,null,null,null,null,null,null,null,null,null,null,null,null,null,null,null,null,null,null,null,null,null,null,null,null,null,null,null,null,null,null,null,null,null,null,null,null,null,null,null,null,null,null,null,null,null,null,null,null,null,null,null,null,null,null,null,null,null,null,null,null,null,null,null,null,null,null,null,null,null,null,null,null,null,null,null,null,null,null,null,null,null,null,null,null,null,null,null,null,null,null,null,null,null,null,null,null,null,null,null,null,null,null,null,null,null,null,null,null,null,null,null,null,null,null,null,null,null,null,null,null,null,null,null,null,null,null,null,null,null,null,null,null,null,null,null,null,null,null,null,null,null,null,null,null,null,null,null,null,null,null,null,null,null,null,null,null,null,null,null,null,null,null,null,null,null,null,null,null,null,null,null,null,null,null,null,null,null,null,null,null,null,null,null,null,null,null,null,null,null,null,null,null,null,null,null,null,null,null,null,null,null,null,null,null,null,null,null,null,null,null,null,null,null,null,null,null,null,null,null,null,null,null,null,null,null,null,null,null,null,null,null,null,null,null,null,null,null,null,null,null,null,null,null,null,null,null,null,null,null,null,null,null,null,null,null,null,null,null,null,null,null,null,null,null,null,null,null,null,null,null,null,null,null,null,null,null,null,null,null,null,null,null,null,null,null,null,null,null,null,null,null,null,null,null,null,null,null,null,null,null,null,null,null,null,null,null,null,null,null,null,null,null,null,null,null,null,null,null,null,null,null,null,null,null,null,null,null,null,null,null,null,null,null,null,null,null,null,null,null,null,null,null,null,null,null,null,null,null,null,null,null,null,null,null,null,null,null,null,null,null,null,null,null,null,null,null,null,null,null,null,null,null,null,null,null,null,null,null,null,null,null,null,null,null,null,null,null,null,null,null,null,null,null,null,null,null,null,null,null,null,null,null,null,null,null,null,null,null,null,null,null,null,null,null,null,null,null,null,null,null,null,null,null,null,null,null,null,null,null,null,null,null,null,null,null,null,null,null,null,null,null,null,null,null,null,null,null,null,null,null,null,null,null,null,null,null,null,null,null,null,null,null,null,null,null,null,null,null,null,null,null,null,null,null,null,null,null,null,null,null,null,null,null,null,null,null,null,null,null,null,null,null,null,null,null,null,null,null,null,null,null,null,null,null,null,null,null,null,null,null,null,null,null,null,null,null,null,null,null,null,null,null,null,null,null,null,null,null,null,null,null,null,null,null,null,null,null,null,null,null,null,null,null,null,null,null,null,null,null,null,null,null,null,null,null,null,null,null,null,null,null,null,null,null,null,null,null,null,null,null,null,null,null,null,null,null,null,null,null,null,null,null,null,null,null,null,null,null,null,null,null,null,null,null,null,null,null,null,null,null,null,null,null,null,null,null,null,null,null,null,null,null,null,null,null,null,null,null,null,null,null,null,null,null,null,null,null,null,null,null,null,null,null,null,null,null,null,null,null,null,null,null,null,null,null,null,null,null,null,null,null,null,null,null,null,null,null,null,null,null,null,null,null,null,null,null,null,null,null,null,null,null,null,null,null,null,null,null,null,null,null,null,null,null,null,null,null,null,null,null,null,null,null,null,null,null,null,null,null,null,null,null,null,null,null,null,null,null,null,null,null,null,null,null,null,null,null,null,null,null,null,null,null,null,null,null,null,null,null,null,null,null,null,null,null,null,null,null,null,null,null,null,null,null,null,null,null,null,null,null,null,null,null,null,null,null,null,null,null,null,null,null,null,null,null,null,null,null,null,null,null,null,null,null,null,null,null,null,null,null,null,null,null,null,null,null,null,null,null,null,null,null,null,null,null,null,null,null,null,null,null,null,null,null,null,null,null,null,null,null,null,null,null,null,null,null,null,null,null,null,null,null,null,null,null,null,null,null,null,null,null,null,null,null,null,null,null,null,null,null,null,null,null,null,null,null,null,null,null,null,null,null,null,null,null,null,null,null,null,null,null,null,null,null,null,null,null,null,null,null,null,null,null,null,null,null,null,null,null,null,null,null,null,null,null,null,null,null,null,null,null,null,null,null,null,null,null,null,null,null,null,null,null,null,null,null,null,null,null,null,null,null,null,null,null,null,null,null,null,null,null,null,null,null,null,null,null,null,null,null,null,null,null,null,null,null,null,null,null,null,null,null,null,null,null,null,null,null,null,null,null,null,null,null,null,null,null,null,null,null,null,null,null,null,null,null,null,null,null,null,null,null,null,null,null,null,null,null,null,null,null,null,null,null,null,null,null,null,null,null,null,null,null,null,null,null,null,null,null,null,null,null,null,null,null,null,null,null,null,null,null,null,null,null,null,null,null,null,null,null,null,null,null,null,null,null,null,null,null,null,null,null,null,null,null,null,null,null,null,null,null,null,null,null,null,null,null,null,null,null,null,null,null,null,null,null,null,null,null,null,null,null,null,null,null,null,null,null,null,null,null,null,null,null,null,null,null,null,null,null,null,null,null,null,null,null,null,null,null,null,null,null,null,null,null,null,null,null,null,null,null,null,null,null,null,null,null,null,null,null,null,null,null,null,null,null,null,null,null,null,null,null,null,null,null,null,null,null,null,null,null,null,null,null,null,null,null,null,null,null,null,null,null,null,null,null,null,null,null,null,null,null,null,null,null,null,null,null,null,null,null,null,null,null,null,null,null,null,null,null,null,null,null,null,null,null,null,null,null,null,null,null,null,null,null,null,null,null,null,null,null,null,null,null,null,null,null,null,null,null,null,null,null,null,null,null,null,null,null,null,null,null,null,null,null,null,null,null,null,null,null,null,null,null,null,null,null,null,null,null,null,null,null,null,null,null,null,null,null,null,null,null,null,null,null,null,null,null,null,null,null,null,null,null,null,null,null,null,null,null,null,null,null,null,null,null,null,null,null,null,null,null,null,null,null,null,null,null,null,null,null,null,null,null,null,null,null,null,null,null,null,null,null,null,null,null,null,null,null,null,null,null,null,null,null,null,null,null,null,null,null,null,null,null,null,null,null,null,null,null,null,null,null,null,null,null,null,null,null,null,null,null,null,null,null,null,null,null,null,null,null,null,null,null,null,null,null,null,null,null,null,null,null,null,null,null,null,null,null,null,null,null,null,null,null,null,null,null,null,null,null,null,null,null,null,null,null,null,null,null,null,null,null,null,null,null,null,null,null,null,null,null,null,null,null,null,null,null,null,null,null,null,null,null,null,null,null,null,null,null,null,null,null,null,null,null,null,null,null,null,null,null,null,null,null,null,null,null,null,null,null,null,null,null,null,null,null,null,null,null,null,null,null,null,null,null,null,null,null,null,null,null,null,null,null,null,null,null,null,null,null,null,null,null,null,null,null,null,null,null,null,null,null,null,null,null,null,null,null,null,null,null,null,null,null,null,null,null,null,null,null,null,null,null,null,null,null,null,null,null,null,null,null,null,null,null,null,null,null,null,null,null,null,null,null,null,null,null,null,null,null,null,null,null,null,null,null,null,null,null,null,null,null,null,null,null,null,null,null,null,null,null,null,null,null,null,null,null,null,null,null,null,null,null,null,null,null,null,null,null,null,null,null,null,null,null,null,null,null,null,null,null,null,null,null,null,null,null,null,null,null,null,null,null,null,null,null,null,null,null,null,null,null,null,null,null,null,null,null,null,null,null,null,null,null,null,null,null,null,null,null,null,null,null,null,null,null,null,null,null,null,null,null,null,null,null,null,null,null,null,null,null,null,null,null,null,null,null,null,null,null,null,null,null,null,null,null,null,null,null,null,null,null,null,null,null,null,null,null,null,null,null,null,null,null,null,null,null,null,null,null,null,null,null,null,null,null,null,null,null,null,null,null,null,null,null,null,null,null,null,null,null,null,null,null,null,null,null,null,null,null,null,null,null,null,null,null,null,null,null,null,null,null,null,null,null,null,null,null,null,null,null,null,null,null,null,null,null,null,null,null,null,null,null,null,null,null,null,null,null,null,null,null,null,null,null,null,null,null,null,null,null,null,null,null,null,null,null,null,null,null,null,null,null,null,null,null,null,null,null,null,null,null,null,null,null,null,null,null,null,null,null,null,null,null,null,null,null,null,null,null,null,null,null,null,null,null,null,null,null,null,null,null,null,null,null,null,null,null,null,null,null,null,null,null,null,null,null,null,null,null,null,null,null,null,null,null,null,null,null,null,null,null,null,null,null,null,null,null,null,null,null,null,null,null,null,null,null,null,null,null,null,null,null,null,null,null,null,null,null,null,null,null,null,null,null,null,null,null,null,null,null,null,null,null,null,null,null,null,null,null,null,null,null,null,null,null,null,null,null,null,null,null,null,null,null,null,null,null,null,null,null,null,null,null,null,null,null,null,null,null,null,null,null,null,null,null,null,null,null,null,null,null,null,null,null,null,null,null,null,null,null,null,null,null,null,null,null,null,null,null,null,null,null,null,null,null,null,null,null,null,null,null,null,null,null,null,null,null,null,null,null,null,null,null,null,null,null,null,null,null,null,null,null,null,null,null,null,null,null,null,null,null,null,null,null,null,null,null,null,null,null,null,null,null,null,null,null,null,null,null,null,null,null,null,null,null,null,null,null,null,null,null,null,null,null,null,null,null,null,null,null,null,null,null,null,null,null,null,null,null,null,null,null,null,null,null,null,null,null,null,null,null,null,null,null,null,null,null,null,null,null,null,null,null,null,null,null,null,null,null,null,null,null,null,null,null,null,null,null,null,null,null,null,null,null,null,null,null,null,null,null,null,null,null,null,null,null,null,null,null,null,null,null,null,null,null,null,null,null,null,null,null,null,null,null,null,null,null,null,null,null,null,null,null,null,null,null,null,null,null,null,null,null,null,null,null,null,null,null,null,null,null,null,null,null,null,null,null,null,null,null,null,null,null,null,null,null,null,null,null,null,null,null,null,null,null,null,null,null,null,null,null,null,null,null,null,null,null,null,null,null,null,null,null,null,null,null,null,null,null,null,null,null,null,null,null,null,null,null,null,null,null,null,null,null,null,null,null,null,null,null,null,null,null,null,null,null,null,null,null,null,null,null,null,null,null,null,null,null,null,null,null,null,null,null,null,null,null,null,null,null,null,null,null,null,null,null,null,null,null,null,null,null,null,null,null,null,null,null,null,null,null,null,null,null,null,null,null,null,null,null,null,null,null,null,null,null,null,null,null,null,null,null,null,null,null,null,null,null,null,null,null,null,null,null,null,null,null,null,null,null,null,null,null,null,null,null,null,null,null,null,null,null,null,null,null,null,null,null,null,null,null,null,null,null,null,null,null,null,null,null,null,null,null,null,null,null,null,null,null,null,null,null,null,null,null,null,null,null,null,null,null,null,null,null,null,null,null,null,null,null,null,null,null,null,null,null,null,null,null,null,null,null,null,null,null,null,null,null,null,null,null,null,null,null,null,null,null,null,null,null,null,null,null,null,null,null,null,null,null,null,null,null,null,null,null,null,null,null,null,null,null,null,null,null,null,null,null,null,null,null,null,null,null,null,null,null,null,null,null,null,null,null,null,null,null,null,null,null,null,null,null,null,null,null,null,null,null,null,null,null,null,null,null,null,null,null,null,null,null,null,null,null,null,null,null,null,null,null,null,null,null,null,null,null,null,null,null,null,null,null,null,null,null,null,null,null,null,null,null,null,null,null,null,null,null,null,null,null,null,null,null,null,null,null,null,null,null,null,null,null,null,null,null,null,null,null,null,null,null,null,null,null,null,null,null,null,null,null,null,null,null,null,null,null,null,null,null,null,null,null,null,null,null,null,null,null,null,null,null,null,null,null,null,null,null,null,null,null,null,null,null,null,null,null,null,null,null,null,null,null,null,null,null,null,null,null,null,null,null,null,null,null,null,null,null,null,null,null,null,null,null,null,null,null,null,null,null,null,null,null,null,null,null,null,null,null,null,null,null,null,null,null,null,null,null,null,null,null,null,null,null,null,null,null,null,null,null,null,null,null,null,null,null,null,null,null,null,null,null,null,null,null,null,null,null,null,null,null,null,null,null,null,null,null,null,null,null,null,null,null,null,null,null,null,null,null,null,null,null,null,null,null,null,null,null,null,null,null,null,null,null,null,null,null,null,null,null,null,null,null,null,null,null,null,null,null,null,null,null,null,null,null,null,null,null,null,null,null,null,null,null,null,null,null,null,null,null,null,null,null,null,null,null,null,null,null,null,null,null,null,null,null,null,null,null,null,null,null,null,null,null,null,null,null,null,null,null,null,null,null,null,null,null,null,null,null,null,null,null,null,null,null,null,null,null,null,null,null,null,null,null,null,null,null,null,null,null,null,null,null,null,null,null,null,null,null,null,null,null,null,null,null,null,null,null,null,null,null,null,null,null,null,null,null,null,null,null,null,null,null,null,null,null,null,null,null,null,null,null,null,null,null,null,null,null,null,null,null,null,null,null,null,null,null,null,null,null,null,null,null,null,null,null,null,null,null,null,null,null,null,null,null,null,null,null,null,null,null,null,null,null,null,null,null,null,null,null,null,null,null,null,null,null,null,null,null,null,null,null,null,null,null,null,null,null,null,null,null,null,null,null,null,null,null,null,null,null,null,null,null,null,null,null,null,null,null,null,null,null,null,null,null,null,null,null,null,null,null,null,null,null,null,null,null,null,null,null,null,null,null,null,null,null,null,null,null,null,null,null,null,null,null,null,null,null,null,null,null,null,null,null,null,null,null,null,null,null,null,null,null,null,null,null,null,null,null,null,null,null,null,null,null,null,null,null,null,null,null,null,null,null,null,null,null,null,null,null,null,null,null,null,null,null,null,null,null,null,null,null,null,null,null,null,null,null,null,null,null,null,null,null,null,null,null,null,null,null,null,null,null,null,null,null,null,null,null,null,null,null,null,null,null,null,null,null,null,null,null,null,null,null,null,null,null,null,null,null,null,null,null,null,null,null,null,null,null,null,null,null,null,null,null,null,null,null,null,null,null,null,null,null,null,null,null,null,null,null,null,null,null,null,null,null,null,null,null,null,null,null,null,null,null,null,null,null,null,null,null,null,null,null,null,null,null,null,null,null,null,null,null,null,null,null,null,null,null,null,null,null,null,null,null,null,null,null,null,null,null,null,null,null,null,null,null,null,null,null,null,null,null,null,null,null,null,null,null,null,null,null,null,null,null,null,null,null,null,null,null,null,null,null,null,null,null,null,null,null,null,null,null,null,null,null,null,null,null,null,null,null,null,null,null,null,null,null,null,null,null,null,null,null,null,null,null,null,null,null,null,null,null,null,null,null,null,null,null,null,null,null,null,null,null,null,null,null,null,null,null,null,null,null,null,null,null,null,null,null,null,null,null,null,null,null,null,null,null,null,null,null,null,null,null,null,null,null,null,null,null,null,null,null,null,null,null,null,null,null,null,null,null,null,null,null,null,null,null,null,null,null,null,null,null,null,null,null,null,null,null,null,null,null,null,null,null,null,null,null,null,null,null,null,null,null,null,null,null,null,null,null,null,null,null,null,null,null,null,null,null,null,null,null,null,null,null,null,null,null,null,null,null,null,null,null,null,null,null,null,null,null,null,null,null,null,null,null,null,null,null,null,null,null,null,null,null,null,null,null,null,null,null,null,null,null,null,null,null,null,null,null,null,null,null,null,null,null,null,null,null,null,null,null,null,null,null,null,null,null,null,null,null,null,null,null,null,null,null,null,null,null,null,null,null,null,null,null,null,null,null,null,null,null,null,null,null,null,null,null,null,null,null,null,null,null,null,null,null,null,null,null,null,null,null,null,null,null,null,null,null,null,null,null,null,null,null,null,null,null,null,null,null,null,null,null,null,null,null,null,null,null,null,null,null,null,null,null,null,null,null,null,null,null,null,null,null,null,null,null,null,null,null,null,null,null,null,null,null,null,null,null,null,null,null,null,null,null,null,null,null,null,null,null,null,null,null,null,null,null,null,null,null,null,null,null,null,null,null,null,null,null,null,null,null,null,null,null,null,null,null,null,null,null,null,null,null,null,null,null,null,null,null,null,null,null,null,null,null,null,null,null,null,null,null,null,null,null,null,null,null,null,null,null,null,null,null,null,null,null,null,null,null,null,null,null,null,null,null,null,null,null,null,null,null,null,null,null,null,null,null,null,null,null,null,null,null,null,null,null,null,null,null,null,null,null,null,null,null,null,null,null,null,null,null,null,null,null,null,null,null,null,null,null,null,null,null,null,null,null,null,null,null,null,null,null,null,null,null,null,null,null,null,null,null,null,null,null,null,null,null,null,null,null,null,null,null,null,null,null,null,null,null,null,null,null,null,null,null,null,null,null,null,null,null,null,null,null,null,null,null,null,null,null,null,null,null,null,null,null,null,null,null,null,null,null,null,null,null,null,null,null,null,null,null,null,null,null,null,null,null,null,null,null,null,null,null,null,null,null,null,null,null,null,null,null,null,null,null,null,null,null,null,null,null,null,null,null,null,null,null,null,null,null,null,null,null,null,null,null,null,null,null,null,null,null,null,null,null,null,null,null,null,null,null,null,null,null,null,null,null,null,null,null,null,null,null,null,null,null,null,null,null,null,null,null,null,null,null,null,null,null,null,null,null,null,null,null,null,null,null,null,null,null,null,null,null,null,null,null,null,null,null,null,null,null,null,null,null,null,null,null,null,null,null,null,null,null,null,null,null,null,null,null,null,null,null,null,null,null,null,null,null,null,null,null,null,null,null,null,null,null,null,null,null,null,null,null,null,null,null,null,null,null,null,null,null,null,null,null,null,null,null,null,null,null,null,null,null,null,null,null,null,null,null,null,null,null,null,null,null,null,null,null,null,null,null,null,null,null,null,null,null,null,null,null,null,null,null,null,null,null,null,null,null,null,null,null,null,null,null,null,null,null,null,null,null,null,null,null,null,null,null,null,null,null,null,null,null,null,null,null,null,null,null,null,null,null,null,null,null,null,null,null,null,null,null,null,null,null,null,null,null,null,null,null,null,null,null,null,null,null,null,null,null,null,null,null,null,null,null,null,null,null,null,null,null,null,null,null,null,null,null,null,null,null,null,null,null,null,null,null,null,null,null,null,null,null,null,null,null,null,null,null,null,null,null,null,null,null,null,null,null,null,null,null,null,null,null,null,null,null,null,null,null,null,null,null,null,null,null,null,null,null,null,null,null,null,null,null,null,null,null,null,null,null,null,null,null,null,null,null,null,null,null,null,null,null,null,null,null,null,null,null,null,null,null,null,null,null,null,null,null,null,null,null,null,null,null,null,null,null,null,null,null,null,null,null,null,null,null,null,null,null,null,null,null,null,null,null,null,null,null,null,null,null,null,null,null,null,null,null,null,null,null,null,null,null,null,null,null,null,null,null,null,null,null,null,null,null,null,null,null,null,null,null,null,null,null,null,null,null,null,null,null,null,null,null,null,null,null,null,null,null,null,null,null,null,null,null,null,null,null,null,null,null,null,null,null,null,null,null,null,null,null,null,null,null,null,null,null,null,null,null,null,null,null,null,null,null,null,null,null,null,null,null,null,null,null,null,null,null,null,null,null,null,null,null,null,null,null,null,null,null,null,null,null,null,null,null,null,null,null,null,null,null,null,null,null,null,null,null,null,null,null,null,null,null,null,null,null,null,null,null,null,null,null,null,null,null,null,null,null,null,null,null,null,null,null,null,null,null,null,null,null,null,null,null,null,null,null,null,null,null,null,null,null,null,null,null,null,null,null,null,null,null,null,null,null,null,null,null,null,null,null,null,null,null,null,null,null,null,null,null,null,null,null,null,null,null,null,null,null,null,null,null,null,null,null,null,null,null,null,null,null,null,null,null,null,null,null,null,null,null,null,null,null,null,null,null,null,null,null,null,null,null,null,null,null,null,null,null,null,null,null,null,null,null,null,null,null,null,null,null,null,null,null,null,null,null,null,null,null,null,null,null,null,null,null,null,null,null,null,null,null,null,null,null,null,null,null,null,null,null,null,null,null,null,null,null,null,null,null,null,null,null,null,null,null,null,null,null,null,null,null,null,null,null,null,null,null,null,null,null,null,null,null,null,null,null,null,null,null,null,null,null,null,null,null,null,null,null,null,null,null,null,null,null,null,null,null,null,null,null,null,null,null,null,null,null,null,null,null,null,null,null,null,null,null,null,null,null,null,null,null,null,null,null,null,null,null,null,null,null,null,null,null,null,null,null,null,null,null,null,null,null,null,null,null,null,null,null,null,null,null,null,null,null,null,null,null,null,null,null,null,null,null,null,null,null,null,null,null,null,null,null,null,null,null,null,null,null,null,null,null,null,null,null,null,null,null,null,null,null,null,null,null,null,null,null,null,null,null,null,null,null,null,null,null,null,null,null,null,null,null,null,null,null,null,null,null,null,null,null,null,null,null,null,null,null,null,null,null,null,null,null,null,null,null,null,null,null,null,null,null,null,null,null,null,null,null,null,null,null,null,null,null,null,null,null,null,null,null,null,null,null,null,null,null,null,null,null,null,null,null,null,null,null,null,null,null,null,null,null,null,null,null,null,null,null,null,null,null,null,null,null,null,null,null,null,null,null,null,null,null,null,null,null,null,null,null,null,null,null,null,null,null,null,null,null,null,null,null,null,null,null,null,null,null,null,null,null,null,null,null,null,null,null,null,null,null,null,null,null,null,null,null,null,null,null,null,null,null,null,null,null,null,null,null,null,null,null,null,null,null,null,null,null,null,null,null,null,null,null,null,null,null,null,null,null,null,null,null,null,null,null,null,null,null,null,null,null,null,null,null,null,null,null,null,null,null,null,null,null,null,null,null,null,null,null,null,null,null,null,null,null,null,null,null,null,null,null,null,null,null,null,null,null,null,null,null,null,null,null,null,null,null,null,null,null,null,null,null,null,null,null,null,null,null,null,null,null,null,null,null,null,null,null,null,null,null,null,null,null,null,null,null,null,null,null,null,null,null,null,null,null,null,null,null,null,null,null,null,null,null,null,null,null,null,null,null,null,null,null,null,null,null,null,null,null,null,null,null,null,null,null,null,null,null,null,null,null,null,null,null,null,null,null,null,null,null,null,null,null,null,null,null,null,null,null,null,null,null,null,null,null,null,null,null,null,null,null,null,null,null,null,null,null,null,null,null,null,null,null,null,null,null,null,null,null,null,null,null,null,null,null,null,null,null,null,null,null,null,null,null,null,null,null,null,null,null,null,null,null,null,null,null,null,null,null,null,null,null,null,null,null,null,null,null,null,null,null,null,null,null,null,null,null,null,null,null,null,null,null,null,null,null,null,null,null,null,null,null,null,null,null,null,null,null,null,null,null,null,null,null,null,null,null,null,null,null,null,null,null,null,null,null,null,null,null,null,null,null,null,null,null,null,null,null,null,null,null,null,null,null,null,null,null,null,null,null,null,null,null,null,null,null,null,null,null,null,null,null,null,null,null,null,null,null,null,null,null,null,null,null,null,null,null,null,null,null,null,null,null,null,null,null,null,null,null,null,null,null,null,null,null,null,null,null,null,null,null,null,null,null,null,null,null,null,null,null,null,null,null,null,null,null,null,null,null,null,null,null,null,null,null,null,null,null,null,null,null,null,null,null,null,null,null,null,null,null,null,null,null,null,null,null,null,null,null,null,null,null,null,null,null,null,null,null,null,null,null,null,null,null,null,null,null,null,null,null,null,null,null,null,null,null,null,null,null,null,null,null,null,null,null,null,null,null,null,null,null,null,null,null,null,null,null,null,null,null,null,null,null,null,null,null,null,null,null,null,null,null,null,null,null,null,null,null,null,null,null,null,null,null,null,null,null,null,null,null,null,null,null,null,null,null,null,null,null,null,null,null,null,null,null,null,null,null,null,null,null,null,null,null,null,null,null,null,null,null,null,null,null,null,null,null,null,null,null,null,null,null,null,null,null,null,null,null,null,null,null,null,null,null,null,null,null,null,null,null,null,null,null,null,null,null,null,null,null,null,null,null,null,null,null,null,null,null,null,null,null,null,null,null,null,null,null,null,null,null,null,null,null,null,null,null,null,null,null,null,null,null,null,null,null,null,null,null,null,null,null,null,null,null,null,null,null,null,null,null,null,null,null,null,null,null,null,null,null,null,null,null,null,null,null,null,null,null,null,null,null,null,null,null,null,null,null,null,null,null,null,null,null,null,null,null,null,null,null,null,null,null,null,null,null,null,null,null,null,null,null,null,null,null,null,null,null,null,null,null,null,null,null,null,null,null,null,null,null,null,null,null,null,null,null,null,null,null,null,null,null,null,null,null,null,null,null,null,null,null,null,null,null,null,null,null,null,null,null,null,null,null,null,null,null,null,null,null,null,null,null,null,null,null,null,null,null,null,null,null,null,null,null,null,null,null,null,null,null,null,null,null,null,null,null,null,null,null,null,null,null,null,null,null,null,null,null,null,null,null,null,null,null,null,null,null,null,null,null,null,null,null,null,null,null,null,null,null,null,null,null,null,null,null,null,null,null,null,null,null,null,null,null,null,null,null,null,null,null,null,null,null,null,null,null,null,null,null,null,null,null,null,null,null,null,null,null,null,null,null,null,null,null,null,null,null,null,null,null,null,null,null,null,null,null,null,null,null,null,null,null,null,null,null,null,null,null,null,null,null,null,null,null,null,null,null,null,null,null,null,null,null,null,null,null,null,null,null,null,null,null,null,null,null,null,null,null,null,null,null,null,null,null,null,null,null,null,null,null,null,null,null,null,null,null,null,null,null,null,null,null,null,null,null,null,null,null,null,null,null,null,null,null,null,null,null,null,null,null,null,null,null,null,null,null,null,null,null,null,null,null,null,null,null,null,null,null,null,null,null,null,null,null,null,null,null,null,null,null,null,null,null,null,null,null,null,null,null,null,null,null,null,null,null,null,null,null,null,null,null,null,null,null,null,null,null,null,null,null,null,null,null,null,null,null,null,null,null,null,null,null,null,null,null,null,null,null,null,null,null,null,null,null,null,null,null,null,null,null,null,null,null,null,null,null,null,null,null,null,null,null,null,null,null,null,null,null,null,null,null,null,null,null,null,null,null,null,null,null,null,null,null,null,null,null,null,null,null,null,null,null,null,null,null,null,null,null,null,null,null,null,null,null,null,null,null,null,null,null,null,null,null,null,null,null,null,null,null,null,null,null,null,null,null,null,null,null,null,null,null,null,null,null,null,null,null,null,null,null,null,null,null,null,null,null,null,null,null,null,null,null,null,null,null,null,null,null,null,null,null,null,null,null,null,null,null,null,null,null,null,null,null,null,null,null,null,null,null,null,null,null,null,null,null,null,null,null,null,null,null,null,null,null,null,null,null,null,null,null,null,null,null,null,null,null,null,null,null,null,null,null,null,null,null,null,null,null,null,null,null,null,null,null,null,null,null,null,null,null,null,null,null,null,null,null,null,null,null,null,null,null,null,null,null,null,null,null,null,null,null,null,null,null,null,null,null,null,null,null,null,null,null,null,null,null,null,null,null,null,null,null,null,null,null,null,null,null,null,null,null,null,null,null,null,null,null,null,null,null,null,null,null,null,null,null,null,null,null,null,null,null,null,null,null,null,null,null,null,null,null,null,null,null,null,null,null,null,null,null,null,null,null,null,null,null,null,null,null,null,null,null,null,null,null,null,null,null,null,null,null,null,null,null,null,null,null,null,null,null,null,null,null,null,null,null,null,null,null,null,null,null,null,null,null,null,null,null,null,null,null,null,null,null,null,null,null,null,null,null,null,null,null,null,null,null,null,null,null,null,null,null,null,null,null,null,null,null,null,null,null,null,null,null,null,null,null,null,null,null,null,null,null,null,null,null,null,null,null,null,null,null,null,null,null,null,null,null,null,null,null,null,null,null,null,null,null,null,null,null,null,null,null,null,null,null,null,null,null,null,null,null,null,null,null,null,null,null,null,null,null,null,null,null,null,null,null,null,null,null,null,null,null,null,null,null,null,null,null,null,null,null,null,null,null,null,null,null,null,null,null,null,null,null,null,null,null,null,null,null,null,null,null,null,null,null,null,null,null,null,null,null,null,null,null,null,null,null,null,null,null,null,null,null,null,null,null,null,null,null,null,null,null,null,null,null,null,null,null,null,null,null,null,null,null,null,null,null,null,null,null,null,null,null,null,null,null,null,null,null,null,null,null,null,null,null,null,null,null,null,null,null,null,null,null,null,null,null,null,null,null,null,null,null,null,null,null,null,null,null,null,null,null,null,null,null,null,null,null,null,null,null,null,null,null,null,null,null,null,null,null,null,null,null,null,null,null,null,null,null,null,null,null,null,null,null,null,null,null,null,null,null,null,null,null,null,null,null,null,null,null,null,null,null,null,null,null,null,null,null,null,null,null,null,null,null,null,null,null,null,null,null,null,null,null,null,null,null,null,null,null,null,null,null,null,null,null,null,null,null,null,null,null,null,null,null,null,null,null,null,null,null,null,null,null,null,null,null,null,null,null,null,null,null,null,null,null,null,null,null,null,null,null,null,null,null,null,null,null,null,null,null,null,null,null,null,null,null,null,null,null,null,null,null,null,null,null,null,null,null,null,null,null,null,null,null,null,null,null,null,null,null,null,null,null,null,null,null,null,null,null,null,null,null,null,null,null,null,null,null,null,null,null,null,null,null,null,null,null,null,null,null,null,null,null,null,null,null,null,null,null,null,null,null,null,null,null,null,null,null,null,null,null,null,null,null,null,null,null,null,null,null,null,null,null,null,null,null,null,null,null,null,null,null,null,null,null,null,null,null,null,null,null,null,null,null,null,null,null,null,null,null,null,null,null,null,null,null,null,null,null,null,null,null,null,null,null,null,null,null,null,null,null,null,null,null,null,null,null,null,null,null,null,null,null,null,null,null,null,null,null,null,null,null,null,null,null,null,null,null,null,null,null,null,null,null,null,null,null,null,null,null,null,null,null,null,null,null,null,null,null,null,null,null,null,null,null,null,null,null,null,null,null,null,null,null,null,null,null,null,null,null,null,null,null,null,null,null,null,null,null,null,null,null,null,null,null,null,null,null,null,null,null,null,null,null,null,null,null,null,null,null,null,null,null,null,null,null,null,null,null,null,null,null,null,null,null,null,null,null,null,null,null,null,null,null,null,null,null,null,null,null,null,null,null,null,null,null,null,null,null,null,null,null,null,null,null,null,null,null,null,null,null,null,null,null,null,null,null,null,null,null,null,null,null,null,null,null,null,null,null,null,null,null,null,null,null,null,null,null,null,null,null,null,null,null,null,null,null,null,null,null,null,null,null,null,null,null,null,null,null,null,null,null,null,null,null,null,null,null,null,null,null,null,null,null,null,null,null,null,null,null,null,null,null,null,null,null,null,null,null,null,null,null,null,null,null,null,null,null,null,null,null,null,null,null,null,null,null,null,null,null,null,null,null,null,null,null,null,null,null,null,null,null,null,null,null,null,null,null,null,null,null,null,null,null,null,null,null,null,null,null,null,null,null,null,null,null,null,null,null,null,null,null,null,null,null,null,null,null,null,null,null,null,null,null,null,null,null,null,null,null,null,null,null,null,null,null,null,null,null,null,null,null,null,null,null,null,null,null,null,null,null,null,null,null,null,null,null,null,null,null,null,null,null,null,null,null,null,null,null,null,null,null,null,null,null,null,null,null,null,null,null,null,null,null,null,null,null,null,null,null,null,null,null,null,null,null,null,null,null,null,null,null,null,null,null,null,null,null,null,null,null,null,null,null,null,null,null,null,null,null,null,null,null,null,null,null,null,null,"DAB2016"]

{"sheet":"Atividade 1","index":1,"n_rows":1048576,"n_cols":16383,"rows_kept":4500,"cut":true,"hidden":false,"merged":[[62,1,63,2],[54,2,55,2],[59,1,59,2],[2,102,2,114],[38,2,39,2],[36,2,37,2],[6,2,7,2],[8,2,9,2],[32,2,33,2],[34,2,35,2],[20,2,21,2],[22,2,23,2],[48,2,49,2],[52,2,53,2],[2,18,2,30],[2,60,2,72],[60,1,61,2],[0,18,1,30],[0,32,1,44],[0,46,1,58],[0,60,1,72],[18,2,19,2],[4,2,5,2],[56,2,57,2],[4,1,45,1],[0,4,1,16],[50,2,51,2],[28,2,29,2],[40,2,41,2],[48,1,57,1],[42,2,43,2],[44,2,45,2],[0,74,1,86],[2,74,2,86],[2,88,2,100],[0,158,1,170],[0,88,1,100],[0,102,1,114],[0,116,1,128],[0,130,1,142],[0,144,1,156],[2,116,2,128],[2,130,2,142],[1048575,16382,1048575,16383],[2,144,2,156],[2,158,2,170],[2,32,2,44],[2,46,2,58],[30,2,31,2],[12,2,13,2],[16,2,17,2],[2,4,2,16],[24,2,25,2],[14,2,15,2],[26,2,27,2],[10,2,11,2]],"bounds":{"rows_first":2000,"rows_last":500,"rows_between":2000,"halvings":0}}
[null,null,null,null,{"$f":"MENU!C25","v":"Avicultura"},null,null,null,null,null,null,null,null,null,null,null,null,null,{"$f":"E1","v":"Avicultura"},null,null,null,null,null,null,null,null,null,null,null,null,null,{"$f":"S1","v":"Avicultura"},null,null,null,null,null,null,null,null,null,null,null,null,null,{"$f":"AG1","v":"Avicultura"},null,null,null,null,null,null,null,null,null,null,null,null,null,{"$f":"AU1","v":"Avicultura"},null,null,null,null,null,null,null,null,null,null,null,null,null,{"$f":"BI1","v":"Avicultura"},null,null,null,null,null,null,null,null,null,null,null,null,null,{"$f":"BW1","v":"Avicultura"},null,null,null,null,null,null,null,null,null,null,null,null,null,{"$f":"CK1","v":"Avicultura"},null,null,null,null,null,null,null,null,null,null,null,null,null,{"$f":"CY1","v":"Avicultura"},null,null,null,null,null,null,null,null,null,null,null,null,null,{"$f":"DM1","v":"Avicultura"},null,null,null,null,null,null,null,null,null,null,null,null,null,{"$f":"EA1","v":"Avicultura"},null,null,null,null,null,null,null,null,null,null,null,null,null,{"$f":"EO1","v":"Avicultura"}]
[null,null,null,null,null,null,null,null,null,null,null,null,null,null,null,null,null,null,null,null,null,null,null,null,null,null,null,null,null,null,null,null,null,null,null,null,null,null,null,null,null,null,null,null,null,null,null,null,null,null,null,null,null,null,null,null,null,null,null,null,null,null,null,null,null,null,null,null,null,null,null,null,null,null,null,null,null,null,null,null,null,null,null,null,null,null,null,null,null,null,null,null,null,null,null,null,null,null,null,null,null,null,null,null,null,null,null,null,null,null,null,null,null,null,null,null,null,null,null,null,null,null,null,null,null,null,null,null,null,null,null,null,null,null,null,null,null,null,null,null,null,null,null,null,null,null,null,null,null,null,null,null,null,null,null,null,null,null,null,null,null,null,null,null,null,null,null,null,null,null,null,null,null,null,null,null,null,null,7,1,{"$f":"VLOOKUP(FX2,FX3:FY14,2,0)","v":2017},{"$f":"VLOOKUP(FY2,$FY$3:$FZ$14,2,0)","v":"R3C5"},3]
[null,null,null,null,{"$f":"MENU!F6","v":0},null,null,null,null,null,null,null,null,null,null,null,null,null,{"$f":"$E$3+1","v":1},null,null,null,null,null,null,null,null,null,null,null,null,null,{"$f":"S3+1","v":2},null,null,null,null,null,null,null,null,null,null,null,null,null,{"$f":"AG3+1","v":3},null,null,null,null,null,null,null,null,null,null,null,null,null,{"$f":"AU3+1","v":4},null,null,null,null,null,null,null,null,null,null,null,null,null,{"$f":"BI3+1","v":5},null,null,null,null,null,null,null,null,null,null,null,null,null,{"$f":"BW3+1","v":6},null,null,null,null,null,null,null,null,null,null,null,null,null,{"$f":"CK3+1","v":7},null,null,null,null,null,null,null,null,null,null,null,null,null,{"$f":"CY3+1","v":8},null,null,null,null,null,null,null,null,null,null,null,null,null,{"$f":"DM3+1","v":9},null,null,null,null,null,null,null,null,null,null,null,null,null,{"$f":"EA3+1","v":10},null,null,null,null,null,null,null,null,null,null,null,null,null,{"$f":"EO3+1","v":11},null,null,null,null,null,null,null,null,null,null,null,null,null,null,null,null,null,null,null,null,1,2017,"R3C5",5]
[null,null,"Descrição de Despesa",null,"Jan","Fev","Mar","Abr","Mai","Jun","Jul","Ago","Set","Out","Nov","Dez","Total",null,"Jan","Fev","Mar","Abr","Mai","Jun","Jul","Ago","Set","Out","Nov","Dez","Total",null,"Jan","Fev","Mar","Abr","Mai","Jun","Jul","Ago","Set","Out","Nov","Dez","Total",null,"Jan","Fev","Mar","Abr","Mai","Jun","Jul","Ago","Set","Out","Nov","Dez","Total",null,"Jan","Fev","Mar","Abr","Mai","Jun","Jul","Ago","Set","Out","Nov","Dez","Total",null,"Jan","Fev","Mar","Abr","Mai","Jun","Jul","Ago","Set","Out","Nov","Dez","Total",null,"Jan","Fev","Mar","Abr","Mai","Jun","Jul","Ago","Set","Out","Nov","Dez","Total",null,"Jan","Fev","Mar","Abr","Mai","Jun","Jul","Ago","Set","Out","Nov","Dez","Total",null,"Jan","Fev","Mar","Abr","Mai","Jun","Jul","Ago","Set","Out","Nov","Dez","Total",null,"Jan","Fev","Mar","Abr","Mai","Jun","Jul","Ago","Set","Out","Nov","Dez","Total",null,"Jan","Fev","Mar","Abr","Mai","Jun","Jul","Ago","Set","Out","Nov","Dez","Total",null,"Jan","Fev","Mar","Abr","Mai","Jun","Jul","Ago","Set","Out","Nov","Dez","Total",null,null,null,null,null,null,null,null,2,2018,"R3C19",19]
[{"$f":"C5&D5","v":"Mão de Obra PagaP"},"Saídas de Caixa","Mão de Obra Paga","P",0,0,0,0,0,0,0,0,0,0,0,0,{"$f":"SUM($E$5:$P$5)","v":0},null,0,0,0,0,0,0,0,0,0,0,0,0,{"$f":"SUM($S$5:$AD$5)","v":0},null,0,0,0,0,0,0,0,0,0,0,0,0,{"$f":"SUM($AG$5:$AR$5)","v":0},null,0,0,0,0,0,0,0,0,0,0,0,0,{"$f":"SUM($AU$5:$BF$5)","v":0},null,0,0,0,0,0,0,0,0,0,0,0,0,{"$f":"SUM($BI$5:$BT$5)","v":0},null,0,0,0,0,0,0,0,0,0,0,0,0,{"$f":"SUM($BW$5:$CH$5)","v":0},null,0,0,0,0,0,0,0,0,0,0,0,0,{"$f":"SUM($CK$5:$CV$5)","v":0},null,0,0,0,0,0,0,0,0,0,0,0,0,{"$f":"SUM($CY$5:$DJ$5)","v":0},null,0,0,0,0,0,0,0,0,0,0,0,0,{"$f":"SUM($DM$5:$DX$5)","v":0},null,0,0,0,0,0,0,0,0,0,0,0,0,{"$f":"SUM($EA$5:$EL$5)","v":0},null,0,0,0,0,0,0,0,0,0,0,0,0,{"$f":"SUM($EO$5:$EZ$5)","v":0},null,0,0,0,0,0,0,0,0,0,0,0,0,{"$f":"SUM($FC$5:$FN$5)","v":0},null,null,null,null,null,null,null,null,3,2019,"R3C33",{"$f":"GA4+14","v":33}]
[{"$f":"C5&D6","v":"Mão de Obra PagaR"},null,null,"R",null,null,null,null,null,null,null,null,null,null,null,null,{"$f":"SUM($E$6:$P$6)","v":0},null,null,null,null,null,null,null,null,null,null,null,null,null,{"$f":"SUM($S$6:$AD$6)","v":0},null,null,null,null,null,null,null,null,null,null,null,null,null,{"$f":"SUM($AG$6:$AR$6)","v":0},null,null,null,null,null,null,null,null,null,null,null,null,null,{"$f":"SUM($AU$6:$BF$6)","v":0},null,null,null,null,null,null,null,null,null,null,null,null,null,{"$f":"SUM($BI$6:$BT$6)","v":0},null,null,null,null,null,null,null,null,null,null,null,null,null,{"$f":"SUM($BW$6:$CH$6)","v":0},null,null,null,null,null,null,null,null,null,null,null,null,null,{"$f":"SUM($CK$6:$CV$6)","v":0},null,null,null,null,null,null,null,null,null,null,null,null,null,{"$f":"SUM($CY$6:$DJ$6)","v":0},null,null,null,null,null,null,null,null,null,null,null,null,null,{"$f":"SUM($DM$6:$DX$6)","v":0},null,null,null,null,null,null,null,null,null,null,null,null,null,{"$f":"SUM($EA$6:$EL$6)","v":0},null,null,null,null,null,null,null,null,null,null,null,null,null,{"$f":"SUM($EO$6:$EZ$6)","v":0},null,null,null,null,null,null,null,null,null,null,null,null,null,{"$f":"SUM($FC$6:$FN$6)","v":0},null,null,null,null,null,null,null,null,4,2020,"R3C47",{"$f":"GA5+14","v":47}]
[{"$f":"C7&D7","v":"Substrato para camaP"},null,"Substrato para cama","P",0,0,0,0,0,0,0,0,0,0,0,0,{"$f":"SUM($E$7:$P$7)","v":0},null,0,0,0,0,0,0,0,0,0,0,0,0,{"$f":"SUM($S$7:$AD$7)","v":0},null,0,0,0,0,0,0,0,0,0,0,0,0,{"$f":"SUM($AG$7:$AR$7)","v":0},null,0,0,0,0,0,0,0,0,0,0,0,0,{"$f":"SUM($AU$7:$BF$7)","v":0},null,0,0,0,0,0,0,0,0,0,0,0,0,{"$f":"SUM($BI$7:$BT$7)","v":0},null,0,0,0,0,0,0,0,0,0,0,0,0,{"$f":"SUM($BW$7:$CH$7)","v":0},null,0,0,0,0,0,0,0,0,0,0,0,0,{"$f":"SUM($CK$7:$CV$7)","v":0},null,0,0,0,0,0,0,0,0,0,0,0,0,{"$f":"SUM($CY$7:$DJ$7)","v":0},null,0,0,0,0,0,0,0,0,0,0,0,0,{"$f":"SUM($DM$7:$DX$7)","v":0},null,0,0,0,0,0,0,0,0,0,0,0,0,{"$f":"SUM($EA$7:$EL$7)","v":0},null,0,0,0,0,0,0,0,0,0,0,0,0,{"$f":"SUM($EO$7:$EZ$7)","v":0},null,0,0,0,0,0,0,0,0,0,0,0,0,{"$f":"SUM($FC$7:$FN$7)","v":0},null,null,null,null,null,null,null,null,5,2021,"R3C61",61]
[{"$f":"C7&D8","v":"Substrato para camaR"},null,null,"R",null,null,null,null,null,null,null,null,null,null,null,null,{"$f":"SUM($E$8:$P$8)","v":0},null,null,null,null,null,null,null,null,null,null,null,null,null,{"$f":"SUM($S$8:$AD$8)","v":0},null,null,null,null,null,null,null,null,null,null,null,null,null,{"$f":"SUM($AG$8:$AR$8)","v":0},null,null,null,null,null,null,null,null,null,null,null,null,null,{"$f":"SUM($AU$8:$BF$8)","v":0},null,null,null,null,null,null,null,null,null,null,null,null,null,{"$f":"SUM($BI$8:$BT$8)","v":0},null,null,null,null,null,null,null,null,null,null,null,null,null,{"$f":"SUM($BW$8:$CH$8)","v":0},null,null,null,null,null,null,null,null,null,null,null,null,null,{"$f":"SUM($CK$8:$CV$8)","v":0},null,null,null,null,null,null,null,null,null,null,null,null,null,{"$f":"SUM($CY$8:$DJ$8)","v":0},null,null,null,null,null,null,null,null,null,null,null,null,null,{"$f":"SUM($DM$8:$DX$8)","v":0},null,null,null,null,null,null,null,null,null,null,null,null,null,{"$f":"SUM($EA$8:$EL$8)","v":0},null,null,null,null,null,null,null,null,null,null,null,null,null,{"$f":"SUM($EO$8:$EZ$8)","v":0},null,null,null,null,null,null,null,null,null,null,null,null,null,{"$f":"SUM($FC$8:$FN$8)","v":0},null,null,null,null,null,null,null,null,6,2022,"R3C75",75]
[{"$f":"C9&D9","v":"GásP"},null,"Gás","P",0,0,0,0,0,0,0,0,0,0,0,0,{"$f":"SUM($E$9:$P$9)","v":0},null,0,0,0,0,0,0,0,0,0,0,0,0,{"$f":"SUM($S$9:$AD$9)","v":0},null,0,0,0,0,0,0,0,0,0,0,0,0,{"$f":"SUM($AG$9:$AR$9)","v":0},null,0,0,0,0,0,0,0,0,0,0,0,0,{"$f":"SUM($AU$9:$BF$9)","v":0},null,0,0,0,0,0,0,0,0,0,0,0,0,{"$f":"SUM($BI$9:$BT$9)","v":0},null,0,0,0,0,0,0,0,0,0,0,0,0,{"$f":"SUM($BW$9:$CH$9)","v":0},null,0,0,0,0,0,0,0,0,0,0,0,0,{"$f":"SUM($CK$9:$CV$9)","v":0},null,0,0,0,0,0,0,0,0,0,0,0,0,{"$f":"SUM($CY$9:$DJ$9)","v":0},null,0,0,0,0,0,0,0,0,0,0,0,0,{"$f":"SUM($DM$9:$DX$9)","v":0},null,0,0,0,0,0,0,0,0,0,0,0,0,{"$f":"SUM($EA$9:$EL$9)","v":0},null,0,0,0,0,0,0,0,0,0,0,0,0,{"$f":"SUM($EO$9:$EZ$9)","v":0},null,0,0,0,0,0,0,0,0,0,0,0,0,{"$f":"SUM($FC$9:$FN$9)","v":0},null,null,null,null,null,null,null,null,7,2023,"R3C89",89]
[{"$f":"C9&D10","v":"GásR"},null,null,"R",null,null,null,null,null,null,null,null,null,null,null,null,{"$f":"SUM($E$10:$P$10)","v":0},null,null,null,null,null,null,null,null,null,null,null,null,null,{"$f":"SUM($S$10:$AD$10)","v":0},null,null,null,null,null,null,null,null,null,null,null,null,null,{"$f":"SUM($AG$10:$AR$10)","v":0},null,null,null,null,null,null,null,null,null,null,null,null,null,{"$f":"SUM($AU$10:$BF$10)","v":0},null,null,null,null,null,null,null,null,null,null,null,null,null,{"$f":"SUM($BI$10:$BT$10)","v":0},null,null,null,null,null,null,null,null,null,null,null,null,null,{"$f":"SUM($BW$10:$CH$10)","v":0},null,null,null,null,null,null,null,null,null,null,null,null,null,{"$f":"SUM($CK$10:$CV$10)","v":0},null,null,null,null,null,null,null,null,null,null,null,null,null,{"$f":"SUM($CY$10:$DJ$10)","v":0},null,null,null,null,null,null,null,null,null,null,null,null,null,{"$f":"SUM($DM$10:$DX$10)","v":0},null,null,null,null,null,null,null,null,null,null,null,null,null,{"$f":"SUM($EA$10:$EL$10)","v":0},null,null,null,null,null,null,null,null,null,null,null,null,null,{"$f":"SUM($EO$10:$EZ$10)","v":0},null,null,null,null,null,null,null,null,null,null,null,null,null,{"$f":"SUM($FC$10:$FN$10)","v":0},null,null,null,null,null,null,null,null,8,2024,"R3C103",103]
[{"$f":"C11&D11","v":"LenhaP"},null,"Lenha","P",0,0,0,0,0,0,0,0,0,0,0,0,{"$f":"SUM($E$11:$P$11)","v":0},null,0,0,0,0,0,0,0,0,0,0,0,0,{"$f":"SUM($S$11:$AD$11)","v":0},null,0,0,0,0,0,0,0,0,0,0,0,0,{"$f":"SUM($AG$11:$AR$11)","v":0},null,0,0,0,0,0,0,0,0,0,0,0,0,{"$f":"SUM($AU$11:$BF$11)","v":0},null,0,0,0,0,0,0,0,0,0,0,0,0,{"$f":"SUM($BI$11:$BT$11)","v":0},null,0,0,0,0,0,0,0,0,0,0,0,0,{"$f":"SUM($BW$11:$CH$11)","v":0},null,0,0,0,0,0,0,0,0,0,0,0,0,{"$f":"SUM($CK$11:$CV$11)","v":0},null,0,0,0,0,0,0,0,0,0,0,0,0,{"$f":"SUM($CY$11:$DJ$11)","v":0},null,0,0,0,0,0,0,0,0,0,0,0,0,{"$f":"SUM($DM$11:$DX$11)","v":0},null,0,0,0,0,0,0,0,0,0,0,0,0,{"$f":"SUM($EA$11:$EL$11)","v":0},null,0,0,0,0,0,0,0,0,0,0,0,0,{"$f":"SUM($EO$11:$EZ$11)","v":0},null,0,0,0,0,0,0,0,0,0,0,0,0,{"$f":"SUM($FC$11:$FN$11)","v":0},null,null,null,null,null,null,null,null,9,2025,"R3C117",117]
[{"$f":"C11&D12","v":"LenhaR"},null,null,"R",null,null,null,null,null,null,null,null,null,null,null,null,{"$f":"SUM($E$12:$P$12)","v":0},null,null,null,null,null,null,null,null,null,null,null,null,null,{"$f":"SUM($S$12:$AD$12)","v":0},null,null,null,null,null,null,null,null,null,null,null,null,null,{"$f":"SUM($AG$12:$AR$12)","v":0},null,null,null,null,null,null,null,null,null,null,null,null,null,{"$f":"SUM($AU$12:$BF$12)","v":0},null,null,null,null,null,null,null,null,null,null,null,null,null,{"$f":"SUM($BI$12:$BT$12)","v":0},null,null,null,null,null,null,null,null,null,null,null,null,null,{"$f":"SUM($BW$12:$CH$12)","v":0},null,null,null,null,null,null,null,null,null,null,null,null,null,{"$f":"SUM($CK$12:$CV$12)","v":0},null,null,null,null,null,null,null,null,null,null,null,null,null,{"$f":"SUM($CY$12:$DJ$12)","v":0},null,null,null,null,null,null,null,null,null,null,null,null,null,{"$f":"SUM($DM$12:$DX$12)","v":0},null,null,null,null,null,null,null,null,null,null,null,null,null,{"$f":"SUM($EA$12:$EL$12)","v":0},null,null,null,null,null,null,null,null,null,null,null,null,null,{"$f":"SUM($EO$12:$EZ$12)","v":0},null,null,null,null,null,null,null,null,null,null,null,null,null,{"$f":"SUM($FC$12:$FN$12)","v":0},null,null,null,null,null,null,null,null,10,2026,"R3C131",131]
[{"$f":"C13&D13","v":"CalP"},null,"Cal","P",0,0,0,0,0,0,0,0,0,0,0,0,{"$f":"SUM($E$13:$P$13)","v":0},null,0,0,0,0,0,0,0,0,0,0,0,0,{"$f":"SUM($S$13:$AD$13)","v":0},null,0,0,0,0,0,0,0,0,0,0,0,0,{"$f":"SUM($AG$13:$AR$13)","v":0},null,0,0,0,0,0,0,0,0,0,0,0,0,{"$f":"SUM($AU$13:$BF$13)","v":0},null,0,0,0,0,0,0,0,0,0,0,0,0,{"$f":"SUM($BI$13:$BT$13)","v":0},null,0,0,0,0,0,0,0,0,0,0,0,0,{"$f":"SUM($BW$13:$CH$13)","v":0},null,0,0,0,0,0,0,0,0,0,0,0,0,{"$f":"SUM($CK$13:$CV$13)","v":0},null,0,0,0,0,0,0,0,0,0,0,0,0,{"$f":"SUM($CY$13:$DJ$13)","v":0},null,0,0,0,0,0,0,0,0,0,0,0,0,{"$f":"SUM($DM$13:$DX$13)","v":0},null,0,0,0,0,0,0,0,0,0,0,0,0,{"$f":"SUM($EA$13:$EL$13)","v":0},null,0,0,0,0,0,0,0,0,0,0,0,0,{"$f":"SUM($EO$13:$EZ$13)","v":0},null,0,0,0,0,0,0,0,0,0,0,0,0,{"$f":"SUM($FC$13:$FN$13)","v":0},null,null,null,null,null,null,null,null,11,2027,"R3C145",145]
[{"$f":"C13&D14","v":"CalR"},null,null,"R",null,null,null,null,null,null,null,null,null,null,null,null,{"$f":"SUM($E$14:$P$14)","v":0},null,null,null,null,null,null,null,null,null,null,null,null,null,{"$f":"SUM($S$14:$AD$14)","v":0},null,null,null,null,null,null,null,null,null,null,null,null,null,{"$f":"SUM($AG$14:$AR$14)","v":0},null,null,null,null,null,null,null,null,null,null,null,null,null,{"$f":"SUM($AU$14:$BF$14)","v":0},null,null,null,null,null,null,null,null,null,null,null,null,null,{"$f":"SUM($BI$14:$BT$14)","v":0},null,null,null,null,null,null,null,null,null,null,null,null,null,{"$f":"SUM($BW$14:$CH$14)","v":0},null,null,null,null,null,null,null,null,null,null,null,null,null,{"$f":"SUM($CK$14:$CV$14)","v":0},null,null,null,null,null,null,null,null,null,null,null,null,null,{"$f":"SUM($CY$14:$DJ$14)","v":0},null,null,null,null,null,null,null,null,null,null,null,null,null,{"$f":"SUM($DM$14:$DX$14)","v":0},null,null,null,null,null,null,null,null,null,null,null,null,null,{"$f":"SUM($EA$14:$EL$14)","v":0},null,null,null,null,null,null,null,null,null,null,null,null,null,{"$f":"SUM($EO$14:$EZ$14)","v":0},null,null,null,null,null,null,null,null,null,null,null,null,null,{"$f":"SUM($FC$14:$FN$14)","v":0},null,null,null,null,null,null,null,null,12,2028,"R3C159",159]
[{"$f":"C15&D15","v":"Papel de PinteraP"},null,"Papel de Pintera","P",0,0,0,0,0,0,0,0,0,0,0,0,{"$f":"SUM($E$15:$P$15)","v":0},null,0,0,0,0,0,0,0,0,0,0,0,0,{"$f":"SUM($S$15:$AD$15)","v":0},null,0,0,0,0,0,0,0,0,0,0,0,0,{"$f":"SUM($AG$15:$AR$15)","v":0},null,0,0,0,0,0,0,0,0,0,0,0,0,{"$f":"SUM($AU$15:$BF$15)","v":0},null,0,0,0,0,0,0,0,0,0,0,0,0,{"$f":"SUM($BI$15:$BT$15)","v":0},null,0,0,0,0,0,0,0,0,0,0,0,0,{"$f":"SUM($BW$15:$CH$15)","v":0},null,0,0,0,0,0,0,0,0,0,0,0,0,{"$f":"SUM($CK$15:$CV$15)","v":0},null,0,0,0,0,0,0,0,0,0,0,0,0,{"$f":"SUM($CY$15:$DJ$15)","v":0},null,0,0,0,0,0,0,0,0,0,0,0,0,{"$f":"SUM($DM$15:$DX$15)","v":0},null,0,0,0,0,0,0,0,0,0,0,0,0,{"$f":"SUM($EA$15:$EL$15)","v":0},null,0,0,0,0,0,0,0,0,0,0,0,0,{"$f":"SUM($EO$15:$EZ$15)","v":0},null,0,0,0,0,0,0,0,0,0,0,0,0,{"$f":"SUM($FC$15:$FN$15)","v":0}]
[{"$f":"C15&D16","v":"Papel de PinteraR"},null,null,"R",null,null,null,null,null,null,null,null,null,null,null,null,{"$f":"SUM($E$16:$P$16)","v":0},null,null,null,null,null,null,null,null,null,null,null,null,null,{"$f":"SUM($S$16:$AD$16)","v":0},null,null,null,null,null,null,null,null,null,null,null,null,null,{"$f":"SUM($AG$16:$AR$16)","v":0},null,null,null,null,null,null,null,null,null,null,null,null,null,{"$f":"SUM($AU$16:$BF$16)","v":0},null,null,null,null,null,null,null,null,null,null,null,null,null,{"$f":"SUM($BI$16:$BT$16)","v":0},null,null,null,null,null,null,null,null,null,null,null,null,null,{"$f":"SUM($BW$16:$CH$16)","v":0},null,null,null,null,null,null,null,null,null,null,null,null,null,{"$f":"SUM($CK$16:$CV$16)","v":0},null,null,null,null,null,null,null,null,null,null,null,null,null,{"$f":"SUM($CY$16:$DJ$16)","v":0},null,null,null,null,null,null,null,null,null,null,null,null,null,{"$f":"SUM($DM$16:$DX$16)","v":0},null,null,null,null,null,null,null,null,null,null,null,null,null,{"$f":"SUM($EA$16:$EL$16)","v":0},null,null,null,null,null,null,null,null,null,null,null,null,null,{"$f":"SUM($EO$16:$EZ$16)","v":0},null,null,null,null,null,null,null,null,null,null,null,null,null,{"$f":"SUM($FC$16:$FN$16)","v":0}]
[{"$f":"C17&D17","v":"Energia elétricaP"},null,"Energia elétrica","P",0,0,0,0,0,0,0,0,0,0,0,0,{"$f":"SUM($E$17:$P$17)","v":0},null,0,0,0,0,0,0,0,0,0,0,0,0,{"$f":"SUM($S$17:$AD$17)","v":0},null,0,0,0,0,0,0,0,0,0,0,0,0,{"$f":"SUM($AG$17:$AR$17)","v":0},null,0,0,0,0,0,0,0,0,0,0,0,0,{"$f":"SUM($AU$17:$BF$17)","v":0},null,0,0,0,0,0,0,0,0,0,0,0,0,{"$f":"SUM($BI$17:$BT$17)","v":0},null,0,0,0,0,0,0,0,0,0,0,0,0,{"$f":"SUM($BW$17:$CH$17)","v":0},null,0,0,0,0,0,0,0,0,0,0,0,0,{"$f":"SUM($CK$17:$CV$17)","v":0},null,0,0,0,0,0,0,0,0,0,0,0,0,{"$f":"SUM($CY$17:$DJ$17)","v":0},null,0,0,0,0,0,0,0,0,0,0,0,0,{"$f":"SUM($DM$17:$DX$17)","v":0},null,0,0,0,0,0,0,0,0,0,0,0,0,{"$f":"SUM($EA$17:$EL$17)","v":0},null,0,0,0,0,0,0,0,0,0,0,0,0,{"$f":"SUM($EO$17:$EZ$17)","v":0},null,0,0,0,0,0,0,0,0,0,0,0,0,{"$f":"SUM($FC$17:$FN$17)","v":0}]
[{"$f":"C17&D18","v":"Energia elétricaR"},null,null,"R",null,null,null,null,null,null,null,null,null,null,null,null,{"$f":"SUM($E$18:$P$18)","v":0},null,null,null,null,null,null,null,null,null,null,null,null,null,{"$f":"SUM($S$18:$AD$18)","v":0},null,null,null,null,null,null,null,null,null,null,null,null,null,{"$f":"SUM($AG$18:$AR$18)","v":0},null,null,null,null,null,null,null,null,null,null,null,null,null,{"$f":"SUM($AU$18:$BF$18)","v":0},null,null,null,null,null,null,null,null,null,null,null,null,null,{"$f":"SUM($BI$18:$BT$18)","v":0},null,null,null,null,null,null,null,null,null,null,null,null,null,{"$f":"SUM($BW$18:$CH$18)","v":0},null,null,null,null,null,null,null,null,null,null,null,null,null,{"$f":"SUM($CK$18:$CV$18)","v":0},null,null,null,null,null,null,null,null,null,null,null,null,null,{"$f":"SUM($CY$18:$DJ$18)","v":0},null,null,null,null,null,null,null,null,null,null,null,null,null,{"$f":"SUM($DM$18:$DX$18)","v":0},null,null,null,null,null,null,null,null,null,null,null,null,null,{"$f":"SUM($EA$18:$EL$18)","v":0},null,null,null,null,null,null,null,null,null,null,null,null,null,{"$f":"SUM($EO$18:$EZ$18)","v":0},null,null,null,null,null,null,null,null,null,null,null,null,null,{"$f":"SUM($FC$18:$FN$18)","v":0}]
[{"$f":"C19&D19","v":"SeguroP"},null,"Seguro","P",0,0,0,0,0,0,0,0,0,0,0,0,{"$f":"SUM($E$19:$P$19)","v":0},null,0,0,0,0,0,0,0,0,0,0,0,0,{"$f":"SUM($S$19:$AD$19)","v":0},null,0,0,0,0,0,0,0,0,0,0,0,0,{"$f":"SUM($AG$19:$AR$19)","v":0},null,0,0,0,0,0,0,0,0,0,0,0,0,{"$f":"SUM($AU$19:$BF$19)","v":0},null,0,0,0,0,0,0,0,0,0,0,0,0,{"$f":"SUM($BI$19:$BT$19)","v":0},null,0,0,0,0,0,0,0,0,0,0,0,0,{"$f":"SUM($BW$19:$CH$19)","v":0},null,0,0,0,0,0,0,0,0,0,0,0,0,{"$f":"SUM($CK$19:$CV$19)","v":0},null,0,0,0,0,0,0,0,0,0,0,0,0,{"$f":"SUM($CY$19:$DJ$19)","v":0},null,0,0,0,0,0,0,0,0,0,0,0,0,{"$f":"SUM($DM$19:$DX$19)","v":0},null,0,0,0,0,0,0,0,0,0,0,0,0,{"$f":"SUM($EA$19:$EL$19)","v":0},null,0,0,0,0,0,0,0,0,0,0,0,0,{"$f":"SUM($EO$19:$EZ$19)","v":0},null,0,0,0,0,0,0,0,0,0,0,0,0,{"$f":"SUM($FC$19:$FN$19)","v":0}]
[{"$f":"C19&D20","v":"SeguroR"},null,null,"R",null,null,null,null,null,null,null,null,null,null,null,null,{"$f":"SUM($E$20:$P$20)","v":0},null,null,null,null,null,null,null,null,null,null,null,null,null,{"$f":"SUM($S$20:$AD$20)","v":0},null,null,null,null,null,null,null,null,null,null,null,null,null,{"$f":"SUM($AG$20:$AR$20)","v":0},null,null,null,null,null,null,null,null,null,null,null,null,null,{"$f":"SUM($AU$20:$BF$20)","v":0},null,null,null,null,null,null,null,null,null,null,null,null,null,{"$f":"SUM($BI$20:$BT$20)","v":0},null,null,null,null,null,null,null,null,null,null,null,null,null,{"$f":"SUM($BW$20:$CH$20)","v":0},null,null,null,null,null,null,null,null,null,null,null,null,null,{"$f":"SUM($CK$20:$CV$20)","v":0},null,null,null,null,null,null,null,null,null,null,null,null,null,{"$f":"SUM($CY$20:$DJ$20)","v":0},null,null,null,null,null,null,null,null,null,null,null,null,null,{"$f":"SUM($DM$20:$DX$20)","v":0},null,null,null,null,null,null,null,null,null,null,null,null,null,{"$f":"SUM($EA$20:$EL$20)","v":0},null,null,null,null,null,null,null,null,null,null,null,null,null,{"$f":"SUM($EO$20:$EZ$20)","v":0},null,null,null,null,null,null,null,null,null,null,null,null,null,{"$f":"SUM($FC$20:$FN$20)","v":0}]
[{"$f":"C21&D21","v":"Reparo e Manutenção de Máquinas e BenfeitoriasP"},null,"Reparo e Manutenção de Máquinas e Benfeitorias","P",0,0,0,0,0,0,0,0,0,0,0,0,{"$f":"SUM($E$21:$P$21)","v":0},null,0,0,0,0,0,0,0,0,0,0,0,0,{"$f":"SUM($S$21:$AD$21)","v":0},null,0,0,0,0,0,0,0,0,0,0,0,0,{"$f":"SUM($AG$21:$AR$21)","v":0},null,0,0,0,0,0,0,0,0,0,0,0,0,{"$f":"SUM($AU$21:$BF$21)","v":0},null,0,0,0,0,0,0,0,0,0,0,0,0,{"$f":"SUM($BI$21:$BT$21)","v":0},null,0,0,0,0,0,0,0,0,0,0,0,0,{"$f":"SUM($BW$21:$CH$21)","v":0},null,0,0,0,0,0,0,0,0,0,0,0,0,{"$f":"SUM($CK$21:$CV$21)","v":0},null,0,0,0,0,0,0,0,0,0,0,0,0,{"$f":"SUM($CY$21:$DJ$21)","v":0},null,0,0,0,0,0,0,0,0,0,0,0,0,{"$f":"SUM($DM$21:$DX$21)","v":0},null,0,0,0,0,0,0,0,0,0,0,0,0,{"$f":"SUM($EA$21:$EL$21)","v":0},null,0,0,0,0,0,0,0,0,0,0,0,0,{"$f":"SUM($EO$21:$EZ$21)","v":0},null,0,0,0,0,0,0,0,0,0,0,0,0,{"$f":"SUM($FC$21:$FN$21)","v":0}]
[{"$f":"C21&D22","v":"Reparo e Manutenção de Máquinas e BenfeitoriasR"},null,null,"R",null,null,null,null,null,null,null,null,null,null,null,null,{"$f":"SUM($E$22:$P$22)","v":0},null,null,null,null,null,null,null,null,null,null,null,null,null,{"$f":"SUM($S$22:$AD$22)","v":0},null,null,null,null,null,null,null,null,null,null,null,null,null,{"$f":"SUM($AG$22:$AR$22)","v":0},null,null,null,null,null,null,null,null,null,null,null,null,null,{"$f":"SUM($AU$22:$BF$22)","v":0},null,null,null,null,null,null,null,null,null,null,null,null,null,{"$f":"SUM($BI$22:$BT$22)","v":0},null,null,null,null,null,null,null,null,null,null,null,null,null,{"$f":"SUM($BW$22:$CH$22)","v":0},null,null,null,null,null,null,null,null,null,null,null,null,null,{"$f":"SUM($CK$22:$CV$22)","v":0},null,null,null,null,null,null,null,null,null,null,null,null,null,{"$f":"SUM($CY$22:$DJ$22)","v":0},null,null,null,null,null,null,null,null,null,null,null,null,null,{"$f":"SUM($DM$22:$DX$22)","v":0},null,null,null,null,null,null,null,null,null,null,null,null,null,{"$f":"SUM($EA$22:$EL$22)","v":0},null,null,null,null,null,null,null,null,null,null,null,null,null,{"$f":"SUM($EO$22:$EZ$22)","v":0},null,null,null,null,null,null,null,null,null,null,null,null,null,{"$f":"SUM($FC$22:$FN$22)","v":0}]
[{"$f":"C23&D23","v":"ReinvestimentoP"},null,"Reinvestimento","P",0,0,0,0,0,0,0,0,0,0,0,0,{"$f":"SUM($E$23:$P$23)","v":0},null,0,0,0,0,0,0,0,0,0,0,0,0,{"$f":"SUM($S$23:$AD$23)","v":0},null,0,0,0,0,0,0,0,0,0,0,0,0,{"$f":"SUM($AG$23:$AR$23)","v":0},null,0,0,0,0,0,0,0,0,0,0,0,0,{"$f":"SUM($AU$23:$BF$23)","v":0},null,0,0,0,0,0,0,0,0,0,0,0,0,{"$f":"SUM($BI$23:$BT$23)","v":0},null,0,0,0,0,0,0,0,0,0,0,0,0,{"$f":"SUM($BW$23:$CH$23)","v":0},null,0,0,0,0,0,0,0,0,0,0,0,0,{"$f":"SUM($CK$23:$CV$23)","v":0},null,0,0,0,0,0,0,0,0,0,0,0,0,{"$f":"SUM($CY$23:$DJ$23)","v":0},null,0,0,0,0,0,0,0,0,0,0,0,0,{"$f":"SUM($DM$23:$DX$23)","v":0},null,0,0,0,0,0,0,0,0,0,0,0,0,{"$f":"SUM($EA$23:$EL$23)","v":0},null,0,0,0,0,0,0,0,0,0,0,0,0,{"$f":"SUM($EO$23:$EZ$23)","v":0},null,0,0,0,0,0,0,0,0,0,0,0,0,{"$f":"SUM($FC$23:$FN$23)","v":0}]
[{"$f":"C23&D24","v":"ReinvestimentoR"},null,null,"R",null,null,null,null,null,null,null,null,null,null,null,null,{"$f":"SUM($E$24:$P$24)","v":0},null,null,null,null,null,null,null,null,null,null,null,null,null,{"$f":"SUM($S$24:$AD$24)","v":0},null,null,null,null,null,null,null,null,null,null,null,null,null,{"$f":"SUM($AG$24:$AR$24)","v":0},null,null,null,null,null,null,null,null,null,null,null,null,null,{"$f":"SUM($AU$24:$BF$24)","v":0},null,null,null,null,null,null,null,null,null,null,null,null,null,{"$f":"SUM($BI$24:$BT$24)","v":0},null,null,null,null,null,null,null,null,null,null,null,null,null,{"$f":"SUM($BW$24:$CH$24)","v":0},null,null,null,null,null,null,null,null,null,null,null,null,null,{"$f":"SUM($CK$24:$CV$24)","v":0},null,null,null,null,null,null,null,null,null,null,null,null,null,{"$f":"SUM($CY$24:$DJ$24)","v":0},null,null,null,null,null,null,null,null,null,null,null,null,null,{"$f":"SUM($DM$24:$DX$24)","v":0},null,null,null,null,null,null,null,null,null,null,null,null,null,{"$f":"SUM($EA$24:$EL$24)","v":0},null,null,null,null,null,null,null,null,null,null,null,null,null,{"$f":"SUM($EO$24:$EZ$24)","v":0},null,null,null,null,null,null,null,null,null,null,null,null,null,{"$f":"SUM($FC$24:$FN$24)","v":0}]
[{"$f":"C25&D25","v":"ReflorestamentoP"},null,"Reflorestamento","P",0,0,0,0,0,0,0,0,0,0,0,0,{"$f":"SUM($E$25:$P$25)","v":0},null,0,0,0,0,0,0,0,0,0,0,0,0,{"$f":"SUM($S$25:$AD$25)","v":0},null,0,0,0,0,0,0,0,0,0,0,0,0,{"$f":"SUM($AG$25:$AR$25)","v":0},null,0,0,0,0,0,0,0,0,0,0,0,0,{"$f":"SUM($AU$25:$BF$25)","v":0},null,0,0,0,0,0,0,0,0,0,0,0,0,{"$f":"SUM($BI$25:$BT$25)","v":0},null,0,0,0,0,0,0,0,0,0,0,0,0,{"$f":"SUM($BW$25:$CH$25)","v":0},null,0,0,0,0,0,0,0,0,0,0,0,0,{"$f":"SUM($CK$25:$CV$25)","v":0},null,0,0,0,0,0,0,0,0,0,0,0,0,{"$f":"SUM($CY$25:$DJ$25)","v":0},null,0,0,0,0,0,0,0,0,0,0,0,0,{"$f":"SUM($DM$25:$DX$25)","v":0},null,0,0,0,0,0,0,0,0,0,0,0,0,{"$f":"SUM($EA$25:$EL$25)","v":0},null,0,0,0,0,0,0,0,0,0,0,0,0,{"$f":"SUM($EO$25:$EZ$25)","v":0},null,0,0,0,0,0,0,0,0,0,0,0,0,{"$f":"SUM($FC$25:$FN$25)","v":0}]
[{"$f":"C25&D26","v":"ReflorestamentoR"},null,null,"R",null,null,null,null,null,null,null,null,null,null,null,null,{"$f":"SUM($E$26:$P$26)","v":0},null,null,null,null,null,null,null,null,null,null,null,null,null,{"$f":"SUM($S$26:$AD$26)","v":0},null,null,null,null,null,null,null,null,null,null,null,null,null,{"$f":"SUM($AG$26:$AR$26)","v":0},null,null,null,null,null,null,null,null,null,null,null,null,null,{"$f":"SUM($AU$26:$BF$26)","v":0},null,null,null,null,null,null,null,null,null,null,null,null,null,{"$f":"SUM($BI$26:$BT$26)","v":0},null,null,null,null,null,null,null,null,null,null,null,null,null,{"$f":"SUM($BW$26:$CH$26)","v":0},null,null,null,null,null,null,null,null,null,null,null,null,null,{"$f":"SUM($CK$26:$CV$26)","v":0},null,null,null,null,null,null,null,null,null,null,null,null,null,{"$f":"SUM($CY$26:$DJ$26)","v":0},null,null,null,null,null,null,null,null,null,null,null,null,null,{"$f":"SUM($DM$26:$DX$26)","v":0},null,null,null,null,null,null,null,null,null,null,null,null,null,{"$f":"SUM($EA$26:$EL$26)","v":0},null,null,null,null,null,null,null,null,null,null,null,null,null,{"$f":"SUM($EO$26:$EZ$26)","v":0},null,null,null,null,null,null,null,null,null,null,null,null,null,{"$f":"SUM($FC$26:$FN$26)","v":0}]
[{"$f":"C27&D27","v":"AP"},null,"A","P",0,0,0,0,0,0,0,0,0,0,0,0,{"$f":"SUM($E$27:$P$27)","v":0},null,0,0,0,0,0,0,0,0,0,0,0,0,{"$f":"SUM($S$27:$AD$27)","v":0},null,0,0,0,0,0,0,0,0,0,0,0,0,{"$f":"SUM($AG$27:$AR$27)","v":0},null,0,0,0,0,0,0,0,0,0,0,0,0,{"$f":"SUM($AU$27:$BF$27)","v":0},null,0,0,0,0,0,0,0,0,0,0,0,0,{"$f":"SUM($BI$27:$BT$27)","v":0},null,0,0,0,0,0,0,0,0,0,0,0,0,{"$f":"SUM($BW$27:$CH$27)","v":0},null,0,0,0,0,0,0,0,0,0,0,0,0,{"$f":"SUM($CK$27:$CV$27)","v":0},null,0,0,0,0,0,0,0,0,0,0,0,0,{"$f":"SUM($CY$27:$DJ$27)","v":0},null,0,0,0,0,0,0,0,0,0,0,0,0,{"$f":"SUM($DM$27:$DX$27)","v":0},null,0,0,0,0,0,0,0,0,0,0,0,0,{"$f":"SUM($EA$27:$EL$27)","v":0},null,0,0,0,0,0,0,0,0,0,0,0,0,{"$f":"SUM($EO$27:$EZ$27)","v":0},null,0,0,0,0,0,0,0,0,0,0,0,0,{"$f":"SUM($FC$27:$FN$27)","v":0}]
[{"$f":"C27&D28","v":"AR"},null,null,"R",null,null,null,null,null,null,null,null,null,null,null,null,{"$f":"SUM($E$28:$P$28)","v":0},null,null,null,null,null,null,null,null,null,null,null,null,null,{"$f":"SUM($S$28:$AD$28)","v":0},null,null,null,null,null,null,null,null,null,null,null,null,null,{"$f":"SUM($AG$28:$AR$28)","v":0},null,null,null,null,null,null,null,null,null,null,null,null,null,{"$f":"SUM($AU$28:$BF$28)","v":0},null,null,null,null,null,null,null,null,null,null,null,null,null,{"$f":"SUM($BI$28:$BT$28)","v":0},null,null,null,null,null,null,null,null,null,null,null,null,null,{"$f":"SUM($BW$28:$CH$28)","v":0},null,null,null,null,null,null,null,null,null,null,null,null,null,{"$f":"SUM($CK$28:$CV$28)","v":0},null,null,null,null,null,null,null,null,null,null,null,null,null,{"$f":"SUM($CY$28:$DJ$28)","v":0},null,null,null,null,null,null,null,null,null,null,null,null,null,{"$f":"SUM($DM$28:$DX$28)","v":0},null,null,null,null,null,null,null,null,null,null,null,null,null,{"$f":"SUM($EA$28:$EL$28)","v":0},null,null,null,null,null,null,null,null,null,null,null,null,null,{"$f":"SUM($EO$28:$EZ$28)","v":0},null,null,null,null,null,null,null,null,null,null,null,null,null,{"$f":"SUM($FC$28:$FN$28)","v":0}]
[{"$f":"C29&D29","v":"BP"},null,"B","P",0,0,0,0,0,0,0,0,0,0,0,0,{"$f":"SUM($E$29:$P$29)","v":0},null,0,0,0,0,0,0,0,0,0,0,0,0,{"$f":"SUM($S$29:$AD$29)","v":0},null,0,0,0,0,0,0,0,0,0,0,0,0,{"$f":"SUM($AG$29:$AR$29)","v":0},null,0,0,0,0,0,0,0,0,0,0,0,0,{"$f":"SUM($AU$29:$BF$29)","v":0},null,0,0,0,0,0,0,0,0,0,0,0,0,{"$f":"SUM($BI$29:$BT$29)","v":0},null,0,0,0,0,0,0,0,0,0,0,0,0,{"$f":"SUM($BW$29:$CH$29)","v":0},null,0,0,0,0,0,0,0,0,0,0,0,0,{"$f":"SUM($CK$29:$CV$29)","v":0},null,0,0,0,0,0,0,0,0,0,0,0,0,{"$f":"SUM($CY$29:$DJ$29)","v":0},null,0,0,0,0,0,0,0,0,0,0,0,0,{"$f":"SUM($DM$29:$DX$29)","v":0},null,0,0,0,0,0,0,0,0,0,0,0,0,{"$f":"SUM($EA$29:$EL$29)","v":0},null,0,0,0,0,0,0,0,0,0,0,0,0,{"$f":"SUM($EO$29:$EZ$29)","v":0},null,0,0,0,0,0,0,0,0,0,0,0,0,{"$f":"SUM($FC$29:$FN$29)","v":0}]
[{"$f":"C29&D30","v":"BR"},null,null,"R",null,null,null,null,null,null,null,null,null,null,null,null,{"$f":"SUM($E$30:$P$30)","v":0},null,null,null,null,null,null,null,null,null,null,null,null,null,{"$f":"SUM($S$30:$AD$30)","v":0},null,null,null,null,null,null,null,null,null,null,null,null,null,{"$f":"SUM($AG$30:$AR$30)","v":0},null,null,null,null,null,null,null,null,null,null,null,null,null,{"$f":"SUM($AU$30:$BF$30)","v":0},null,null,null,null,null,null,null,null,null,null,null,null,null,{"$f":"SUM($BI$30:$BT$30)","v":0},null,null,null,null,null,null,null,null,null,null,null,null,null,{"$f":"SUM($BW$30:$CH$30)","v":0},null,null,null,null,null,null,null,null,null,null,null,null,null,{"$f":"SUM($CK$30:$CV$30)","v":0},null,null,null,null,null,null,null,null,null,null,null,null,null,{"$f":"SUM($CY$30:$DJ$30)","v":0},null,null,null,null,null,null,null,null,null,null,null,null,null,{"$f":"SUM($DM$30:$DX$30)","v":0},null,null,null,null,null,null,null,null,null,null,null,null,null,{"$f":"SUM($EA$30:$EL$30)","v":0},null,null,null,null,null,null,null,null,null,null,null,null,null,{"$f":"SUM($EO$30:$EZ$30)","v":0},null,null,null,null,null,null,null,null,null,null,null,null,null,{"$f":"SUM($FC$30:$FN$30)","v":0}]
[{"$f":"C31&D31","v":"CP"},null,"C","P",0,0,0,0,0,0,0,0,0,0,0,0,{"$f":"SUM($E$31:$P$31)","v":0},null,0,0,0,0,0,0,0,0,0,0,0,0,{"$f":"SUM($S$31:$AD$31)","v":0},null,0,0,0,0,0,0,0,0,0,0,0,0,{"$f":"SUM($AG$31:$AR$31)","v":0},null,0,0,0,0,0,0,0,0,0,0,0,0,{"$f":"SUM($AU$31:$BF$31)","v":0},null,0,0,0,0,0,0,0,0,0,0,0,0,{"$f":"SUM($BI$31:$BT$31)","v":0},null,0,0,0,0,0,0,0,0,0,0,0,0,{"$f":"SUM($BW$31:$CH$31)","v":0},null,0,0,0,0,0,0,0,0,0,0,0,0,{"$f":"SUM($CK$31:$CV$31)","v":0},null,0,0,0,0,0,0,0,0,0,0,0,0,{"$f":"SUM($CY$31:$DJ$31)","v":0},null,0,0,0,0,0,0,0,0,0,0,0,0,{"$f":"SUM($DM$31:$DX$31)","v":0},null,0,0,0,0,0,0,0,0,0,0,0,0,{"$f":"SUM($EA$31:$EL$31)","v":0},null,0,0,0,0,0,0,0,0,0,0,0,0,{"$f":"SUM($EO$31:$EZ$31)","v":0},null,0,0,0,0,0,0,0,0,0,0,0,0,{"$f":"SUM($FC$31:$FN$31)","v":0}]
[{"$f":"C31&D32","v":"CR"},null,null,"R",null,null,null,null,null,null,null,null,null,null,null,null,{"$f":"SUM($E$32:$P$32)","v":0},null,null,null,null,null,null,null,null,null,null,null,null,null,{"$f":"SUM($S$32:$AD$32)","v":0},null,null,null,null,null,null,null,null,null,null,null,null,null,{"$f":"SUM($AG$32:$AR$32)","v":0},null,null,null,null,null,null,null,null,null,null,null,null,null,{"$f":"SUM($AU$32:$BF$32)","v":0},null,null,null,null,null,null,null,null,null,null,null,null,null,{"$f":"SUM($BI$32:$BT$32)","v":0},null,null,null,null,null,null,null,null,null,null,null,null,null,{"$f":"SUM($BW$32:$CH$32)","v":0},null,null,null,null,null,null,null,null,null,null,null,null,null,{"$f":"SUM($CK$32:$CV$32)","v":0},null,null,null,null,null,null,null,null,null,null,null,null,null,{"$f":"SUM($CY$32:$DJ$32)","v":0},null,null,null,null,null,null,null,null,null,null,null,null,null,{"$f":"SUM($DM$32:$DX$32)","v":0},null,null,null,null,null,null,null,null,null,null,null,null,null,{"$f":"SUM($EA$32:$EL$32)","v":0},null,null,null,null,null,null,null,null,null,null,null,null,null,{"$f":"SUM($EO$32:$EZ$32)","v":0},null,null,null,null,null,null,null,null,null,null,null,null,null,{"$f":"SUM($FC$32:$FN$32)","v":0}]
["DP",null,"D","P",0,null,0,0,0,0,0,0,0,0,0,0,{"$f":"SUM($E$33:$P$33)","v":0},null,0,0,0,0,0,0,0,0,0,0,0,0,{"$f":"SUM($S$33:$AD$33)","v":0},null,0,0,0,0,0,0,0,0,0,0,0,0,{"$f":"SUM($AG$33:$AR$33)","v":0},null,0,0,0,0,0,0,0,0,0,0,0,0,{"$f":"SUM($AU$33:$BF$33)","v":0},null,0,0,0,0,0,0,0,0,0,0,0,0,{"$f":"SUM($BI$33:$BT$33)","v":0},null,0,0,0,0,0,0,0,0,0,0,0,0,{"$f":"SUM($BW$33:$CH$33)","v":0},null,0,0,0,0,0,0,0,0,0,0,0,0,{"$f":"SUM($CK$33:$CV$33)","v":0},null,0,0,0,0,0,0,0,0,0,0,0,0,{"$f":"SUM($CY$33:$DJ$33)","v":0},null,0,0,0,0,0,0,0,0,0,0,0,0,{"$f":"SUM($DM$33:$DX$33)","v":0},null,0,0,0,0,0,0,0,0,0,0,0,0,{"$f":"SUM($EA$33:$EL$33)","v":0},null,0,0,0,0,0,0,0,0,0,0,0,0,{"$f":"SUM($EO$33:$EZ$33)","v":0},null,0,0,0,0,0,0,0,0,0,0,0,0,{"$f":"SUM($FC$33:$FN$33)","v":0}]
[{"$f":"C33&D34","v":"DR"},null,null,"R",null,null,null,null,null,null,null,null,null,null,null,null,{"$f":"SUM($E$34:$P$34)","v":0},null,null,null,null,null,null,null,null,null,null,null,null,null,{"$f":"SUM($S$34:$AD$34)","v":0},null,null,null,null,null,null,null,null,null,null,null,null,null,{"$f":"SUM($AG$34:$AR$34)","v":0},null,null,null,null,null,null,null,null,null,null,null,null,null,{"$f":"SUM($AU$34:$BF$34)","v":0},null,null,null,null,null,null,null,null,null,null,null,null,null,{"$f":"SUM($BI$34:$BT$34)","v":0},null,null,null,null,null,null,null,null,null,null,null,null,null,{"$f":"SUM($BW$34:$CH$34)","v":0},null,null,null,null,null,null,null,null,null,null,null,null,null,{"$f":"SUM($CK$34:$CV$34)","v":0},null,null,null,null,null,null,null,null,null,null,null,null,null,{"$f":"SUM($CY$34:$DJ$34)","v":0},null,null,null,null,null,null,null,null,null,null,null,null,null,{"$f":"SUM($DM$34:$DX$34)","v":0},null,null,null,null,null,null,null,null,null,null,null,null,null,{"$f":"SUM($EA$34:$EL$34)","v":0},null,null,null,null,null,null,null,null,null,null,null,null,null,{"$f":"SUM($EO$34:$EZ$34)","v":0},null,null,null,null,null,null,null,null,null,null,null,null,null,{"$f":"SUM($FC$34:$FN$34)","v":0}]
["EP",null,"E","P",0,0,0,0,0,0,0,0,0,0,0,0,{"$f":"SUM($E$35:$P$35)","v":0},null,0,0,0,0,0,0,0,0,0,0,0,0,{"$f":"SUM($S$35:$AD$35)","v":0},null,0,0,0,0,0,0,0,0,0,0,0,0,{"$f":"SUM($AG$35:$AR$35)","v":0},null,0,0,0,0,0,0,0,0,0,0,0,0,{"$f":"SUM($AU$35:$BF$35)","v":0},null,0,0,0,0,0,0,0,0,0,0,0,0,{"$f":"SUM($BI$35:$BT$35)","v":0},null,0,0,0,0,0,0,0,0,0,0,0,0,{"$f":"SUM($BW$35:$CH$35)","v":0},null,0,0,0,0,0,0,0,0,0,0,0,0,{"$f":"SUM($CK$35:$CV$35)","v":0},null,0,0,0,0,0,0,0,0,0,0,0,0,{"$f":"SUM($CY$35:$DJ$35)","v":0},null,0,0,0,0,0,0,0,0,0,0,0,0,{"$f":"SUM($DM$35:$DX$35)","v":0},null,0,0,0,0,0,0,0,0,0,0,0,0,{"$f":"SUM($EA$35:$EL$35)","v":0},null,0,0,0,0,0,0,0,0,0,0,0,0,{"$f":"SUM($EO$35:$EZ$35)","v":0},null,0,0,0,0,0,0,0,0,0,0,0,0,{"$f":"SUM($FC$35:$FN$35)","v":0}]
[{"$f":"C35&D36","v":"ER"},null,null,"R",null,null,null,null,null,null,null,null,null,null,null,null,{"$f":"SUM($E$36:$P$36)","v":0},null,null,null,null,null,null,null,null,null,null,null,null,null,{"$f":"SUM($S$36:$AD$36)","v":0},null,null,null,null,null,null,null,null,null,null,null,null,null,{"$f":"SUM($AG$36:$AR$36)","v":0},null,null,null,null,null,null,null,null,null,null,null,null,null,{"$f":"SUM($AU$36:$BF$36)","v":0},null,null,null,null,null,null,null,null,null,null,null,null,null,{"$f":"SUM($BI$36:$BT$36)","v":0},null,null,null,null,null,null,null,null,null,null,null,null,null,{"$f":"SUM($BW$36:$CH$36)","v":0},null,null,null,null,null,null,null,null,null,null,null,null,null,{"$f":"SUM($CK$36:$CV$36)","v":0},null,null,null,null,null,null,null,null,null,null,null,null,null,{"$f":"SUM($CY$36:$DJ$36)","v":0},null,null,null,null,null,null,null,null,null,null,null,null,null,{"$f":"SUM($DM$36:$DX$36)","v":0},null,null,null,null,null,null,null,null,null,null,null,null,null,{"$f":"SUM($EA$36:$EL$36)","v":0},null,null,null,null,null,null,null,null,null,null,null,null,null,{"$f":"SUM($EO$36:$EZ$36)","v":0},null,null,null,null,null,null,null,null,null,null,null,null,null,{"$f":"SUM($FC$36:$FN$36)","v":0}]
["FP",null,"F","P",0,0,0,0,0,0,0,0,0,0,0,0,{"$f":"SUM($E$37:$P$37)","v":0},null,0,0,0,0,0,0,0,0,0,0,0,0,{"$f":"SUM($S$37:$AD$37)","v":0},null,0,0,0,0,0,0,0,0,0,0,0,0,{"$f":"SUM($AG$37:$AR$37)","v":0},null,0,0,0,0,0,0,0,0,0,0,0,0,{"$f":"SUM($AU$37:$BF$37)","v":0},null,0,0,0,0,0,0,0,0,0,0,0,0,{"$f":"SUM($BI$37:$BT$37)","v":0},null,0,0,0,0,0,0,0,0,0,0,0,0,{"$f":"SUM($BW$37:$CH$37)","v":0},null,0,0,0,0,0,0,0,0,0,0,0,0,{"$f":"SUM($CK$37:$CV$37)","v":0},null,0,0,0,0,0,0,0,0,0,0,0,0,{"$f":"SUM($CY$37:$DJ$37)","v":0},null,0,0,0,0,0,0,0,0,0,0,0,0,{"$f":"SUM($DM$37:$DX$37)","v":0},null,0,0,0,0,0,0,0,0,0,0,0,0,{"$f":"SUM($EA$37:$EL$37)","v":0},null,0,0,0,0,0,0,0,0,0,0,0,0,{"$f":"SUM($EO$37:$EZ$37)","v":0},null,0,0,0,0,0,0,0,0,0,0,0,0,{"$f":"SUM($FC$37:$FN$37)","v":0}]
[{"$f":"C37&D38","v":"FR"},null,null,"R",null,null,null,null,null,null,null,null,null,null,null,null,{"$f":"SUM($E$38:$P$38)","v":0},null,null,null,null,null,null,null,null,null,null,null,null,null,{"$f":"SUM($S$38:$AD$38)","v":0},null,null,null,null,null,null,null,null,null,null,null,null,null,{"$f":"SUM($AG$38:$AR$38)","v":0},null,null,null,null,null,null,null,null,null,null,null,null,null,{"$f":"SUM($AU$38:$BF$38)","v":0},null,null,null,null,null,null,null,null,null,null,null,null,null,{"$f":"SUM($BI$38:$BT$38)","v":0},null,null,null,null,null,null,null,null,null,null,null,null,null,{"$f":"SUM($BW$38:$CH$38)","v":0},null,null,null,null,null,null,null,null,null,null,null,null,null,{"$f":"SUM($CK$38:$CV$38)","v":0},null,null,null,null,null,null,null,null,null,null,null,null,null,{"$f":"SUM($CY$38:$DJ$38)","v":0},null,null,null,null,null,null,null,null,null,null,null,null,null,{"$f":"SUM($DM$38:$DX$38)","v":0},null,null,null,null,null,null,null,null,null,null,null,null,null,{"$f":"SUM($EA$38:$EL$38)","v":0},null,null,null,null,null,null,null,null,null,null,null,null,null,{"$f":"SUM($EO$38:$EZ$38)","v":0},null,null,null,null,null,null,null,null,null,null,null,null,null,{"$f":"SUM($FC$38:$FN$38)","v":0}]
["GP",null,"G","P",0,0,0,0,0,0,0,0,0,0,0,0,{"$f":"SUM($E$39:$P$39)","v":0},null,0,0,0,0,0,0,0,0,0,0,0,0,{"$f":"SUM($S$39:$AD$39)","v":0},null,0,0,0,0,0,0,0,0,0,0,0,0,{"$f":"SUM($AG$39:$AR$39)","v":0},null,0,0,0,0,0,0,0,0,0,0,0,0,{"$f":"SUM($AU$39:$BF$39)","v":0},null,0,0,0,0,0,0,0,0,0,0,0,0,{"$f":"SUM($BI$39:$BT$39)","v":0},null,0,0,0,0,0,0,0,0,0,0,0,0,{"$f":"SUM($BW$39:$CH$39)","v":0},null,0,0,0,0,0,0,0,0,0,0,0,0,{"$f":"SUM($CK$39:$CV$39)","v":0},null,0,0,0,0,0,0,0,0,0,0,0,0,{"$f":"SUM($CY$39:$DJ$39)","v":0},null,0,0,0,0,0,0,0,0,0,0,0,0,{"$f":"SUM($DM$39:$DX$39)","v":0},null,0,0,0,0,0,0,0,0,0,0,0,0,{"$f":"SUM($EA$39:$EL$39)","v":0},null,0,0,0,0,0,0,0,0,0,0,0,0,{"$f":"SUM($EO$39:$EZ$39)","v":0},null,0,0,0,0,0,0,0,0,0,0,0,0,{"$f":"SUM($FC$39:$FN$39)","v":0}]
[{"$f":"C39&D40","v":"GR"},null,null,"R",null,null,null,null,null,null,null,null,null,null,null,null,{"$f":"SUM($E$40:$P$40)","v":0},null,null,null,null,null,null,null,null,null,null,null,null,null,{"$f":"SUM($S$40:$AD$40)","v":0},null,null,null,null,null,null,null,null,null,null,null,null,null,{"$f":"SUM($AG$40:$AR$40)","v":0},null,null,null,null,null,null,null,null,null,null,null,null,null,{"$f":"SUM($AU$40:$BF$40)","v":0},null,null,null,null,null,null,null,null,null,null,null,null,null,{"$f":"SUM($BI$40:$BT$40)","v":0},null,null,null,null,null,null,null,null,null,null,null,null,null,{"$f":"SUM($BW$40:$CH$40)","v":0},null,null,null,null,null,null,null,null,null,null,null,null,null,{"$f":"SUM($CK$40:$CV$40)","v":0},null,null,null,null,null,null,null,null,null,null,null,null,null,{"$f":"SUM($CY$40:$DJ$40)","v":0},null,null,null,null,null,null,null,null,null,null,null,null,null,{"$f":"SUM($DM$40:$DX$40)","v":0},null,null,null,null,null,null,null,null,null,null,null,null,null,{"$f":"SUM($EA$40:$EL$40)","v":0},null,null,null,null,null,null,null,null,null,null,null,null,null,{"$f":"SUM($EO$40:$EZ$40)","v":0},null,null,null,null,null,null,null,null,null,null,null,null,null,{"$f":"SUM($FC$40:$FN$40)","v":0}]
[{"$f":"C41&D41","v":"HP"},null,"H","P",0,0,0,0,0,0,0,0,0,0,0,0,{"$f":"SUM($E$41:$P$41)","v":0},null,0,0,0,0,0,0,0,0,0,0,0,0,{"$f":"SUM($S$41:$AD$41)","v":0},null,0,0,0,0,0,0,0,0,0,0,0,0,{"$f":"SUM($AG$41:$AR$41)","v":0},null,0,0,0,0,0,0,0,0,0,0,0,0,{"$f":"SUM($AU$41:$BF$41)","v":0},null,0,0,0,0,0,0,0,0,0,0,0,0,{"$f":"SUM($BI$41:$BT$41)","v":0},null,0,0,0,0,0,0,0,0,0,0,0,0,{"$f":"SUM($BW$41:$CH$41)","v":0},null,0,0,0,0,0,0,0,0,0,0,0,0,{"$f":"SUM($CK$41:$CV$41)","v":0},null,0,0,0,0,0,0,0,0,0,0,0,0,{"$f":"SUM($CY$41:$DJ$41)","v":0},null,0,0,0,0,0,0,0,0,0,0,0,0,{"$f":"SUM($DM$41:$DX$41)","v":0},null,0,0,0,0,0,0,0,0,0,0,0,0,{"$f":"SUM($EA$41:$EL$41)","v":0},null,0,0,0,0,0,0,0,0,0,0,0,0,{"$f":"SUM($EO$41:$EZ$41)","v":0},null,0,0,0,0,0,0,0,0,0,0,0,0,{"$f":"SUM($FC$41:$FN$41)","v":0}]
[{"$f":"C41&D42","v":"HR"},null,null,"R",null,null,null,null,null,null,null,null,null,null,null,null,{"$f":"SUM($E$42:$P$42)","v":0},null,null,null,null,null,null,null,null,null,null,null,null,null,{"$f":"SUM($S$42:$AD$42)","v":0},null,null,null,null,null,null,null,null,null,null,null,null,null,{"$f":"SUM($AG$42:$AR$42)","v":0},null,null,null,null,null,null,null,null,null,null,null,null,null,{"$f":"SUM($AU$42:$BF$42)","v":0},null,null,null,null,null,null,null,null,null,null,null,null,null,{"$f":"SUM($BI$42:$BT$42)","v":0},null,null,null,null,null,null,null,null,null,null,null,null,null,{"$f":"SUM($BW$42:$CH$42)","v":0},null,null,null,null,null,null,null,null,null,null,null,null,null,{"$f":"SUM($CK$42:$CV$42)","v":0},null,null,null,null,null,null,null,null,null,null,null,null,null,{"$f":"SUM($CY$42:$DJ$42)","v":0},null,null,null,null,null,null,null,null,null,null,null,null,null,{"$f":"SUM($DM$42:$DX$42)","v":0},null,null,null,null,null,null,null,null,null,null,null,null,null,{"$f":"SUM($EA$42:$EL$42)","v":0},null,null,null,null,null,null,null,null,null,null,null,null,null,{"$f":"SUM($EO$42:$EZ$42)","v":0},null,null,null,null,null,null,null,null,null,null,null,null,null,{"$f":"SUM($FC$42:$FN$42)","v":0}]
[{"$f":"C43&D43","v":"Parcela Financiamento/CusteioP"},null,"Parcela Financiamento/Custeio","P",0,0,0,0,0,0,0,0,0,0,0,0,{"$f":"SUM($E$43:$P$43)","v":0},null,0,0,0,0,0,0,0,0,0,0,0,0,{"$f":"SUM($S$43:$AD$43)","v":0},null,0,0,0,0,0,0,0,0,0,0,0,0,{"$f":"SUM($AG$43:$AR$43)","v":0},null,0,0,0,0,0,0,0,0,0,0,0,0,{"$f":"SUM($AU$43:$BF$43)","v":0},null,0,0,0,0,0,0,0,0,0,0,0,0,{"$f":"SUM($BI$43:$BT$43)","v":0},null,0,0,0,0,0,0,0,0,0,0,0,0,{"$f":"SUM($BW$43:$CH$43)","v":0},null,0,0,0,0,0,0,0,0,0,0,0,0,{"$f":"SUM($CK$43:$CV$43)","v":0},null,0,0,0,0,0,0,0,0,0,0,0,0,{"$f":"SUM($CY$43:$DJ$43)","v":0},null,0,0,0,0,0,0,0,0,0,0,0,0,{"$f":"SUM($DM$43:$DX$43)","v":0},null,0,0,0,0,0,0,0,0,0,0,0,0,{"$f":"SUM($EA$43:$EL$43)","v":0},null,0,0,0,0,0,0,0,0,0,0,0,0,{"$f":"SUM($EO$43:$EZ$43)","v":0},null,0,0,0,0,0,0,0,0,0,0,0,0,{"$f":"SUM($FC$43:$FN$43)","v":0}]
[{"$f":"C43&D44","v":"Parcela Financiamento/CusteioR"},null,null,"R",null,null,null,null,null,null,null,null,null,null,null,null,{"$f":"SUM($E$44:$P$44)","v":0},null,null,null,null,null,null,null,null,null,null,null,null,null,{"$f":"SUM($S$44:$AD$44)","v":0},null,null,null,null,null,null,null,null,null,null,null,null,null,{"$f":"SUM($AG$44:$AR$44)","v":0},null,null,null,null,null,null,null,null,null,null,null,null,null,{"$f":"SUM($AU$44:$BF$44)","v":0},null,null,null,null,null,null,null,null,null,null,null,null,null,{"$f":"SUM($BI$44:$BT$44)","v":0},null,null,null,null,null,null,null,null,null,null,null,null,null,{"$f":"SUM($BW$44:$CH$44)","v":0},null,null,null,null,null,null,null,null,null,null,null,null,null,{"$f":"SUM($CK$44:$CV$44)","v":0},null,null,null,null,null,null,null,null,null,null,null,null,null,{"$f":"SUM($CY$44:$DJ$44)","v":0},null,null,null,null,null,null,null,null,null,null,null,null,null,{"$f":"SUM($DM$44:$DX$44)","v":0},null,null,null,null,null,null,null,null,null,null,null,null,null,{"$f":"SUM($EA$44:$EL$44)","v":0},null,null,null,null,null,null,null,null,null,null,null,null,null,{"$f":"SUM($EO$44:$EZ$44)","v":0},null,null,null,null,null,null,null,null,null,null,null,null,null,{"$f":"SUM($FC$44:$FN$44)","v":0}]
[{"$f":"C45&D45","v":"Total SaídasP"},null,"Total Saídas","P",{"$f":"SUMIF($D$5:$D$44,$D45,E$5:E$44)","v":0},{"$f":"SUMIF($D$5:$D$44,$D45,F$5:F$44)","v":0},{"$f":"SUMIF($D$5:$D$44,$D45,G$5:G$44)","v":0},0,0,0,0,0,0,0,0,0,0,null,{"$f":"SUMIF($D$5:$D$44,$D45,S$5:S$44)","v":0},0,0,0,0,0,0,0,0,0,0,0,0,null,{"$f":"SUMIF($D$5:$D$44,$D45,AG$5:AG$44)","v":0},0,0,0,0,0,0,0,0,0,0,0,0,null,{"$f":"SUMIF($D$5:$D$44,$D45,AU$5:AU$44)","v":0},0,0,0,0,0,0,0,0,0,0,0,0,null,{"$f":"SUMIF($D$5:$D$44,$D45,BI$5:BI$44)","v":0},0,0,0,0,0,0,0,0,0,0,0,0,null,{"$f":"SUMIF($D$5:$D$44,$D45,BW$5:BW$44)","v":0},0,0,0,0,0,0,0,0,0,0,0,0,null,{"$f":"SUMIF($D$5:$D$44,$D45,CK$5:CK$44)","v":0},0,0,0,0,0,0,0,0,0,0,0,0,null,{"$f":"SUMIF($D$5:$D$44,$D45,CY$5:CY$44)","v":0},0,0,0,0,0,0,0,0,0,0,0,0,null,{"$f":"SUMIF($D$5:$D$44,$D45,DM$5:DM$44)","v":0},0,0,0,0,0,0,0,0,0,0,0,0,null,{"$f":"SUMIF($D$5:$D$44,$D45,EA$5:EA$44)","v":0},0,0,0,0,0,0,0,0,0,0,0,0,null,{"$f":"SUMIF($D$5:$D$44,$D45,EO$5:EO$44)","v":0},0,0,0,0,0,0,0,0,0,0,0,0,null,{"$f":"SUMIF($D$5:$D$44,$D45,FC$5:FC$44)","v":0},0,0,0,0,0,0,0,0,0,0,0,0]
[{"$f":"C45&D46","v":"Total SaídasR"},null,null,"R",0,0,0,0,0,0,0,0,0,0,0,0,0,null,0,0,0,0,0,0,0,0,0,0,0,0,0,null,0,0,0,0,0,0,0,0,0,0,0,0,0,null,0,0,0,0,0,0,0,0,0,0,0,0,0,null,0,0,0,0,0,0,0,0,0,0,0,0,0,null,0,0,0,0,0,0,0,0,0,0,0,0,0,null,0,0,0,0,0,0,0,0,0,0,0,0,0,null,0,0,0,0,0,0,0,0,0,0,0,0,0,null,0,0,0,0,0,0,0,0,0,0,0,0,0,null,0,0,0,0,0,0,0,0,0,0,0,0,0,null,0,0,0,0,0,0,0,0,0,0,0,0,0,null,0,0,0,0,0,0,0,0,0,0,0,0,0]
[{"$f":"C47&D47","v":""}]
[{"$f":"C47&D48","v":""}]
[{"$f":"C49&D49","v":"Venda do LoteP"},"Entrada de Caixa","Venda do Lote","P",0,0,0,0,0,0,0,0,0,0,0,0,{"$f":"SUM($E$49:$P$49)","v":0},null,0,0,0,0,0,0,0,0,0,0,0,0,{"$f":"SUM($S$49:$AD$49)","v":0},null,0,0,0,0,0,0,0,0,0,0,0,0,{"$f":"SUM($AG$49:$AR$49)","v":0},null,0,0,0,0,0,0,0,0,0,0,0,0,{"$f":"SUM($AU$49:$BF$49)","v":0},null,0,0,0,0,0,0,0,0,0,0,0,0,{"$f":"SUM($BI$49:$BT$49)","v":0},null,0,0,0,0,0,0,0,0,0,0,0,0,{"$f":"SUM($BW$49:$CH$49)","v":0},null,0,0,0,0,0,0,0,0,0,0,0,0,{"$f":"SUM($CK$49:$CV$49)","v":0},null,0,0,0,0,0,0,0,0,0,0,0,0,{"$f":"SUM($CY$49:$DJ$49)","v":0},null,0,0,0,0,0,0,0,0,0,0,0,0,{"$f":"SUM($DM$49:$DX$49)","v":0},null,0,0,0,0,0,0,0,0,0,0,0,0,{"$f":"SUM($EA$49:$EL$49)","v":0},null,0,0,0,0,0,0,0,0,0,0,0,0,{"$f":"SUM($EO$49:$EZ$49)","v":0},null,0,0,0,0,0,0,0,0,0,0,0,0,{"$f":"SUM($FC$49:$FN$49)","v":0}]
[{"$f":"C49&D50","v":"Venda do LoteR"},null,null,"R",null,null,null,null,null,null,null,null,null,null,null,null,{"$f":"SUM($E$50:$P$50)","v":0},null,null,null,null,null,null,null,null,null,null,null,null,null,{"$f":"SUM($S$50:$AD$50)","v":0},null,null,null,null,null,null,null,null,null,null,null,null,null,{"$f":"SUM($AG$50:$AR$50)","v":0},null,null,null,null,null,null,null,null,null,null,null,null,null,{"$f":"SUM($AU$50:$BF$50)","v":0},null,null,null,null,null,null,null,null,null,null,null,null,null,{"$f":"SUM($BI$50:$BT$50)","v":0},null,null,null,null,null,null,null,null,null,null,null,null,null,{"$f":"SUM($BW$50:$CH$50)","v":0},null,null,null,null,null,null,null,null,null,null,null,null,null,{"$f":"SUM($CK$50:$CV$50)","v":0},null,null,null,null,null,null,null,null,null,null,null,null,null,{"$f":"SUM($CY$50:$DJ$50)","v":0},null,null,null,null,null,null,null,null,null,null,null,null,null,{"$f":"SUM($DM$50:$DX$50)","v":0},null,null,null,null,null,null,null,null,null,null,null,null,null,{"$f":"SUM($EA$50:$EL$50)","v":0},null,null,null,null,null,null,null,null,null,null,null,null,null,{"$f":"SUM($EO$50:$EZ$50)","v":0},null,null,null,null,null,null,null,null,null,null,null,null,null,{"$f":"SUM($FC$50:$FN$50)","v":0}]
[{"$f":"C51&D51","v":"Venda AduboP"},null,"Venda Adubo","P",0,0,0,0,0,0,0,0,0,0,0,0,{"$f":"SUM($E$51:$P$51)","v":0},null,0,0,0,0,0,0,0,0,0,0,0,0,{"$f":"SUM($S$51:$AD$51)","v":0},null,0,0,0,0,0,0,0,0,0,0,0,0,{"$f":"SUM($AG$51:$AR$51)","v":0},null,0,0,0,0,0,0,0,0,0,0,0,0,{"$f":"SUM($AU$51:$BF$51)","v":0},null,0,0,0,0,0,0,0,0,0,0,0,0,{"$f":"SUM($BI$51:$BT$51)","v":0},null,0,0,0,0,0,0,0,0,0,0,0,0,{"$f":"SUM($BW$51:$CH$51)","v":0},null,0,0,0,0,0,0,0,0,0,0,0,0,{"$f":"SUM($CK$51:$CV$51)","v":0},null,0,0,0,0,0,0,0,0,0,0,0,0,{"$f":"SUM($CY$51:$DJ$51)","v":0},null,0,0,0,0,0,0,0,0,0,0,0,0,{"$f":"SUM($DM$51:$DX$51)","v":0},null,0,0,0,0,0,0,0,0,0,0,0,0,{"$f":"SUM($EA$51:$EL$51)","v":0},null,0,0,0,0,0,0,0,0,0,0,0,0,{"$f":"SUM($EO$51:$EZ$51)","v":0},null,0,0,0,0,0,0,0,0,0,0,0,0,{"$f":"SUM($FC$51:$FN$51)","v":0}]
[{"$f":"C51&D52","v":"Venda AduboR"},null,null,"R",null,null,null,null,null,null,null,null,null,null,null,null,{"$f":"SUM($E$52:$P$52)","v":0},null,null,null,null,null,null,null,null,null,null,null,null,null,{"$f":"SUM($S$52:$AD$52)","v":0},null,null,null,null,null,null,null,null,null,null,null,null,null,{"$f":"SUM($AG$52:$AR$52)","v":0},null,null,null,null,null,null,null,null,null,null,null,null,null,{"$f":"SUM($AU$52:$BF$52)","v":0},null,null,null,null,null,null,null,null,null,null,null,null,null,{"$f":"SUM($BI$52:$BT$52)","v":0},null,null,null,null,null,null,null,null,null,null,null,null,null,{"$f":"SUM($BW$52:$CH$52)","v":0},null,null,null,null,null,null,null,null,null,null,null,null,null,{"$f":"SUM($CK$52:$CV$52)","v":0},null,null,null,null,null,null,null,null,null,null,null,null,null,{"$f":"SUM($CY$52:$DJ$52)","v":0},null,null,null,null,null,null,null,null,null,null,null,null,null,{"$f":"SUM($DM$52:$DX$52)","v":0},null,null,null,null,null,null,null,null,null,null,null,null,null,{"$f":"SUM($EA$52:$EL$52)","v":0},null,null,null,null,null,null,null,null,null,null,null,null,null,{"$f":"SUM($EO$52:$EZ$52)","v":0},null,null,null,null,null,null,null,null,null,null,null,null,null,{"$f":"SUM($FC$52:$FN$52)","v":0}]
[{"$f":"C53&D53","v":"Entrada de Financiamento / CusteioP"},null,"Entrada de Financiamento / Custeio","P",0,0,0,0,0,0,0,0,0,0,0,0,{"$f":"SUM($E$53:$P$53)","v":0},null,0,0,0,0,0,0,0,0,0,0,0,0,{"$f":"SUM($S$53:$AD$53)","v":0},null,0,0,0,0,0,0,0,0,0,0,0,0,{"$f":"SUM($AG$53:$AR$53)","v":0},null,0,0,0,0,0,0,0,0,0,0,0,0,{"$f":"SUM($AU$53:$BF$53)","v":0},null,0,0,0,0,0,0,0,0,0,0,0,0,{"$f":"SUM($BI$53:$BT$53)","v":0},null,0,0,0,0,0,0,0,0,0,0,0,0,{"$f":"SUM($BW$53:$CH$53)","v":0},null,0,0,0,0,0,0,0,0,0,0,0,0,{"$f":"SUM($CK$53:$CV$53)","v":0},null,0,0,0,0,0,0,0,0,0,0,0,0,{"$f":"SUM($CY$53:$DJ$53)","v":0},null,0,0,0,0,0,0,0,0,0,0,0,0,{"$f":"SUM($DM$53:$DX$53)","v":0},null,0,0,0,0,0,0,0,0,0,0,0,0,{"$f":"SUM($EA$53:$EL$53)","v":0},null,0,0,0,0,0,0,0,0,0,0,0,0,{"$f":"SUM($EO$53:$EZ$53)","v":0},null,0,0,0,0,0,0,0,0,0,0,0,0,{"$f":"SUM($FC$53:$FN$53)","v":0}]
[{"$f":"C53&D54","v":"Entrada de Financiamento / CusteioR"},null,null,"R",null,null,null,null,null,null,null,null,null,null,null,null,{"$f":"SUM($E$54:$P$54)","v":0},null,null,null,null,null,null,null,null,null,null,null,null,null,{"$f":"SUM($S$54:$AD$54)","v":0},null,null,null,null,null,null,null,null,null,null,null,null,null,{"$f":"SUM($AG$54:$AR$54)","v":0},null,null,null,null,null,null,null,null,null,null,null,null,null,{"$f":"SUM($AU$54:$BF$54)","v":0},null,null,null,null,null,null,null,null,null,null,null,null,null,{"$f":"SUM($BI$54:$BT$54)","v":0},null,null,null,null,null,null,null,null,null,null,null,null,null,{"$f":"SUM($BW$54:$CH$54)","v":0},null,null,null,null,null,null,null,null,null,null,null,null,null,{"$f":"SUM($CK$54:$CV$54)","v":0},null,null,null,null,null,null,null,null,null,null,null,null,null,{"$f":"SUM($CY$54:$DJ$54)","v":0},null,null,null,null,null,null,null,null,null,null,null,null,null,{"$f":"SUM($DM$54:$DX$54)","v":0},null,null,null,null,null,null,null,null,null,null,null,null,null,{"$f":"SUM($EA$54:$EL$54)","v":0},null,null,null,null,null,null,null,null,null,null,null,null,null,{"$f":"SUM($EO$54:$EZ$54)","v":0},null,null,null,null,null,null,null,null,null,null,null,null,null,{"$f":"SUM($FC$54:$FN$54)","v":0}]
[{"$f":"C55&D55","v":"AP"},null,"A","P",0,0,0,0,0,0,0,0,0,0,0,0,{"$f":"SUM($E$55:$P$55)","v":0},null,0,0,0,0,0,0,0,0,0,0,0,0,{"$f":"SUM($S$55:$AD$55)","v":0},null,0,0,0,0,0,0,0,0,0,0,0,0,{"$f":"SUM($AG$55:$AR$55)","v":0},null,0,0,0,0,0,0,0,0,0,0,0,0,{"$f":"SUM($AU$55:$BF$55)","v":0},null,0,0,0,0,0,0,0,0,0,0,0,0,{"$f":"SUM($BI$55:$BT$55)","v":0},null,0,0,0,0,0,0,0,0,0,0,0,0,{"$f":"SUM($BW$55:$CH$55)","v":0},null,0,0,0,0,0,0,0,0,0,0,0,0,{"$f":"SUM($CK$55:$CV$55)","v":0},null,0,0,0,0,0,0,0,0,0,0,0,0,{"$f":"SUM($CY$55:$DJ$55)","v":0},null,0,0,0,0,0,0,0,0,0,0,0,0,{"$f":"SUM($DM$55:$DX$55)","v":0},null,0,0,0,0,0,0,0,0,0,0,0,0,{"$f":"SUM($EA$55:$EL$55)","v":0},null,0,0,0,0,0,0,0,0,0,0,0,0,{"$f":"SUM($EO$55:$EZ$55)","v":0},null,0,0,0,0,0,0,0,0,0,0,0,0,{"$f":"SUM($FC$55:$FN$55)","v":0}]
[{"$f":"C55&D56","v":"AR"},null,null,"R",null,null,null,null,null,null,null,null,null,null,null,null,{"$f":"SUM($E$56:$P$56)","v":0},null,null,null,null,null,null,null,null,null,null,null,null,null,{"$f":"SUM($S$56:$AD$56)","v":0},null,null,null,null,null,null,null,null,null,null,null,null,null,{"$f":"SUM($AG$56:$AR$56)","v":0},null,null,null,null,null,null,null,null,null,null,null,null,null,{"$f":"SUM($AU$56:$BF$56)","v":0},null,null,null,null,null,null,null,null,null,null,null,null,null,{"$f":"SUM($BI$56:$BT$56)","v":0},null,null,null,null,null,null,null,null,null,null,null,null,null,{"$f":"SUM($BW$56:$CH$56)","v":0},null,null,null,null,null,null,null,null,null,null,null,null,null,{"$f":"SUM($CK$56:$CV$56)","v":0},null,null,null,null,null,null,null,null,null,null,null,null,null,{"$f":"SUM($CY$56:$DJ$56)","v":0},null,null,null,null,null,null,null,null,null,null,null,null,null,{"$f":"SUM($DM$56:$DX$56)","v":0},null,null,null,null,null,null,null,null,null,null,null,null,null,{"$f":"SUM($EA$56:$EL$56)","v":0},null,null,null,null,null,null,null,null,null,null,null,null,null,{"$f":"SUM($EO$56:$EZ$56)","v":0},null,null,null,null,null,null,null,null,null,null,null,null,null,{"$f":"SUM($FC$56:$FN$56)","v":0}]
[{"$f":"C57&D57","v":"Total EntradasP"},null,"Total Entradas","P",{"$f":"SUMIF($D$49:$D$56,$D57,E49:E56)","v":0},{"$f":"SUMIF($D$49:$D$56,$D57,F49:F56)","v":0},{"$f":"SUMIF($D$49:$D$56,$D57,G49:G56)","v":0},0,0,0,0,0,0,0,0,0,0,null,{"$f":"SUMIF($D$49:$D$56,$D57,S49:S56)","v":0},0,0,0,0,0,0,0,0,0,0,0,0,null,{"$f":"SUMIF($D$49:$D$56,$D57,AG49:AG56)","v":0},0,0,0,0,0,0,0,0,0,0,0,0,null,{"$f":"SUMIF($D$49:$D$56,$D57,AU49:AU56)","v":0},0,0,0,0,0,0,0,0,0,0,0,0,null,{"$f":"SUMIF($D$49:$D$56,$D57,BI49:BI56)","v":0},0,0,0,0,0,0,0,0,0,0,0,0,null,{"$f":"SUMIF($D$49:$D$56,$D57,BW49:BW56)","v":0},0,0,0,0,0,0,0,0,0,0,0,0,null,{"$f":"SUMIF($D$49:$D$56,$D57,CK49:CK56)","v":0},0,0,0,0,0,0,0,0,0,0,0,0,null,{"$f":"SUMIF($D$49:$D$56,$D57,CY49:CY56)","v":0},0,0,0,0,0,0,0,0,0,0,0,0,null,{"$f":"SUMIF($D$49:$D$56,$D57,DM49:DM56)","v":0},0,0,0,0,0,0,0,0,0,0,0,0,null,{"$f":"SUMIF($D$49:$D$56,$D57,EA49:EA56)","v":0},0,0,0,0,0,0,0,0,0,0,0,0,null,{"$f":"SUMIF($D$49:$D$56,$D57,EO49:EO56)","v":0},0,0,0,0,0,0,0,0,0,0,0,0,null,{"$f":"SUMIF($D$49:$D$56,$D57,FC49:FC56)","v":0},0,0,0,0,0,0,0,0,0,0,0,0]
[{"$f":"C57&D58","v":"Total EntradasR"},null,null,"R",{"$f":"SUMIF($D$49:$D$56,$D58,E$49:E$56)","v":0},{"$f":"SUMIF($D$49:$D$56,$D58,F$49:F$56)","v":0},0,0,0,0,0,0,0,0,0,0,0,null,{"$f":"SUMIF($D$49:$D$56,$D58,S$49:S$56)","v":0},{"$f":"SUMIF($D$49:$D$56,$D58,T$49:T$56)","v":0},0,0,0,0,0,0,0,0,0,0,0,null,{"$f":"SUMIF($D$49:$D$56,$D58,AG$49:AG$56)","v":0},{"$f":"SUMIF($D$49:$D$56,$D58,AH$49:AH$56)","v":0},0,0,0,0,0,0,0,0,0,0,0,null,{"$f":"SUMIF($D$49:$D$56,$D58,AU$49:AU$56)","v":0},{"$f":"SUMIF($D$49:$D$56,$D58,AV$49:AV$56)","v":0},0,0,0,0,0,0,0,0,0,0,0,null,{"$f":"SUMIF($D$49:$D$56,$D58,BI$49:BI$56)","v":0},{"$f":"SUMIF($D$49:$D$56,$D58,BJ$49:BJ$56)","v":0},0,0,0,0,0,0,0,0,0,0,0,null,{"$f":"SUMIF($D$49:$D$56,$D58,BW$49:BW$56)","v":0},{"$f":"SUMIF($D$49:$D$56,$D58,BX$49:BX$56)","v":0},0,0,0,0,0,0,0,0,0,0,0,null,{"$f":"SUMIF($D$49:$D$56,$D58,CK$49:CK$56)","v":0},{"$f":"SUMIF($D$49:$D$56,$D58,CL$49:CL$56)","v":0},0,0,0,0,0,0,0,0,0,0,0,null,{"$f":"SUMIF($D$49:$D$56,$D58,CY$49:CY$56)","v":0},{"$f":"SUMIF($D$49:$D$56,$D58,CZ$49:CZ$56)","v":0},0,0,0,0,0,0,0,0,0,0,0,null,{"$f":"SUMIF($D$49:$D$56,$D58,DM$49:DM$56)","v":0},{"$f":"SUMIF($D$49:$D$56,$D58,DN$49:DN$56)","v":0},0,0,0,0,0,0,0,0,0,0,0,null,{"$f":"SUMIF($D$49:$D$56,$D58,EA$49:EA$56)","v":0},{"$f":"SUMIF($D$49:$D$56,$D58,EB$49:EB$56)","v":0},0,0,0,0,0,0,0,0,0,0,0,null,{"$f":"SUMIF($D$49:$D$56,$D58,EO$49:EO$56)","v":0},{"$f":"SUMIF($D$49:$D$56,$D58,EP$49:EP$56)","v":0},0,0,0,0,0,0,0,0,0,0,0,null,{"$f":"SUMIF($D$49:$D$56,$D58,FC$49:FC$56)","v":0},{"$f":"SUMIF($D$49:$D$56,$D58,FD$49:FD$56)","v":0},0,0,0,0,0,0,0,0,0,0,0]
[]
[{"$f":"C59&D60","v":""},"Saldo de Exercícios Anteriores"]
[{"$f":"B61&D61","v":"Saldo de Caixa MensalP"},"Saldo de Caixa Mensal",null,"P",{"$f":"E57-E45","v":0},0,0,0,0,0,0,0,0,0,0,0,0,null,{"$f":"S57-S45","v":0},0,0,0,0,0,0,0,0,0,0,0,0,null,{"$f":"AG57-AG45","v":0},0,0,0,0,0,0,0,0,0,0,0,0,null,{"$f":"AU57-AU45","v":0},0,0,0,0,0,0,0,0,0,0,0,0,null,{"$f":"BI57-BI45","v":0},0,0,0,0,0,0,0,0,0,0,0,0,null,{"$f":"BW57-BW45","v":0},0,0,0,0,0,0,0,0,0,0,0,0,null,{"$f":"CK57-CK45","v":0},0,0,0,0,0,0,0,0,0,0,0,0,null,{"$f":"CY57-CY45","v":0},0,0,0,0,0,0,0,0,0,0,0,0,null,{"$f":"DM57-DM45","v":0},0,0,0,0,0,0,0,0,0,0,0,0,null,{"$f":"EA57-EA45","v":0},0,0,0,0,0,0,0,0,0,0,0,0,null,{"$f":"EO57-EO45","v":0},0,0,0,0,0,0,0,0,0,0,0,0,null,{"$f":"FC57-FC45","v":0},0,0,0,0,0,0,0,0,0,0,0,0]
[{"$f":"B61&D62","v":"Saldo de Caixa MensalR"},null,null,"R",{"$f":"E58-E46","v":0},0,0,0,0,0,0,0,0,0,0,0,0,null,{"$f":"S58-S46","v":0},0,0,0,0,0,0,0,0,0,0,0,0,null,{"$f":"AG58-AG46","v":0},0,0,0,0,0,0,0,0,0,0,0,0,null,{"$f":"AU58-AU46","v":0},0,0,0,0,0,0,0,0,0,0,0,0,null,{"$f":"BI58-BI46","v":0},0,0,0,0,0,0,0,0,0,0,0,0,null,{"$f":"BW58-BW46","v":0},0,0,0,0,0,0,0,0,0,0,0,0,null,{"$f":"CK58-CK46","v":0},0,0,0,0,0,0,0,0,0,0,0,0,null,{"$f":"CY58-CY46","v":0},0,0,0,0,0,0,0,0,0,0,0,0,null,{"$f":"DM58-DM46","v":0},0,0,0,0,0,0,0,0,0,0,0,0,null,{"$f":"EA58-EA46","v":0},0,0,0,0,0,0,0,0,0,0,0,0,null,{"$f":"EO58-EO46","v":0},0,0,0,0,0,0,0,0,0,0,0,0,null,{"$f":"FC58-FC46","v":0},0,0,0,0,0,0,0,0,0,0,0,0]
[{"$f":"B63&D63","v":"Caixa AcumuladoP"},"Caixa Acumulado",null,"P",{"$f":"E61","v":0},{"$f":"F61+E63","v":0},{"$f":"G61+F63","v":0},0,0,0,{"$f":"K61+J63","v":0},0,0,0,0,0,null,null,{"$f":"S61+P63","v":0},{"$f":"T61+S63","v":0},{"$f":"U61+T63","v":0},0,0,0,0,0,0,0,0,{"$f":"AD61+AC63","v":0},null,null,{"$f":"AG61+AD63","v":0},{"$f":"AH61+AG63","v":0},{"$f":"AI61+AH63","v":0},0,0,0,0,0,0,0,0,{"$f":"AR61+AQ63","v":0},null,null,{"$f":"AU61+AR63","v":0},{"$f":"AV61+AU63","v":0},{"$f":"AW61+AV63","v":0},0,0,0,0,0,0,0,0,{"$f":"BF61+BE63","v":0},null,null,{"$f":"BI61+BF63","v":0},{"$f":"BJ61+BI63","v":0},{"$f":"BK61+BJ63","v":0},0,0,0,0,0,0,0,0,{"$f":"BT61+BS63","v":0},null,null,{"$f":"BW61+BT63","v":0},{"$f":"BX61+BW63","v":0},{"$f":"BY61+BX63","v":0},0,0,0,0,0,0,0,0,{"$f":"CH61+CG63","v":0},null,null,{"$f":"CK61+CH63","v":0},{"$f":"CL61+CK63","v":0},{"$f":"CM61+CL63","v":0},0,0,0,0,0,0,0,0,{"$f":"CV61+CU63","v":0},null,null,{"$f":"CY61+CV63","v":0},{"$f":"CZ61+CY63","v":0},{"$f":"DA61+CZ63","v":0},0,0,0,0,0,0,0,0,{"$f":"DJ61+DI63","v":0},null,null,{"$f":"DM61+DJ63","v":0},{"$f":"DN61+DM63","v":0},{"$f":"DO61+DN63","v":0},0,0,0,0,0,0,0,0,{"$f":"DX61+DW63","v":0},null,null,{"$f":"EA61+DX63","v":0},{"$f":"EB61+EA63","v":0},{"$f":"EC61+EB63","v":0},0,0,0,0,0,0,0,0,{"$f":"EL61+EK63","v":0},null,null,{"$f":"EO61+EL63","v":0},{"$f":"EP61+EO63","v":0},{"$f":"EQ61+EP63","v":0},0,0,0,0,0,0,0,0,{"$f":"EZ61+EY63","v":0},null,null,{"$f":"FC61+EZ63","v":0},{"$f":"FD61+FC63","v":0},{"$f":"FE61+FD63","v":0},0,0,0,0,0,0,0,0,{"$f":"FN61+FM63","v":0}]
[{"$f":"B63&D64","v":"Caixa AcumuladoR"},null,null,"R",{"$f":"E62","v":0},{"$f":"E64+F62","v":0},{"$f":"F64+G62","v":0},0,0,0,0,0,0,0,0,0,null,null,{"$f":"S62+P64","v":0},{"$f":"T62+S64","v":0},{"$f":"U62+T64","v":0},0,0,0,0,0,0,0,0,0,null,null,{"$f":"AG62+AD64","v":0},{"$f":"AH62+AG64","v":0},{"$f":"AI62+AH64","v":0},0,0,0,0,0,0,0,0,0,null,null,{"$f":"AU62+AR64","v":0},{"$f":"AV62+AU64","v":0},{"$f":"AW62+AV64","v":0},0,0,0,0,0,0,0,0,0,null,null,{"$f":"BI62+BF64","v":0},{"$f":"BJ62+BI64","v":0},{"$f":"BK62+BJ64","v":0},0,0,0,0,0,0,0,0,0,null,null,{"$f":"BW62+BT64","v":0},{"$f":"BX62+BW64","v":0},{"$f":"BY62+BX64","v":0},0,0,0,0,0,0,0,0,0,null,null,{"$f":"CK62+CH64","v":0},{"$f":"CL62+CK64","v":0},{"$f":"CM62+CL64","v":0},0,0,0,0,0,0,0,0,0,null,null,{"$f":"CY62+CV64","v":0},{"$f":"CZ62+CY64","v":0},{"$f":"DA62+CZ64","v":0},0,0,0,0,0,0,0,0,0,null,null,{"$f":"DM62+DJ64","v":0},{"$f":"DN62+DM64","v":0},{"$f":"DO62+DN64","v":0},0,0,0,0,0,0,0,0,0,null,null,{"$f":"EA62+DX64","v":0},{"$f":"EB62+EA64","v":0},{"$f":"EC62+EB64","v":0},0,0,0,0,0,0,0,0,0,null,null,{"$f":"EO62+EL64","v":0},{"$f":"EP62+EO64","v":0},{"$f":"EQ62+EP64","v":0},0,0,0,0,0,0,0,0,0,null,null,{"$f":"FC62+EZ64","v":0},{"$f":"FD62+FC64","v":0},{"$f":"FE62+FD64","v":0},0,0,0,0,0,0,0,0,0]
[]
[]
[]
[]
[]
[]
[]
[]
[]
[]
[]
[]
[]
[]
[]
[]
[]
[]
[]
[]
[]
[]
[]
[]
[]
[]
[]
[]
[]
[]
[]
[]
[]
[]
[]
[]
[]
[]
[]
[]
[]
[]
[]
[]
[]
[]
[]
[]
[]
[]
[]
[]
[]
[]
[]
[]
[]
[]
[]
[]
[]
[]
[]
[]
[]
[]
[]
[]
[]
[]
[]
[]
[]
[]
[]
[]
[]
[]
[]
[]
[]
[]
[]
[]
[]
[]
[]
[]
[]
[]
[]
[]
[]
[]
[]
[]
[]
[]
[]
[]
[]
[]
[]
[]
[]
[]
[]
[]
[]
[]
[]
[]
[]
[]
[]
[]
[]
[]
[]
[]
[]
[]
[]
[]
[]
[]
[]
[]
[]
[]
[]
[]
[]
[]
[]
[]
[]
[]
[]
[]
[]
[]
[]
[]
[]
[]
[]
[]
[]
[]
[]
[]
[]
[]
[]
[]
[]
[]
[]
[]
[]
[]
[]
[]
[]
[]
[]
[]
[]
[]
[]
[]
[]
[]
[]
[]
[]
[]
[]
[]
[]
[]
[]
[]
[]
[]
[]
[]
[]
[]
[]
[]
[]
[]
[]
[]
[]
[]
[]
[]
[]
[]
[]
[]
[]
[]
[]
[]
[]
[]
[]
[]
[]
[]
[]
[]
[]
[]
[]
[]
[]
[]
[]
[]
[]
[]
[]
[]
[]
[]
[]
[]
[]
[]
[]
[]
[]
[]
[]
[]
[]
[]
[]
[]
[]
[]
[]
[]
[]
[]
[]
[]
[]
[]
[]
[]
[]
[]
[]
[]
[]
[]
[]
[]
[]
[]
[]
[]
[]
[]
[]
[]
[]
[]
[]
[]
[]
[]
[]
[]
[]
[]
[]
[]
[]
[]
[]
[]
[]
[]
[]
[]
[]
[]
[]
[]
[]
[]
[]
[]
[]
[]
[]
[]
[]
[]
[]
[]
[]
[]
[]
[]
[]
[]
[]
[]
[]
[]
[]
[]
[]
[]
[]
[]
[]
[]
[]
[]
[]
[]
[]
[]
[]
[]
[]
[]
[]
[]
[]
[]
[]
[]
[]
[]
[]
[]
[]
[]
[]
[]
[]
[]
[]
[]
[]
[]
[]
[]
[]
[]
[]
[]
[]
[]
[]
[]
[]
[]
[]
[]
[]
[]
[]
[]
[]
[]
[]
[]
[]
[]
[]
[]
[]
[]
[]
[]
[]
[]
[]
[]
[]
[]
[]
[]
[]
[]
[]
[]
[]
[]
[]
[]
[]
[]
[]
[]
[]
[]
[]
[]
[]
[]
[]
[]
[]
[]
[]
[]
[]
[]
[]
[]
[]
[]
[]
[]
[]
[]
[]
[]
[]
[]
[]
[]
[]
[]
[]
[]
[]
[]
[]
[]
[]
[]
[]
[]
[]
[]
[]
[]
[]
[]
[]
[]
[]
[]
[]
[]
[]
[]
[]
[]
[]
[]
[]
[]
[]
[]
[]
[]
[]
[]
[]
[]
[]
[]
[]
[]
[]
[]
[]
[]
[]
[]
[]
[]
[]
[]
[]
[]
[]
[]
[]
[]
[]
[]
[]
[]
[]
[]
[]
[]
[]
[]
[]
[]
[]
[]
[]
[]
[]
[]
[]
[]
[]
[]
[]
[]
[]
[]
[]
[]
[]
[]
[]
[]
[]
[]
[]
[]
[]
[]
[]
[]
[]
[]
[]
[]
[]
[]
[]
[]
[]
[]
[]
[]
[]
[]
[]
[]
[]
[]
[]
[]
[]
[]
[]
[]
[]
[]
[]
[]
[]
[]
[]
[]
[]
[]
[]
[]
[]
[]
[]
[]
[]
[]
[]
[]
[]
[]
[]
[]
[]
[]
[]
[]
[]
[]
[]
[]
[]
[]
[]
[]
[]
[]
[]
[]
[]
[]
[]
[]
[]
[]
[]
[]
[]
[]
[]
[]
[]
[]
[]
[]
[]
[]
[]
[]
[]
[]
[]
[]
[]
[]
[]
[]
[]
[]
[]
[]
[]
[]
[]
[]
[]
[]
[]
[]
[]
[]
[]
[]
[]
[]
[]
[]
[]
[]
[]
[]
[]
[]
[]
[]
[]
[]
[]
[]
[]
[]
[]
[]
[]
[]
[]
[]
[]
[]
[]
[]
[]
[]
[]
[]
[]
[]
[]
[]
[]
[]
[]
[]
[]
[]
[]
[]
[]
[]
[]
[]
[]
[]
[]
[]
[]
[]
[]
[]
[]
[]
[]
[]
[]
[]
[]
[]
[]
[]
[]
[]
[]
[]
[]
[]
[]
[]
[]
[]
[]
[]
[]
[]
[]
[]
[]
[]
[]
[]
[]
[]
[]
[]
[]
[]
[]
[]
[]
[]
[]
[]
[]
[]
[]
[]
[]
[]
[]
[]
[]
[]
[]
[]
[]
[]
[]
[]
[]
[]
[]
[]
[]
[]
[]
[]
[]
[]
[]
[]
[]
[]
[]
[]
[]
[]
[]
[]
[]
[]
[]
[]
[]
[]
[]
[]
[]
[]
[]
[]
[]
[]
[]
[]
[]
[]
[]
[]
[]
[]
[]
[]
[]
[]
[]
[]
[]
[]
[]
[]
[]
[]
[]
[]
[]
[]
[]
[]
[]
[]
[]
[]
[]
[]
[]
[]
[]
[]
[]
[]
[]
[]
[]
[]
[]
[]
[]
[]
[]
[]
[]
[]
[]
[]
[]
[]
[]
[]
[]
[]
[]
[]
[]
[]
[]
[]
[]
[]
[]
[]
[]
[]
[]
[]
[]
[]
[]
[]
[]
[]
[]
[]
[]
[]
[]
[]
[]
[]
[]
[]
[]
[]
[]
[]
[]
[]
[]
[]
[]
[]
[]
[]
[]
[]
[]
[]
[]
[]
[]
[]
[]
[]
[]
[]
[]
[]
[]
[]
[]
[]
[]
[]
[]
[]
[]
[]
[]
[]
[]
[]
[]
[]
[]
[]
[]
[]
[]
[]
[]
[]
[]
[]
[]
[]
[]
[]
[]
[]
[]
[]
[]
[]
[]
[]
[]
[]
[]
[]
[]
[]
[]
[]
[]
[]
[]
[]
[]
[]
[]
[]
[]
[]
[]
[]
[]
[]
[]
[]
[]
[]
[]
[]
[]
[]
[]
[]
[]
[]
[]
[]
[]
[]
[]
[]
[]
[]
[]
[]
[]
[]
[]
[]
[]
[]
[]
[]
[]
[]
[]
[]
[]
[]
[]
[]
[]
[]
[]
[]
[]
[]
[]
[]
[]
[]
[]
[]
[]
[]
[]
[]
[]
[]
[]
[]
[]
[]
[]
[]
[]
[]
[]
[]
[]
[]
[]
[]
[]
[]
[]
[]
[]
[]
[]
[]
[]
[]
[]
[]
[]
[]
[]
[]
[]
[]
[]
[]
[]
[]
[]
[]
[]
[]
[]
[]
[]
[]
[]
[]
[]
[]
[]
[]
[]
[]
[]
[]
[]
[]
[]
[]
[]
[]
[]
[]
[]
[]
[]
[]
[]
[]
[]
[]
[]
[]
[]
[]
[]
[]
[]
[]
[]
[]
[]
[]
[]
[]
[]
[]
[]
[]
[]
[]
[]
[]
[]
[]
[]
[]
[]
[]
[]
[]
[]
[]
[]
[]
[]
[]
[]
[]
[]
[]
[]
[]
[]
[]
[]
[]
[]
[]
[]
[]
[]
[]
[]
[]
[]
[]
[]
[]
[]
[]
[]
[]
[]
[]
[]
[]
[]
[]
[]
[]
[]
[]
[]
[]
[]
[]
[]
[]
[]
[]
[]
[]
[]
[]
[]
[]
[]
[]
[]
[]
[]
[]
[]
[]
[]
[]
[]
[]
[]
[]
[]
[]
[]
[]
[]
[]
[]
[]
[]
[]
[]
[]
[]
[]
[]
[]
[]
[]
[]
[]
[]
[]
[]
[]
[]
[]
[]
[]
[]
[]
[]
[]
[]
[]
[]
[]
[]
[]
[]
[]
[]
[]
[]
[]
[]
[]
[]
[]
[]
[]
[]
[]
[]
[]
[]
[]
[]
[]
[]
[]
[]
[]
[]
[]
[]
[]
[]
[]
[]
[]
[]
[]
[]
[]
[]
[]
[]
[]
[]
[]
[]
[]
[]
[]
[]
[]
[]
[]
[]
[]
[]
[]
[]
[]
[]
[]
[]
[]
[]
[]
[]
[]
[]
[]
[]
[]
[]
[]
[]
[]
[]
[]
[]
[]
[]
[]
[]
[]
[]
[]
[]
[]
[]
[]
[]
[]
[]
[]
[]
[]
[]
[]
[]
[]
[]
[]
[]
[]
[]
[]
[]
[]
[]
[]
[]
[]
[]
[]
[]
[]
[]
[]
[]
[]
[]
[]
[]
[]
[]
[]
[]
[]
[]
[]
[]
[]
[]
[]
[]
[]
[]
[]
[]
[]
[]
[]
[]
[]
[]
[]
[]
[]
[]
[]
[]
[]
[]
[]
[]
[]
[]
[]
[]
[]
[]
[]
[]
[]
[]
[]
[]
[]
[]
[]
[]
[]
[]
[]
[]
[]
[]
[]
[]
[]
[]
[]
[]
[]
[]
[]
[]
[]
[]
[]
[]
[]
[]
[]
[]
[]
[]
[]
[]
[]
[]
[]
[]
[]
[]
[]
[]
[]
[]
[]
[]
[]
[]
[]
[]
[]
[]
[]
[]
[]
[]
[]
[]
[]
[]
[]
[]
[]
[]
[]
[]
[]
[]
[]
[]
[]
[]
[]
[]
[]
[]
[]
[]
[]
[]
[]
[]
[]
[]
[]
[]
[]
[]
[]
[]
[]
[]
[]
[]
[]
[]
[]
[]
[]
[]
[]
[]
[]
[]
[]
[]
[]
[]
[]
[]
[]
[]
[]
[]
[]
[]
[]
[]
[]
[]
[]
[]
[]
[]
[]
[]
[]
[]
[]
[]
[]
[]
[]
[]
[]
[]
[]
[]
[]
[]
[]
[]
[]
[]
[]
[]
[]
[]
[]
[]
[]
[]
[]
[]
[]
[]
[]
[]
[]
[]
[]
[]
[]
[]
[]
[]
[]
[]
[]
[]
[]
[]
[]
[]
[]
[]
[]
[]
[]
[]
[]
[]
[]
[]
[]
[]
[]
[]
[]
[]
[]
[]
[]
[]
[]
[]
[]
[]
[]
[]
[]
[]
[]
[]
[]
[]
[]
[]
[]
[]
[]
[]
[]
[]
[]
[]
[]
[]
[]
[]
[]
[]
[]
[]
[]
[]
[]
[]
[]
[]
[]
[]
[]
[]
[]
[]
[]
[]
[]
[]
[]
[]
[]
[]
[]
[]
[]
[]
[]
[]
[]
[]
[]
[]
[]
[]
[]
[]
[]
[]
[]
[]
[]
[]
[]
[]
[]
[]
[]
[]
[]
[]
[]
[]
[]
[]
[]
[]
[]
[]
[]
[]
[]
[]
[]
[]
[]
[]
[]
[]
[]
[]
[]
[]
[]
[]
[]
[]
[]
[]
[]
[]
[]
[]
[]
[]
[]
[]
[]
[]
[]
[]
[]
[]
[]
[]
[]
[]
[]
[]
[]
[]
[]
[]
[]
[]
[]
[]
[]
[]
[]
[]
[]
[]
[]
[]
[]
[]
[]
[]
[]
[]
[]
[]
[]
[]
[]
[]
[]
[]
[]
[]
[]
[]
[]
[]
[]
[]
[]
[]
[]
[]
[]
[]
[]
[]
[]
[]
[]
[]
[]
[]
[]
[]
[]
[]
[]
[]
[]
[]
[]
[]
[]
[]
[]
[]
[]
[]
[]
[]
[]
[]
[]
[]
[]
[]
[]
[]
[]
[]
[]
[]
[]
[]
[]
[]
[]
[]
[]
[]
[]
[]
[]
[]
[]
[]
[]
[]
[]
[]
[]
[]
[]
[]
[]
[]
[]
[]
[]
[]
[]
[]
[]
[]
[]
[]
[]
[]
[]
[]
[]
[]
[]
[]
[]
[]
[]
[]
[]
[]
[]
[]
[]
[]
[]
[]
[]
[]
[]
[]
[]
[]
[]
[]
[]
[]
[]
[]
[]
[]
[]
[]
[]
[]
[]
[]
[]
[]
[]
[]
[]
[]
[]
[]
[]
[]
[]
[]
[]
[]
[]
[]
[]
[]
[]
[]
[]
[]
[]
[]
[]
[]
[]
[]
[]
[]
[]
[]
[]
[]
[]
[]
[]
[]
[]
[]
[]
[]
[]
[]
[]
[]
[]
[]
[]
[]
[]
[]
[]
[]
[]
[]
[]
[]
[]
[]
[]
[]
[]
[]
[]
[]
[]
[]
[]
[]
[]
[]
[]
[]
[]
[]
[]
[]
[]
[]
[]
[]
[]
[]
[]
[]
[]
[]
[]
[]
[]
[]
[]
[]
[]
[]
[]
[]
[]
[]
[]
[]
[]
[]
[]
[]
[]
[]
[]
[]
[]
[]
[]
[]
[]
[]
[]
[]
[]
[]
[]
[]
[]
[]
[]
[]
[]
[]
[]
[]
[]
[]
[]
[]
[]
[]
[]
[]
[]
[]
[]
[]
[]
[]
[]
[]
[]
[]
[]
[]
[]
[]
[]
[]
[]
[]
[]
[]
[]
[]
[]
[]
[]
[]
[]
[]
[]
[]
[]
[]
[]
[]
[]
[]
[]
[]
[]
[]
[]
[]
[]
[]
[]
[]
[]
[]
[]
[]
[]
[]
[]
[]
[]
[]
[]
[]
[]
[]
[]
[]
[]
[]
[]
[]
[]
[]
[]
[]
[]
[]
[]
[]
[]
[]
[]
[]
[]
[]
[]
[]
[]
[]
[]
[]
[]
[]
[]
[]
[]
[]
[]
[]
[]
[]
[]
[]
[]
[]
[]
[]
[]
[]
[]
[]
[]
[]
[]
[]
[]
[]
[]
[]
[]
[]
[]
[]
[]
[]
[]
[]
[]
[]
[]
[]
[]
[]
[]
[]
[]
[]
[]
[]
[]
[]
[]
[]
[]
[]
[]
[]
[]
[]
[]
[]
[]
[]
[]
[]
[]
[]
[]
[]
[]
[]
[]
[]
[]
[]
[]
[]
[]
[]
[]
[]
[]
[]
[]
[]
[]
[]
[]
[]
[]
[]
[]
[]
[]
[]
[]
[]
[]
[]
[]
[]
[]
[]
[]
[]
[]
[]
[]
[]
[]
[]
[]
[]
[]
[]
[]
[]
[]
[]
[]
[]
[]
[]
[]
[]
[]
[]
[]
[]
[]
[]
[]
[]
[]
[]
[]
[]
[]
[]
[]
[]
[]
[]
[]
[]
[]
[]
[]
[]
[]
[]
[]
[]
[]
[]
[]
[]
[]
[]
[]
[]
[]
[]
[]
[]
[]
[]
[]
[]
[]
[]
[]
[]
[]
[]
[]
[]
[]
[]
[]
[]
[]
[]
[]
[]
[]
[]
[]
[]
[]
[]
[]
[]
[]
[]
[]
[]
[]
[]
[]
[]
[]
[]
[]
[]
[]
[]
[]
[]
[]
[]
[]
[]
[]
[]
[]
[]
[]
[]
[]
[]
[]
[]
[]
[]
[]
[]
[]
[]
[]
[]
[]
[]
[]
[]
[]
[]
[]
[]
[]
[]
[]
[]
[]
[]
[]
[]
[]
[]
[]
[]
[]
[]
[]
[]
[]
[]
[]
[]
[]
[]
[]
[]
[]
[]
[]
[]
[]
[]
[]
[]
[]
[]
[]
[]
[]
[]
[]
[]
[]
[]
[]
[]
[]
[]
[]
[]
[]
[]
[]
[]
[]
[]
[]
[]
[]
[]
[]
[]
[]
[]
[]
[]
[]
[]
[]
[]
[]
[]
[]
[]
[]
[]
[]
[]
[]
[]
[]
[]
[]
[]
[]
[]
[]
[]
[]
[]
[]
[]
[]
[]
[]
[]
[]
[]
[]
[]
[]
[]
[]
[]
[]
[]
[]
[]
[]
[]
[]
[]
[]
[]
[]
[]
[]
[]
[]
[]
[]
[]
[]
[]
[]
[]
[]
[]
[]
[]
[]
[]
[]
[]
[]
[]
[]
[]
[]
[]
[]
[]
[]
[]
[]
[]
[]
[]
[]
[]
[]
[]
[]
[]
[]
[]
[]
[]
[]
[]
[]
[]
[]
[]
[]
[]
[]
[]
[]
[]
[]
[]
[]
[]
[]
[]
[]
[]
[]
[]
[]
[]
[]
[]
[]
[]
[]
[]
[]
[]
[]
[]
[]
[]
[]
[]
[]
[]
[]
[]
[]
[]
[]
[]
[]
[]
[]
[]
[]
[]
[]
[]
[]
[]
[]
[]
[]
[]
[]
[]
[]
[]
[]
[]
[]
[]
[]
[]
[]
[]
[]
[]
[]
[]
[]
[]
[]
[]
[]
[]
[]
[]
[]
[]
[]
[]
[]
[]
[]
[]
[]
[]
[]
[]
[]
[]
[]
[]
[]
[]
[]
[]
[]
[]
[]
[]
[]
[]
[]
[]
[]
[]
[]
[]
[]
[]
[]
[]
[]
[]
[]
[]
[]
[]
[]
[]
[]
[]
[]
[]
[]
[]
[]
[]
[]
[]
[]
[]
[]
[]
[]
[]
[]
[]
[]
[]
[]
[]
[]
[]
[]
[]
[]
[]
[]
[]
[]
[]
[]
[]
[]
[]
[]
[]
[]
[]
[]
[]
[]
[]
[]
[]
[]
[]
[]
[]
[]
[]
[]
[]
[]
[]
[]
[]
[]
[]
[]
[]
[]
[]
[]
[]
[]
[]
[]
[]
[]
[]
[]
[]
[]
[]
[]
[]
[]
[]
[]
[]
[]
[]
[]
[]
[]
[]
[]
[]
[]
[]
[]
[]
[]
[]
[]
[]
[]
[]
[]
[]
[]
[]
[]
[]
[]
[]
[]
[]
[]
[]
[]
[]
[]
[]
[]
[]
[]
[]
[]
[]
[]
[]
[]
[]
[]
[]
[]
[]
[]
[]
[]
[]
[]
[]
[]
[]
[]
[]
[]
[]
[]
[]
[]
[]
[]
[]
[]
[]
[]
[]
[]
[]
[]
[]
[]
[]
[]
[]
[]
[]
[]
[]
[]
[]
[]
[]
[]
[]
[]
[]
[]
[]
[]
[]
[]
[]
[]
[]
[]
[]
[]
[]
[]
[]
[]
[]
[]
[]
[]
[]
[]
[]
[]
[]
[]
[]
[]
[]
[]
[]
[]
[]
[]
[]
[]
[]
[]
[]
[]
[]
[]
[]
[]
[]
[]
[]
[]
[]
[]
[]
[]
[]
[]
[]
[]
[]
[]
[]
[]
[]
[]
[]
[]
[]
[]
[]
[]
[]
[]
[]
[]
[]
[]
[]
[]
[]
[]
[]
[]
[]
[]
[]
[]
[]
[]
[]
[]
[]
[]
[]
[]
[]
[]
[]
[]
[]
[]
[]
[]
[]
[]
[]
[]
[]
[]
[]
[]
[]
[]
[]
[]
[]
[]
[]
[]
[]
[]
[]
[]
[]
[]
[]
[]
[]
[]
[]
[]
[]
[]
[]
[]
[]
[]
[]
[]
[]
[]
[]
[]
[]
[]
[]
[]
[]
[]
[]
[]
[]
[]
[]
[]
[]
[]
[]
[]
[]
[]
[]
[]
[]
[]
[]
[]
[]
[]
[]
[]
[]
[]
[]
[]
[]
[]
[]
[]
[]
[]
[]
[]
[]
[]
[]
[]
[]
[]
[]
[]
[]
[]
[]
[]
[]
[]
[]
[]
[]
[]
[]
[]
[]
[]
[]
[]
[]
[]
[]
[]
[]
[]
[]
[]
[]
[]
[]
[]
[]
[]
[]
[]
[]
[]
[]
[]
[]
[]
[]
[]
[]
[]
[]
[]
[]
[]
[]
[]
[]
[]
[]
[]
[]
[]
[]
[]
[]
[]
[]
[]
[]
[]
[]
[]
[]
[]
[]
[]
[]
[]
[]
[]
[]
[]
[]
[]
[]
[]
[]
[]
[]
[]
[]
[]
[]
[]
[]
[]
[]
[]
[]
[]
[]
[]
[]
[]
[]
[]
[]
[]
[]
[]
[]
[]
[]
[]
[]
[]
[]
[]
[]
[]
[]
[]
[]
[]
[]
[]
[]
[]
[]
[]
[]
[]
[]
[]
[]
[]
[]
[]
[]
[]
[]
[]
[]
[]
[]
[]
[]
[]
[]
[]
[]
[]
[]
[]
[]
[]
[]
[]
[]
[]
[]
[]
[]
[]
[]
[]
[]
[]
[]
[]
[]
[]
[]
[]
[]
[]
[]
[]
[]
[]
[]
[]
[]
[]
[]
[]
[]
[]
[]
[]
[]
[]
[]
[]
[]
[]
[]
[]
[]
[]
[]
[]
[]
[]
[]
[]
[]
[]
[]
[]
[]
[]
[]
[]
[]
[]
[]
[]
[]
[]
[]
[]
[]
[]
[]
[]
[]
[]
[]
[]
[]
[]
[]
[]
[]
[]
[]
[]
[]
[]
[]
[]
[]
[]
[]
[]
[]
[]
[]
[]
[]
[]
[]
[]
[]
[]
[]
[]
[]
[]
[]
[]
[]
[]
[]
[]
[]
[]
[]
[]
[]
[]
[]
[]
[]
[]
[]
[]
[]
[]
[]
[]
[]
[]
[]
[]
[]
[]
[]
[]
[]
[]
[]
[]
[]
[]
[]
[]
[]
[]
[]
[]
[]
[]
[]
[]
[]
[]
[]
[]
[]
[]
[]
[]
[]
[]
[]
[]
[]
[]
[]
[]
[]
[]
[]
[]
[]
[]
[]
[]
[]
[]
[]
[]
[]
[]
[]
[]
[]
[]
[]
[]
[]
[]
[]
[]
[]
[]
[]
[]
[]
[]
[]
[]
[]
[]
[]
[]
[]
[]
[]
[]
[]
[]
[]
[]
[]
[]
[]
[]
[]
[]
[]
[]
[]
[]
[]
[]
[]
[]
[]
[]
[]
[]
[]
[]
[]
[]
[]
[]
[]
[]
[]
[]
[]
[]
[]
[]
[]
[]
[]
[]
[]
[]
[]
[]
[]
[]
[]
[]
[]
[]
[]
[]
[]
[]
[]
[]
[]
[]
[]
[]
[]
[]
[]
[]
[]
[]
[]
[]
[]
[]
[]
[]
[]
[]
[]
[]
[]
[]
[]
[]
[]
[]
[]
[]
[]
[]
[]
[]
[]
[]
[]
[]
[]
[]
[]
[]
[]
[]
[]
[]
[]
[]
[]
[]
[]
[]
[]
[]
[]
[]
[]
[]
[]
[]
[]
[]
[]
[]
[]
[]
[]
[]
[]
[]
[]
[]
[]
[]
[]
[]
[]
[]
[]
[]
[]
[]
[]
[]
[]
[]
[]
[]
[]
[]
[]
[]
[]
[]
[]
[]
[]
[]
[]
[]
[]
[]
[]
[]
[]
[]
[]
[]
[]
[]
[]
[]
[]
[]
[]
[]
[]
[]
[]
[]
[]
[]
[]
[]
[]
[]
[]
[]
[]
[]
[]
[]
[]
[]
[]
[]
[]
[]
[]
[]
[]
[]
[]
[]
[]
[]
[]
[]
[]
[]
[]
[]
[]
[]
[]
[]
[]
[]
[]
[]
[]
[]
[]
[]
[]
[]
[]
[]
[]
[]
[]
[]
[]
[]
[]
[]
[]
[]
[]
[]
[]
[]
[]
[]
[]
[]
[]
[]
[]
[]
[]
[]
[]
[]
[]
[]
[]
[]
[]
[]
[]
[]
[]
[]
[]
[]
[]
[]
[]
[]
[]
[]
[]
[]
[]
[]
[]
[]
[]
[]
[]
[]
[]
[]
[]
[]
[]
[]
[]
[]
[]
[]
[]
[]
[]
[]
[]
[]
[]
[]
[]
[]
[]
[]
[]
[]
[]
[]
[]
[]
[]
[]
[]
[]
[]
[]
[]
[]
[]
[]
[]
[]
[]
[]
[]
[]
[]
[]
[]
[]
[]
[]
[]
[]
[]
[]
[]
[]
[]
[]
[]
[]
[]
[]
[]
[]
[]
[]
[]
[]
[]
[]
[]
[]
[]
[]
[]
[]
[]
[]
[]
[]
[]
[]
[]
[]
[]
[]
[]
[]
[]
[]
[]
[]
[]
[]
[]
[]
[]
[]
[]
[]
[]
[]
[]
[]
[]
[]
[]
[]
[]
[]
[]
[]
[]
[]
[]
[]
[]
[]
[]
[]
[]
[]
[]
[]
[]
[]
[]
[]
[]
[]
[]
[]
[]
[]
[]
[]
[]
[]
[]
[]
[]
[]
[]
[]
[]
[]
[]
[]
[]
[]
[]
[]
[]
[]
[]
[]
[]
[]
[]
[]
[]
[]
[]
[]
[]
[]
[]
[]
[]
[]
[]
[]
[]
[]
[]
[]
[]
[]
[]
[]
[]
[]
[]
[]
[]
[]
[]
[]
[]
[]
[]
[]
[]
[]
[]
[]
[]
[]
[]
[]
[]
[]
[]
[]
[]
[]
[]
[]
[]
[]
[]
[]
[]
[]
[]
[]
[]
[]
[]
[]
[]
[]
[]
[]
[]
[]
[]
[]
[]
[]
[]
[]
[]
[]
[]
[]
[]
[]
[]
[]
[]
[]
[]
[]
[]
[]
[]
[]
[]
[]
[]
[]
[]
[]
[]
[]
[]
[]
[]
[]
[]
[]
[]
[]
[]
[]
[]
[]
[]
[]
[]
[]
[]
[]
[]
[]
[]
[]
[]
[]
[]
[]
[]
[]
[]
[]
[]
[]
[]
[]
[]
[]
[]
[]
[]
[]
[]
[]
[]
[]
[]
[]
[]
[]
[]
[]
[]
[]
[]
[]
[]
[]
[]
[]
[]
[]
[]
[]
[]
[]
[]
[]
[]
[]
[]
[]
[]
[]
[]
[]
[]
[]
[]
[]
[]
[]
[]
[]
[]
[]
[]
[]
[]
[]
[]
[]
[]
[]
[]
[]
[]
[]
[]
[]
[]
[]
[]
[]
[]
[]
[]
[]
[]
[]
[]
[]
[]
[]
[]
[]
[]
[]
[]
[]
[]
[]
[]
[]
[]
[]
[]
[]
[]
[]
[]
[]
[]
[]
[]
[]
[]
[]
[]
[]
[]
[]
[]
[]
[]
[]
[]
[]
[]
[]
[]
[]
[]
[]
[]
[]
[]
[]
[]
[]
[]
[]
[]
[]
[]
[]
[]
[]
[]
[]
[]
[]
[]
[]
[]
[]
[]
[]
[]
[]
[]
[]
[]
[]
[]
[]
[]
[]
[]
[]
[]
[]
[]
[]
[]
[]
[]
[]
[]
[]
[]
[]
[]
[]
[]
[]
[]
[]
[]
[]
[]
[]
[]
[]
[]
[]
[]
[]
[]
[]
[]
[]
[]
[]
[]
[]
[]
[]
[]
[]
[]
[]
[]
[]
[]
[]
[]
[]
[]
[]
[]
[]
[]
[]
[]
[]
[]
[]
[]
[]
[]
[]
[]
[]
[]
[]
[]
[]
[]
[]
[]
[]
[]
[]
[]
[]
[]
[]
[]
[]
[]
[]
[]
[]
[]
[]
[]
[]
[]
[]
[]
[]
[]
[]
[]
[]
[]
[]
[]
[]
[]
[]
[]
[]
[]
[]
[]
[]
[]
[]
[]
[]
[]
[]
[]
[]
[]
[]
[]
[]
[]
[]
[]
[]
[]
[]
[]
[]
[]
[]
[]
[]
[]
[]
[]
[]
[]
[]
[]
[]
[]
[]
[]
[]
[]
[]
[]
[]
[]
[]
[]
[]
[]
[]
[]
[]
[]
[]
[]
[]
[]
[]
[]
[]
[]
[]
[]
[]
[]
[]
[]
[]
[]
[]
[]
[]
[]
[]
[]
[]
[]
[]
[]
[]
[]
[]
[]
[]
[]
[]
[]
[]
[]
[]
[]
[]
[]
[]
[]
[]
[]
[]
[]
[]
[]
[]
[]
[]
[]
[]
[]
[]
[]
[]
[]
[]
[]
[]
[]
[]
[]
[]
[]
[]
[]
[]
[]
[]
[]
[]
[]
[]
[]
[]
[]
[]
[]
[]
[]
[]
[]
[]
[]
[]
[]
[]
[]
[]
[]
[]
[]
[]
[]
[]
[]
[]
[]
[]
[]
[]
[]
[]
[]
[]
[]
[]
[]
[]
[]
[]
[]
[]
[]
[]
[]
[]
[]
[]
[]
[]
[]
[]
[]
[]
[]
[]
[]
[]
[]
[]
[]
[]
[]
[]
[]
[]
[]
[]
[]
[]
[]
[]
[]
[]
[]
[]
[]
[]
[]
[]
[]
[]
[]
[]
[]
[]
[]
[]
[]
[]
[]
[]
[]
[]
[]
[]
[]
[]
[]
[]
[]
[]
[]
[]
[]
[]
[]
[]
[]
[]
[]
[]
[]
[]
[]
[]
[]
[]
[]
[]
[]
[]
[]
[]
[]
[]
[]
[]
[]
[]
[]
[]
[]
[]
[]
[]
[]
[]
[]
[]
[]
[]
[]
[]
[]
[]
[]
[]
[]
[]
[]
[]
[]
[]
[]
[]
[]
[]
[]
[]
[]
[null,null,null,null,null,null,null,null,null,null,null,null,null,null,null,null,null,null,null,null,null,null,null,null,null,null,null,null,null,null,null,null,null,null,null,null,null,null,null,null,null,null,null,null,null,null,null,null,null,null,null,null,null,null,null,null,null,null,null,null,null,null,null,null,null,null,null,null,null,null,null,null,null,null,null,null,null,null,null,null,null,null,null,null,null,null,null,null,null,null,null,null,null,null,null,null,null,null,null,null,null,null,null,null,null,null,null,null,null,null,null,null,null,null,null,null,null,null,null,null,null,null,null,null,null,null,null,null,null,null,null,null,null,null,null,null,null,null,null,null,null,null,null,null,null,null,null,null,null,null,null,null,null,null,null,null,null,null,null,null,null,null,null,null,null,null,null,null,null,null,null,null,null,null,null,null,null,null,null,null,null,null,null,null,null,null,null,null,null,null,null,null,null,null,null,null,null,null,null,null,null,null,null,null,null,null,null,null,null,null,null,null,null,null,null,null,null,null,null,null,null,null,null,null,null,null,null,null,null,null,null,null,null,null,null,null,null,null,null,null,null,null,null,null,null,null,null,null,null,null,null,null,null,null,null,null,null,null,null,null,null,null,null,null,null,null,null,null,null,null,null,null,null,null,null,null,null,null,null,null,null,null,null,null,null,null,null,null,null,null,null,null,null,null,null,null,null,null,null,null,null,null,null,null,null,null,null,null,null,null,null,null,null,null,null,null,null,null,null,null,null,null,null,null,null,null,null,null,null,null,null,null,null,null,null,null,null,null,null,null,null,null,null,null,null,null,null,null,null,null,null,null,null,null,null,null,null,null,null,null,null,null,null,null,null,null,null,null,null,null,null,null,null,null,null,null,null,null,null,null,null,null,null,null,null,null,null,null,null,null,null,null,null,null,null,null,null,null,null,null,null,null,null,null,null,null,null,null,null,null,null,null,null,null,null,null,null,null,null,null,null,null,null,null,null,null,null,null,null,null,null,null,null,null,null,null,null,null,null,null,null,null,null,null,null,null,null,null,null,null,null,null,null,null,null,null,null,null,null,null,null,null,null,null,null,null,null,null,null,null,null,null,null,null,null,null,null,null,null,null,null,null,null,null,null,null,null,null,null,null,null,null,null,null,null,null,null,null,null,null,null,null,null,null,null,null,null,null,null,null,null,null,null,null,null,null,null,null,null,null,null,null,null,null,null,null,null,null,null,null,null,null,null,null,null,null,null,null,null,null,null,null,null,null,null,null,null,null,null,null,null,null,null,null,null,null,null,null,null,null,null,null,null,null,null,null,null,null,null,null,null,null,null,null,null,null,null,null,null,null,null,null,null,null,null,null,null,null,null,null,null,null,null,null,null,null,null,null,null,null,null,null,null,null,null,null,null,null,null,null,null,null,null,null,null,null,null,null,null,null,null,null,null,null,null,null,null,null,null,null,null,null,null,null,null,null,null,null,null,null,null,null,null,null,null,null,null,null,null,null,null,null,null,null,null,null,null,null,null,null,null,null,null,null,null,null,null,null,null,null,null,null,null,null,null,null,null,null,null,null,null,null,null,null,null,null,null,null,null,null,null,null,null,null,null,null,null,null,null,null,null,null,null,null,null,null,null,null,null,null,null,null,null,null,null,null,null,null,null,null,null,null,null,null,null,null,null,null,null,null,null,null,null,null,null,null,null,null,null,null,null,null,null,null,null,null,null,null,null,null,null,null,null,null,null,null,null,null,null,null,null,null,null,null,null,null,null,null,null,null,null,null,null,null,null,null,null,null,null,null,null,null,null,null,null,null,null,null,null,null,null,null,null,null,null,null,null,null,null,null,null,null,null,null,null,null,null,null,null,null,null,null,null,null,null,null,null,null,null,null,null,null,null,null,null,null,null,null,null,null,null,null,null,null,null,null,null,null,null,null,null,null,null,null,null,null,null,null,null,null,null,null,null,null,null,null,null,null,null,null,null,null,null,null,null,null,null,null,null,null,null,null,null,null,null,null,null,null,null,null,null,null,null,null,null,null,null,null,null,null,null,null,null,null,null,null,null,null,null,null,null,null,null,null,null,null,null,null,null,null,null,null,null,null,null,null,null,null,null,null,null,null,null,null,null,null,null,null,null,null,null,null,null,null,null,null,null,null,null,null,null,null,null,null,null,null,null,null,null,null,null,null,null,null,null,null,null,null,null,null,null,null,null,null,null,null,null,null,null,null,null,null,null,null,null,null,null,null,null,null,null,null,null,null,null,null,null,null,null,null,null,null,null,null,null,null,null,null,null,null,null,null,null,null,null,null,null,null,null,null,null,null,null,null,null,null,null,null,null,null,null,null,null,null,null,null,null,null,null,null,null,null,null,null,null,null,null,null,null,null,null,null,null,null,null,null,null,null,null,null,null,null,null,null,null,null,null,null,null,null,null,null,null,null,null,null,null,null,null,null,null,null,null,null,null,null,null,null,null,null,null,null,null,null,null,null,null,null,null,null,null,null,null,null,null,null,null,null,null,null,null,null,null,null,null,null,null,null,null,null,null,null,null,null,null,null,null,null,null,null,null,null,null,null,null,null,null,null,null,null,null,null,null,null,null,null,null,null,null,null,null,null,null,null,null,null,null,null,null,null,null,null,null,null,null,null,null,null,null,null,null,null,null,null,null,null,null,null,null,null,null,null,null,null,null,null,null,null,null,null,null,null,null,null,null,null,null,null,null,null,null,null,null,null,null,null,null,null,null,null,null,null,null,null,null,null,null,null,null,null,null,null,null,null,null,null,null,null,null,null,null,null,null,null,null,null,null,null,null,null,null,null,null,null,null,null,null,null,null,null,null,null,null,null,null,null,null,null,null,null,null,null,null,null,null,null,null,null,null,null,null,null,null,null,null,null,null,null,null,null,null,null,null,null,null,null,null,null,null,null,null,null,null,null,null,null,null,null,null,null,null,null,null,null,null,null,null,null,null,null,null,null,null,null,null,null,null,null,null,null,null,null,null,null,null,null,null,null,null,null,null,null,null,null,null,null,null,null,null,null,null,null,null,null,null,null,null,null,null,null,null,null,null,null,null,null,null,null,null,null,null,null,null,null,null,null,null,null,null,null,null,null,null,null,null,null,null,null,null,null,null,null,null,null,null,null,null,null,null,null,null,null,null,null,null,null,null,null,null,null,null,null,null,null,null,null,null,null,null,null,null,null,null,null,null,null,null,null,null,null,null,null,null,null,null,null,null,null,null,null,null,null,null,null,null,null,null,null,null,null,null,null,null,null,null,null,null,null,null,null,null,null,null,null,null,null,null,null,null,null,null,null,null,null,null,null,null,null,null,null,null,null,null,null,null,null,null,null,null,null,null,null,null,null,null,null,null,null,null,null,null,null,null,null,null,null,null,null,null,null,null,null,null,null,null,null,null,null,null,null,null,null,null,null,null,null,null,null,null,null,null,null,null,null,null,null,null,null,null,null,null,null,null,null,null,null,null,null,null,null,null,null,null,null,null,null,null,null,null,null,null,null,null,null,null,null,null,null,null,null,null,null,null,null,null,null,null,null,null,null,null,null,null,null,null,null,null,null,null,null,null,null,null,null,null,null,null,null,null,null,null,null,null,null,null,null,null,null,null,null,null,null,null,null,null,null,null,null,null,null,null,null,null,null,null,null,null,null,null,null,null,null,null,null,null,null,null,null,null,null,null,null,null,null,null,null,null,null,null,null,null,null,null,null,null,null,null,null,null,null,null,null,null,null,null,null,null,null,null,null,null,null,null,null,null,null,null,null,null,null,null,null,null,null,null,null,null,null,null,null,null,null,null,null,null,null,null,null,null,null,null,null,null,null,null,null,null,null,null,null,null,null,null,null,null,null,null,null,null,null,null,null,null,null,null,null,null,null,null,null,null,null,null,null,null,null,null,null,null,null,null,null,null,null,null,null,null,null,null,null,null,null,null,null,null,null,null,null,null,null,null,null,null,null,null,null,null,null,null,null,null,null,null,null,null,null,null,null,null,null,null,null,null,null,null,null,null,null,null,null,null,null,null,null,null,null,null,null,null,null,null,null,null,null,null,null,null,null,null,null,null,null,null,null,null,null,null,null,null,null,null,null,null,null,null,null,null,null,null,null,null,null,null,null,null,null,null,null,null,null,null,null,null,null,null,null,null,null,null,null,null,null,null,null,null,null,null,null,null,null,null,null,null,null,null,null,null,null,null,null,null,null,null,null,null,null,null,null,null,null,null,null,null,null,null,null,null,null,null,null,null,null,null,null,null,null,null,null,null,null,null,null,null,null,null,null,null,null,null,null,null,null,null,null,null,null,null,null,null,null,null,null,null,null,null,null,null,null,null,null,null,null,null,null,null,null,null,null,null,null,null,null,null,null,null,null,null,null,null,null,null,null,null,null,null,null,null,null,null,null,null,null,null,null,null,null,null,null,null,null,null,null,null,null,null,null,null,null,null,null,null,null,null,null,null,null,null,null,null,null,null,null,null,null,null,null,null,null,null,null,null,null,null,null,null,null,null,null,null,null,null,null,null,null,null,null,null,null,null,null,null,null,null,null,null,null,null,null,null,null,null,null,null,null,null,null,null,null,null,null,null,null,null,null,null,null,null,null,null,null,null,null,null,null,null,null,null,null,null,null,null,null,null,null,null,null,null,null,null,null,null,null,null,null,null,null,null,null,null,null,null,null,null,null,null,null,null,null,null,null,null,null,null,null,null,null,null,null,null,null,null,null,null,null,null,null,null,null,null,null,null,null,null,null,null,null,null,null,null,null,null,null,null,null,null,null,null,null,null,null,null,null,null,null,null,null,null,null,null,null,null,null,null,null,null,null,null,null,null,null,null,null,null,null,null,null,null,null,null,null,null,null,null,null,null,null,null,null,null,null,null,null,null,null,null,null,null,null,null,null,null,null,null,null,null,null,null,null,null,null,null,null,null,null,null,null,null,null,null,null,null,null,null,null,null,null,null,null,null,null,null,null,null,null,null,null,null,null,null,null,null,null,null,null,null,null,null,null,null,null,null,null,null,null,null,null,null,null,null,null,null,null,null,null,null,null,null,null,null,null,null,null,null,null,null,null,null,null,null,null,null,null,null,null,null,null,null,null,null,null,null,null,null,null,null,null,null,null,null,null,null,null,null,null,null,null,null,null,null,null,null,null,null,null,null,null,null,null,null,null,null,null,null,null,null,null,null,null,null,null,null,null,null,null,null,null,null,null,null,null,null,null,null,null,null,null,null,null,null,null,null,null,null,null,null,null,null,null,null,null,null,null,null,null,null,null,null,null,null,null,null,null,null,null,null,null,null,null,null,null,null,null,null,null,null,null,null,null,null,null,null,null,null,null,null,null,null,null,null,null,null,null,null,null,null,null,null,null,null,null,null,null,null,null,null,null,null,null,null,null,null,null,null,null,null,null,null,null,null,null,null,null,null,null,null,null,null,null,null,null,null,null,null,null,null,null,null,null,null,null,null,null,null,null,null,null,null,null,null,null,null,null,null,null,null,null,null,null,null,null,null,null,null,null,null,null,null,null,null,null,null,null,null,null,null,null,null,null,null,null,null,null,null,null,null,null,null,null,null,null,null,null,null,null,null,null,null,null,null,null,null,null,null,null,null,null,null,null,null,null,null,null,null,null,null,null,null,null,null,null,null,null,null,null,null,null,null,null,null,null,null,null,null,null,null,null,null,null,null,null,null,null,null,null,null,null,null,null,null,null,null,null,null,null,null,null,null,null,null,null,null,null,null,null,null,null,null,null,null,null,null,null,null,null,null,null,null,null,null,null,null,null,null,null,null,null,null,null,null,null,null,null,null,null,null,null,null,null,null,null,null,null,null,null,null,null,null,null,null,null,null,null,null,null,null,null,null,null,null,null,null,null,null,null,null,null,null,null,null,null,null,null,null,null,null,null,null,null,null,null,null,null,null,null,null,null,null,null,null,null,null,null,null,null,null,null,null,null,null,null,null,null,null,null,null,null,null,null,null,null,null,null,null,null,null,null,null,null,null,null,null,null,null,null,null,null,null,null,null,null,null,null,null,null,null,null,null,null,null,null,null,null,null,null,null,null,null,null,null,null,null,null,null,null,null,null,null,null,null,null,null,null,null,null,null,null,null,null,null,null,null,null,null,null,null,null,null,null,null,null,null,null,null,null,null,null,null,null,null,null,null,null,null,null,null,null,null,null,null,null,null,null,null,null,null,null,null,null,null,null,null,null,null,null,null,null,null,null,null,null,null,null,null,null,null,null,null,null,null,null,null,null,null,null,null,null,null,null,null,null,null,null,null,null,null,null,null,null,null,null,null,null,null,null,null,null,null,null,null,null,null,null,null,null,null,null,null,null,null,null,null,null,null,null,null,null,null,null,null,null,null,null,null,null,null,null,null,null,null,null,null,null,null,null,null,null,null,null,null,null,null,null,null,null,null,null,null,null,null,null,null,null,null,null,null,null,null,null,null,null,null,null,null,null,null,null,null,null,null,null,null,null,null,null,null,null,null,null,null,null,null,null,null,null,null,null,null,null,null,null,null,null,null,null,null,null,null,null,null,null,null,null,null,null,null,null,null,null,null,null,null,null,null,null,null,null,null,null,null,null,null,null,null,null,null,null,null,null,null,null,null,null,null,null,null,null,null,null,null,null,null,null,null,null,null,null,null,null,null,null,null,null,null,null,null,null,null,null,null,null,null,null,null,null,null,null,null,null,null,null,null,null,null,null,null,null,null,null,null,null,null,null,null,null,null,null,null,null,null,null,null,null,null,null,null,null,null,null,null,null,null,null,null,null,null,null,null,null,null,null,null,null,null,null,null,null,null,null,null,null,null,null,null,null,null,null,null,null,null,null,null,null,null,null,null,null,null,null,null,null,null,null,null,null,null,null,null,null,null,null,null,null,null,null,null,null,null,null,null,null,null,null,null,null,null,null,null,null,null,null,null,null,null,null,null,null,null,null,null,null,null,null,null,null,null,null,null,null,null,null,null,null,null,null,null,null,null,null,null,null,null,null,null,null,null,null,null,null,null,null,null,null,null,null,null,null,null,null,null,null,null,null,null,null,null,null,null,null,null,null,null,null,null,null,null,null,null,null,null,null,null,null,null,null,null,null,null,null,null,null,null,null,null,null,null,null,null,null,null,null,null,null,null,null,null,null,null,null,null,null,null,null,null,null,null,null,null,null,null,null,null,null,null,null,null,null,null,null,null,null,null,null,null,null,null,null,null,null,null,null,null,null,null,null,null,null,null,null,null,null,null,null,null,null,null,null,null,null,null,null,null,null,null,null,null,null,null,null,null,null,null,null,null,null,null,null,null,null,null,null,null,null,null,null,null,null,null,null,null,null,null,null,null,null,null,null,null,null,null,null,null,null,null,null,null,null,null,null,null,null,null,null,null,null,null,null,null,null,null,null,null,null,null,null,null,null,null,null,null,null,null,null,null,null,null,null,null,null,null,null,null,null,null,null,null,null,null,null,null,null,null,null,null,null,null,null,null,null,null,null,null,null,null,null,null,null,null,null,null,null,null,null,null,null,null,null,null,null,null,null,null,null,null,null,null,null,null,null,null,null,null,null,null,null,null,null,null,null,null,null,null,null,null,null,null,null,null,null,null,null,null,null,null,null,null,null,null,null,null,null,null,null,null,null,null,null,null,null,null,null,null,null,null,null,null,null,null,null,null,null,null,null,null,null,null,null,null,null,null,null,null,null,null,null,null,null,null,null,null,null,null,null,null,null,null,null,null,null,null,null,null,null,null,null,null,null,null,null,null,null,null,null,null,null,null,null,null,null,null,null,null,null,null,null,null,null,null,null,null,null,null,null,null,null,null,null,null,null,null,null,null,null,null,null,null,null,null,null,null,null,null,null,null,null,null,null,null,null,null,null,null,null,null,null,null,null,null,null,null,null,null,null,null,null,null,null,null,null,null,null,null,null,null,null,null,null,null,null,null,null,null,null,null,null,null,null,null,null,null,null,null,null,null,null,null,null,null,null,null,null,null,null,null,null,null,null,null,null,null,null,null,null,null,null,null,null,null,null,null,null,null,null,null,null,null,null,null,null,null,null,null,null,null,null,null,null,null,null,null,null,null,null,null,null,null,null,null,null,null,null,null,null,null,null,null,null,null,null,null,null,null,null,null,null,null,null,null,null,null,null,null,null,null,null,null,null,null,null,null,null,null,null,null,null,null,null,null,null,null,null,null,null,null,null,null,null,null,null,null,null,null,null,null,null,null,null,null,null,null,null,null,null,null,null,null,null,null,null,null,null,null,null,null,null,null,null,null,null,null,null,null,null,null,null,null,null,null,null,null,null,null,null,null,null,null,null,null,null,null,null,null,null,null,null,null,null,null,null,null,null,null,null,null,null,null,null,null,null,null,null,null,null,null,null,null,null,null,null,null,null,null,null,null,null,null,null,null,null,null,null,null,null,null,null,null,null,null,null,null,null,null,null,null,null,null,null,null,null,null,null,null,null,null,null,null,null,null,null,null,null,null,null,null,null,null,null,null,null,null,null,null,null,null,null,null,null,null,null,null,null,null,null,null,null,null,null,null,null,null,null,null,null,null,null,null,null,null,null,null,null,null,null,null,null,null,null,null,null,null,null,null,null,null,null,null,null,null,null,null,null,null,null,null,null,null,null,null,null,null,null,null,null,null,null,null,null,null,null,null,null,null,null,null,null,null,null,null,null,null,null,null,null,null,null,null,null,null,null,null,null,null,null,null,null,null,null,null,null,null,null,null,null,null,null,null,null,null,null,null,null,null,null,null,null,null,null,null,null,null,null,null,null,null,null,null,null,null,null,null,null,null,null,null,null,null,null,null,null,null,null,null,null,null,null,null,null,null,null,null,null,null,null,null,null,null,null,null,null,null,null,null,null,null,null,null,null,null,null,null,null,null,null,null,null,null,null,null,null,null,null,null,null,null,null,null,null,null,null,null,null,null,null,null,null,null,null,null,null,null,null,null,null,null,null,null,null,null,null,null,null,null,null,null,null,null,null,null,null,null,null,null,null,null,null,null,null,null,null,null,null,null,null,null,null,null,null,null,null,null,null,null,null,null,null,null,null,null,null,null,null,null,null,null,null,null,null,null,null,null,null,null,null,null,null,null,null,null,null,null,null,null,null,null,null,null,null,null,null,null,null,null,null,null,null,null,null,null,null,null,null,null,null,null,null,null,null,null,null,null,null,null,null,null,null,null,null,null,null,null,null,null,null,null,null,null,null,null,null,null,null,null,null,null,null,null,null,null,null,null,null,null,null,null,null,null,null,null,null,null,null,null,null,null,null,null,null,null,null,null,null,null,null,null,null,null,null,null,null,null,null,null,null,null,null,null,null,null,null,null,null,null,null,null,null,null,null,null,null,null,null,null,null,null,null,null,null,null,null,null,null,null,null,null,null,null,null,null,null,null,null,null,null,null,null,null,null,null,null,null,null,null,null,null,null,null,null,null,null,null,null,null,null,null,null,null,null,null,null,null,null,null,null,null,null,null,null,null,null,null,null,null,null,null,null,null,null,null,null,null,null,null,null,null,null,null,null,null,null,null,null,null,null,null,null,null,null,null,null,null,null,null,null,null,null,null,null,null,null,null,null,null,null,null,null,null,null,null,null,null,null,null,null,null,null,null,null,null,null,null,null,null,null,null,null,null,null,null,null,null,null,null,null,null,null,null,null,null,null,null,null,null,null,null,null,null,null,null,null,null,null,null,null,null,null,null,null,null,null,null,null,null,null,null,null,null,null,null,null,null,null,null,null,null,null,null,null,null,null,null,null,null,null,null,null,null,null,null,null,null,null,null,null,null,null,null,null,null,null,null,null,null,null,null,null,null,null,null,null,null,null,null,null,null,null,null,null,null,null,null,null,null,null,null,null,null,null,null,null,null,null,null,null,null,null,null,null,null,null,null,null,null,null,null,null,null,null,null,null,null,null,null,null,null,null,null,null,null,null,null,null,null,null,null,null,null,null,null,null,null,null,null,null,null,null,null,null,null,null,null,null,null,null,null,null,null,null,null,null,null,null,null,null,null,null,null,null,null,null,null,null,null,null,null,null,null,null,null,null,null,null,null,null,null,null,null,null,null,null,null,null,null,null,null,null,null,null,null,null,null,null,null,null,null,null,null,null,null,null,null,null,null,null,null,null,null,null,null,null,null,null,null,null,null,null,null,null,null,null,null,null,null,null,null,null,null,null,null,null,null,null,null,null,null,null,null,null,null,null,null,null,null,null,null,null,null,null,null,null,null,null,null,null,null,null,null,null,null,null,null,null,null,null,null,null,null,null,null,null,null,null,null,null,null,null,null,null,null,null,null,null,null,null,null,null,null,null,null,null,null,null,null,null,null,null,null,null,null,null,null,null,null,null,null,null,null,null,null,null,null,null,null,null,null,null,null,null,null,null,null,null,null,null,null,null,null,null,null,null,null,null,null,null,null,null,null,null,null,null,null,null,null,null,null,null,null,null,null,null,null,null,null,null,null,null,null,null,null,null,null,null,null,null,null,null,null,null,null,null,null,null,null,null,null,null,null,null,null,null,null,null,null,null,null,null,null,null,null,null,null,null,null,null,null,null,null,null,null,null,null,null,null,null,null,null,null,null,null,null,null,null,null,null,null,null,null,null,null,null,null,null,null,null,null,null,null,null,null,null,null,null,null,null,null,null,null,null,null,null,null,null,null,null,null,null,null,null,null,null,null,null,null,null,null,null,null,null,null,null,null,null,null,null,null,null,null,null,null,null,null,null,null,null,null,null,null,null,null,null,null,null,null,null,null,null,null,null,null,null,null,null,null,null,null,null,null,null,null,null,null,null,null,null,null,null,null,null,null,null,null,null,null,null,null,null,null,null,null,null,null,null,null,null,null,null,null,null,null,null,null,null,null,null,null,null,null,null,null,null,null,null,null,null,null,null,null,null,null,null,null,null,null,null,null,null,null,null,null,null,null,null,null,null,null,null,null,null,null,null,null,null,null,null,null,null,null,null,null,null,null,null,null,null,null,null,null,null,null,null,null,null,null,null,null,null,null,null,null,null,null,null,null,null,null,null,null,null,null,null,null,null,null,null,null,null,null,null,null,null,null,null,null,null,null,null,null,null,null,null,null,null,null,null,null,null,null,null,null,null,null,null,null,null,null,null,null,null,null,null,null,null,null,null,null,null,null,null,null,null,null,null,null,null,null,null,null,null,null,null,null,null,null,null,null,null,null,null,null,null,null,null,null,null,null,null,null,null,null,null,null,null,null,null,null,null,null,null,null,null,null,null,null,null,null,null,null,null,null,null,null,null,null,null,null,null,null,null,null,null,null,null,null,null,null,null,null,null,null,null,null,null,null,null,null,null,null,null,null,null,null,null,null,null,null,null,null,null,null,null,null,null,null,null,null,null,null,null,null,null,null,null,null,null,null,null,null,null,null,null,null,null,null,null,null,null,null,null,null,null,null,null,null,null,null,null,null,null,null,null,null,null,null,null,null,null,null,null,null,null,null,null,null,null,null,null,null,null,null,null,null,null,null,null,null,null,null,null,null,null,null,null,null,null,null,null,null,null,null,null,null,null,null,null,null,null,null,null,null,null,null,null,null,null,null,null,null,null,null,null,null,null,null,null,null,null,null,null,null,null,null,null,null,null,null,null,null,null,null,null,null,null,null,null,null,null,null,null,null,null,null,null,null,null,null,null,null,null,null,null,null,null,null,null,null,null,null,null,null,null,null,null,null,null,null,null,null,null,null,null,null,null,null,null,null,null,null,null,null,null,null,null,null,null,null,null,null,null,null,null,null,null,null,null,null,null,null,null,null,null,null,null,null,null,null,null,null,null,null,null,null,null,null,null,null,null,null,null,null,null,null,null,null,null,null,null,null,null,null,null,null,null,null,null,null,null,null,null,null,null,null,null,null,null,null,null,null,null,null,null,null,null,null,null,null,null,null,null,null,null,null,null,null,null,null,null,null,null,null,null,null,null,null,null,null,null,null,null,null,null,null,null,null,null,null,null,null,null,null,null,null,null,null,null,null,null,null,null,null,null,null,null,null,null,null,null,null,null,null,null,null,null,null,null,null,null,null,null,null,null,null,null,null,null,null,null,null,null,null,null,null,null,null,null,null,null,null,null,null,null,null,null,null,null,null,null,null,null,null,null,null,null,null,null,null,null,null,null,null,null,null,null,null,null,null,null,null,null,null,null,null,null,null,null,null,null,null,null,null,null,null,null,null,null,null,null,null,null,null,null,null,null,null,null,null,null,null,null,null,null,null,null,null,null,null,null,null,null,null,null,null,null,null,null,null,null,null,null,null,null,null,null,null,null,null,null,null,null,null,null,null,null,null,null,null,null,null,null,null,null,null,null,null,null,null,null,null,null,null,null,null,null,null,null,null,null,null,null,null,null,null,null,null,null,null,null,null,null,null,null,null,null,null,null,null,null,null,null,null,null,null,null,null,null,null,null,null,null,null,null,null,null,null,null,null,null,null,null,null,null,null,null,null,null,null,null,null,null,null,null,null,null,null,null,null,null,null,null,null,null,null,null,null,null,null,null,null,null,null,null,null,null,null,null,null,null,null,null,null,null,null,null,null,null,null,null,null,null,null,null,null,null,null,null,null,null,null,null,null,null,null,null,null,null,null,null,null,null,null,null,null,null,null,null,null,null,null,null,null,null,null,null,null,null,null,null,null,null,null,null,null,null,null,null,null,null,null,null,null,null,null,null,null,null,null,null,null,null,null,null,null,null,null,null,null,null,null,null,null,null,null,null,null,null,null,null,null,null,null,null,null,null,null,null,null,null,null,null,null,null,null,null,null,null,null,null,null,null,null,null,null,null,null,null,null,null,null,null,null,null,null,null,null,null,null,null,null,null,null,null,null,null,null,null,null,null,null,null,null,null,null,null,null,null,null,null,null,null,null,null,null,null,null,null,null,null,null,null,null,null,null,null,null,null,null,null,null,null,null,null,null,null,null,null,null,null,null,null,null,null,null,null,null,null,null,null,null,null,null,null,null,null,null,null,null,null,null,null,null,null,null,null,null,null,null,null,null,null,null,null,null,null,null,null,null,null,null,null,null,null,null,null,null,null,null,null,null,null,null,null,null,null,null,null,null,null,null,null,null,null,null,null,null,null,null,null,null,null,null,null,null,null,null,null,null,null,null,null,null,null,null,null,null,null,null,null,null,null,null,null,null,null,null,null,null,null,null,null,null,null,null,null,null,null,null,null,null,null,null,null,null,null,null,null,null,null,null,null,null,null,null,null,null,null,null,null,null,null,null,null,null,null,null,null,null,null,null,null,null,null,null,null,null,null,null,null,null,null,null,null,null,null,null,null,null,null,null,null,null,null,null,null,null,null,null,null,null,null,null,null,null,null,null,null,null,null,null,null,null,null,null,null,null,null,null,null,null,null,null,null,null,null,null,null,null,null,null,null,null,null,null,null,null,null,null,null,null,null,null,null,null,null,null,null,null,null,null,null,null,null,null,null,null,null,null,null,null,null,null,null,null,null,null,null,null,null,null,null,null,null,null,null,null,null,null,null,null,null,null,null,null,null,null,null,null,null,null,null,null,null,null,null,null,null,null,null,null,null,null,null,null,null,null,null,null,null,null,null,null,null,null,null,null,null,null,null,null,null,null,null,null,null,null,null,null,null,null,null,null,null,null,null,null,null,null,null,null,null,null,null,null,null,null,null,null,null,null,null,null,null,null,null,null,null,null,null,null,null,null,null,null,null,null,null,null,null,null,null,null,null,null,null,null,null,null,null,null,null,null,null,null,null,null,null,null,null,null,null,null,null,null,null,null,null,null,null,null,null,null,null,null,null,null,null,null,null,null,null,null,null,null,null,null,null,null,null,null,null,null,null,null,null,null,null,null,null,null,null,null,null,null,null,null,null,null,null,null,null,null,null,null,null,null,null,null,null,null,null,null,null,null,null,null,null,null,null,null,null,null,null,null,null,null,null,null,null,null,null,null,null,null,null,null,null,null,null,null,null,null,null,null,null,null,null,null,null,null,null,null,null,null,null,null,null,null,null,null,null,null,null,null,null,null,null,null,null,null,null,null,null,null,null,null,null,null,null,null,null,null,null,null,null,null,null,null,null,null,null,null,null,null,null,null,null,null,null,null,null,null,null,null,null,null,null,null,null,null,null,null,null,null,null,null,null,null,null,null,null,null,null,null,null,null,null,null,null,null,null,null,null,null,null,null,null,null,null,null,null,null,null,null,null,null,null,null,null,null,null,null,null,null,null,null,null,null,null,null,null,null,null,null,null,null,null,null,null,null,null,null,null,null,null,null,null,null,null,null,null,null,null,null,null,null,null,null,null,null,null,null,null,null,null,null,null,null,null,null,null,null,null,null,null,null,null,null,null,null,null,null,null,null,null,null,null,null,null,null,null,null,null,null,null,null,null,null,null,null,null,null,null,null,null,null,null,null,null,null,null,null,null,null,null,null,null,null,null,null,null,null,null,null,null,null,null,null,null,null,null,null,null,null,null,null,null,null,null,null,null,null,null,null,null,null,null,null,null,null,null,null,null,null,null,null,null,null,null,null,null,null,null,null,null,null,null,null,null,null,null,null,null,null,null,null,null,null,null,null,null,null,null,null,null,null,null,null,null,null,null,null,null,null,null,null,null,null,null,null,null,null,null,null,null,null,null,null,null,null,null,null,null,null,null,null,null,null,null,null,null,null,null,null,null,null,null,null,null,null,null,null,null,null,null,null,null,null,null,null,null,null,null,null,null,null,null,null,null,null,null,null,null,null,null,null,null,null,null,null,null,null,null,null,null,null,null,null,null,null,null,null,null,null,null,null,null,null,null,null,null,null,null,null,null,null,null,null,null,null,null,null,null,null,null,null,null,null,null,null,null,null,null,null,null,null,null,null,null,null,null,null,null,null,null,null,null,null,null,null,null,null,null,null,null,null,null,null,null,null,null,null,null,null,null,null,null,null,null,null,null,null,null,null,null,null,null,null,null,null,null,null,null,null,null,null,null,null,null,null,null,null,null,null,null,null,null,null,null,null,null,null,null,null,null,null,null,null,null,null,null,null,null,null,null,null,null,null,null,null,null,null,null,null,null,null,null,null,null,null,null,null,null,null,null,null,null,null,null,null,null,null,null,null,null,null,null,null,null,null,null,null,null,null,null,null,null,null,null,null,null,null,null,null,null,null,null,null,null,null,null,null,null,null,null,null,null,null,null,null,null,null,null,null,null,null,null,null,null,null,null,null,null,null,null,null,null,null,null,null,null,null,null,null,null,null,null,null,null,null,null,null,null,null,null,null,null,null,null,null,null,null,null,null,null,null,null,null,null,null,null,null,null,null,null,null,null,null,null,null,null,null,null,null,null,null,null,null,null,null,null,null,null,null,null,null,null,null,null,null,null,null,null,null,null,null,null,null,null,null,null,null,null,null,null,null,null,null,null,null,null,null,null,null,null,null,null,null,null,null,null,null,null,null,null,null,null,null,null,null,null,null,null,null,null,null,null,null,null,null,null,null,null,null,null,null,null,null,null,null,null,null,null,null,null,null,null,null,null,null,null,null,null,null,null,null,null,null,null,null,null,null,null,null,null,null,null,null,null,null,null,null,null,null,null,null,null,null,null,null,null,null,null,null,null,null,null,null,null,null,null,null,null,null,null,null,null,null,null,null,null,null,null,null,null,null,null,null,null,null,null,null,null,null,null,null,null,null,null,null,null,null,null,null,null,null,null,null,null,null,null,null,null,null,null,null,null,null,null,null,null,null,null,null,null,null,null,null,null,null,null,null,null,null,null,null,null,null,null,null,null,null,null,null,null,null,null,null,null,null,null,null,null,null,null,null,null,null,null,null,null,null,null,null,null,null,null,null,null,null,null,null,null,null,null,null,null,null,null,null,null,null,null,null,null,null,null,null,null,null,null,null,null,null,null,null,null,null,null,null,null,null,null,null,null,null,null,null,null,null,null,null,null,null,null,null,null,null,null,null,null,null,null,null,null,null,null,null,null,null,null,null,null,null,null,null,null,null,null,null,null,null,null,null,null,null,null,null,null,null,null,null,null,null,null,null,null,null,null,null,null,null,null,null,null,null,null,null,null,null,null,null,null,null,null,null,null,null,null,null,null,null,null,null,null,null,null,null,null,null,null,null,null,null,null,null,null,null,null,null,null,null,null,null,null,null,null,null,null,null,null,null,null,null,null,null,null,null,null,null,null,null,null,null,null,null,null,null,null,null,null,null,null,null,null,null,null,null,null,null,null,null,null,null,null,null,null,null,null,null,null,null,null,null,null,null,null,null,null,null,null,null,null,null,null,null,null,null,null,null,null,null,null,null,null,null,null,null,null,null,null,null,null,null,null,null,null,null,null,null,null,null,null,null,null,null,null,null,null,null,null,null,null,null,null,null,null,null,null,null,null,null,null,null,null,null,null,null,null,null,null,null,null,null,null,null,null,null,null,null,null,null,null,null,null,null,null,null,null,null,null,null,null,null,null,null,null,null,null,null,null,null,null,null,null,null,null,null,null,null,null,null,null,null,null,null,null,null,null,null,null,null,null,null,null,null,null,null,null,null,null,null,null,null,null,null,null,null,null,null,null,null,null,null,null,null,null,null,null,null,null,null,null,null,null,null,null,null,null,null,null,null,null,null,null,null,null,null,null,null,null,null,null,null,null,null,null,null,null,null,null,null,null,null,null,null,null,null,null,null,null,null,null,null,null,null,null,null,null,null,null,null,null,null,null,null,null,null,null,null,null,null,null,null,null,null,null,null,null,null,null,null,null,null,null,null,null,null,null,null,null,null,null,null,null,null,null,null,null,null,null,null,null,null,null,null,null,null,null,null,null,null,null,null,null,null,null,null,null,null,null,null,null,null,null,null,null,null,null,null,null,null,null,null,null,null,null,null,null,null,null,null,null,null,null,null,null,null,null,null,null,null,null,null,null,null,null,null,null,null,null,null,null,null,null,null,null,null,null,null,null,null,null,null,null,null,null,null,null,null,null,null,null,null,null,null,null,null,null,null,null,null,null,null,null,null,null,null,null,null,null,null,null,null,null,null,null,null,null,null,null,null,null,null,null,null,null,null,null,null,null,null,null,null,null,null,null,null,null,null,null,null,null,null,null,null,null,null,null,null,null,null,null,null,null,null,null,null,null,null,null,null,null,null,null,null,null,null,null,null,null,null,null,null,null,null,null,null,null,null,null,null,null,null,null,null,null,null,null,null,null,null,null,null,null,null,null,null,null,null,null,null,null,null,null,null,null,null,null,null,null,null,null,null,null,null,null,null,null,null,null,null,null,null,null,null,null,null,null,null,null,null,null,null,null,null,null,null,null,null,null,null,null,null,null,null,null,null,null,null,null,null,null,null,null,null,null,null,null,null,null,null,null,null,null,null,null,null,null,null,null,null,null,null,null,null,null,null,null,null,null,null,null,null,null,null,null,null,null,null,null,null,null,null,null,null,null,null,null,null,null,null,null,null,null,null,null,null,null,null,null,null,null,null,null,null,null,null,null,null,null,null,null,null,null,null,null,null,null,null,null,null,null,null,null,null,null,null,null,null,null,null,null,null,null,null,null,null,null,null,null,null,null,null,null,null,null,null,null,null,null,null,null,null,null,null,null,null,null,null,null,null,null,null,null,null,null,null,null,null,null,null,null,null,null,null,null,null,null,null,null,null,null,null,null,null,null,null,null,null,null,null,null,null,null,null,null,null,null,null,null,null,null,null,null,null,null,null,null,null,null,null,null,null,null,null,null,null,null,null,null,null,null,null,null,null,null,null,null,null,null,null,null,null,null,null,null,null,null,null,null,null,null,null,null,null,null,null,null,null,null,null,null,null,null,null,null,null,null,null,null,null,null,null,null,null,null,null,null,null,null,null,null,null,null,null,null,null,null,null,null,null,null,null,null,null,null,null,null,null,null,null,null,null,null,null,null,null,null,null,null,null,null,null,null,null,null,null,null,null,null,null,null,null,null,null,null,null,null,null,null,null,null,null,null,null,null,null,null,null,null,null,null,null,null,null,null,null,null,null,null,null,null,null,null,null,null,null,null,null,null,null,null,null,null,null,null,null,null,null,null,null,null,null,null,null,null,null,null,null,null,null,null,null,null,null,null,null,null,null,null,null,null,null,null,null,null,null,null,null,null,null,null,null,null,null,null,null,null,null,null,null,null,null,null,null,null,null,null,null,null,null,null,null,null,null,null,null,null,null,null,null,null,null,null,null,null,null,null,null,null,null,null,null,null,null,null,null,null,null,null,null,null,null,null,null,null,null,null,null,null,null,null,null,null,null,null,null,null,null,null,null,null,null,null,null,null,null,null,null,null,null,null,null,null,null,null,null,null,null,null,null,null,null,null,null,null,null,null,null,null,null,null,null,null,null,null,null,null,null,null,null,null,null,null,null,null,null,null,null,null,null,null,null,null,null,null,null,null,null,null,null,null,null,null,null,null,null,null,null,null,null,null,null,null,null,null,null,null,null,null,null,null,null,null,null,null,null,null,null,null,null,null,null,null,null,null,null,null,null,null,null,null,null,null,null,null,null,null,null,null,null,null,null,null,null,null,null,null,null,null,null,null,null,null,null,null,null,null,null,null,null,null,null,null,null,null,null,null,null,null,null,null,null,null,null,null,null,null,null,null,null,null,null,null,null,null,null,null,null,null,null,null,null,null,null,null,null,null,null,null,null,null,null,null,null,null,null,null,null,null,null,null,null,null,null,null,null,null,null,null,null,null,null,null,null,null,null,null,null,null,null,null,null,null,null,null,null,null,null,null,null,null,null,null,null,null,null,null,null,null,null,null,null,null,null,null,null,null,null,null,null,null,null,null,null,null,null,null,null,null,null,null,null,null,null,null,null,null,null,null,null,null,null,null,null,null,null,null,null,null,null,null,null,null,null,null,null,null,null,null,null,null,null,null,null,null,null,null,null,null,null,null,null,null,null,null,null,null,null,null,null,null,null,null,null,null,null,null,null,null,null,null,null,null,null,null,null,null,null,null,null,null,null,null,null,null,null,null,null,null,null,null,null,null,null,null,null,null,null,null,null,null,null,null,null,null,null,null,null,null,null,null,null,null,null,null,null,null,null,null,null,null,null,null,null,null,null,null,null,null,null,null,null,null,null,null,null,null,null,null,null,null,null,null,null,null,null,null,null,null,null,null,null,null,null,null,null,null,null,null,null,null,null,null,null,null,null,null,null,null,null,null,null,null,null,null,null,null,null,null,null,null,null,null,null,null,null,null,null,null,null,null,null,null,null,null,null,null,null,null,null,null,null,null,null,null,null,null,null,null,null,null,null,null,null,null,null,null,null,null,null,null,null,null,null,null,null,null,null,null,null,null,null,null,null,null,null,null,null,null,null,null,null,null,null,null,null,null,null,null,null,null,null,null,null,null,null,null,null,null,null,null,null,null,null,null,null,null,null,null,null,null,null,null,null,null,null,null,null,null,null,null,null,null,null,null,null,null,null,null,null,null,null,null,null,null,null,null,null,null,null,null,null,null,null,null,null,null,null,null,null,null,null,null,null,null,null,null,null,null,null,null,null,null,null,null,null,null,null,null,null,null,null,null,null,null,null,null,null,null,null,null,null,null,null,null,null,null,null,null,null,null,null,null,null,null,null,null,null,null,null,null,null,null,null,null,null,null,null,null,null,null,null,null,null,null,null,null,null,null,null,null,null,null,null,null,null,null,null,null,null,null,null,null,null,null,null,null,null,null,null,null,null,null,null,null,null,null,null,null,null,null,null,null,null,null,null,null,null,null,null,null,null,null,null,null,null,null,null,null,null,null,null,null,null,null,null,null,null,null,null,null,null,null,null,null,null,null,null,null,null,null,null,null,null,null,null,null,null,null,null,null,null,null,null,null,null,null,null,null,null,null,null,null,null,null,null,null,null,null,null,null,null,null,null,null,null,null,null,null,null,null,null,null,null,null,null,null,null,null,null,null,null,null,null,null,null,null,null,null,null,null,null,null,null,null,null,null,null,null,null,null,null,null,null,null,null,null,null,null,null,null,null,null,null,null,null,null,null,null,null,null,null,null,null,null,null,null,null,null,null,null,null,null,null,null,null,null,null,null,null,null,null,null,null,null,null,null,null,null,null,null,null,null,null,null,null,null,null,null,null,null,null,null,null,null,null,null,null,null,null,null,null,null,null,null,null,null,null,null,null,null,null,null,null,null,null,null,null,null,null,null,null,null,null,null,null,null,null,null,null,null,null,null,null,null,null,null,null,null,null,null,null,null,null,null,null,null,null,null,null,null,null,null,null,null,null,null,null,null,null,null,null,null,null,null,null,null,null,null,null,null,null,null,null,null,null,null,null,null,null,null,null,null,null,null,null,null,null,null,null,null,null,null,null,null,null,null,null,null,null,null,null,null,null,null,null,null,null,null,null,null,null,null,null,null,null,null,null,null,null,null,null,null,null,null,null,null,null,null,null,null,null,null,null,null,null,null,null,null,null,null,null,null,null,null,null,null,null,null,null,null,null,null,null,null,null,null,null,null,null,null,null,null,null,null,null,null,null,null,null,null,null,null,null,null,null,null,null,null,null,null,null,null,null,null,null,null,null,null,null,null,null,null,null,null,null,null,null,null,null,null,null,null,null,null,null,null,null,null,null,null,null,null,null,null,null,null,null,null,null,null,null,null,null,null,null,null,null,null,null,null,null,null,null,null,null,null,null,null,null,null,null,null,null,null,null,null,null,null,null,null,null,null,null,null,null,null,null,null,null,null,null,null,null,null,null,null,null,null,null,null,null,null,null,null,null,null,null,null,null,null,null,null,null,null,null,null,null,null,null,null,null,null,null,null,null,null,null,null,null,null,null,null,null,null,null,null,null,null,null,null,null,null,null,null,null,null,null,null,null,null,null,null,null,null,null,null,null,null,null,null,null,null,null,null,null,null,null,null,null,null,null,null,null,null,null,null,null,null,null,null,null,null,null,null,null,null,null,null,null,null,null,null,null,null,null,null,null,null,null,null,null,null,null,null,null,null,null,null,null,null,null,null,null,null,null,null,null,null,null,null,null,null,null,null,null,null,null,null,null,null,null,null,null,null,null,null,null,null,null,null,null,null,null,null,null,null,null,null,null,null,null,null,null,null,null,null,null,null,null,null,null,null,null,null,null,null,null,null,null,null,null,null,null,null,null,null,null,null,null,null,null,null,null,null,null,null,null,null,null,null,null,null,null,null,null,null,null,null,null,null,null,null,null,null,null,null,null,null,null,null,null,null,null,null,null,null,null,null,null,null,null,null,null,null,null,null,null,null,null,null,null,null,null,null,null,null,null,null,null,null,null,null,null,null,null,null,null,null,null,null,null,null,null,null,null,null,null,null,null,null,null,null,null,null,null,null,null,null,null,null,null,null,null,null,null,null,null,null,null,null,null,null,null,null,null,null,null,null,null,null,null,null,null,null,null,null,null,null,null,null,null,null,null,null,null,null,null,null,null,null,null,null,null,null,null,null,null,null,null,null,null,null,null,null,null,null,null,null,null,null,null,null,null,null,null,null,null,null,null,null,null,null,null,null,null,null,null,null,null,null,null,null,null,null,null,null,null,null,null,null,null,null,null,null,null,null,null,null,null,null,null,null,null,null,null,null,null,null,null,null,null,null,null,null,null,null,null,null,null,null,null,null,null,null,null,null,null,null,null,null,null,null,null,null,null,null,null,null,null,null,null,null,null,null,null,null,null,null,null,null,null,null,null,null,null,null,null,null,null,null,null,null,null,null,null,null,null,null,null,null,null,null,null,null,null,null,null,null,null,null,null,null,null,null,null,null,null,null,null,null,null,null,null,null,null,null,null,null,null,null,null,null,null,null,null,null,null,null,null,null,null,null,null,null,null,null,null,null,null,null,null,null,null,null,null,null,null,null,null,null,null,null,null,null,null,null,null,null,null,null,null,null,null,null,null,null,null,null,null,null,null,null,null,null,null,null,null,null,null,null,null,null,null,null,null,null,null,null,null,null,null,null,null,null,null,null,null,null,null,null,null,null,null,null,null,null,null,null,null,null,null,null,null,null,null,null,null,null,null,null,null,null,null,null,null,null,null,null,null,null,null,null,null,null,null,null,null,null,null,null,null,null,null,null,null,null,null,null,null,null,null,null,null,null,null,null,null,null,null,null,null,null,null,null,null,null,null,null,null,null,null,null,null,null,null,null,null,null,null,null,null,null,null,null,null,null,null,null,null,null,null,null,null,null,null,null,null,null,null,null,null,null,null,null,null,null,null,null,null,null,null,null,null,null,null,null,null,null,null,null,null,null,null,null,null,null,null,null,null,null,null,null,null,null,null,null,null,null,null,null,null,null,null,null,null,null,null,null,null,null,null,null,null,null,null,null,null,null,null,null,null,null,null,null,null,null,null,null,null,null,null,null,null,null,null,null,null,null,null,null,null,null,null,null,null,null,null,null,null,null,null,null,null,null,null,null,null,null,null,null,null,null,null,null,null,null,null,null,null,null,null,null,null,null,null,null,null,null,null,null,null,null,null,null,null,null,null,null,null,null,null,null,null,null,null,null,null,null,null,null,null,null,null,null,null,null,null,null,null,null,null,null,null,null,null,null,null,null,null,null,null,null,null,null,null,null,null,null,null,null,null,null,null,null,null,null,null,null,null,null,null,null,null,null,null,null,null,null,null,null,null,null,null,null,null,null,null,null,null,null,null,null,null,null,null,null,null,null,null,null,null,null,null,null,null,null,null,null,null,null,null,null,null,null,null,null,null,null,null,null,null,null,null,null,null,null,null,null,null,null,null,null,null,null,null,null,null,null,null,null,null,null,null,null,null,null,null,null,null,null,null,null,null,null,null,null,null,null,null,null,null,null,null,null,null,null,null,null,null,null,null,null,null,null,null,null,null,null,null,null,null,null,null,null,null,null,null,null,null,null,null,null,null,null,null,null,null,null,null,null,null,null,null,null,null,null,null,null,null,null,null,null,null,null,null,null,null,null,null,null,null,null,null,null,null,null,null,null,null,null,null,null,null,null,null,null,null,null,null,null,null,null,null,null,null,null,null,null,null,null,null,null,null,null,null,null,null,null,null,null,null,null,null,null,null,null,null,null,null,null,null,null,null,null,null,null,null,null,null,null,null,null,null,null,null,null,null,null,null,null,null,null,null,null,null,null,null,null,null,null,null,null,null,null,null,null,null,null,null,null,null,null,null,null,null,null,null,null,null,null,null,null,null,null,null,null,null,null,null,null,null,null,null,null,null,null,null,null,null,null,null,null,null,null,null,null,null,null,null,null,null,null,null,null,null,null,null,null,null,null,null,null,null,null,null,null,null,null,null,null,null,null,null,null,null,null,null,null,null,null,null,null,null,null,null,null,null,null,null,null,null,null,null,null,null,null,null,null,null,null,null,null,null,null,null,null,null,null,null,null,null,null,null,null,null,null,null,null,null,null,null,null,null,null,null,null,null,null,null,null,null,null,null,null,null,null,null,null,null,null,null,null,null,null,null,null,null,null,null,null,null,null,null,null,null,null,null,null,null,null,null,null,null,null,null,null,null,null,null,null,null,null,null,null,null,null,null,null,null,null,null,null,null,null,null,null,null,null,null,null,null,null,null,null,null,null,null,null,null,null,null,null,null,null,null,null,null,null,null,null,null,null,null,null,null,null,null,null,null,null,null,null,null,null,null,null,null,null,null,null,null,null,null,null,null,null,null,null,null,null,null,null,null,null,null,null,null,null,null,null,null,null,null,null,null,null,null,null,null,null,null,null,null,null,null,null,null,null,null,null,null,null,null,null,null,null,null,null,null,null,null,null,null,null,null,null,null,null,null,null,null,null,null,null,null,null,null,null,null,null,null,null,null,null,null,null,null,null,null,null,null,null,null,null,null,null,null,null,null,null,null,null,null,null,null,null,null,null,null,null,null,null,null,null,null,null,null,null,null,null,null,null,null,null,null,null,null,null,null,null,null,null,null,null,null,null,null,null,null,null,null,null,null,null,null,null,null,null,null,null,null,null,null,null,null,null,null,null,null,null,null,null,null,null,null,null,null,null,null,null,null,null,null,null,null,null,null,null,null,null,null,null,null,null,null,null,null,null,null,null,null,null,null,null,null,null,null,null,null,null,null,null,null,null,null,null,null,null,null,null,null,null,null,null,null,null,null,null,null,null,null,null,null,null,null,null,null,null,null,null,null,null,null,null,null,null,null,null,null,null,null,null,null,null,null,null,null,null,null,null,null,null,null,null,null,null,null,null,null,null,null,null,null,null,null,null,null,null,null,null,null,null,null,null,null,null,null,null,null,null,null,null,null,null,null,null,null,null,null,null,null,null,null,null,null,null,null,null,null,null,null,null,null,null,null,null,null,null,null,null,null,null,null,null,null,null,null,null,null,null,null,null,null,null,null,null,null,null,null,null,null,null,null,null,null,null,null,null,null,null,null,null,null,null,null,null,null,null,null,null,null,null,null,null,null,null,null,null,null,null,null,null,null,null,null,null,null,null,null,null,null,null,null,null,null,null,null,null,null,null,null,null,null,null,null,null,null,null,null,null,null,null,null,null,null,null,null,null,null,null,null,null,null,null,null,null,null,null,null,null,null,null,null,null,null,null,null,null,null,null,null,null,null,null,null,null,null,null,null,null,null,null,null,null,null,null,null,null,null,null,null,null,null,null,null,null,null,null,null,null,null,null,null,null,null,null,null,null,null,null,null,null,null,null,null,null,null,null,null,null,null,null,null,null,null,null,null,null,null,null,null,null,null,null,null,null,null,null,null,null,null,null,null,null,null,null,null,null,null,null,null,null,null,null,null,null,null,null,null,null,null,null,null,null,null,null,null,null,null,null,null,null,null,null,null,null,null,null,null,null,null,null,null,null,null,null,null,null,null,null,null,null,null,null,null,null,null,null,null,null,null,null,null,null,null,null,null,null,null,null,null,null,null,null,null,null,null,null,null,null,null,null,null,null,null,null,null,null,null,null,null,null,null,null,null,null,null,null,null,null,null,null,null,null,null,null,null,null,null,null,null,null,null,null,null,null,null,null,null,null,null,null,null,null,null,null,null,null,null,null,null,null,null,null,null,null,null,null,null,null,null,null,null,null,null,null,null,null,null,null,null,null,null,null,null,null,null,null,null,null,null,null,null,null,null,null,null,null,null,null,null,null,null,null,null,null,null,null,null,null,null,null,null,null,null,null,null,null,null,null,null,null,null,null,null,null,null,null,null,null,null,null,null,null,null,null,null,null,null,null,null,null,null,null,null,null,null,null,null,null,null,null,null,null,null,null,null,null,null,null,null,null,null,null,null,null,null,null,null,null,null,null,null,null,null,null,null,null,null,null,null,null,null,null,null,null,null,null,null,null,null,null,null,null,null,null,null,null,null,null,null,null,null,null,null,null,null,null,null,null,null,null,null,null,null,null,null,null,null,null,null,null,null,null,null,null,null,null,null,null,null,null,null,null,null,null,null,null,null,null,null,null,null,null,null,null,null,null,null,null,null,null,null,null,null,null,null,null,null,null,null,null,null,null,null,null,null,null,null,null,null,null,null,null,null,null,null,null,null,null,null,null,null,null,null,null,null,null,null,null,null,null,null,null,null,null,null,null,null,null,null,null,null,null,null,null,null,null,null,null,null,null,null,null,null,null,null,null,null,null,null,null,null,null,null,null,null,null,null,null,null,null,null,null,null,null,null,null,null,null,null,null,null,null,null,null,null,null,null,null,null,null,null,null,null,null,null,null,null,null,null,null,null,null,null,null,null,null,null,null,null,null,null,null,null,null,null,null,null,null,null,null,null,null,null,null,null,null,null,null,null,null,null,null,null,null,null,null,null,null,null,null,null,null,null,null,null,null,null,null,null,null,null,null,null,null,null,null,null,null,null,null,null,null,null,null,null,null,null,null,null,null,null,null,null,null,null,null,null,null,null,null,null,null,null,null,null,null,null,null,null,null,null,null,null,null,null,null,null,null,null,null,null,null,null,null,null,null,null,null,null,null,null,null,null,null,null,null,null,null,null,null,null,null,null,null,null,null,null,null,null,null,null,null,null,null,null,null,null,null,null,null,null,null,null,null,null,null,null,null,null,null,null,null,null,null,null,null,null,null,null,null,null,null,null,null,null,null,null,null,null,null,null,null,null,null,null,null,null,null,null,null,null,null,null,null,null,null,null,null,null,null,null,null,null,null,null,null,null,null,null,null,null,null,null,null,null,null,null,null,null,null,null,null,null,null,null,null,null,null,null,null,null,null,null,null,null,null,null,null,null,null,null,null,null,null,null,null,null,null,null,null,null,null,null,null,null,null,null,null,null,null,null,null,null,null,null,null,null,null,null,null,null,null,null,null,null,null,null,null,null,null,null,null,null,null,null,null,null,null,null,null,null,null,null,null,null,null,null,null,null,null,null,null,null,null,null,null,null,null,null,null,null,null,null,null,null,null,null,null,null,null,null,null,null,null,null,null,null,null,null,null,null,null,null,null,null,null,null,null,null,null,null,null,null,null,null,null,null,null,null,null,null,null,null,null,null,null,null,null,null,null,null,null,null,null,null,null,null,null,null,null,null,null,null,null,null,null,null,null,null,null,null,null,null,null,null,null,null,null,null,null,null,null,null,null,null,null,null,null,null,null,null,null,null,null,null,null,null,null,null,null,null,null,null,null,null,null,null,null,null,null,null,null,null,null,null,null,null,null,null,null,null,null,null,null,null,null,null,null,null,null,null,null,null,null,null,null,null,null,null,null,null,null,null,null,null,null,null,null,null,null,null,null,null,null,null,null,null,null,null,null,null,null,null,null,null,null,null,null,null,null,null,null,null,null,null,null,null,null,null,null,null,null,null,null,null,null,null,null,null,null,null,null,null,null,null,null,null,null,null,null,null,null,null,null,null,null,null,null,null,null,null,null,null,null,null,null,null,null,null,null,null,null,null,null,null,null,null,null,null,null,null,null,null,null,null,null,null,null,null,null,null,null,null,null,null,null,null,null,null,null,null,null,null,null,null,null,null,null,null,null,null,null,null,null,null,null,null,null,null,null,null,null,null,null,null,null,null,null,null,null,null,null,null,null,null,null,null,null,null,null,null,null,null,null,null,null,null,null,null,null,null,null,null,null,null,null,null,null,null,null,null,null,null,null,null,null,null,null,null,null,null,null,null,null,null,null,null,null,null,null,null,null,null,null,null,null,null,null,null,null,null,null,null,null,null,null,null,null,null,null,null,null,null,null,null,null,null,null,null,null,null,null,null,null,null,null,null,null,null,null,null,null,null,null,null,null,null,null,null,null,null,null,null,null,null,null,null,null,null,null,null,null,null,null,null,null,null,null,null,null,null,null,null,null,null,null,null,null,null,null,null,null,null,null,null,null,null,null,null,null,null,null,null,null,null,null,null,null,null,null,null,null,null,null,null,null,null,null,null,null,null,null,null,null,null,null,null,null,null,null,null,null,null,null,null,null,null,null,null,null,null,null,null,null,null,null,null,null,null,null,null,null,null,null,null,null,null,null,null,null,null,null,null,null,null,null,null,null,null,null,null,null,null,null,null,null,null,null,null,null,null,null,null,null,null,null,null,null,null,null,null,null,null,null,null,null,null,null,null,null,null,null,null,null,null,null,null,null,null,null,null,null,null,null,null,null,null,null,null,null,null,null,null,null,null,null,null,null,null,null,null,null,null,null,null,null,null,null,null,null,null,null,null,null,null,null,null,null,null,null,null,null,null,null,null,null,null,null,null,null,null,null,null,null,null,null,null,null,null,null,null,null,null,null,null,null,null,null,null,null,null,null,null,null,null,null,null,null,null,null,null,null,null,null,null,null,null,null,null,null,null,null,null,null,null,null,null,null,null,null,null,null,null,null,null,null,null,null,null,null,null,null,null,null,null,null,null,null,null,null,null,null,null,null,null,null,null,null,null,null,null,null,null,null,null,null,null,null,null,null,null,null,null,null,null,null,null,null,null,null,null,null,null,null,null,null,null,null,null,null,null,null,null,null,null,null,null,null,null,null,null,null,null,null,null,null,null,null,null,null,null,null,null,null,null,null,null,null,null,null,null,null,null,null,null,null,null,null,null,null,null,null,null,null,null,null,null,null,null,null,null,null,null,null,null,null,null,null,null,null,null,null,null,null,null,null,null,null,null,null,null,null,null,null,null,null,null,null,null,null,null,null,null,null,null,null,null,null,null,null,null,null,null,null,null,null,null,null,null,null,null,null,null,null,null,null,null,null,null,null,null,null,null,null,null,null,null,null,null,null,null,null,null,null,null,null,null,null,null,null,null,null,null,null,null,null,null,null,null,null,null,null,null,null,null,null,null,null,null,null,null,null,null,null,null,null,null,null,null,null,null,null,null,null,null,null,null,null,null,null,null,null,null,null,null,null,null,null,null,null,null,null,null,null,null,null,null,null,null,null,null,null,null,null,null,null,null,null,null,null,null,null,null,null,null,null,null,null,null,null,null,null,null,null,null,null,null,null,null,null,null,null,null,null,null,null,null,null,null,null,null,null,null,null,null,null,null,null,null,null,null,null,null,null,null,null,null,null,null,null,null,null,null,null,null,null,null,null,null,null,null,null,null,null,null,null,null,null,null,null,null,null,null,null,null,null,null,null,null,null,null,null,null,null,null,null,null,null,null,null,null,null,null,null,null,null,null,null,null,null,null,null,null,null,null,null,null,null,null,null,null,null,null,null,null,null,null,null,null,null,null,null,null,null,null,null,null,null,null,null,null,null,null,null,null,null,null,null,null,null,null,null,null,null,null,null,null,null,null,null,null,null,null,null,null,null,null,null,null,null,null,null,null,null,null,null,null,null,null,null,null,null,null,null,null,null,null,null,null,null,null,null,null,null,null,null,null,null,null,null,null,null,null,null,null,null,null,null,null,null,null,null,null,null,null,null,null,null,null,null,null,null,null,null,null,null,null,null,null,null,null,null,null,null,null,null,null,null,null,null,null,null,null,null,null,null,null,null,null,null,null,null,null,null,null,null,null,null,null,null,null,null,null,null,null,null,null,null,null,null,null,null,null,null,null,null,null,null,null,null,null,null,null,null,null,null,null,null,null,null,null,null,null,null,null,null,null,null,null,null,null,null,null,null,null,null,null,null,null,null,null,null,null,null,null,null,null,null,null,null,null,null,null,null,null,null,null,null,null,null,null,null,null,null,null,null,null,null,null,null,null,null,null,null,null,null,null,null,null,null,null,null,null,null,null,null,null,null,null,null,null,null,null,null,null,null,null,null,null,null,null,null,null,null,null,null,null,null,null,null,null,null,null,null,null,null,null,null,null,null,null,null,null,null,null,null,null,null,null,null,null,null,null,null,null,null,null,null,null,null,null,null,null,null,null,null,null,null,null,null,null,null,null,null,null,null,null,null,null,null,null,null,null,null,null,null,null,null,null,null,null,null,null,null,null,null,null,null,null,null,null,null,null,null,null,null,null,null,null,null,null,null,null,null,null,null,null,null,null,null,null,null,null,null,null,null,null,null,null,null,null,null,null,null,null,null,null,null,null,null,null,null,null,null,null,null,null,null,null,null,null,null,null,null,null,null,null,null,null,null,null,null,null,null,null,null,null,null,null,null,null,null,null,null,null,null,null,null,null,null,null,null,null,null,null,null,null,null,null,null,null,null,null,null,null,null,null,null,null,null,null,null,null,null,null,null,null,null,null,null,null,null,null,null,null,null,null,null,null,null,null,null,null,null,null,null,null,null,null,null,null,null,null,null,null,null,null,null,null,null,null,null,null,null,null,null,null,null,null,null,null,null,null,null,null,null,null,null,null,null,null,null,null,null,null,null,null,null,null,null,null,null,null,null,null,null,null,null,null,null,null,null,null,null,null,null,null,null,null,null,null,null,null,null,null,null,null,null,null,null,null,null,null,null,null,null,null,null,null,null,null,null,null,null,null,null,null,null,null,null,null,null,null,null,null,null,null,null,null,null,null,null,null,null,null,null,null,null,null,null,null,null,null,null,null,null,null,null,null,null,null,null,null,null,null,null,null,null,null,null,null,null,null,null,null,null,null,null,null,null,null,null,null,null,null,null,null,null,null,null,null,null,null,null,null,null,null,null,null,null,null,null,null,null,null,null,null,null,null,null,null,null,null,null,null,null,null,null,null,null,null,null,null,null,null,null,null,null,null,null,null,null,null,null,null,null,null,null,null,null,null,null,null,null,null,null,null,null,null,null,null,null,null,null,null,null,null,null,null,null,null,null,null,null,null,null,null,null,null,null,null,null,null,null,null,null,null,null,null,null,null,null,null,null,null,null,null,null,null,null,null,null,null,null,null,null,null,null,null,null,null,null,null,null,null,null,null,null,null,null,null,null,null,null,null,null,null,null,null,null,null,null,null,null,null,null,null,null,null,null,null,null,null,null,null,null,null,null,null,null,null,null,null,null,null,null,null,null,null,null,null,null,null,null,null,null,null,null,null,null,null,null,null,null,null,null,null,null,null,null,null,null,null,null,null,null,null,null,null,null,null,null,null,null,null,null,null,null,null,null,null,null,null,null,null,null,null,null,null,null,null,null,null,null,null,null,null,null,null,null,null,null,null,null,null,null,null,null,null,null,null,null,null,null,null,null,null,null,null,null,null,null,null,null,null,null,null,null,null,null,null,null,null,null,null,null,null,null,null,null,null,null,null,null,null,null,null,null,null,null,null,null,null,null,null,null,null,null,null,null,null,null,null,null,null,null,null,null,null,null,null,null,null,null,null,null,null,null,null,null,null,null,null,null,null,null,null,null,null,null,null,null,null,null,null,null,null,null,null,null,null,null,null,null,null,null,null,null,null,null,null,null,null,null,null,null,null,null,null,null,null,null,null,null,null,null,null,null,null,null,null,null,null,null,null,null,null,null,null,null,null,null,null,null,null,null,null,null,null,null,null,null,null,null,null,null,null,null,null,null,null,null,null,null,null,null,null,null,null,null,null,null,null,null,null,null,null,null,null,null,null,null,null,null,null,null,null,null,null,null,null,null,null,null,null,null,null,null,null,null,null,null,null,null,null,null,null,null,null,null,null,null,null,null,null,null,null,null,null,null,null,null,null,null,null,null,null,null,null,null,null,null,null,null,null,null,null,null,null,null,null,null,null,null,null,null,null,null,null,null,null,null,null,null,null,null,null,null,null,null,null,null,null,null,null,null,null,null,null,null,null,null,null,null,null,null,null,null,null,null,null,null,null,null,null,null,null,null,null,null,null,null,null,null,null,null,null,null,null,null,null,null,null,null,null,null,null,null,null,null,null,null,null,null,null,null,null,null,null,null,null,null,null,null,null,null,null,null,null,null,null,null,null,null,null,null,null,null,null,null,null,null,null,null,null,null,null,null,null,null,null,null,null,null,null,null,null,null,null,null,null,null,null,null,null,null,null,null,null,null,null,null,null,null,null,null,null,null,null,null,null,null,null,null,null,null,null,null,null,null,null,null,null,null,null,null,null,null,null,null,null,null,null,null,null,null,null,null,null,null,null,null,null,null,null,null,null,null,null,null,null,null,null,null,null,null,null,null,null,null,null,null,null,null,null,null,null,null,null,null,null,null,null,null,null,null,null,null,null,null,null,null,null,null,null,null,null,null,null,null,null,null,null,null,null,null,null,null,null,null,null,null,null,null,null,null,null,null,null,null,null,null,null,null,null,null,null,null,null,null,null,null,null,null,null,null,null,null,null,null,null,null,null,null,null,null,null,null,null,null,null,null,null,null,null,null,null,null,null,null,null,null,null,null,null,null,null,null,null,null,null,null,null,null,null,null,null,null,null,null,null,null,null,null,null,null,null,null,null,null,null,null,null,null,null,null,null,null,null,null,null,null,null,null,null,null,null,null,null,null,null,null,null,null,null,null,null,null,null,null,null,null,null,null,null,null,null,null,null,null,null,null,null,null,null,null,null,null,null,null,null,null,null,null,null,null,null,null,null,null,null,null,null,null,null,null,null,null,null,null,null,null,null,null,null,null,null,null,null,null,null,null,null,null,null,null,null,null,null,null,null,null,null,null,null,null,null,null,null,null,null,null,null,null,null,null,null,null,null,null,null,null,null,null,null,null,null,null,null,null,null,null,null,null,null,null,null,null,null,null,null,null,null,null,null,null,null,null,null,null,null,null,null,null,null,null,null,null,null,null,null,null,null,null,null,null,null,null,null,null,null,null,null,null,null,null,null,null,null,null,null,null,null,null,null,null,null,null,null,null,null,null,null,null,null,null,null,null,null,null,null,null,null,null,null,null,null,null,null,null,null,null,null,null,null,null,null,null,null,null,null,null,null,null,null,null,null,null,null,null,null,null,null,null,null,null,null,null,null,null,null,null,null,null,null,null,null,null,null,null,null,null,null,null,null,null,null,null,null,null,null,null,null,null,null,null,null,null,null,null,null,null,null,null,null,null,null,null,null,null,null,null,null,null,null,null,null,null,null,null,null,null,null,null,null,null,null,null,null,null,null,null,null,null,null,null,null,null,null,null,null,null,null,null,null,null,null,null,null,null,null,null,null,null,null,null,null,null,null,null,null,null,null,null,null,null,null,null,null,null,null,null,null,null,null,null,null,null,null,null,null,null,null,null,null,null,null,null,null,null,null,null,null,null,null,null,null,null,null,null,null,null,null,null,null,null,null,null,null,null,null,null,null,null,null,null,null,null,null,null,null,null,null,null,null,null,null,null,null,null,null,null,null,null,null,null,null,null,null,null,null,null,null,null,null,null,null,null,null,null,null,null,null,null,null,null,null,null,null,null,null,null,null,null,null,null,null,null,null,null,null,null,null,null,null,null,null,null,null,null,null,null,null,null,null,null,null,null,null,null,null,null,null,null,null,null,null,null,null,null,null,null,null,null,null,null,null,null,null,null,null,null,null,null,null,null,null,null,null,null,null,null,null,null,null,null,null,null,null,null,null,null,null,null,null,null,null,null,null,null,null,null,null,null,null,null,null,null,null,null,null,null,null,null,null,null,null,null,null,null,null,null,null,null,null,null,null,null,null,null,null,null,null,null,null,null,null,null,null,null,null,null,null,null,null,null,null,null,null,null,null,null,null,null,null,null,null,null,null,null,null,null,null,null,null,null,null,null,null,null,null,null,null,null,null,null,null,null,null,null,null,null,null,null,null,null,null,null,null,null,null,null,null,null,null,null,null,null,null,null,null,null,null,null,null,null,null,null,null,null,null,null,null,null,null,null,null,null,null,null,null,null,null,null,null,null,null,null,null,null,null,null,null,null,null,null,null,null,null,null,null,null,null,null,null,null,null,null,null,null,null,null,null,null,null,null,null,null,null,null,null,null,null,null,null,null,null,null,null,null,null,null,null,null,null,null,null,null,null,null,null,null,null,null,null,null,null,null,null,null,null,null,null,null,null,null,null,null,null,null,null,null,null,null,null,null,null,null,null,null,null,null,null,null,null,null,null,null,null,null,null,null,null,null,null,null,null,null,null,null,null,null,null,null,null,null,null,null,null,null,null,null,null,null,null,null,null,null,null,null,null,null,null,null,null,null,null,null,null,null,null,null,null,null,null,null,null,null,null,null,null,null,null,null,null,null,null,null,null,null,null,null,null,null,null,null,null,null,null,null,null,null,null,null,null,null,null,null,null,null,null,null,null,null,null,null,null,null,null,null,null,null,null,null,null,null,null,null,null,null,null,null,null,null,null,null,null,null,null,null,null,null,null,null,null,null,null,null,null,null,null,null,null,null,null,null,null,null,null,null,null,null,null,null,null,null,null,null,null,null,null,null,null,null,null,null,null,null,null,null,null,null,null,null,null,null,null,null,null,null,null,null,null,null,null,null,null,null,null,null,null,null,null,null,null,null,null,null,null,null,null,null,null,null,null,null,null,null,null,null,null,null,null,null,null,null,null,null,null,null,null,null,null,null,null,null,null,null,null,null,null,null,null,null,null,null,null,null,null,null,null,null,null,null,null,null,null,null,null,null,null,null,null,null,null,null,null,null,null,null,null,null,null,null,null,null,null,null,null,null,null,null,null,null,null,null,null,null,null,null,null,null,null,null,null,null,null,null,null,null,null,null,null,null,null,null,null,null,null,null,null,null,null,null,null,null,null,null,null,null,null,null,null,null,null,null,null,null,null,null,null,null,null,null,null,null,null,null,null,null,null,null,null,null,null,null,null,null,null,null,null,null,null,null,null,null,null,null,null,null,null,null,null,null,null,null,null,null,null,null,null,null,null,null,null,null,null,null,null,null,null,null,null,null,null,null,null,null,null,null,null,null,null,null,null,null,null,null,null,null,null,null,null,null,null,null,null,null,null,null,null,null,null,null,null,null,null,null,null,null,null,null,null,null,null,null,null,null,null,null,null,null,null,null,null,null,null,null,null,null,null,null,null,null,null,null,null,null,null,null,null,null,null,null,null,null,null,null,null,null,null,null,null,null,null,null,null,null,null,null,null,null,null,null,null,null,null,null,null,null,null,null,null,null,null,null,null,null,null,null,null,null,null,null,null,null,null,null,null,null,null,null,null,null,null,null,null,null,null,null,null,null,null,null,null,null,null,null,null,null,null,null,null,null,null,null,null,null,null,null,null,null,null,null,null,null,null,null,null,null,null,null,null,null,null,null,null,null,null,null,null,null,null,null,null,null,null,null,null,null,null,null,null,null,null,null,null,null,null,null,null,null,null,null,null,null,null,null,null,null,null,null,null,null,null,null,null,null,null,null,null,null,null,null,null,null,null,null,null,null,null,null,null,null,null,null,null,null,null,null,null,null,null,null,null,null,null,null,null,null,null,null,null,null,null,null,null,null,null,null,null,null,null,null,null,null,null,null,null,null,null,null,null,null,null,null,null,null,null,null,null,null,null,null,null,null,null,null,null,null,null,null,null,null,null,null,null,null,null,null,null,null,null,null,null,null,null,null,null,null,null,null,null,null,null,null,null,null,null,null,null,null,null,null,null,null,null,null,null,null,null,null,null,null,null,null,null,null,null,null,null,null,null,null,null,null,null,null,null,null,null,null,null,null,null,null,null,null,null,null,null,null,null,null,null,null,null,null,null,null,null,null,null,null,null,null,null,null,null,null,null,null,null,null,null,null,null,null,null,null,null,null,null,null,null,null,null,null,null,null,null,null,null,null,null,null,null,null,null,null,null,null,null,null,null,null,null,null,null,null,null,null,null,null,null,null,null,null,null,null,null,null,null,null,null,null,null,null,null,null,null,null,null,null,null,null,null,null,null,null,null,null,null,null,null,null,null,null,null,null,null,null,null,null,null,null,null,null,null,null,null,null,null,null,null,null,null,null,null,null,null,null,null,null,null,null,null,null,null,null,null,null,null,null,null,null,null,null,null,null,null,null,null,null,null,null,null,null,null,null,null,null,null,null,null,null,null,null,null,null,null,null,null,null,null,null,null,null,null,null,null,null,null,null,null,null,null,null,null,null,null,null,null,null,null,null,null,null,null,null,null,null,null,null,null,null,null,null,null,null,null,null,null,null,null,null,null,null,null,null,null,null,null,null,null,null,null,null,null,null,null,null,null,null,null,null,null,null,null,null,null,null,null,null,null,null,null,null,null,null,null,null,null,null,null,null,null,null,null,null,null,null,null,null,null,null,null,null,null,null,null,null,null,null,null,null,null,null,null,null,null,null,null,null,null,null,null,null,null,null,null,null,null,null,null,null,null,null,null,null,null,null,null,null,null,null,null,null,null,null,null,null,null,null,null,null,null,null,null,null,null,null,null,null,null,null,null,null,null,null,null,null,null,null,null,null,null,null,null,null,null,null,null,null,null,null,null,null,null,null,null,null,null,null,null,null,null,null,null,null,null,null,null,null,null,null,null,null,null,null,null,null,null,null,null,null,null,null,null,null,null,null,null,null,null,null,null,null,null,null,null,null,null,null,null,null,null,null,null,null,null,null,null,null,null,null,null,null,null,null,null,null,null,null,null,null,null,null,null,null,null,null,null,null,null,null,null,null,null,null,null,null,null,null,null,null,null,null,null,null,null,null,null,null,null,null,null,null,null,null,null,null,null,null,null,null,null,null,null,null,null,null,null,null,null,null,null,null,null,null,null,null,null,null,null,null,null,null,null,null,null,null,null,null,null,null,null,null,null,null,null,null,null,null,null,null,null,null,null,null,null,null,null,null,null,null,null,null,null,null,null,null,null,null,null,null,null,null,null,null,null,null,null,null,null,null,null,null,null,null,null,null,null,null,null,null,null,null,null,null,null,null,null,null,null,null,null,null,null,null,null,null,null,null,null,null,null,null,null,null,null,null,null,null,null,null,null,null,null,null,null,null,null,null,null,null,null,null,null,null,null,null,null,null,null,null,null,null,null,null,null,null,null,null,null,null,null,null,null,null,null,null,null,null,null,null,null,null,null,null,null,null,null,null,null,null,null,null,null,null,null,null,null,null,null,null,null,null,null,null,null,null,null,null,null,null,null,null,null,null,null,null,null,null,null,null,null,null,null,null,null,null,null,null,null,null,null,null,null,null,null,null,null,null,null,null,null,null,null,null,null,null,null,null,null,null,null,null,null,null,null,null,null,null,null,null,null,null,null,null,null,null,null,null,null,null,null,null,null,null,null,null,null,null,null,null,null,null,null,null,null,null,null,null,null,null,null,null,null,null,null,null,null,null,null,null,null,null,null,null,null,null,null,null,null,null,null,null,null,null,null,null,null,null,null,null,null,null,null,null,null,null,null,null,null,null,null,null,null,null,null,null,null,null,null,null,null,null,null,null,null,null,null,null,null,null,null,null,null,null,null,null,null,null,null,null,null,null,null,null,null,null,null,null,null,null,null,null,null,null,null,null,null,null,null,null,null,null,null,null,null,null,null,null,null,null,null,null,null,null,null,null,null,null,null,null,null,null,null,null,null,null,null,null,null,null,null,null,null,null,null,null,null,null,null,null,null,null,null,null,null,null,null,null,null,null,null,null,null,null,null,null,null,null,null,null,null,null,null,null,null,null,null,null,null,null,null,null,null,null,null,null,null,null,null,null,null,null,null,null,null,null,null,null,null,null,null,null,null,null,null,null,"DABINI2016"]

{"sheet":"Atividade 2","index":2,"n_rows":64,"n_cols":183,"rows_kept":64,"cut":false,"hidden":false,"merged":[[2,158,2,170],[2,116,2,128],[0,46,1,58],[0,116,1,128],[0,130,1,142],[0,144,1,156],[0,158,1,170],[0,60,1,72],[0,74,1,86],[0,88,1,100],[0,102,1,114],[2,130,2,142],[2,144,2,156],[2,60,2,72],[2,74,2,86],[2,88,2,100],[2,102,2,114],[2,4,2,16],[2,18,2,30],[2,32,2,44],[2,46,2,58],[0,4,1,16],[0,18,1,30],[0,32,1,44],[44,2,45,2],[34,2,35,2],[36,2,37,2],[38,2,39,2],[32,2,33,2],[18,2,19,2],[20,2,21,2],[4,1,43,1],[4,2,5,2],[6,2,7,2],[8,2,9,2],[10,2,11,2],[12,2,13,2],[14,2,15,2],[22,2,23,2],[24,2,25,2],[26,2,27,2],[28,2,29,2],[30,2,31,2],[40,2,41,2],[42,2,43,2],[16,2,17,2],[59,1,59,2],[60,1,61,2],[62,1,63,2],[48,1,57,1],[48,2,49,2],[50,2,51,2],[54,2,55,2],[56,2,57,2],[52,2,53,2]]}
[null,null,null,null,{"$f":"MENU!$C$26","v":"Suinocultura"},null,null,null,null,null,null,null,null,null,null,null,null,null,{"$f":"MENU!$C$26","v":"Suinocultura"},null,null,null,null,null,null,null,null,null,null,null,null,null,{"$f":"MENU!$C$26","v":"Suinocultura"},null,null,null,null,null,null,null,null,null,null,null,null,null,{"$f":"MENU!$C$26","v":"Suinocultura"},null,null,null,null,null,null,null,null,null,null,null,null,null,{"$f":"MENU!$C$26","v":"Suinocultura"},null,null,null,null,null,null,null,null,null,null,null,null,null,{"$f":"MENU!$C$26","v":"Suinocultura"},null,null,null,null,null,null,null,null,null,null,null,null,null,{"$f":"MENU!$C$26","v":"Suinocultura"},null,null,null,null,null,null,null,null,null,null,null,null,null,{"$f":"MENU!$C$26","v":"Suinocultura"},null,null,null,null,null,null,null,null,null,null,null,null,null,{"$f":"MENU!$C$26","v":"Suinocultura"},null,null,null,null,null,null,null,null,null,null,null,null,null,{"$f":"MENU!$C$26","v":"Suinocultura"},null,null,null,null,null,null,null,null,null,null,null,null,null,{"$f":"MENU!$C$26","v":"Suinocultura"},null,null,null,null,null,null,null,null,null,null,null,null,null,{"$f":"MENU!$C$26","v":"Suinocultura"}]
[null,null,null,null,null,null,null,null,null,null,null,null,null,null,null,null,null,null,null,null,null,null,null,null,null,null,null,null,null,null,null,null,null,null,null,null,null,null,null,null,null,null,null,null,null,null,null,null,null,null,null,null,null,null,null,null,null,null,null,null,null,null,null,null,null,null,null,null,null,null,null,null,null,null,null,null,null,null,null,null,null,null,null,null,null,null,null,null,null,null,null,null,null,null,null,null,null,null,null,null,null,null,null,null,null,null,null,null,null,null,null,null,null,null,null,null,null,null,null,null,null,null,null,null,null,null,null,null,null,null,null,null,null,null,null,null,null,null,null,null,null,null,null,null,null,null,null,null,null,null,null,null,null,null,null,null,null,null,null,null,null,null,null,null,null,null,null,null,null,null,null,null,null,null,null,null,null,null,6,1,{"$f":"VLOOKUP(FX2,FX3:FY14,2,0)","v":2017},{"$f":"VLOOKUP(FY2,$FY$3:$FZ$14,2,0)","v":"R3C5"},6]
[null,null,null,null,{"$f":"MENU!F6","v":0},null,null,null,null,null,null,null,null,null,null,null,null,null,{"$f":"E3+1","v":1},null,null,null,null,null,null,null,null,null,null,null,null,null,{"$f":"S3+1","v":2},null,null,null,null,null,null,null,null,null,null,null,null,null,{"$f":"AG3+1","v":3},null,null,null,null,null,null,null,null,null,null,null,null,null,{"$f":"AU3+1","v":4},null,null,null,null,null,null,null,null,null,null,null,null,null,{"$f":"BI3+1","v":5},null,null,null,null,null,null,null,null,null,null,null,null,null,{"$f":"BW3+1","v":6},null,null,null,null,null,null,null,null,null,null,null,null,null,{"$f":"CK3+1","v":7},null,null,null,null,null,null,null,null,null,null,null,null,null,{"$f":"CY3+1","v":8},null,null,null,null,null,null,null,null,null,null,null,null,null,{"$f":"DM3+1","v":9},null,null,null,null,null,null,null,null,null,null,null,null,null,{"$f":"EA3+1","v":10},null,null,null,null,null,null,null,null,null,null,null,null,null,{"$f":"EO3+1","v":11},null,null,null,null,null,null,null,null,null,null,null,null,null,null,null,null,null,null,null,null,1,2017,"R3C5"]
[null,null,"Descrição de Despesa",null,"Jan","Fev","Mar","Abr","Mai","Jun","Jul","Ago","Set","Out","Nov","Dez","Total",null,"Jan","Fev","Mar","Abr","Mai","Jun","Jul","Ago","Set","Out","Nov","Dez","Total",null,"Jan","Fev","Mar","Abr","Mai","Jun","Jul","Ago","Set","Out","Nov","Dez","Total",null,"Jan","Fev","Mar","Abr","Mai","Jun","Jul","Ago","Set","Out","Nov","Dez","Total",null,"Jan","Fev","Mar","Abr","Mai","Jun","Jul","Ago","Set","Out","Nov","Dez","Total",null,"Jan","Fev","Mar","Abr","Mai","Jun","Jul","Ago","Set","Out","Nov","Dez","Total",null,"Jan","Fev","Mar","Abr","Mai","Jun","Jul","Ago","Set","Out","Nov","Dez","Total",null,"Jan","Fev","Mar","Abr","Mai","Jun","Jul","Ago","Set","Out","Nov","Dez","Total",null,"Jan","Fev","Mar","Abr","Mai","Jun","Jul","Ago","Set","Out","Nov","Dez","Total",null,"Jan","Fev","Mar","Abr","Mai","Jun","Jul","Ago","Set","Out","Nov","Dez","Total",null,"Jan","Fev","Mar","Abr","Mai","Jun","Jul","Ago","Set","Out","Nov","Dez","Total",null,"Jan","Fev","Mar","Abr","Mai","Jun","Jul","Ago","Set","Out","Nov","Dez","Total",null,null,null,null,null,null,null,null,2,2018,"R3C19"]
[{"$f":"C5&D5","v":"Mão de obra pagaP"},"Saídas de Caixa","Mão de obra paga","P",0,0,0,0,0,0,0,0,0,0,0,0,{"$f":"SUM($E$5:$P$5)","v":0},null,0,0,0,0,0,0,0,0,0,0,0,0,{"$f":"SUM($S$5:$AD$5)","v":0},null,0,0,0,0,0,0,0,0,0,0,0,0,{"$f":"SUM($AG$5:$AR$5)","v":0},null,0,0,0,0,0,0,0,0,0,0,0,0,{"$f":"SUM($AU$5:$BF$5)","v":0},null,0,0,0,0,0,0,0,0,0,0,0,0,{"$f":"SUM($BI$5:$BT$5)","v":0},null,0,0,0,0,0,0,0,0,0,0,0,0,{"$f":"SUM($BW$5:$CH$5)","v":0},null,0,0,0,0,0,0,0,0,0,0,0,0,{"$f":"SUM($CK$5:$CV$5)","v":0},null,0,0,0,0,0,0,0,0,0,0,0,0,{"$f":"SUM($CY$5:$DJ$5)","v":0},null,0,0,0,0,0,0,0,0,0,0,0,0,{"$f":"SUM($DM$5:$DX$5)","v":0},null,0,0,0,0,0,0,0,0,0,0,0,0,{"$f":"SUM($EA$5:$EL$5)","v":0},null,0,0,0,0,0,0,0,0,0,0,0,0,{"$f":"SUM($EO$5:$EZ$5)","v":0},null,0,0,0,0,0,0,0,0,0,0,0,0,{"$f":"SUM($FC$5:$FN$5)","v":0},null,null,null,null,null,null,null,null,3,2019,"R3C33"]
[{"$f":"C5&D6","v":"Mão de obra pagaR"},null,null,"R",null,null,null,null,null,null,null,null,null,null,null,null,{"$f":"SUM($E$6:$P$6)","v":0},null,null,null,null,null,null,null,null,null,null,null,null,null,{"$f":"SUM($S$6:$AD$6)","v":0},null,null,null,null,null,null,null,null,null,null,null,null,null,{"$f":"SUM($AG$6:$AR$6)","v":0},null,null,null,null,null,null,null,null,null,null,null,null,null,{"$f":"SUM($AU$6:$BF$6)","v":0},null,null,null,null,null,null,null,null,null,null,null,null,null,{"$f":"SUM($BI$6:$BT$6)","v":0},null,null,null,null,null,null,null,null,null,null,null,null,null,{"$f":"SUM($BW$6:$CH$6)","v":0},null,null,null,null,null,null,null,null,null,null,null,null,null,{"$f":"SUM($CK$6:$CV$6)","v":0},null,null,null,null,null,null,null,null,null,null,null,null,null,{"$f":"SUM($CY$6:$DJ$6)","v":0},null,null,null,null,null,null,null,null,null,null,null,null,null,{"$f":"SUM($DM$6:$DX$6)","v":0},null,null,null,null,null,null,null,null,null,null,null,null,null,{"$f":"SUM($EA$6:$EL$6)","v":0},null,null,null,null,null,null,null,null,null,null,null,null,null,{"$f":"SUM($EO$6:$EZ$6)","v":0},null,null,null,null,null,null,null,null,null,null,null,null,null,{"$f":"SUM($FC$6:$FN$6)","v":0},null,null,null,null,null,null,null,null,4,2020,"R3C47"]
[{"$f":"C7&D7","v":"Energia ElétricaP"},null,"Energia Elétrica","P",0,0,0,0,0,0,0,0,0,0,0,0,{"$f":"SUM($E$7:$P$7)","v":0},null,0,0,0,0,0,0,0,0,0,0,0,0,{"$f":"SUM($S$7:$AD$7)","v":0},null,0,0,0,0,0,0,0,0,0,0,0,0,{"$f":"SUM($AG$7:$AR$7)","v":0},null,0,0,0,0,0,0,0,0,0,0,0,0,{"$f":"SUM($AU$7:$BF$7)","v":0},null,0,0,0,0,0,0,0,0,0,0,0,0,{"$f":"SUM($BI$7:$BT$7)","v":0},null,0,0,0,0,0,0,0,0,0,0,0,0,{"$f":"SUM($BW$7:$CH$7)","v":0},null,0,0,0,0,0,0,0,0,0,0,0,0,{"$f":"SUM($CK$7:$CV$7)","v":0},null,0,0,0,0,0,0,0,0,0,0,0,0,{"$f":"SUM($CY$7:$DJ$7)","v":0},null,0,0,0,0,0,0,0,0,0,0,0,0,{"$f":"SUM($DM$7:$DX$7)","v":0},null,0,0,0,0,0,0,0,0,0,0,0,0,{"$f":"SUM($EA$7:$EL$7)","v":0},null,0,0,0,0,0,0,0,0,0,0,0,0,{"$f":"SUM($EO$7:$EZ$7)","v":0},null,0,0,0,0,0,0,0,0,0,0,0,0,{"$f":"SUM($FC$7:$FN$7)","v":0},null,null,null,null,null,null,null,null,5,2021,"R3C61"]
[{"$f":"C7&D8","v":"Energia ElétricaR"},null,null,"R",null,null,null,null,null,null,null,null,null,null,null,null,{"$f":"SUM($E$8:$P$8)","v":0},null,null,null,null,null,null,null,null,null,null,null,null,null,{"$f":"SUM($S$8:$AD$8)","v":0},null,null,null,null,null,null,null,null,null,null,null,null,null,{"$f":"SUM($AG$8:$AR$8)","v":0},null,null,null,null,null,null,null,null,null,null,null,null,null,{"$f":"SUM($AU$8:$BF$8)","v":0},null,null,null,null,null,null,null,null,null,null,null,null,null,{"$f":"SUM($BI$8:$BT$8)","v":0},null,null,null,null,null,null,null,null,null,null,null,null,null,{"$f":"SUM($BW$8:$CH$8)","v":0},null,null,null,null,null,null,null,null,null,null,null,null,null,{"$f":"SUM($CK$8:$CV$8)","v":0},null,null,null,null,null,null,null,null,null,null,null,null,null,{"$f":"SUM($CY$8:$DJ$8)","v":0},null,null,null,null,null,null,null,null,null,null,null,null,null,{"$f":"SUM($DM$8:$DX$8)","v":0},null,null,null,null,null,null,null,null,null,null,null,null,null,{"$f":"SUM($EA$8:$EL$8)","v":0},null,null,null,null,null,null,null,null,null,null,null,null,null,{"$f":"SUM($EO$8:$EZ$8)","v":0},null,null,null,null,null,null,null,null,null,null,null,null,null,{"$f":"SUM($FC$8:$FN$8)","v":0},null,null,null,null,null,null,null,null,6,2022,"R3C75"]
[{"$f":"C9&D9","v":"Reparo e Manutenção de Máquinas e BenfeitoriasP"},null,"Reparo e Manutenção de Máquinas e Benfeitorias","P",0,0,0,0,0,0,0,0,0,0,0,0,{"$f":"SUM($E$9:$P$9)","v":0},null,0,0,0,0,0,0,0,0,0,0,0,0,{"$f":"SUM($S$9:$AD$9)","v":0},null,0,0,0,0,0,0,0,0,0,0,0,0,{"$f":"SUM($AG$9:$AR$9)","v":0},null,0,0,0,0,0,0,0,0,0,0,0,0,{"$f":"SUM($AU$9:$BF$9)","v":0},null,0,0,0,0,0,0,0,0,0,0,0,0,{"$f":"SUM($BI$9:$BT$9)","v":0},null,0,0,0,0,0,0,0,0,0,0,0,0,{"$f":"SUM($BW$9:$CH$9)","v":0},null,0,0,0,0,0,0,0,0,0,0,0,0,{"$f":"SUM($CK$9:$CV$9)","v":0},null,0,0,0,0,0,0,0,0,0,0,0,0,{"$f":"SUM($CY$9:$DJ$9)","v":0},null,0,0,0,0,0,0,0,0,0,0,0,0,{"$f":"SUM($DM$9:$DX$9)","v":0},null,0,0,0,0,0,0,0,0,0,0,0,0,{"$f":"SUM($EA$9:$EL$9)","v":0},null,0,0,0,0,0,0,0,0,0,0,0,0,{"$f":"SUM($EO$9:$EZ$9)","v":0},null,0,0,0,0,0,0,0,0,0,0,0,0,{"$f":"SUM($FC$9:$FN$9)","v":0},null,null,null,null,null,null,null,null,7,2023,"R3C89"]
[{"$f":"C9&D10","v":"Reparo e Manutenção de Máquinas e BenfeitoriasR"},null,null,"R",null,null,null,null,null,null,null,null,null,null,null,null,{"$f":"SUM($E$10:$P$10)","v":0},null,null,null,null,null,null,null,null,null,null,null,null,null,{"$f":"SUM($S$10:$AD$10)","v":0},null,null,null,null,null,null,null,null,null,null,null,null,null,{"$f":"SUM($AG$10:$AR$10)","v":0},null,null,null,null,null,null,null,null,null,null,null,null,null,{"$f":"SUM($AU$10:$BF$10)","v":0},null,null,null,null,null,null,null,null,null,null,null,null,null,{"$f":"SUM($BI$10:$BT$10)","v":0},null,null,null,null,null,null,null,null,null,null,null,null,null,{"$f":"SUM($BW$10:$CH$10)","v":0},null,null,null,null,null,null,null,null,null,null,null,null,null,{"$f":"SUM($CK$10:$CV$10)","v":0},null,null,null,null,null,null,null,null,null,null,null,null,null,{"$f":"SUM($CY$10:$DJ$10)","v":0},null,null,null,null,null,null,null,null,null,null,null,null,null,{"$f":"SUM($DM$10:$DX$10)","v":0},null,null,null,null,null,null,null,null,null,null,null,null,null,{"$f":"SUM($EA$10:$EL$10)","v":0},null,null,null,null,null,null,null,null,null,null,null,null,null,{"$f":"SUM($EO$10:$EZ$10)","v":0},null,null,null,null,null,null,null,null,null,null,null,null,null,{"$f":"SUM($FC$10:$FN$10)","v":0},null,null,null,null,null,null,null,null,8,2024,"R3C103"]
[{"$f":"C11&D11","v":"ReinvestimentoP"},null,"Reinvestimento","P",0,0,0,0,0,0,0,0,0,0,0,0,{"$f":"SUM($E$11:$P$11)","v":0},null,0,0,0,0,0,0,0,0,0,0,0,0,{"$f":"SUM($S$11:$AD$11)","v":0},null,0,0,0,0,0,0,0,0,0,0,0,0,{"$f":"SUM($AG$11:$AR$11)","v":0},null,0,0,0,0,0,0,0,0,0,0,0,0,{"$f":"SUM($AU$11:$BF$11)","v":0},null,0,0,0,0,0,0,0,0,0,0,0,0,{"$f":"SUM($BI$11:$BT$11)","v":0},null,0,0,0,0,0,0,0,0,0,0,0,0,{"$f":"SUM($BW$11:$CH$11)","v":0},null,0,0,0,0,0,0,0,0,0,0,0,0,{"$f":"SUM($CK$11:$CV$11)","v":0},null,0,0,0,0,0,0,0,0,0,0,0,0,{"$f":"SUM($CY$11:$DJ$11)","v":0},null,0,0,0,0,0,0,0,0,0,0,0,0,{"$f":"SUM($DM$11:$DX$11)","v":0},null,0,0,0,0,0,0,0,0,0,0,0,0,{"$f":"SUM($EA$11:$EL$11)","v":0},null,0,0,0,0,0,0,0,0,0,0,0,0,{"$f":"SUM($EO$11:$EZ$11)","v":0},null,0,0,0,0,0,0,0,0,0,0,0,0,{"$f":"SUM($FC$11:$FN$11)","v":0},null,null,null,null,null,null,null,null,9,2025,"R3C117"]
[{"$f":"C11&D12","v":"ReinvestimentoR"},null,null,"R",null,null,null,null,null,null,null,null,null,null,null,null,{"$f":"SUM($E$12:$P$12)","v":0},null,null,null,null,null,null,null,null,null,null,null,null,null,{"$f":"SUM($S$12:$AD$12)","v":0},null,null,null,null,null,null,null,null,null,null,null,null,null,{"$f":"SUM($AG$12:$AR$12)","v":0},null,null,null,null,null,null,null,null,null,null,null,null,null,{"$f":"SUM($AU$12:$BF$12)","v":0},null,null,null,null,null,null,null,null,null,null,null,null,null,{"$f":"SUM($BI$12:$BT$12)","v":0},null,null,null,null,null,null,null,null,null,null,null,null,null,{"$f":"SUM($BW$12:$CH$12)","v":0},null,null,null,null,null,null,null,null,null,null,null,null,null,{"$f":"SUM($CK$12:$CV$12)","v":0},null,null,null,null,null,null,null,null,null,null,null,null,null,{"$f":"SUM($CY$12:$DJ$12)","v":0},null,null,null,null,null,null,null,null,null,null,null,null,null,{"$f":"SUM($DM$12:$DX$12)","v":0},null,null,null,null,null,null,null,null,null,null,null,null,null,{"$f":"SUM($EA$12:$EL$12)","v":0},null,null,null,null,null,null,null,null,null,null,null,null,null,{"$f":"SUM($EO$12:$EZ$12)","v":0},null,null,null,null,null,null,null,null,null,null,null,null,null,{"$f":"SUM($FC$12:$FN$12)","v":0},null,null,null,null,null,null,null,null,10,2026,"R3C131"]
[{"$f":"C13&D13","v":"Licença AmbientalP"},null,"Licença Ambiental","P",0,0,0,0,0,0,0,0,0,0,0,0,{"$f":"SUM($E$13:$P$13)","v":0},null,0,0,0,0,0,0,0,0,0,0,0,0,{"$f":"SUM($S$13:$AD$13)","v":0},null,0,0,0,0,0,0,0,0,0,0,0,0,{"$f":"SUM($AG$13:$AR$13)","v":0},null,0,0,0,0,0,0,0,0,0,0,0,0,{"$f":"SUM($AU$13:$BF$13)","v":0},null,0,0,0,0,0,0,0,0,0,0,0,0,{"$f":"SUM($BI$13:$BT$13)","v":0},null,0,0,0,0,0,0,0,0,0,0,0,0,{"$f":"SUM($BW$13:$CH$13)","v":0},null,0,0,0,0,0,0,0,0,0,0,0,0,{"$f":"SUM($CK$13:$CV$13)","v":0},null,0,0,0,0,0,0,0,0,0,0,0,0,{"$f":"SUM($CY$13:$DJ$13)","v":0},null,0,0,0,0,0,0,0,0,0,0,0,0,{"$f":"SUM($DM$13:$DX$13)","v":0},null,0,0,0,0,0,0,0,0,0,0,0,0,{"$f":"SUM($EA$13:$EL$13)","v":0},null,0,0,0,0,0,0,0,0,0,0,0,0,{"$f":"SUM($EO$13:$EZ$13)","v":0},null,0,0,0,0,0,0,0,0,0,0,0,0,{"$f":"SUM($FC$13:$FN$13)","v":0},null,null,null,null,null,null,null,null,11,2027,"R3C145"]
[{"$f":"C13&D14","v":"Licença AmbientalR"},null,null,"R",null,null,null,null,null,null,null,null,null,null,null,null,{"$f":"SUM($E$14:$P$14)","v":0},null,null,null,null,null,null,null,null,null,null,null,null,null,{"$f":"SUM($S$14:$AD$14)","v":0},null,null,null,null,null,null,null,null,null,null,null,null,null,{"$f":"SUM($AG$14:$AR$14)","v":0},null,null,null,null,null,null,null,null,null,null,null,null,null,{"$f":"SUM($AU$14:$BF$14)","v":0},null,null,null,null,null,null,null,null,null,null,null,null,null,{"$f":"SUM($BI$14:$BT$14)","v":0},null,null,null,null,null,null,null,null,null,null,null,null,null,{"$f":"SUM($BW$14:$CH$14)","v":0},null,null,null,null,null,null,null,null,null,null,null,null,null,{"$f":"SUM($CK$14:$CV$14)","v":0},null,null,null,null,null,null,null,null,null,null,null,null,null,{"$f":"SUM($CY$14:$DJ$14)","v":0},null,null,null,null,null,null,null,null,null,null,null,null,null,{"$f":"SUM($DM$14:$DX$14)","v":0},null,null,null,null,null,null,null,null,null,null,null,null,null,{"$f":"SUM($EA$14:$EL$14)","v":0},null,null,null,null,null,null,null,null,null,null,null,null,null,{"$f":"SUM($EO$14:$EZ$14)","v":0},null,null,null,null,null,null,null,null,null,null,null,null,null,{"$f":"SUM($FC$14:$FN$14)","v":0},null,null,null,null,null,null,null,null,12,2028,"R3C159"]
[{"$f":"C15&D15","v":"SeguroP"},null,"Seguro","P",0,0,0,0,0,0,0,0,0,0,0,0,{"$f":"SUM($E$15:$P$15)","v":0},null,0,0,0,0,0,0,0,0,0,0,0,0,{"$f":"SUM($S$15:$AD$15)","v":0},null,0,0,0,0,0,0,0,0,0,0,0,0,{"$f":"SUM($AG$15:$AR$15)","v":0},null,0,0,0,0,0,0,0,0,0,0,0,0,{"$f":"SUM($AU$15:$BF$15)","v":0},null,0,0,0,0,0,0,0,0,0,0,0,0,{"$f":"SUM($BI$15:$BT$15)","v":0},null,0,0,0,0,0,0,0,0,0,0,0,0,{"$f":"SUM($BW$15:$CH$15)","v":0},null,0,0,0,0,0,0,0,0,0,0,0,0,{"$f":"SUM($CK$15:$CV$15)","v":0},null,0,0,0,0,0,0,0,0,0,0,0,0,{"$f":"SUM($CY$15:$DJ$15)","v":0},null,0,0,0,0,0,0,0,0,0,0,0,0,{"$f":"SUM($DM$15:$DX$15)","v":0},null,0,0,0,0,0,0,0,0,0,0,0,0,{"$f":"SUM($EA$15:$EL$15)","v":0},null,0,0,0,0,0,0,0,0,0,0,0,0,{"$f":"SUM($EO$15:$EZ$15)","v":0},null,0,0,0,0,0,0,0,0,0,0,0,0,{"$f":"SUM($FC$15:$FN$15)","v":0}]
[{"$f":"C15&D16","v":"SeguroR"},null,null,"R",null,null,null,null,null,null,null,null,null,null,null,null,{"$f":"SUM($E$16:$P$16)","v":0},null,null,null,null,null,null,null,null,null,null,null,null,null,{"$f":"SUM($S$16:$AD$16)","v":0},null,null,null,null,null,null,null,null,null,null,null,null,null,{"$f":"SUM($AG$16:$AR$16)","v":0},null,null,null,null,null,null,null,null,null,null,null,null,null,{"$f":"SUM($AU$16:$BF$16)","v":0},null,null,null,null,null,null,null,null,null,null,null,null,null,{"$f":"SUM($BI$16:$BT$16)","v":0},null,null,null,null,null,null,null,null,null,null,null,null,null,{"$f":"SUM($BW$16:$CH$16)","v":0},null,null,null,null,null,null,null,null,null,null,null,null,null,{"$f":"SUM($CK$16:$CV$16)","v":0},null,null,null,null,null,null,null,null,null,null,null,null,null,{"$f":"SUM($CY$16:$DJ$16)","v":0},null,null,null,null,null,null,null,null,null,null,null,null,null,{"$f":"SUM($DM$16:$DX$16)","v":0},null,null,null,null,null,null,null,null,null,null,null,null,null,{"$f":"SUM($EA$16:$EL$16)","v":0},null,null,null,null,null,null,null,null,null,null,null,null,null,{"$f":"SUM($EO$16:$EZ$16)","v":0},null,null,null,null,null,null,null,null,null,null,null,null,null,{"$f":"SUM($FC$16:$FN$16)","v":0}]
["AP",null,"A","P",0,0,0,0,0,0,0,0,0,0,0,0,{"$f":"SUM($E$17:$P$17)","v":0},null,0,0,0,0,0,0,0,0,0,0,0,0,{"$f":"SUM($S$17:$AD$17)","v":0},null,0,0,0,0,0,0,0,0,0,0,0,0,{"$f":"SUM($AG$17:$AR$17)","v":0},null,0,0,0,0,0,0,0,0,0,0,0,0,{"$f":"SUM($AU$17:$BF$17)","v":0},null,0,0,0,0,0,0,0,0,0,0,0,0,{"$f":"SUM($BI$17:$BT$17)","v":0},null,0,0,0,0,0,0,0,0,0,0,0,0,{"$f":"SUM($BW$17:$CH$17)","v":0},null,0,0,0,0,0,0,0,0,0,0,0,0,{"$f":"SUM($CK$17:$CV$17)","v":0},null,0,0,0,0,0,0,0,0,0,0,0,0,{"$f":"SUM($CY$17:$DJ$17)","v":0},null,0,0,0,0,0,0,0,0,0,0,0,0,{"$f":"SUM($DM$17:$DX$17)","v":0},null,0,0,0,0,0,0,0,0,0,0,0,0,{"$f":"SUM($EA$17:$EL$17)","v":0},null,0,0,0,0,0,0,0,0,0,0,0,0,{"$f":"SUM($EO$17:$EZ$17)","v":0},null,0,0,0,0,0,0,0,0,0,0,0,0,{"$f":"SUM($FC$17:$FN$17)","v":0}]
["AR",null,null,"R",null,null,null,null,null,null,null,null,null,null,null,null,{"$f":"SUM($E$18:$P$18)","v":0},null,null,null,null,null,null,null,null,null,null,null,null,null,{"$f":"SUM($S$18:$AD$18)","v":0},null,null,null,null,null,null,null,null,null,null,null,null,null,{"$f":"SUM($AG$18:$AR$18)","v":0},null,null,null,null,null,null,null,null,null,null,null,null,null,{"$f":"SUM($AU$18:$BF$18)","v":0},null,null,null,null,null,null,null,null,null,null,null,null,null,{"$f":"SUM($BI$18:$BT$18)","v":0},null,null,null,null,null,null,null,null,null,null,null,null,null,{"$f":"SUM($BW$18:$CH$18)","v":0},null,null,null,null,null,null,null,null,null,null,null,null,null,{"$f":"SUM($CK$18:$CV$18)","v":0},null,null,null,null,null,null,null,null,null,null,null,null,null,{"$f":"SUM($CY$18:$DJ$18)","v":0},null,null,null,null,null,null,null,null,null,null,null,null,null,{"$f":"SUM($DM$18:$DX$18)","v":0},null,null,null,null,null,null,null,null,null,null,null,null,null,{"$f":"SUM($EA$18:$EL$18)","v":0},null,null,null,null,null,null,null,null,null,null,null,null,null,{"$f":"SUM($EO$18:$EZ$18)","v":0},null,null,null,null,null,null,null,null,null,null,null,null,null,{"$f":"SUM($FC$18:$FN$18)","v":0}]
["BP",null,"B","P",0,0,0,0,0,0,0,0,0,0,0,0,{"$f":"SUM($E$19:$P$19)","v":0},null,0,0,0,0,0,0,0,0,0,0,0,0,{"$f":"SUM($S$19:$AD$19)","v":0},null,0,0,0,0,0,0,0,0,0,0,0,0,{"$f":"SUM($AG$19:$AR$19)","v":0},null,0,0,0,0,0,0,0,0,0,0,0,0,{"$f":"SUM($AU$19:$BF$19)","v":0},null,0,0,0,0,0,0,0,0,0,0,0,0,{"$f":"SUM($BI$19:$BT$19)","v":0},null,0,0,0,0,0,0,0,0,0,0,0,0,{"$f":"SUM($BW$19:$CH$19)","v":0},null,0,0,0,0,0,0,0,0,0,0,0,0,{"$f":"SUM($CK$19:$CV$19)","v":0},null,0,0,0,0,0,0,0,0,0,0,0,0,{"$f":"SUM($CY$19:$DJ$19)","v":0},null,0,0,0,0,0,0,0,0,0,0,0,0,{"$f":"SUM($DM$19:$DX$19)","v":0},null,0,0,0,0,0,0,0,0,0,0,0,0,{"$f":"SUM($EA$19:$EL$19)","v":0},null,0,0,0,0,0,0,0,0,0,0,0,0,{"$f":"SUM($EO$19:$EZ$19)","v":0},null,0,0,0,0,0,0,0,0,0,0,0,0,{"$f":"SUM($FC$19:$FN$19)","v":0}]
["BR",null,null,"R",null,null,null,null,null,null,null,null,null,null,null,null,{"$f":"SUM($E$20:$P$20)","v":0},null,null,null,null,null,null,null,null,null,null,null,null,null,{"$f":"SUM($S$20:$AD$20)","v":0},null,null,null,null,null,null,null,null,null,null,null,null,null,{"$f":"SUM($AG$20:$AR$20)","v":0},null,null,null,null,null,null,null,null,null,null,null,null,null,{"$f":"SUM($AU$20:$BF$20)","v":0},null,null,null,null,null,null,null,null,null,null,null,null,null,{"$f":"SUM($BI$20:$BT$20)","v":0},null,null,null,null,null,null,null,null,null,null,null,null,null,{"$f":"SUM($BW$20:$CH$20)","v":0},null,null,null,null,null,null,null,null,null,null,null,null,null,{"$f":"SUM($CK$20:$CV$20)","v":0},null,null,null,null,null,null,null,null,null,null,null,null,null,{"$f":"SUM($CY$20:$DJ$20)","v":0},null,null,null,null,null,null,null,null,null,null,null,null,null,{"$f":"SUM($DM$20:$DX$20)","v":0},null,null,null,null,null,null,null,null,null,null,null,null,null,{"$f":"SUM($EA$20:$EL$20)","v":0},null,null,null,null,null,null,null,null,null,null,null,null,null,{"$f":"SUM($EO$20:$EZ$20)","v":0},null,null,null,null,null,null,null,null,null,null,null,null,null,{"$f":"SUM($FC$20:$FN$20)","v":0}]
["CP",null,"C","P",0,0,0,0,0,0,0,0,0,0,0,0,{"$f":"SUM($E$21:$P$21)","v":0},null,0,0,0,0,0,0,0,0,0,0,0,0,{"$f":"SUM($S$21:$AD$21)","v":0},null,0,0,0,0,0,0,0,0,0,0,0,0,{"$f":"SUM($AG$21:$AR$21)","v":0},null,0,0,0,0,0,0,0,0,0,0,0,0,{"$f":"SUM($AU$21:$BF$21)","v":0},null,0,0,0,0,0,0,0,0,0,0,0,0,{"$f":"SUM($BI$21:$BT$21)","v":0},null,0,0,0,0,0,0,0,0,0,0,0,0,{"$f":"SUM($BW$21:$CH$21)","v":0},null,0,0,0,0,0,0,0,0,0,0,0,0,{"$f":"SUM($CK$21:$CV$21)","v":0},null,0,0,0,0,0,0,0,0,0,0,0,0,{"$f":"SUM($CY$21:$DJ$21)","v":0},null,0,0,0,0,0,0,0,0,0,0,0,0,{"$f":"SUM($DM$21:$DX$21)","v":0},null,0,0,0,0,0,0,0,0,0,0,0,0,{"$f":"SUM($EA$21:$EL$21)","v":0},null,0,0,0,0,0,0,0,0,0,0,0,0,{"$f":"SUM($EO$21:$EZ$21)","v":0},null,0,0,0,0,0,0,0,0,0,0,0,0,{"$f":"SUM($FC$21:$FN$21)","v":0}]
["CR",null,null,"R",null,null,null,null,null,null,null,null,null,null,null,null,{"$f":"SUM($E$22:$P$22)","v":0},null,null,null,null,null,null,null,null,null,null,null,null,null,{"$f":"SUM($S$22:$AD$22)","v":0},null,null,null,null,null,null,null,null,null,null,null,null,null,{"$f":"SUM($AG$22:$AR$22)","v":0},null,null,null,null,null,null,null,null,null,null,null,null,null,{"$f":"SUM($AU$22:$BF$22)","v":0},null,null,null,null,null,null,null,null,null,null,null,null,null,{"$f":"SUM($BI$22:$BT$22)","v":0},null,null,null,null,null,null,null,null,null,null,null,null,null,{"$f":"SUM($BW$22:$CH$22)","v":0},null,null,null,null,null,null,null,null,null,null,null,null,null,{"$f":"SUM($CK$22:$CV$22)","v":0},null,null,null,null,null,null,null,null,null,null,null,null,null,{"$f":"SUM($CY$22:$DJ$22)","v":0},null,null,null,null,null,null,null,null,null,null,null,null,null,{"$f":"SUM($DM$22:$DX$22)","v":0},null,null,null,null,null,null,null,null,null,null,null,null,null,{"$f":"SUM($EA$22:$EL$22)","v":0},null,null,null,null,null,null,null,null,null,null,null,null,null,{"$f":"SUM($EO$22:$EZ$22)","v":0},null,null,null,null,null,null,null,null,null,null,null,null,null,{"$f":"SUM($FC$22:$FN$22)","v":0}]
["DP",null,"D","P",0,0,0,0,0,0,0,0,0,0,0,0,{"$f":"SUM($E$23:$P$23)","v":0},null,0,0,0,0,0,0,0,0,0,0,0,0,{"$f":"SUM($S$23:$AD$23)","v":0},null,0,0,0,0,0,0,0,0,0,0,0,0,{"$f":"SUM($AG$23:$AR$23)","v":0},null,0,0,0,0,0,0,0,0,0,0,0,0,{"$f":"SUM($AU$23:$BF$23)","v":0},null,0,0,0,0,0,0,0,0,0,0,0,0,{"$f":"SUM($BI$23:$BT$23)","v":0},null,0,0,0,0,0,0,0,0,0,0,0,0,{"$f":"SUM($BW$23:$CH$23)","v":0},null,0,0,0,0,0,0,0,0,0,0,0,0,{"$f":"SUM($CK$23:$CV$23)","v":0},null,0,0,0,0,0,0,0,0,0,0,0,0,{"$f":"SUM($CY$23:$DJ$23)","v":0},null,0,0,0,0,0,0,0,0,0,0,0,0,{"$f":"SUM($DM$23:$DX$23)","v":0},null,0,0,0,0,0,0,0,0,0,0,0,0,{"$f":"SUM($EA$23:$EL$23)","v":0},null,0,0,0,0,0,0,0,0,0,0,0,0,{"$f":"SUM($EO$23:$EZ$23)","v":0},null,0,0,0,0,0,0,0,0,0,0,0,0,{"$f":"SUM($FC$23:$FN$23)","v":0}]
["DR",null,null,"R",null,null,null,null,null,null,null,null,null,null,null,null,{"$f":"SUM($E$24:$P$24)","v":0},null,null,null,null,null,null,null,null,null,null,null,null,null,{"$f":"SUM($S$24:$AD$24)","v":0},null,null,null,null,null,null,null,null,null,null,null,null,null,{"$f":"SUM($AG$24:$AR$24)","v":0},null,null,null,null,null,null,null,null,null,null,null,null,null,{"$f":"SUM($AU$24:$BF$24)","v":0},null,null,null,null,null,null,null,null,null,null,null,null,null,{"$f":"SUM($BI$24:$BT$24)","v":0},null,null,null,null,null,null,null,null,null,null,null,null,null,{"$f":"SUM($BW$24:$CH$24)","v":0},null,null,null,null,null,null,null,null,null,null,null,null,null,{"$f":"SUM($CK$24:$CV$24)","v":0},null,null,null,null,null,null,null,null,null,null,null,null,null,{"$f":"SUM($CY$24:$DJ$24)","v":0},null,null,null,null,null,null,null,null,null,null,null,null,null,{"$f":"SUM($DM$24:$DX$24)","v":0},null,null,null,null,null,null,null,null,null,null,null,null,null,{"$f":"SUM($EA$24:$EL$24)","v":0},null,null,null,null,null,null,null,null,null,null,null,null,null,{"$f":"SUM($EO$24:$EZ$24)","v":0},null,null,null,null,null,null,null,null,null,null,null,null,null,{"$f":"SUM($FC$24:$FN$24)","v":0}]
["EP",null,"E","P",0,0,0,0,0,0,0,0,0,0,0,0,{"$f":"SUM($E$25:$P$25)","v":0},null,0,0,0,0,0,0,0,0,0,0,0,0,{"$f":"SUM($S$25:$AD$25)","v":0},null,0,0,0,0,0,0,0,0,0,0,0,0,{"$f":"SUM($AG$25:$AR$25)","v":0},null,0,0,0,0,0,0,0,0,0,0,0,0,{"$f":"SUM($AU$25:$BF$25)","v":0},null,0,0,0,0,0,0,0,0,0,0,0,0,{"$f":"SUM($BI$25:$BT$25)","v":0},null,0,0,0,0,0,0,0,0,0,0,0,0,{"$f":"SUM($BW$25:$CH$25)","v":0},null,0,0,0,0,0,0,0,0,0,0,0,0,{"$f":"SUM($CK$25:$CV$25)","v":0},null,0,0,0,0,0,0,0,0,0,0,0,0,{"$f":"SUM($CY$25:$DJ$25)","v":0},null,0,0,0,0,0,0,0,0,0,0,0,0,{"$f":"SUM($DM$25:$DX$25)","v":0},null,0,0,0,0,0,0,0,0,0,0,0,0,{"$f":"SUM($EA$25:$EL$25)","v":0},null,0,0,0,0,0,0,0,0,0,0,0,0,{"$f":"SUM($EO$25:$EZ$25)","v":0},null,0,0,0,0,0,0,0,0,0,0,0,0,{"$f":"SUM($FC$25:$FN$25)","v":0}]
["ER",null,null,"R",null,null,null,null,null,null,null,null,null,null,null,null,{"$f":"SUM($E$26:$P$26)","v":0},null,null,null,null,null,null,null,null,null,null,null,null,null,{"$f":"SUM($S$26:$AD$26)","v":0},null,null,null,null,null,null,null,null,null,null,null,null,null,{"$f":"SUM($AG$26:$AR$26)","v":0},null,null,null,null,null,null,null,null,null,null,null,null,null,{"$f":"SUM($AU$26:$BF$26)","v":0},null,null,null,null,null,null,null,null,null,null,null,null,null,{"$f":"SUM($BI$26:$BT$26)","v":0},null,null,null,null,null,null,null,null,null,null,null,null,null,{"$f":"SUM($BW$26:$CH$26)","v":0},null,null,null,null,null,null,null,null,null,null,null,null,null,{"$f":"SUM($CK$26:$CV$26)","v":0},null,null,null,null,null,null,null,null,null,null,null,null,null,{"$f":"SUM($CY$26:$DJ$26)","v":0},null,null,null,null,null,null,null,null,null,null,null,null,null,{"$f":"SUM($DM$26:$DX$26)","v":0},null,null,null,null,null,null,null,null,null,null,null,null,null,{"$f":"SUM($EA$26:$EL$26)","v":0},null,null,null,null,null,null,null,null,null,null,null,null,null,{"$f":"SUM($EO$26:$EZ$26)","v":0},null,null,null,null,null,null,null,null,null,null,null,null,null,{"$f":"SUM($FC$26:$FN$26)","v":0}]
["FP",null,"F","P",0,0,0,0,0,0,0,0,0,0,0,0,{"$f":"SUM($E$27:$P$27)","v":0},null,0,0,0,0,0,0,0,0,0,0,0,0,{"$f":"SUM($S$27:$AD$27)","v":0},null,0,0,0,0,0,0,0,0,0,0,0,0,{"$f":"SUM($AG$27:$AR$27)","v":0},null,0,0,0,0,0,0,0,0,0,0,0,0,{"$f":"SUM($AU$27:$BF$27)","v":0},null,0,0,0,0,0,0,0,0,0,0,0,0,{"$f":"SUM($BI$27:$BT$27)","v":0},null,0,0,0,0,0,0,0,0,0,0,0,0,{"$f":"SUM($BW$27:$CH$27)","v":0},null,0,0,0,0,0,0,0,0,0,0,0,0,{"$f":"SUM($CK$27:$CV$27)","v":0},null,0,0,0,0,0,0,0,0,0,0,0,0,{"$f":"SUM($CY$27:$DJ$27)","v":0},null,0,0,0,0,0,0,0,0,0,0,0,0,{"$f":"SUM($DM$27:$DX$27)","v":0},null,0,0,0,0,0,0,0,0,0,0,0,0,{"$f":"SUM($EA$27:$EL$27)","v":0},null,0,0,0,0,0,0,0,0,0,0,0,0,{"$f":"SUM($EO$27:$EZ$27)","v":0},null,0,0,0,0,0,0,0,0,0,0,0,0,{"$f":"SUM($FC$27:$FN$27)","v":0}]
["FR",null,null,"R",null,null,null,null,null,null,null,null,null,null,null,null,{"$f":"SUM($E$28:$P$28)","v":0},null,null,null,null,null,null,null,null,null,null,null,null,null,{"$f":"SUM($S$28:$AD$28)","v":0},null,null,null,null,null,null,null,null,null,null,null,null,null,{"$f":"SUM($AG$28:$AR$28)","v":0},null,null,null,null,null,null,null,null,null,null,null,null,null,{"$f":"SUM($AU$28:$BF$28)","v":0},null,null,null,null,null,null,null,null,null,null,null,null,null,{"$f":"SUM($BI$28:$BT$28)","v":0},null,null,null,null,null,null,null,null,null,null,null,null,null,{"$f":"SUM($BW$28:$CH$28)","v":0},null,null,null,null,null,null,null,null,null,null,null,null,null,{"$f":"SUM($CK$28:$CV$28)","v":0},null,null,null,null,null,null,null,null,null,null,null,null,null,{"$f":"SUM($CY$28:$DJ$28)","v":0},null,null,null,null,null,null,null,null,null,null,null,null,null,{"$f":"SUM($DM$28:$DX$28)","v":0},null,null,null,null,null,null,null,null,null,null,null,null,null,{"$f":"SUM($EA$28:$EL$28)","v":0},null,null,null,null,null,null,null,null,null,null,null,null,null,{"$f":"SUM($EO$28:$EZ$28)","v":0},null,null,null,null,null,null,null,null,null,null,null,null,null,{"$f":"SUM($FC$28:$FN$28)","v":0}]
["GP",null,"G","P",0,0,0,0,0,0,0,0,0,0,0,0,{"$f":"SUM($E$29:$P$29)","v":0},null,0,0,0,0,0,0,0,0,0,0,0,0,{"$f":"SUM($S$29:$AD$29)","v":0},null,0,0,0,0,0,0,0,0,0,0,0,0,{"$f":"SUM($AG$29:$AR$29)","v":0},null,0,0,0,0,0,0,0,0,0,0,0,0,{"$f":"SUM($AU$29:$BF$29)","v":0},null,0,0,0,0,0,0,0,0,0,0,0,0,{"$f":"SUM($BI$29:$BT$29)","v":0},null,0,0,0,0,0,0,0,0,0,0,0,0,{"$f":"SUM($BW$29:$CH$29)","v":0},null,0,0,0,0,0,0,0,0,0,0,0,0,{"$f":"SUM($CK$29:$CV$29)","v":0},null,0,0,0,0,0,0,0,0,0,0,0,0,{"$f":"SUM($CY$29:$DJ$29)","v":0},null,0,0,0,0,0,0,0,0,0,0,0,0,{"$f":"SUM($DM$29:$DX$29)","v":0},null,0,0,0,0,0,0,0,0,0,0,0,0,{"$f":"SUM($EA$29:$EL$29)","v":0},null,0,0,0,0,0,0,0,0,0,0,0,0,{"$f":"SUM($EO$29:$EZ$29)","v":0},null,0,0,0,0,0,0,0,0,0,0,0,0,{"$f":"SUM($FC$29:$FN$29)","v":0}]
["GR",null,null,"R",null,null,null,null,null,null,null,null,null,null,null,null,{"$f":"SUM($E$30:$P$30)","v":0},null,null,null,null,null,null,null,null,null,null,null,null,null,{"$f":"SUM($S$30:$AD$30)","v":0},null,null,null,null,null,null,null,null,null,null,null,null,null,{"$f":"SUM($AG$30:$AR$30)","v":0},null,null,null,null,null,null,null,null,null,null,null,null,null,{"$f":"SUM($AU$30:$BF$30)","v":0},null,null,null,null,null,null,null,null,null,null,null,null,null,{"$f":"SUM($BI$30:$BT$30)","v":0},null,null,null,null,null,null,null,null,null,null,null,null,null,{"$f":"SUM($BW$30:$CH$30)","v":0},null,null,null,null,null,null,null,null,null,null,null,null,null,{"$f":"SUM($CK$30:$CV$30)","v":0},null,null,null,null,null,null,null,null,null,null,null,null,null,{"$f":"SUM($CY$30:$DJ$30)","v":0},null,null,null,null,null,null,null,null,null,null,null,null,null,{"$f":"SUM($DM$30:$DX$30)","v":0},null,null,null,null,null,null,null,null,null,null,null,null,null,{"$f":"SUM($EA$30:$EL$30)","v":0},null,null,null,null,null,null,null,null,null,null,null,null,null,{"$f":"SUM($EO$30:$EZ$30)","v":0},null,null,null,null,null,null,null,null,null,null,null,null,null,{"$f":"SUM($FC$30:$FN$30)","v":0}]
["HP",null,"H","P",0,0,0,0,0,0,0,0,0,0,0,0,{"$f":"SUM($E$31:$P$31)","v":0},null,0,0,0,0,0,0,0,0,0,0,0,0,{"$f":"SUM($S$31:$AD$31)","v":0},null,0,0,0,0,0,0,0,0,0,0,0,0,{"$f":"SUM($AG$31:$AR$31)","v":0},null,0,0,0,0,0,0,0,0,0,0,0,0,{"$f":"SUM($AU$31:$BF$31)","v":0},null,0,0,0,0,0,0,0,0,0,0,0,0,{"$f":"SUM($BI$31:$BT$31)","v":0},null,0,0,0,0,0,0,0,0,0,0,0,0,{"$f":"SUM($BW$31:$CH$31)","v":0},null,0,0,0,0,0,0,0,0,0,0,0,0,{"$f":"SUM($CK$31:$CV$31)","v":0},null,0,0,0,0,0,0,0,0,0,0,0,0,{"$f":"SUM($CY$31:$DJ$31)","v":0},null,0,0,0,0,0,0,0,0,0,0,0,0,{"$f":"SUM($DM$31:$DX$31)","v":0},null,0,0,0,0,0,0,0,0,0,0,0,0,{"$f":"SUM($EA$31:$EL$31)","v":0},null,0,0,0,0,0,0,0,0,0,0,0,0,{"$f":"SUM($EO$31:$EZ$31)","v":0},null,0,0,0,0,0,0,0,0,0,0,0,0,{"$f":"SUM($FC$31:$FN$31)","v":0}]
["HR",null,null,"R",null,null,null,null,null,null,null,null,null,null,null,null,{"$f":"SUM($E$32:$P$32)","v":0},null,null,null,null,null,null,null,null,null,null,null,null,null,{"$f":"SUM($S$32:$AD$32)","v":0},null,null,null,null,null,null,null,null,null,null,null,null,null,{"$f":"SUM($AG$32:$AR$32)","v":0},null,null,null,null,null,null,null,null,null,null,null,null,null,{"$f":"SUM($AU$32:$BF$32)","v":0},null,null,null,null,null,null,null,null,null,null,null,null,null,{"$f":"SUM($BI$32:$BT$32)","v":0},null,null,null,null,null,null,null,null,null,null,null,null,null,{"$f":"SUM($BW$32:$CH$32)","v":0},null,null,null,null,null,null,null,null,null,null,null,null,null,{"$f":"SUM($CK$32:$CV$32)","v":0},null,null,null,null,null,null,null,null,null,null,null,null,null,{"$f":"SUM($CY$32:$DJ$32)","v":0},null,null,null,null,null,null,null,null,null,null,null,null,null,{"$f":"SUM($DM$32:$DX$32)","v":0},null,null,null,null,null,null,null,null,null,null,null,null,null,{"$f":"SUM($EA$32:$EL$32)","v":0},null,null,null,null,null,null,null,null,null,null,null,null,null,{"$f":"SUM($EO$32:$EZ$32)","v":0},null,null,null,null,null,null,null,null,null,null,null,null,null,{"$f":"SUM($FC$32:$FN$32)","v":0}]
["IP",null,"I","P",0,0,0,0,0,0,0,0,0,0,0,0,{"$f":"SUM($E$33:$P$33)","v":0},null,0,0,0,0,0,0,0,0,0,0,0,0,{"$f":"SUM($S$33:$AD$33)","v":0},null,0,0,0,0,0,0,0,0,0,0,0,0,{"$f":"SUM($AG$33:$AR$33)","v":0},null,0,0,0,0,0,0,0,0,0,0,0,0,{"$f":"SUM($AU$33:$BF$33)","v":0},null,0,0,0,0,0,0,0,0,0,0,0,0,{"$f":"SUM($BI$33:$BT$33)","v":0},null,0,0,0,0,0,0,0,0,0,0,0,0,{"$f":"SUM($BW$33:$CH$33)","v":0},null,0,0,0,0,0,0,0,0,0,0,0,0,{"$f":"SUM($CK$33:$CV$33)","v":0},null,0,0,0,0,0,0,0,0,0,0,0,0,{"$f":"SUM($CY$33:$DJ$33)","v":0},null,0,0,0,0,0,0,0,0,0,0,0,0,{"$f":"SUM($DM$33:$DX$33)","v":0},null,0,0,0,0,0,0,0,0,0,0,0,0,{"$f":"SUM($EA$33:$EL$33)","v":0},null,0,0,0,0,0,0,0,0,0,0,0,0,{"$f":"SUM($EO$33:$EZ$33)","v":0},null,0,0,0,0,0,0,0,0,0,0,0,0,{"$f":"SUM($FC$33:$FN$33)","v":0}]
["IR",null,null,"R",null,null,null,null,null,null,null,null,null,null,null,null,{"$f":"SUM($E$34:$P$34)","v":0},null,null,null,null,null,null,null,null,null,null,null,null,null,{"$f":"SUM($S$34:$AD$34)","v":0},null,null,null,null,null,null,null,null,null,null,null,null,null,{"$f":"SUM($AG$34:$AR$34)","v":0},null,null,null,null,null,null,null,null,null,null,null,null,null,{"$f":"SUM($AU$34:$BF$34)","v":0},null,null,null,null,null,null,null,null,null,null,null,null,null,{"$f":"SUM($BI$34:$BT$34)","v":0},null,null,null,null,null,null,null,null,null,null,null,null,null,{"$f":"SUM($BW$34:$CH$34)","v":0},null,null,null,null,null,null,null,null,null,null,null,null,null,{"$f":"SUM($CK$34:$CV$34)","v":0},null,null,null,null,null,null,null,null,null,null,null,null,null,{"$f":"SUM($CY$34:$DJ$34)","v":0},null,null,null,null,null,null,null,null,null,null,null,null,null,{"$f":"SUM($DM$34:$DX$34)","v":0},null,null,null,null,null,null,null,null,null,null,null,null,null,{"$f":"SUM($EA$34:$EL$34)","v":0},null,null,null,null,null,null,null,null,null,null,null,null,null,{"$f":"SUM($EO$34:$EZ$34)","v":0},null,null,null,null,null,null,null,null,null,null,null,null,null,{"$f":"SUM($FC$34:$FN$34)","v":0}]
["JP",null,"J","P",0,0,0,0,0,0,0,0,0,0,0,0,{"$f":"SUM($E$35:$P$35)","v":0},null,0,0,0,0,0,0,0,0,0,0,0,0,{"$f":"SUM($S$35:$AD$35)","v":0},null,0,0,0,0,0,0,0,0,0,0,0,0,{"$f":"SUM($AG$35:$AR$35)","v":0},null,0,0,0,0,0,0,0,0,0,0,0,0,{"$f":"SUM($AU$35:$BF$35)","v":0},null,0,0,0,0,0,0,0,0,0,0,0,0,{"$f":"SUM($BI$35:$BT$35)","v":0},null,0,0,0,0,0,0,0,0,0,0,0,0,{"$f":"SUM($BW$35:$CH$35)","v":0},null,0,0,0,0,0,0,0,0,0,0,0,0,{"$f":"SUM($CK$35:$CV$35)","v":0},null,0,0,0,0,0,0,0,0,0,0,0,0,{"$f":"SUM($CY$35:$DJ$35)","v":0},null,0,0,0,0,0,0,0,0,0,0,0,0,{"$f":"SUM($DM$35:$DX$35)","v":0},null,0,0,0,0,0,0,0,0,0,0,0,0,{"$f":"SUM($EA$35:$EL$35)","v":0},null,0,0,0,0,0,0,0,0,0,0,0,0,{"$f":"SUM($EO$35:$EZ$35)","v":0},null,0,0,0,0,0,0,0,0,0,0,0,0,{"$f":"SUM($FC$35:$FN$35)","v":0}]
["JR",null,null,"R",null,null,null,null,null,null,null,null,null,null,null,null,{"$f":"SUM($E$36:$P$36)","v":0},null,null,null,null,null,null,null,null,null,null,null,null,null,{"$f":"SUM($S$36:$AD$36)","v":0},null,null,null,null,null,null,null,null,null,null,null,null,null,{"$f":"SUM($AG$36:$AR$36)","v":0},null,null,null,null,null,null,null,null,null,null,null,null,null,{"$f":"SUM($AU$36:$BF$36)","v":0},null,null,null,null,null,null,null,null,null,null,null,null,null,{"$f":"SUM($BI$36:$BT$36)","v":0},null,null,null,null,null,null,null,null,null,null,null,null,null,{"$f":"SUM($BW$36:$CH$36)","v":0},null,null,null,null,null,null,null,null,null,null,null,null,null,{"$f":"SUM($CK$36:$CV$36)","v":0},null,null,null,null,null,null,null,null,null,null,null,null,null,{"$f":"SUM($CY$36:$DJ$36)","v":0},null,null,null,null,null,null,null,null,null,null,null,null,null,{"$f":"SUM($DM$36:$DX$36)","v":0},null,null,null,null,null,null,null,null,null,null,null,null,null,{"$f":"SUM($EA$36:$EL$36)","v":0},null,null,null,null,null,null,null,null,null,null,null,null,null,{"$f":"SUM($EO$36:$EZ$36)","v":0},null,null,null,null,null,null,null,null,null,null,null,null,null,{"$f":"SUM($FC$36:$FN$36)","v":0}]
["KP",null,"K","P",0,0,0,0,0,0,0,0,0,0,0,0,{"$f":"SUM($E$37:$P$37)","v":0},null,0,0,0,0,0,0,0,0,0,0,0,0,{"$f":"SUM($S$37:$AD$37)","v":0},null,0,0,0,0,0,0,0,0,0,0,0,0,{"$f":"SUM($AG$37:$AR$37)","v":0},null,0,0,0,0,0,0,0,0,0,0,0,0,{"$f":"SUM($AU$37:$BF$37)","v":0},null,0,0,0,0,0,0,0,0,0,0,0,0,{"$f":"SUM($BI$37:$BT$37)","v":0},null,0,0,0,0,0,0,0,0,0,0,0,0,{"$f":"SUM($BW$37:$CH$37)","v":0},null,0,0,0,0,0,0,0,0,0,0,0,0,{"$f":"SUM($CK$37:$CV$37)","v":0},null,0,0,0,0,0,0,0,0,0,0,0,0,{"$f":"SUM($CY$37:$DJ$37)","v":0},null,0,0,0,0,0,0,0,0,0,0,0,0,{"$f":"SUM($DM$37:$DX$37)","v":0},null,0,0,0,0,0,0,0,0,0,0,0,0,{"$f":"SUM($EA$37:$EL$37)","v":0},null,0,0,0,0,0,0,0,0,0,0,0,0,{"$f":"SUM($EO$37:$EZ$37)","v":0},null,0,0,0,0,0,0,0,0,0,0,0,0,{"$f":"SUM($FC$37:$FN$37)","v":0}]
["KR",null,null,"R",null,null,null,null,null,null,null,null,null,null,null,null,{"$f":"SUM($E$38:$P$38)","v":0},null,null,null,null,null,null,null,null,null,null,null,null,null,{"$f":"SUM($S$38:$AD$38)","v":0},null,null,null,null,null,null,null,null,null,null,null,null,null,{"$f":"SUM($AG$38:$AR$38)","v":0},null,null,null,null,null,null,null,null,null,null,null,null,null,{"$f":"SUM($AU$38:$BF$38)","v":0},null,null,null,null,null,null,null,null,null,null,null,null,null,{"$f":"SUM($BI$38:$BT$38)","v":0},null,null,null,null,null,null,null,null,null,null,null,null,null,{"$f":"SUM($BW$38:$CH$38)","v":0},null,null,null,null,null,null,null,null,null,null,null,null,null,{"$f":"SUM($CK$38:$CV$38)","v":0},null,null,null,null,null,null,null,null,null,null,null,null,null,{"$f":"SUM($CY$38:$DJ$38)","v":0},null,null,null,null,null,null,null,null,null,null,null,null,null,{"$f":"SUM($DM$38:$DX$38)","v":0},null,null,null,null,null,null,null,null,null,null,null,null,null,{"$f":"SUM($EA$38:$EL$38)","v":0},null,null,null,null,null,null,null,null,null,null,null,null,null,{"$f":"SUM($EO$38:$EZ$38)","v":0},null,null,null,null,null,null,null,null,null,null,null,null,null,{"$f":"SUM($FC$38:$FN$38)","v":0}]
["LP",null,"L","P",0,0,0,0,0,0,0,0,0,0,0,0,{"$f":"SUM($E$39:$P$39)","v":0},null,0,0,0,0,0,0,0,0,0,0,0,0,{"$f":"SUM($S$39:$AD$39)","v":0},null,0,0,0,0,0,0,0,0,0,0,0,0,{"$f":"SUM($AG$39:$AR$39)","v":0},null,0,0,0,0,0,0,0,0,0,0,0,0,{"$f":"SUM($AU$39:$BF$39)","v":0},null,0,0,0,0,0,0,0,0,0,0,0,0,{"$f":"SUM($BI$39:$BT$39)","v":0},null,0,0,0,0,0,0,0,0,0,0,0,0,{"$f":"SUM($BW$39:$CH$39)","v":0},null,0,0,0,0,0,0,0,0,0,0,0,0,{"$f":"SUM($CK$39:$CV$39)","v":0},null,0,0,0,0,0,0,0,0,0,0,0,0,{"$f":"SUM($CY$39:$DJ$39)","v":0},null,0,0,0,0,0,0,0,0,0,0,0,0,{"$f":"SUM($DM$39:$DX$39)","v":0},null,0,0,0,0,0,0,0,0,0,0,0,0,{"$f":"SUM($EA$39:$EL$39)","v":0},null,0,0,0,0,0,0,0,0,0,0,0,0,{"$f":"SUM($EO$39:$EZ$39)","v":0},null,0,0,0,0,0,0,0,0,0,0,0,0,{"$f":"SUM($FC$39:$FN$39)","v":0}]
["LR",null,null,"R",null,null,null,null,null,null,null,null,null,null,null,null,{"$f":"SUM($E$40:$P$40)","v":0},null,null,null,null,null,null,null,null,null,null,null,null,null,{"$f":"SUM($S$40:$AD$40)","v":0},null,null,null,null,null,null,null,null,null,null,null,null,null,{"$f":"SUM($AG$40:$AR$40)","v":0},null,null,null,null,null,null,null,null,null,null,null,null,null,{"$f":"SUM($AU$40:$BF$40)","v":0},null,null,null,null,null,null,null,null,null,null,null,null,null,{"$f":"SUM($BI$40:$BT$40)","v":0},null,null,null,null,null,null,null,null,null,null,null,null,null,{"$f":"SUM($BW$40:$CH$40)","v":0},null,null,null,null,null,null,null,null,null,null,null,null,null,{"$f":"SUM($CK$40:$CV$40)","v":0},null,null,null,null,null,null,null,null,null,null,null,null,null,{"$f":"SUM($CY$40:$DJ$40)","v":0},null,null,null,null,null,null,null,null,null,null,null,null,null,{"$f":"SUM($DM$40:$DX$40)","v":0},null,null,null,null,null,null,null,null,null,null,null,null,null,{"$f":"SUM($EA$40:$EL$40)","v":0},null,null,null,null,null,null,null,null,null,null,null,null,null,{"$f":"SUM($EO$40:$EZ$40)","v":0},null,null,null,null,null,null,null,null,null,null,null,null,null,{"$f":"SUM($FC$40:$FN$40)","v":0}]
[{"$f":"C43&D43","v":"Parcela Financiamento/ CusteioP"},null,"M","P",0,0,0,0,0,0,0,0,0,0,0,0,{"$f":"SUM($E$41:$P$41)","v":0},null,0,0,0,0,0,0,0,0,0,0,0,0,{"$f":"SUM($S$41:$AD$41)","v":0},null,0,0,0,0,0,0,0,0,0,0,0,0,{"$f":"SUM($AG$41:$AR$41)","v":0},null,0,0,0,0,0,0,0,0,0,0,0,0,{"$f":"SUM($AU$41:$BF$41)","v":0},null,0,0,0,0,0,0,0,0,0,0,0,0,{"$f":"SUM($BI$41:$BT$41)","v":0},null,0,0,0,0,0,0,0,0,0,0,0,0,{"$f":"SUM($BW$41:$CH$41)","v":0},null,0,0,0,0,0,0,0,0,0,0,0,0,{"$f":"SUM($CK$41:$CV$41)","v":0},null,0,0,0,0,0,0,0,0,0,0,0,0,{"$f":"SUM($CY$41:$DJ$41)","v":0},null,0,0,0,0,0,0,0,0,0,0,0,0,{"$f":"SUM($DM$41:$DX$41)","v":0},null,0,0,0,0,0,0,0,0,0,0,0,0,{"$f":"SUM($EA$41:$EL$41)","v":0},null,0,0,0,0,0,0,0,0,0,0,0,0,{"$f":"SUM($EO$41:$EZ$41)","v":0},null,0,0,0,0,0,0,0,0,0,0,0,0,{"$f":"SUM($FC$41:$FN$41)","v":0}]
[{"$f":"C43&D44","v":"Parcela Financiamento/ CusteioR"},null,null,"R",null,null,null,null,null,null,null,null,null,null,null,null,{"$f":"SUM($E$42:$P$42)","v":0},null,null,null,null,null,null,null,null,null,null,null,null,null,{"$f":"SUM($S$42:$AD$42)","v":0},null,null,null,null,null,null,null,null,null,null,null,null,null,{"$f":"SUM($AG$42:$AR$42)","v":0},null,null,null,null,null,null,null,null,null,null,null,null,null,{"$f":"SUM($AU$42:$BF$42)","v":0},null,null,null,null,null,null,null,null,null,null,null,null,null,{"$f":"SUM($BI$42:$BT$42)","v":0},null,null,null,null,null,null,null,null,null,null,null,null,null,{"$f":"SUM($BW$42:$CH$42)","v":0},null,null,null,null,null,null,null,null,null,null,null,null,null,{"$f":"SUM($CK$42:$CV$42)","v":0},null,null,null,null,null,null,null,null,null,null,null,null,null,{"$f":"SUM($CY$42:$DJ$42)","v":0},null,null,null,null,null,null,null,null,null,null,null,null,null,{"$f":"SUM($DM$42:$DX$42)","v":0},null,null,null,null,null,null,null,null,null,null,null,null,null,{"$f":"SUM($EA$42:$EL$42)","v":0},null,null,null,null,null,null,null,null,null,null,null,null,null,{"$f":"SUM($EO$42:$EZ$42)","v":0},null,null,null,null,null,null,null,null,null,null,null,null,null,{"$f":"SUM($FC$42:$FN$42)","v":0}]
[{"$f":"C45&D45","v":"Total SaídasP"},null,"Parcela Financiamento/ Custeio","P",0,0,0,0,0,0,0,0,0,0,0,0,{"$f":"SUM($E$43:$P$43)","v":0},null,0,0,0,0,0,0,0,0,0,0,0,0,{"$f":"SUM($S$43:$AD$43)","v":0},null,0,0,0,0,0,0,0,0,0,0,0,0,{"$f":"SUM($AG$43:$AR$43)","v":0},null,0,0,0,0,0,0,0,0,0,0,0,0,{"$f":"SUM($AU$43:$BF$43)","v":0},null,0,0,0,0,0,0,0,0,0,0,0,0,{"$f":"SUM($BI$43:$BT$43)","v":0},null,0,0,0,0,0,0,0,0,0,0,0,0,{"$f":"SUM($BW$43:$CH$43)","v":0},null,0,0,0,0,0,0,0,0,0,0,0,0,{"$f":"SUM($CK$43:$CV$43)","v":0},null,0,0,0,0,0,0,0,0,0,0,0,0,{"$f":"SUM($CY$43:$DJ$43)","v":0},null,0,0,0,0,0,0,0,0,0,0,0,0,{"$f":"SUM($DM$43:$DX$43)","v":0},null,0,0,0,0,0,0,0,0,0,0,0,0,{"$f":"SUM($EA$43:$EL$43)","v":0},null,0,0,0,0,0,0,0,0,0,0,0,0,{"$f":"SUM($EO$43:$EZ$43)","v":0},null,0,0,0,0,0,0,0,0,0,0,0,0,{"$f":"SUM($FC$43:$FN$43)","v":0}]
[{"$f":"C45&D46","v":"Total SaídasR"},null,null,"R",null,null,null,null,null,null,null,null,null,null,null,null,{"$f":"SUM($E$44:$P$44)","v":0},null,null,null,null,null,null,null,null,null,null,null,null,null,{"$f":"SUM($S$44:$AD$44)","v":0},null,null,null,null,null,null,null,null,null,null,null,null,null,{"$f":"SUM($AG$44:$AR$44)","v":0},null,null,null,null,null,null,null,null,null,null,null,null,null,{"$f":"SUM($AU$44:$BF$44)","v":0},null,null,null,null,null,null,null,null,null,null,null,null,null,{"$f":"SUM($BI$44:$BT$44)","v":0},null,null,null,null,null,null,null,null,null,null,null,null,null,{"$f":"SUM($BW$44:$CH$44)","v":0},null,null,null,null,null,null,null,null,null,null,null,null,null,{"$f":"SUM($CK$44:$CV$44)","v":0},null,null,null,null,null,null,null,null,null,null,null,null,null,{"$f":"SUM($CY$44:$DJ$44)","v":0},null,null,null,null,null,null,null,null,null,null,null,null,null,{"$f":"SUM($DM$44:$DX$44)","v":0},null,null,null,null,null,null,null,null,null,null,null,null,null,{"$f":"SUM($EA$44:$EL$44)","v":0},null,null,null,null,null,null,null,null,null,null,null,null,null,{"$f":"SUM($EO$44:$EZ$44)","v":0},null,null,null,null,null,null,null,null,null,null,null,null,0,{"$f":"SUM($FC$44:$FN$44)","v":0}]
[{"$f":"C47&D47","v":""},null,"Total Saídas","P",{"$f":"SUMIF($D$5:$D$44,$D45,E$5:E$44)","v":0},{"$f":"SUMIF($D$5:$D$44,$D45,F$5:F$44)","v":0},{"$f":"SUMIF($D$5:$D$44,$D45,G$5:G$44)","v":0},0,0,0,0,0,0,0,0,0,0,null,{"$f":"SUMIF($D$5:$D$44,$D45,S$5:S$44)","v":0},0,0,0,0,0,0,0,0,0,0,0,0,null,{"$f":"SUMIF($D$5:$D$44,$D45,AG$5:AG$44)","v":0},0,0,0,0,0,0,0,0,0,0,0,0,null,{"$f":"SUMIF($D$5:$D$44,$D45,AU$5:AU$44)","v":0},0,0,0,0,0,0,0,0,0,0,0,0,null,{"$f":"SUMIF($D$5:$D$44,$D45,BI$5:BI$44)","v":0},0,0,0,0,0,0,0,0,0,0,0,0,null,{"$f":"SUMIF($D$5:$D$44,$D45,BW$5:BW$44)","v":0},0,0,0,0,0,0,0,0,0,0,0,0,null,{"$f":"SUMIF($D$5:$D$44,$D45,CK$5:CK$44)","v":0},0,0,0,0,0,0,0,0,0,0,0,0,null,{"$f":"SUMIF($D$5:$D$44,$D45,CY$5:CY$44)","v":0},0,0,0,0,0,0,0,0,0,0,0,0,null,{"$f":"SUMIF($D$5:$D$44,$D45,DM$5:DM$44)","v":0},0,0,0,0,0,0,0,0,0,0,0,0,null,{"$f":"SUMIF($D$5:$D$44,$D45,EA$5:EA$44)","v":0},0,0,0,0,0,0,0,0,0,0,0,0,null,{"$f":"SUMIF($D$5:$D$44,$D45,EO$5:EO$44)","v":0},0,0,0,0,0,0,0,0,0,0,0,0,null,{"$f":"SUMIF($D$5:$D$44,$D45,FC$5:FC$44)","v":0},0,0,0,0,0,0,0,0,0,0,0,0]
[{"$f":"C47&D48","v":""},null,null,"R",0,0,0,0,0,0,0,0,0,0,0,0,0,null,0,0,0,0,0,0,0,0,0,0,0,0,0,null,0,0,0,0,0,0,0,0,0,0,0,0,0,null,0,0,0,0,0,0,0,0,0,0,0,0,0,null,0,0,0,0,0,0,0,0,0,0,0,0,0,null,0,0,0,0,0,0,0,0,0,0,0,0,0,null,0,0,0,0,0,0,0,0,0,0,0,0,0,null,0,0,0,0,0,0,0,0,0,0,0,0,0,null,0,0,0,0,0,0,0,0,0,0,0,0,0,null,0,0,0,0,0,0,0,0,0,0,0,0,0,null,0,0,0,0,0,0,0,0,0,0,0,0,0,null,0,0,0,0,0,0,0,0,0,0,0,0,0]
[]
[]
[{"$f":"C49&D49","v":"Venda do LoteP"},"Entrada de Caixa","Venda do Lote","P",0,0,0,0,0,0,0,0,0,0,0,0,{"$f":"SUM($E$49:$P$49)","v":0},null,0,0,0,0,0,0,0,0,0,0,0,0,{"$f":"SUM($S$49:$AD$49)","v":0},null,0,0,0,0,0,0,0,0,0,0,0,0,{"$f":"SUM($AG$49:$AR$49)","v":0},null,0,0,0,0,0,0,0,0,0,0,0,0,{"$f":"SUM($AU$49:$BF$49)","v":0},null,0,0,0,0,0,0,0,0,0,0,0,0,{"$f":"SUM($BI$49:$BT$49)","v":0},null,0,0,0,0,0,0,0,0,0,0,0,0,{"$f":"SUM($BW$49:$CH$49)","v":0},null,0,0,0,0,0,0,0,0,0,0,0,0,{"$f":"SUM($CK$49:$CV$49)","v":0},null,0,0,0,0,0,0,0,0,0,0,0,0,{"$f":"SUM($CY$49:$DJ$49)","v":0},null,0,0,0,0,0,0,0,0,0,0,0,0,{"$f":"SUM($DM$49:$DX$49)","v":0},null,0,0,0,0,0,0,0,0,0,0,0,0,{"$f":"SUM($EA$49:$EL$49)","v":0},null,0,0,0,0,0,0,0,0,0,0,0,0,{"$f":"SUM($EO$49:$EZ$49)","v":0},null,0,0,0,0,0,0,0,0,0,0,0,0,{"$f":"SUM($FC$49:$FN$49)","v":0}]
[{"$f":"C49&D50","v":"Venda do LoteR"},null,null,"R",null,null,null,null,null,null,null,null,null,null,null,null,{"$f":"SUM($E$50:$P$50)","v":0},null,null,null,null,null,null,null,null,null,null,null,null,null,{"$f":"SUM($S$50:$AD$50)","v":0},null,null,null,null,null,null,null,null,null,null,null,null,null,{"$f":"SUM($AG$50:$AR$50)","v":0},null,null,null,null,null,null,null,null,null,null,null,null,null,{"$f":"SUM($AU$50:$BF$50)","v":0},null,null,null,null,null,null,null,null,null,null,null,null,null,{"$f":"SUM($BI$50:$BT$50)","v":0},null,null,null,null,null,null,null,null,null,null,null,null,null,{"$f":"SUM($BW$50:$CH$50)","v":0},null,null,null,null,null,null,null,null,null,null,null,null,null,{"$f":"SUM($CK$50:$CV$50)","v":0},null,null,null,null,null,null,null,null,null,null,null,null,null,{"$f":"SUM($CY$50:$DJ$50)","v":0},null,null,null,null,null,null,null,null,null,null,null,null,null,{"$f":"SUM($DM$50:$DX$50)","v":0},null,null,null,null,null,null,null,null,null,null,null,null,null,{"$f":"SUM($EA$50:$EL$50)","v":0},null,null,null,null,null,null,null,null,null,null,null,null,null,{"$f":"SUM($EO$50:$EZ$50)","v":0},null,null,null,null,null,null,null,null,null,null,null,null,null,{"$f":"SUM($FC$50:$FN$50)","v":0}]
[{"$f":"C51&D51","v":"Venda AduboP"},null,"Venda Adubo","P",0,0,0,0,0,0,0,0,0,0,0,0,{"$f":"SUM($E$51:$P$51)","v":0},null,0,0,0,0,0,0,0,0,0,0,0,0,{"$f":"SUM($S$51:$AD$51)","v":0},null,0,0,0,0,0,0,0,0,0,0,0,0,{"$f":"SUM($AG$51:$AR$51)","v":0},null,0,0,0,0,0,0,0,0,0,0,0,0,{"$f":"SUM($AU$51:$BF$51)","v":0},null,0,0,0,0,0,0,0,0,0,0,0,0,{"$f":"SUM($BI$51:$BT$51)","v":0},null,0,0,0,0,0,0,0,0,0,0,0,0,{"$f":"SUM($BW$51:$CH$51)","v":0},null,0,0,0,0,0,0,0,0,0,0,0,0,{"$f":"SUM($CK$51:$CV$51)","v":0},null,0,0,0,0,0,0,0,0,0,0,0,0,{"$f":"SUM($CY$51:$DJ$51)","v":0},null,0,0,0,0,0,0,0,0,0,0,0,0,{"$f":"SUM($DM$51:$DX$51)","v":0},null,0,0,0,0,0,0,0,0,0,0,0,0,{"$f":"SUM($EA$51:$EL$51)","v":0},null,0,0,0,0,0,0,0,0,0,0,0,0,{"$f":"SUM($EO$51:$EZ$51)","v":0},null,0,0,0,0,0,0,0,0,0,0,0,0,{"$f":"SUM($FC$51:$FN$51)","v":0}]
[{"$f":"C51&D52","v":"Venda AduboR"},null,null,"R",null,null,null,null,null,null,null,null,null,null,null,null,{"$f":"SUM($E$52:$P$52)","v":0},null,null,null,null,null,null,null,null,null,null,null,null,null,{"$f":"SUM($S$52:$AD$52)","v":0},null,null,null,null,null,null,null,null,null,null,null,null,null,{"$f":"SUM($AG$52:$AR$52)","v":0},null,null,null,null,null,null,null,null,null,null,null,null,null,{"$f":"SUM($AU$52:$BF$52)","v":0},null,null,null,null,null,null,null,null,null,null,null,null,null,{"$f":"SUM($BI$52:$BT$52)","v":0},null,null,null,null,null,null,null,null,null,null,null,null,null,{"$f":"SUM($BW$52:$CH$52)","v":0},null,null,null,null,null,null,null,null,null,null,null,null,null,{"$f":"SUM($CK$52:$CV$52)","v":0},null,null,null,null,null,null,null,null,null,null,null,null,null,{"$f":"SUM($CY$52:$DJ$52)","v":0},null,null,null,null,null,null,null,null,null,null,null,null,null,{"$f":"SUM($DM$52:$DX$52)","v":0},null,null,null,null,null,null,null,null,null,null,null,null,null,{"$f":"SUM($EA$52:$EL$52)","v":0},null,null,null,null,null,null,null,null,null,null,null,null,null,{"$f":"SUM($EO$52:$EZ$52)","v":0},null,null,null,null,null,null,null,null,null,null,null,null,null,{"$f":"SUM($FC$52:$FN$52)","v":0}]
[{"$f":"C53&D53","v":"AP"},null,"A","P",0,0,0,0,0,0,0,0,0,0,0,0,{"$f":"SUM($E$53:$P$53)","v":0},null,0,0,0,0,0,0,0,0,0,0,0,0,{"$f":"SUM($S$53:$AD$53)","v":0},null,0,0,0,0,0,0,0,0,0,0,0,0,{"$f":"SUM($AG$53:$AR$53)","v":0},null,0,0,0,0,0,0,0,0,0,0,0,0,{"$f":"SUM($AU$53:$BF$53)","v":0},null,0,0,0,0,0,0,0,0,0,0,0,0,{"$f":"SUM($BI$53:$BT$53)","v":0},null,0,0,0,0,0,0,0,0,0,0,0,0,{"$f":"SUM($BW$53:$CH$53)","v":0},null,0,0,0,0,0,0,0,0,0,0,0,0,{"$f":"SUM($CK$53:$CV$53)","v":0},null,0,0,0,0,0,0,0,0,0,0,0,0,{"$f":"SUM($CY$53:$DJ$53)","v":0},null,0,0,0,0,0,0,0,0,0,0,0,0,{"$f":"SUM($DM$53:$DX$53)","v":0},null,0,0,0,0,0,0,0,0,0,0,0,0,{"$f":"SUM($EA$53:$EL$53)","v":0},null,0,0,0,0,0,0,0,0,0,0,0,0,{"$f":"SUM($EO$53:$EZ$53)","v":0},null,0,0,0,0,0,0,0,0,0,0,0,0,{"$f":"SUM($FC$53:$FN$53)","v":0}]
[{"$f":"C53&D54","v":"AR"},null,null,"R",null,null,null,null,null,null,null,null,null,null,null,null,{"$f":"SUM($E$54:$P$54)","v":0},null,null,null,null,null,null,null,null,null,null,null,null,null,{"$f":"SUM($S$54:$AD$54)","v":0},null,null,null,null,null,null,null,null,null,null,null,null,null,{"$f":"SUM($AG$54:$AR$54)","v":0},null,null,null,null,null,null,null,null,null,null,null,null,null,{"$f":"SUM($AU$54:$BF$54)","v":0},null,null,null,null,null,null,null,null,null,null,null,null,null,{"$f":"SUM($BI$54:$BT$54)","v":0},null,null,null,null,null,null,null,null,null,null,null,null,null,{"$f":"SUM($BW$54:$CH$54)","v":0},null,null,null,null,null,null,null,null,null,null,null,null,null,{"$f":"SUM($CK$54:$CV$54)","v":0},null,null,null,null,null,null,null,null,null,null,null,null,null,{"$f":"SUM($CY$54:$DJ$54)","v":0},null,null,null,null,null,null,null,null,null,null,null,null,null,{"$f":"SUM($DM$54:$DX$54)","v":0},null,null,null,null,null,null,null,null,null,null,null,null,null,{"$f":"SUM($EA$54:$EL$54)","v":0},null,null,null,null,null,null,null,null,null,null,null,null,null,{"$f":"SUM($EO$54:$EZ$54)","v":0},null,null,null,null,null,null,null,null,null,null,null,null,null,{"$f":"SUM($FC$54:$FN$54)","v":0}]
[{"$f":"C55&D55","v":"Entrada de Financiamento / CusteioP"},null,"Entrada de Financiamento / Custeio","P",0,0,0,0,0,0,0,0,0,0,0,0,{"$f":"SUM($E$55:$P$55)","v":0},null,0,0,0,0,0,0,0,0,0,0,0,0,{"$f":"SUM($S$55:$AD$55)","v":0},null,0,0,0,0,0,0,0,0,0,0,0,0,{"$f":"SUM($AG$55:$AR$55)","v":0},null,0,0,0,0,0,0,0,0,0,0,0,0,{"$f":"SUM($AU$55:$BF$55)","v":0},null,0,0,0,0,0,0,0,0,0,0,0,0,{"$f":"SUM($BI$55:$BT$55)","v":0},null,0,0,0,0,0,0,0,0,0,0,0,0,{"$f":"SUM($BW$55:$CH$55)","v":0},null,0,0,0,0,0,0,0,0,0,0,0,0,{"$f":"SUM($CK$55:$CV$55)","v":0},null,0,0,0,0,0,0,0,0,0,0,0,0,{"$f":"SUM($CY$55:$DJ$55)","v":0},null,0,0,0,0,0,0,0,0,0,0,0,0,{"$f":"SUM($DM$55:$DX$55)","v":0},null,0,0,0,0,0,0,0,0,0,0,0,0,{"$f":"SUM($EA$55:$EL$55)","v":0},null,0,0,0,0,0,0,0,0,0,0,0,0,{"$f":"SUM($EO$55:$EZ$55)","v":0},null,0,0,0,0,0,0,0,0,0,0,0,0,{"$f":"SUM($FC$55:$FN$55)","v":0}]
[{"$f":"C55&D56","v":"Entrada de Financiamento / CusteioR"},null,null,"R",null,null,null,null,null,null,null,null,null,null,null,null,{"$f":"SUM($E$56:$P$56)","v":0},null,null,null,null,null,null,null,null,null,null,null,null,null,{"$f":"SUM($S$56:$AD$56)","v":0},null,null,null,null,null,null,null,null,null,null,null,null,null,{"$f":"SUM($AG$56:$AR$56)","v":0},null,null,null,null,null,null,null,null,null,null,null,null,null,{"$f":"SUM($AU$56:$BF$56)","v":0},null,null,null,null,null,null,null,null,null,null,null,null,null,{"$f":"SUM($BI$56:$BT$56)","v":0},null,null,null,null,null,null,null,null,null,null,null,null,null,{"$f":"SUM($BW$56:$CH$56)","v":0},null,null,null,null,null,null,null,null,null,null,null,null,null,{"$f":"SUM($CK$56:$CV$56)","v":0},null,null,null,null,null,null,null,null,null,null,null,null,null,{"$f":"SUM($CY$56:$DJ$56)","v":0},null,null,null,null,null,null,null,null,null,null,null,null,null,{"$f":"SUM($DM$56:$DX$56)","v":0},null,null,null,null,null,null,null,null,null,null,null,null,null,{"$f":"SUM($EA$56:$EL$56)","v":0},null,null,null,null,null,null,null,null,null,null,null,null,null,{"$f":"SUM($EO$56:$EZ$56)","v":0},null,null,null,null,null,null,null,null,null,null,null,null,null,{"$f":"SUM($FC$56:$FN$56)","v":0}]
[{"$f":"C57&D57","v":"Total EntradasP"},null,"Total Entradas","P",{"$f":"SUMIF($D$49:$D$56,$D57,E49:E56)","v":0},{"$f":"SUMIF($D$49:$D$56,$D57,F49:F56)","v":0},{"$f":"SUMIF($D$49:$D$56,$D57,G49:G56)","v":0},0,0,0,0,0,0,0,0,0,0,null,{"$f":"SUMIF($D$49:$D$56,$D57,S49:S56)","v":0},{"$f":"SUMIF($D$49:$D$56,$D57,T49:T56)","v":0},{"$f":"SUMIF($D$49:$D$56,$D57,U49:U56)","v":0},0,0,0,0,0,0,0,0,0,0,null,{"$f":"SUMIF($D$49:$D$56,$D57,AG49:AG56)","v":0},{"$f":"SUMIF($D$49:$D$56,$D57,AH49:AH56)","v":0},{"$f":"SUMIF($D$49:$D$56,$D57,AI49:AI56)","v":0},0,0,0,0,0,0,0,0,0,0,null,{"$f":"SUMIF($D$49:$D$56,$D57,AU49:AU56)","v":0},{"$f":"SUMIF($D$49:$D$56,$D57,AV49:AV56)","v":0},{"$f":"SUMIF($D$49:$D$56,$D57,AW49:AW56)","v":0},0,0,0,0,0,0,0,0,0,0,null,{"$f":"SUMIF($D$49:$D$56,$D57,BI49:BI56)","v":0},{"$f":"SUMIF($D$49:$D$56,$D57,BJ49:BJ56)","v":0},{"$f":"SUMIF($D$49:$D$56,$D57,BK49:BK56)","v":0},0,0,0,0,0,0,0,0,0,0,null,{"$f":"SUMIF($D$49:$D$56,$D57,BW49:BW56)","v":0},{"$f":"SUMIF($D$49:$D$56,$D57,BX49:BX56)","v":0},{"$f":"SUMIF($D$49:$D$56,$D57,BY49:BY56)","v":0},0,0,0,0,0,0,0,0,0,0,null,{"$f":"SUMIF($D$49:$D$56,$D57,CK49:CK56)","v":0},{"$f":"SUMIF($D$49:$D$56,$D57,CL49:CL56)","v":0},{"$f":"SUMIF($D$49:$D$56,$D57,CM49:CM56)","v":0},0,0,0,0,0,0,0,0,0,0,null,{"$f":"SUMIF($D$49:$D$56,$D57,CY49:CY56)","v":0},{"$f":"SUMIF($D$49:$D$56,$D57,CZ49:CZ56)","v":0},{"$f":"SUMIF($D$49:$D$56,$D57,DA49:DA56)","v":0},0,0,0,0,0,0,0,0,0,0,null,{"$f":"SUMIF($D$49:$D$56,$D57,DM49:DM56)","v":0},{"$f":"SUMIF($D$49:$D$56,$D57,DN49:DN56)","v":0},{"$f":"SUMIF($D$49:$D$56,$D57,DO49:DO56)","v":0},0,0,0,0,0,0,0,0,0,0,null,{"$f":"SUMIF($D$49:$D$56,$D57,EA49:EA56)","v":0},{"$f":"SUMIF($D$49:$D$56,$D57,EB49:EB56)","v":0},{"$f":"SUMIF($D$49:$D$56,$D57,EC49:EC56)","v":0},0,0,0,0,0,0,0,0,0,0,null,{"$f":"SUMIF($D$49:$D$56,$D57,EO49:EO56)","v":0},{"$f":"SUMIF($D$49:$D$56,$D57,EP49:EP56)","v":0},{"$f":"SUMIF($D$49:$D$56,$D57,EQ49:EQ56)","v":0},0,0,0,0,0,0,0,0,0,0,null,{"$f":"SUMIF($D$49:$D$56,$D57,FC49:FC56)","v":0},{"$f":"SUMIF($D$49:$D$56,$D57,FD49:FD56)","v":0},{"$f":"SUMIF($D$49:$D$56,$D57,FE49:FE56)","v":0},0,0,0,0,0,0,0,0,0,0]
[{"$f":"C57&D58","v":"Total EntradasR"},null,null,"R",{"$f":"SUMIF($D$49:$D$56,$D58,E$49:E$56)","v":0},{"$f":"SUMIF($D$49:$D$56,$D58,F$49:F$56)","v":0},0,0,0,0,0,0,0,0,0,0,0,null,{"$f":"SUMIF($D$49:$D$56,$D58,S$49:S$56)","v":0},{"$f":"SUMIF($D$49:$D$56,$D58,T$49:T$56)","v":0},0,0,0,0,0,0,0,0,0,0,0,null,{"$f":"SUMIF($D$49:$D$56,$D58,AG$49:AG$56)","v":0},{"$f":"SUMIF($D$49:$D$56,$D58,AH$49:AH$56)","v":0},0,0,0,0,0,0,0,0,0,0,0,null,{"$f":"SUMIF($D$49:$D$56,$D58,AU$49:AU$56)","v":0},{"$f":"SUMIF($D$49:$D$56,$D58,AV$49:AV$56)","v":0},0,0,0,0,0,0,0,0,0,0,0,null,{"$f":"SUMIF($D$49:$D$56,$D58,BI$49:BI$56)","v":0},{"$f":"SUMIF($D$49:$D$56,$D58,BJ$49:BJ$56)","v":0},0,0,0,0,0,0,0,0,0,0,0,null,{"$f":"SUMIF($D$49:$D$56,$D58,BW$49:BW$56)","v":0},{"$f":"SUMIF($D$49:$D$56,$D58,BX$49:BX$56)","v":0},0,0,0,0,0,0,0,0,0,0,0,null,{"$f":"SUMIF($D$49:$D$56,$D58,CK$49:CK$56)","v":0},{"$f":"SUMIF($D$49:$D$56,$D58,CL$49:CL$56)","v":0},0,0,0,0,0,0,0,0,0,0,0,null,{"$f":"SUMIF($D$49:$D$56,$D58,CY$49:CY$56)","v":0},{"$f":"SUMIF($D$49:$D$56,$D58,CZ$49:CZ$56)","v":0},0,0,0,0,0,0,0,0,0,0,0,null,{"$f":"SUMIF($D$49:$D$56,$D58,DM$49:DM$56)","v":0},{"$f":"SUMIF($D$49:$D$56,$D58,DN$49:DN$56)","v":0},0,0,0,0,0,0,0,0,0,0,0,null,{"$f":"SUMIF($D$49:$D$56,$D58,EA$49:EA$56)","v":0},{"$f":"SUMIF($D$49:$D$56,$D58,EB$49:EB$56)","v":0},0,0,0,0,0,0,0,0,0,0,0,null,{"$f":"SUMIF($D$49:$D$56,$D58,EO$49:EO$56)","v":0},{"$f":"SUMIF($D$49:$D$56,$D58,EP$49:EP$56)","v":0},0,0,0,0,0,0,0,0,0,0,0,null,{"$f":"SUMIF($D$49:$D$56,$D58,FC$49:FC$56)","v":0},{"$f":"SUMIF($D$49:$D$56,$D58,FD$49:FD$56)","v":0},0,0,0,0,0,0,0,0,0,0,0]
[{"$f":"C59&D59","v":""}]
[{"$f":"C59&D60","v":""},"Saldo de Exercícios Anteriores"]
[{"$f":"B61&D61","v":"Saldo de Caixa MensalP"},"Saldo de Caixa Mensal",null,"P",{"$f":"E57-E45","v":0},0,0,0,0,0,0,0,0,0,0,0,0,null,{"$f":"S57-S45","v":0},0,0,0,0,0,0,0,0,0,0,0,0,null,{"$f":"AG57-AG45","v":0},0,0,0,0,0,0,0,0,0,0,0,0,null,{"$f":"AU57-AU45","v":0},0,0,0,0,0,0,0,0,0,0,0,0,null,{"$f":"BI57-BI45","v":0},0,0,0,0,0,0,0,0,0,0,0,0,null,{"$f":"BW57-BW45","v":0},0,0,0,0,0,0,0,0,0,0,0,0,null,{"$f":"CK57-CK45","v":0},0,0,0,0,0,0,0,0,0,0,0,0,null,{"$f":"CY57-CY45","v":0},0,0,0,0,0,0,0,0,0,0,0,0,null,{"$f":"DM57-DM45","v":0},0,0,0,0,0,0,0,0,0,0,0,0,null,{"$f":"EA57-EA45","v":0},0,0,0,0,0,0,0,0,0,0,0,0,null,{"$f":"EO57-EO45","v":0},0,0,0,0,0,0,0,0,0,0,0,0,null,{"$f":"FC57-FC45","v":0},0,0,0,0,0,0,0,0,0,0,0,0]
[{"$f":"B61&D62","v":"Saldo de Caixa MensalR"},null,null,"R",{"$f":"E58-E46","v":0},0,0,0,0,0,0,0,0,0,0,0,0,null,{"$f":"S58-S46","v":0},0,0,0,0,0,0,0,0,0,0,0,0,null,{"$f":"AG58-AG46","v":0},0,0,0,0,0,0,0,0,0,0,0,0,null,{"$f":"AU58-AU46","v":0},0,0,0,0,0,0,0,0,0,0,0,0,null,{"$f":"BI58-BI46","v":0},0,0,0,0,0,0,0,0,0,0,0,0,null,{"$f":"BW58-BW46","v":0},0,0,0,0,0,0,0,0,0,0,0,0,null,{"$f":"CK58-CK46","v":0},0,0,0,0,0,0,0,0,0,0,0,0,null,{"$f":"CY58-CY46","v":0},0,0,0,0,0,0,0,0,0,0,0,0,null,{"$f":"DM58-DM46","v":0},0,0,0,0,0,0,0,0,0,0,0,0,null,{"$f":"EA58-EA46","v":0},0,0,0,0,0,0,0,0,0,0,0,0,null,{"$f":"EO58-EO46","v":0},0,0,0,0,0,0,0,0,0,0,0,0,null,{"$f":"FC58-FC46","v":0},0,0,0,0,0,0,0,0,0,0,0,0]
[{"$f":"B63&D63","v":"Caixa AcumuladoP"},"Caixa Acumulado",null,"P",{"$f":"E61","v":0},{"$f":"F61+E63","v":0},{"$f":"G61+F63","v":0},0,0,0,{"$f":"K61+J63","v":0},0,0,0,0,0,null,null,{"$f":"S61+P63","v":0},{"$f":"T61+S63","v":0},{"$f":"U61+T63","v":0},0,0,0,0,0,0,0,0,{"$f":"AD61+AC63","v":0},null,null,{"$f":"AG61+AD63","v":0},{"$f":"AH61+AG63","v":0},{"$f":"AI61+AH63","v":0},0,0,0,0,0,0,0,0,{"$f":"AR61+AQ63","v":0},null,null,{"$f":"AU61+AR63","v":0},{"$f":"AV61+AU63","v":0},{"$f":"AW61+AV63","v":0},0,0,0,0,0,0,0,0,{"$f":"BF61+BE63","v":0},null,null,{"$f":"BI61+BF63","v":0},{"$f":"BJ61+BI63","v":0},{"$f":"BK61+BJ63","v":0},0,0,0,0,0,0,0,0,{"$f":"BT61+BS63","v":0},null,null,{"$f":"BW61+BT63","v":0},{"$f":"BX61+BW63","v":0},{"$f":"BY61+BX63","v":0},0,0,0,0,0,0,0,0,{"$f":"CH61+CG63","v":0},null,null,{"$f":"CK61+CH63","v":0},{"$f":"CL61+CK63","v":0},{"$f":"CM61+CL63","v":0},0,0,0,0,0,0,0,0,{"$f":"CV61+CU63","v":0},null,null,{"$f":"CY61+CV63","v":0},{"$f":"CZ61+CY63","v":0},{"$f":"DA61+CZ63","v":0},0,0,0,0,0,0,0,0,{"$f":"DJ61+DI63","v":0},null,null,{"$f":"DM61+DJ63","v":0},{"$f":"DN61+DM63","v":0},{"$f":"DO61+DN63","v":0},0,0,0,0,0,0,0,0,{"$f":"DX61+DW63","v":0},null,null,{"$f":"EA61+DX63","v":0},{"$f":"EB61+EA63","v":0},{"$f":"EC61+EB63","v":0},0,0,0,0,0,0,0,0,{"$f":"EL61+EK63","v":0},null,null,{"$f":"EO61+EL63","v":0},{"$f":"EP61+EO63","v":0},{"$f":"EQ61+EP63","v":0},0,0,0,0,0,0,0,0,{"$f":"EZ61+EY63","v":0},null,null,{"$f":"FC61+EZ63","v":0},{"$f":"FD61+FC63","v":0},{"$f":"FE61+FD63","v":0},0,0,0,0,0,0,0,0,{"$f":"FN61+FM63","v":0}]
[{"$f":"B63&D64","v":"Caixa AcumuladoR"},null,null,"R",{"$f":"E60+E62","v":0},{"$f":"E64+F62","v":0},{"$f":"F64+G62","v":0},0,0,0,0,0,0,0,0,0,null,null,{"$f":"S62+P64","v":0},{"$f":"T62+S64","v":0},0,0,0,0,0,0,0,0,0,0,null,null,{"$f":"AG62+AD64","v":0},{"$f":"AH62+AG64","v":0},0,0,0,0,0,0,0,0,0,0,null,null,{"$f":"AU62+AR64","v":0},{"$f":"AV62+AU64","v":0},0,0,0,0,0,0,0,0,0,0,null,null,{"$f":"BI62+BF64","v":0},{"$f":"BJ62+BI64","v":0},0,0,0,0,0,0,0,0,0,0,null,null,{"$f":"BW62+BT64","v":0},{"$f":"BX62+BW64","v":0},0,0,0,0,0,0,0,0,0,0,null,null,{"$f":"CK62+CH64","v":0},{"$f":"CL62+CK64","v":0},0,0,0,0,0,0,0,0,0,0,null,null,{"$f":"CY62+CV64","v":0},{"$f":"CZ62+CY64","v":0},0,0,0,0,0,0,0,0,0,0,null,null,{"$f":"DM62+DJ64","v":0},{"$f":"DN62+DM64","v":0},0,0,0,0,0,0,0,0,0,0,null,null,{"$f":"EA62+DX64","v":0},{"$f":"EB62+EA64","v":0},0,0,0,0,0,0,0,0,0,0,null,null,{"$f":"EO62+EL64","v":0},{"$f":"EP62+EO64","v":0},0,0,0,0,0,0,0,0,0,0,null,null,{"$f":"FC62+EZ64","v":0},{"$f":"FD62+FC64","v":0},0,0,0,0,0,0,0,0,0,0]

{"sheet":"Atividade 3","index":3,"n_rows":64,"n_cols":183,"rows_kept":64,"cut":false,"hidden":false,"merged":[[30,2,31,2],[32,2,33,2],[34,2,35,2],[36,2,37,2],[38,2,39,2],[0,158,1,170],[2,130,2,142],[2,144,2,156],[2,158,2,170],[2,116,2,128],[0,116,1,128],[0,130,1,142],[0,144,1,156],[0,60,1,72],[0,74,1,86],[0,88,1,100],[0,102,1,114],[28,2,29,2],[2,60,2,72],[2,74,2,86],[2,88,2,100],[2,102,2,114],[2,4,2,16],[2,18,2,30],[2,32,2,44],[2,46,2,58],[0,4,1,16],[0,18,1,30],[0,32,1,44],[0,46,1,58],[4,1,45,1],[4,2,5,2],[6,2,7,2],[8,2,9,2],[10,2,11,2],[12,2,13,2],[14,2,15,2],[16,2,17,2],[18,2,19,2],[20,2,21,2],[22,2,23,2],[24,2,25,2],[26,2,27,2],[40,2,41,2],[42,2,43,2],[60,1,61,2],[62,1,63,2],[59,1,59,2],[44,2,45,2],[48,1,57,1],[48,2,49,2],[52,2,53,2],[54,2,55,2],[56,2,57,2],[50,2,51,2]]}
[null,null,null,null,{"$f":"MENU!$C$27","v":"Lavoura de Soja"},null,null,null,null,null,null,null,null,null,null,null,null,null,{"$f":"MENU!$C$27","v":"Lavoura de Soja"},null,null,null,null,null,null,null,null,null,null,null,null,null,{"$f":"MENU!$C$27","v":"Lavoura de Soja"},null,null,null,null,null,null,null,null,null,null,null,null,null,{"$f":"MENU!$C$27","v":"Lavoura de Soja"},null,null,null,null,null,null,null,null,null,null,null,null,null,{"$f":"MENU!$C$27","v":"Lavoura de Soja"},null,null,null,null,null,null,null,null,null,null,null,null,null,{"$f":"MENU!$C$27","v":"Lavoura de Soja"},null,null,null,null,null,null,null,null,null,null,null,null,null,{"$f":"MENU!$C$27","v":"Lavoura de Soja"},null,null,null,null,null,null,null,null,null,null,null,null,null,{"$f":"MENU!$C$27","v":"Lavoura de Soja"},null,null,null,null,null,null,null,null,null,null,null,null,null,{"$f":"MENU!$C$27","v":"Lavoura de Soja"},null,null,null,null,null,null,null,null,null,null,null,null,null,{"$f":"MENU!$C$27","v":"Lavoura de Soja"},null,null,null,null,null,null,null,null,null,null,null,null,null,{"$f":"MENU!$C$27","v":"Lavoura de Soja"},null,null,null,null,null,null,null,null,null,null,null,null,null,{"$f":"MENU!$C$27","v":"Lavoura de Soja"}]
[null,null,null,null,null,null,null,null,null,null,null,null,null,null,null,null,null,null,null,null,null,null,null,null,null,null,null,null,null,null,null,null,null,null,null,null,null,null,null,null,null,null,null,null,null,null,null,null,null,null,null,null,null,null,null,null,null,null,null,null,null,null,null,null,null,null,null,null,null,null,null,null,null,null,null,null,null,null,null,null,null,null,null,null,null,null,null,null,null,null,null,null,null,null,null,null,null,null,null,null,null,null,null,null,null,null,null,null,null,null,null,null,null,null,null,null,null,null,null,null,null,null,null,null,null,null,null,null,null,null,null,null,null,null,null,null,null,null,null,null,null,null,null,null,null,null,null,null,null,null,null,null,null,null,null,null,null,null,null,null,null,null,null,null,null,null,null,null,null,null,null,null,null,null,null,null,null,null,6,1,{"$f":"VLOOKUP(FX2,FX3:FY14,2,0)","v":2017},{"$f":"VLOOKUP(FY2,$FY$3:$FZ$14,2,0)","v":"R3C5"},6]
[null,null,null,null,{"$f":"MENU!F6","v":0},null,null,null,null,null,null,null,null,null,null,null,null,null,{"$f":"E3+1","v":1},null,null,null,null,null,null,null,null,null,null,null,null,null,{"$f":"S3+1","v":2},null,null,null,null,null,null,null,null,null,null,null,null,null,{"$f":"AG3+1","v":3},null,null,null,null,null,null,null,null,null,null,null,null,null,{"$f":"AU3+1","v":4},null,null,null,null,null,null,null,null,null,null,null,null,null,{"$f":"BI3+1","v":5},null,null,null,null,null,null,null,null,null,null,null,null,null,{"$f":"BW3+1","v":6},null,null,null,null,null,null,null,null,null,null,null,null,null,{"$f":"CK3+1","v":7},null,null,null,null,null,null,null,null,null,null,null,null,null,{"$f":"CY3+1","v":8},null,null,null,null,null,null,null,null,null,null,null,null,null,{"$f":"DM3+1","v":9},null,null,null,null,null,null,null,null,null,null,null,null,null,{"$f":"EA3+1","v":10},null,null,null,null,null,null,null,null,null,null,null,null,null,{"$f":"EO3+1","v":11},null,null,null,null,null,null,null,null,null,null,null,null,null,null,null,null,null,null,null,null,1,2017,"R3C5"]
[null,null,"Descrição de Despesa",null,"Jan","Fev","Mar","Abr","Mai","Jun","Jul","Ago","Set","Out","Nov","Dez","Total",null,"Jan","Fev","Mar","Abr","Mai","Jun","Jul","Ago","Set","Out","Nov","Dez","Total",null,"Jan","Fev","Mar","Abr","Mai","Jun","Jul","Ago","Set","Out","Nov","Dez","Total",null,"Jan","Fev","Mar","Abr","Mai","Jun","Jul","Ago","Set","Out","Nov","Dez","Total",null,"Jan","Fev","Mar","Abr","Mai","Jun","Jul","Ago","Set","Out","Nov","Dez","Total",null,"Jan","Fev","Mar","Abr","Mai","Jun","Jul","Ago","Set","Out","Nov","Dez","Total",null,"Jan","Fev","Mar","Abr","Mai","Jun","Jul","Ago","Set","Out","Nov","Dez","Total",null,"Jan","Fev","Mar","Abr","Mai","Jun","Jul","Ago","Set","Out","Nov","Dez","Total",null,"Jan","Fev","Mar","Abr","Mai","Jun","Jul","Ago","Set","Out","Nov","Dez","Total",null,"Jan","Fev","Mar","Abr","Mai","Jun","Jul","Ago","Set","Out","Nov","Dez","Total",null,"Jan","Fev","Mar","Abr","Mai","Jun","Jul","Ago","Set","Out","Nov","Dez","Total",null,"Jan","Fev","Mar","Abr","Mai","Jun","Jul","Ago","Set","Out","Nov","Dez","Total",null,null,null,null,null,null,null,null,2,2018,"R3C19"]
[{"$f":"C5&D5","v":"Mão de obra pagaP"},"Saídas de Caixa","Mão de obra paga","P",0,0,0,0,0,0,0,0,0,0,0,0,{"$f":"SUM($E$5:$P$5)","v":0},null,0,0,0,0,0,0,0,0,0,0,0,0,{"$f":"SUM($S$5:$AD$5)","v":0},null,0,0,0,0,0,0,0,0,0,0,0,0,{"$f":"SUM($AG$5:$AR$5)","v":0},null,0,0,0,0,0,0,0,0,0,0,0,0,{"$f":"SUM($AU$5:$BF$5)","v":0},null,0,0,0,0,0,0,0,0,0,0,0,0,{"$f":"SUM($BI$5:$BT$5)","v":0},null,0,0,0,0,0,0,0,0,0,0,0,0,{"$f":"SUM($BW$5:$CH$5)","v":0},null,0,0,0,0,0,0,0,0,0,0,0,0,{"$f":"SUM($CK$5:$CV$5)","v":0},null,0,0,0,0,0,0,0,0,0,0,0,0,{"$f":"SUM($CY$5:$DJ$5)","v":0},null,0,0,0,0,0,0,0,0,0,0,0,0,{"$f":"SUM($DM$5:$DX$5)","v":0},null,0,0,0,0,0,0,0,0,0,0,0,0,{"$f":"SUM($EA$5:$EL$5)","v":0},null,0,0,0,0,0,0,0,0,0,0,0,0,{"$f":"SUM($EO$5:$EZ$5)","v":0},null,0,0,0,0,0,0,0,0,0,0,0,0,{"$f":"SUM($FC$5:$FN$5)","v":0},null,null,null,null,null,null,null,null,3,2019,"R3C33"]
[{"$f":"C5&D6","v":"Mão de obra pagaR"},null,null,"R",null,null,null,null,null,null,null,null,null,null,null,null,{"$f":"SUM($E$6:$P$6)","v":0},null,null,null,null,null,null,null,null,null,null,null,null,null,{"$f":"SUM($S$6:$AD$6)","v":0},null,null,null,null,null,null,null,null,null,null,null,null,null,{"$f":"SUM($AG$6:$AR$6)","v":0},null,null,null,null,null,null,null,null,null,null,null,null,null,{"$f":"SUM($AU$6:$BF$6)","v":0},null,null,null,null,null,null,null,null,null,null,null,null,null,{"$f":"SUM($BI$6:$BT$6)","v":0},null,null,null,null,null,null,null,null,null,null,null,null,null,{"$f":"SUM($BW$6:$CH$6)","v":0},null,null,null,null,null,null,null,null,null,null,null,null,null,{"$f":"SUM($CK$6:$CV$6)","v":0},null,null,null,null,null,null,null,null,null,null,null,null,null,{"$f":"SUM($CY$6:$DJ$6)","v":0},null,null,null,null,null,null,null,null,null,null,null,null,null,{"$f":"SUM($DM$6:$DX$6)","v":0},null,null,null,null,null,null,null,null,null,null,null,null,null,{"$f":"SUM($EA$6:$EL$6)","v":0},null,null,null,null,null,null,null,null,null,null,null,null,null,{"$f":"SUM($EO$6:$EZ$6)","v":0},null,null,null,null,null,null,null,null,null,null,null,null,null,{"$f":"SUM($FC$6:$FN$6)","v":0},null,null,null,null,null,null,null,null,4,2020,"R3C47"]
[{"$f":"C7&D7","v":"SementeP"},null,"Semente","P",0,0,0,0,0,0,0,0,0,0,0,0,{"$f":"SUM($E$7:$P$7)","v":0},null,0,0,0,0,0,0,0,0,0,0,0,0,{"$f":"SUM($S$7:$AD$7)","v":0},null,0,0,0,0,0,0,0,0,0,0,0,0,{"$f":"SUM($AG$7:$AR$7)","v":0},null,0,0,0,0,0,0,0,0,0,0,0,0,{"$f":"SUM($AU$7:$BF$7)","v":0},null,0,0,0,0,0,0,0,0,0,0,0,0,{"$f":"SUM($BI$7:$BT$7)","v":0},null,0,0,0,0,0,0,0,0,0,0,0,0,{"$f":"SUM($BW$7:$CH$7)","v":0},null,0,0,0,0,0,0,0,0,0,0,0,0,{"$f":"SUM($CK$7:$CV$7)","v":0},null,0,0,0,0,0,0,0,0,0,0,0,0,{"$f":"SUM($CY$7:$DJ$7)","v":0},null,0,0,0,0,0,0,0,0,0,0,0,0,{"$f":"SUM($DM$7:$DX$7)","v":0},null,0,0,0,0,0,0,0,0,0,0,0,0,{"$f":"SUM($EA$7:$EL$7)","v":0},null,0,0,0,0,0,0,0,0,0,0,0,0,{"$f":"SUM($EO$7:$EZ$7)","v":0},null,0,0,0,0,0,0,0,0,0,0,0,0,{"$f":"SUM($FC$7:$FN$7)","v":0},null,null,null,null,null,null,null,null,5,2021,"R3C61"]
[{"$f":"C7&D8","v":"SementeR"},null,null,"R",null,null,null,null,null,null,null,null,null,null,null,null,{"$f":"SUM($E$8:$P$8)","v":0},null,null,null,null,null,null,null,null,null,null,null,null,null,{"$f":"SUM($S$8:$AD$8)","v":0},null,null,null,null,null,null,null,null,null,null,null,null,null,{"$f":"SUM($AG$8:$AR$8)","v":0},null,null,null,null,null,null,null,null,null,null,null,null,null,{"$f":"SUM($AU$8:$BF$8)","v":0},null,null,null,null,null,null,null,null,null,null,null,null,null,{"$f":"SUM($BI$8:$BT$8)","v":0},null,null,null,null,null,null,null,null,null,null,null,null,null,{"$f":"SUM($BW$8:$CH$8)","v":0},null,null,null,null,null,null,null,null,null,null,null,null,null,{"$f":"SUM($CK$8:$CV$8)","v":0},null,null,null,null,null,null,null,null,null,null,null,null,null,{"$f":"SUM($CY$8:$DJ$8)","v":0},null,null,null,null,null,null,null,null,null,null,null,null,null,{"$f":"SUM($DM$8:$DX$8)","v":0},null,null,null,null,null,null,null,null,null,null,null,null,null,{"$f":"SUM($EA$8:$EL$8)","v":0},null,null,null,null,null,null,null,null,null,null,null,null,null,{"$f":"SUM($EO$8:$EZ$8)","v":0},null,null,null,null,null,null,null,null,null,null,null,null,null,{"$f":"SUM($FC$8:$FN$8)","v":0},null,null,null,null,null,null,null,null,6,2022,"R3C75"]
[{"$f":"C9&D9","v":"Adubação orgânicaP"},null,"Adubação orgânica","P",0,0,0,0,0,0,0,0,0,0,0,0,{"$f":"SUM($E$9:$P$9)","v":0},null,0,0,0,0,0,0,0,0,0,0,0,0,{"$f":"SUM($S$9:$AD$9)","v":0},null,0,0,0,0,0,0,0,0,0,0,0,0,{"$f":"SUM($AG$9:$AR$9)","v":0},null,0,0,0,0,0,0,0,0,0,0,0,0,{"$f":"SUM($AU$9:$BF$9)","v":0},null,0,0,0,0,0,0,0,0,0,0,0,0,{"$f":"SUM($BI$9:$BT$9)","v":0},null,0,0,0,0,0,0,0,0,0,0,0,0,{"$f":"SUM($BW$9:$CH$9)","v":0},null,0,0,0,0,0,0,0,0,0,0,0,0,{"$f":"SUM($CK$9:$CV$9)","v":0},null,0,0,0,0,0,0,0,0,0,0,0,0,{"$f":"SUM($CY$9:$DJ$9)","v":0},null,0,0,0,0,0,0,0,0,0,0,0,0,{"$f":"SUM($DM$9:$DX$9)","v":0},null,0,0,0,0,0,0,0,0,0,0,0,0,{"$f":"SUM($EA$9:$EL$9)","v":0},null,0,0,0,0,0,0,0,0,0,0,0,0,{"$f":"SUM($EO$9:$EZ$9)","v":0},null,0,0,0,0,0,0,0,0,0,0,0,0,{"$f":"SUM($FC$9:$FN$9)","v":0},null,null,null,null,null,null,null,null,7,2023,"R3C89"]
[{"$f":"C9&D10","v":"Adubação orgânicaR"},null,null,"R",null,null,null,null,null,null,null,null,null,null,null,null,{"$f":"SUM($E$10:$P$10)","v":0},null,null,null,null,null,null,null,null,null,null,null,null,null,{"$f":"SUM($S$10:$AD$10)","v":0},null,null,null,null,null,null,null,null,null,null,null,null,null,{"$f":"SUM($AG$10:$AR$10)","v":0},null,null,null,null,null,null,null,null,null,null,null,null,null,{"$f":"SUM($AU$10:$BF$10)","v":0},null,null,null,null,null,null,null,null,null,null,null,null,null,{"$f":"SUM($BI$10:$BT$10)","v":0},null,null,null,null,null,null,null,null,null,null,null,null,null,{"$f":"SUM($BW$10:$CH$10)","v":0},null,null,null,null,null,null,null,null,null,null,null,null,null,{"$f":"SUM($CK$10:$CV$10)","v":0},null,null,null,null,null,null,null,null,null,null,null,null,null,{"$f":"SUM($CY$10:$DJ$10)","v":0},null,null,null,null,null,null,null,null,null,null,null,null,null,{"$f":"SUM($DM$10:$DX$10)","v":0},null,null,null,null,null,null,null,null,null,null,null,null,null,{"$f":"SUM($EA$10:$EL$10)","v":0},null,null,null,null,null,null,null,null,null,null,null,null,null,{"$f":"SUM($EO$10:$EZ$10)","v":0},null,null,null,null,null,null,null,null,null,null,null,null,null,{"$f":"SUM($FC$10:$FN$10)","v":0},null,null,null,null,null,null,null,null,8,2024,"R3C103"]
[{"$f":"C11&D11","v":"Adubação químicaP"},null,"Adubação química","P",0,0,0,0,0,0,0,0,0,0,0,0,{"$f":"SUM($E$11:$P$11)","v":0},null,0,0,0,0,0,0,0,0,0,0,0,0,{"$f":"SUM($S$11:$AD$11)","v":0},null,0,0,0,0,0,0,0,0,0,0,0,0,{"$f":"SUM($AG$11:$AR$11)","v":0},null,0,0,0,0,0,0,0,0,0,0,0,0,{"$f":"SUM($AU$11:$BF$11)","v":0},null,0,0,0,0,0,0,0,0,0,0,0,0,{"$f":"SUM($BI$11:$BT$11)","v":0},null,0,0,0,0,0,0,0,0,0,0,0,0,{"$f":"SUM($BW$11:$CH$11)","v":0},null,0,0,0,0,0,0,0,0,0,0,0,0,{"$f":"SUM($CK$11:$CV$11)","v":0},null,0,0,0,0,0,0,0,0,0,0,0,0,{"$f":"SUM($CY$11:$DJ$11)","v":0},null,0,0,0,0,0,0,0,0,0,0,0,0,{"$f":"SUM($DM$11:$DX$11)","v":0},null,0,0,0,0,0,0,0,0,0,0,0,0,{"$f":"SUM($EA$11:$EL$11)","v":0},null,0,0,0,0,0,0,0,0,0,0,0,0,{"$f":"SUM($EO$11:$EZ$11)","v":0},null,0,0,0,0,0,0,0,0,0,0,0,0,{"$f":"SUM($FC$11:$FN$11)","v":0},null,null,null,null,null,null,null,null,9,2025,"R3C117"]
[{"$f":"C11&D12","v":"Adubação químicaR"},null,null,"R",null,null,null,null,null,null,null,null,null,null,null,null,{"$f":"SUM($E$12:$P$12)","v":0},null,null,null,null,null,null,null,null,null,null,null,null,null,{"$f":"SUM($S$12:$AD$12)","v":0},null,null,null,null,null,null,null,null,null,null,null,null,null,{"$f":"SUM($AG$12:$AR$12)","v":0},null,null,null,null,null,null,null,null,null,null,null,null,null,{"$f":"SUM($AU$12:$BF$12)","v":0},null,null,null,null,null,null,null,null,null,null,null,null,null,{"$f":"SUM($BI$12:$BT$12)","v":0},null,null,null,null,null,null,null,null,null,null,null,null,null,{"$f":"SUM($BW$12:$CH$12)","v":0},null,null,null,null,null,null,null,null,null,null,null,null,null,{"$f":"SUM($CK$12:$CV$12)","v":0},null,null,null,null,null,null,null,null,null,null,null,null,null,{"$f":"SUM($CY$12:$DJ$12)","v":0},null,null,null,null,null,null,null,null,null,null,null,null,null,{"$f":"SUM($DM$12:$DX$12)","v":0},null,null,null,null,null,null,null,null,null,null,null,null,null,{"$f":"SUM($EA$12:$EL$12)","v":0},null,null,null,null,null,null,null,null,null,null,null,null,null,{"$f":"SUM($EO$12:$EZ$12)","v":0},null,null,null,null,null,null,null,null,null,null,null,null,null,{"$f":"SUM($FC$12:$FN$12)","v":0},null,null,null,null,null,null,null,null,10,2026,"R3C131"]
[{"$f":"C13&D13","v":"FungicidaP"},null,"Fungicida","P",0,0,0,0,0,0,0,0,0,0,0,0,{"$f":"SUM($E$13:$P$13)","v":0},null,0,0,0,0,0,0,0,0,0,0,0,0,{"$f":"SUM($S$13:$AD$13)","v":0},null,0,0,0,0,0,0,0,0,0,0,0,0,{"$f":"SUM($AG$13:$AR$13)","v":0},null,0,0,0,0,0,0,0,0,0,0,0,0,{"$f":"SUM($AU$13:$BF$13)","v":0},null,0,0,0,0,0,0,0,0,0,0,0,0,{"$f":"SUM($BI$13:$BT$13)","v":0},null,0,0,0,0,0,0,0,0,0,0,0,0,{"$f":"SUM($BW$13:$CH$13)","v":0},null,0,0,0,0,0,0,0,0,0,0,0,0,{"$f":"SUM($CK$13:$CV$13)","v":0},null,0,0,0,0,0,0,0,0,0,0,0,0,{"$f":"SUM($CY$13:$DJ$13)","v":0},null,0,0,0,0,0,0,0,0,0,0,0,0,{"$f":"SUM($DM$13:$DX$13)","v":0},null,0,0,0,0,0,0,0,0,0,0,0,0,{"$f":"SUM($EA$13:$EL$13)","v":0},null,0,0,0,0,0,0,0,0,0,0,0,0,{"$f":"SUM($EO$13:$EZ$13)","v":0},null,0,0,0,0,0,0,0,0,0,0,0,0,{"$f":"SUM($FC$13:$FN$13)","v":0},null,null,null,null,null,null,null,null,11,2027,"R3C145"]
[{"$f":"C13&D14","v":"FungicidaR"},null,null,"R",null,null,null,null,null,null,null,null,null,null,null,null,{"$f":"SUM($E$14:$P$14)","v":0},null,null,null,null,null,null,null,null,null,null,null,null,null,{"$f":"SUM($S$14:$AD$14)","v":0},null,null,null,null,null,null,null,null,null,null,null,null,null,{"$f":"SUM($AG$14:$AR$14)","v":0},null,null,null,null,null,null,null,null,null,null,null,null,null,{"$f":"SUM($AU$14:$BF$14)","v":0},null,null,null,null,null,null,null,null,null,null,null,null,null,{"$f":"SUM($BI$14:$BT$14)","v":0},null,null,null,null,null,null,null,null,null,null,null,null,null,{"$f":"SUM($BW$14:$CH$14)","v":0},null,null,null,null,null,null,null,null,null,null,null,null,null,{"$f":"SUM($CK$14:$CV$14)","v":0},null,null,null,null,null,null,null,null,null,null,null,null,null,{"$f":"SUM($CY$14:$DJ$14)","v":0},null,null,null,null,null,null,null,null,null,null,null,null,null,{"$f":"SUM($DM$14:$DX$14)","v":0},null,null,null,null,null,null,null,null,null,null,null,null,null,{"$f":"SUM($EA$14:$EL$14)","v":0},null,null,null,null,null,null,null,null,null,null,null,null,null,{"$f":"SUM($EO$14:$EZ$14)","v":0},null,null,null,null,null,null,null,null,null,null,null,null,null,{"$f":"SUM($FC$14:$FN$14)","v":0},null,null,null,null,null,null,null,null,12,2028,"R3C159"]
[{"$f":"C15&D15","v":"InseticidaP"},null,"Inseticida","P",0,0,0,0,0,0,0,0,0,0,0,0,{"$f":"SUM($E$15:$P$15)","v":0},null,0,0,0,0,0,0,0,0,0,0,0,0,{"$f":"SUM($S$15:$AD$15)","v":0},null,0,0,0,0,0,0,0,0,0,0,0,0,{"$f":"SUM($AG$15:$AR$15)","v":0},null,0,0,0,0,0,0,0,0,0,0,0,0,{"$f":"SUM($AU$15:$BF$15)","v":0},null,0,0,0,0,0,0,0,0,0,0,0,0,{"$f":"SUM($BI$15:$BT$15)","v":0},null,0,0,0,0,0,0,0,0,0,0,0,0,{"$f":"SUM($BW$15:$CH$15)","v":0},null,0,0,0,0,0,0,0,0,0,0,0,0,{"$f":"SUM($CK$15:$CV$15)","v":0},null,0,0,0,0,0,0,0,0,0,0,0,0,{"$f":"SUM($CY$15:$DJ$15)","v":0},null,0,0,0,0,0,0,0,0,0,0,0,0,{"$f":"SUM($DM$15:$DX$15)","v":0},null,0,0,0,0,0,0,0,0,0,0,0,0,{"$f":"SUM($EA$15:$EL$15)","v":0},null,0,0,0,0,0,0,0,0,0,0,0,0,{"$f":"SUM($EO$15:$EZ$15)","v":0},null,0,0,0,0,0,0,0,0,0,0,0,0,{"$f":"SUM($FC$15:$FN$15)","v":0}]
[{"$f":"C15&D16","v":"InseticidaR"},null,null,"R",null,null,null,null,null,null,null,null,null,null,null,null,{"$f":"SUM($E$16:$P$16)","v":0},null,null,null,null,null,null,null,null,null,null,null,null,null,{"$f":"SUM($S$16:$AD$16)","v":0},null,null,null,null,null,null,null,null,null,null,null,null,null,{"$f":"SUM($AG$16:$AR$16)","v":0},null,null,null,null,null,null,null,null,null,null,null,null,null,{"$f":"SUM($AU$16:$BF$16)","v":0},null,null,null,null,null,null,null,null,null,null,null,null,null,{"$f":"SUM($BI$16:$BT$16)","v":0},null,null,null,null,null,null,null,null,null,null,null,null,null,{"$f":"SUM($BW$16:$CH$16)","v":0},null,null,null,null,null,null,null,null,null,null,null,null,null,{"$f":"SUM($CK$16:$CV$16)","v":0},null,null,null,null,null,null,null,null,null,null,null,null,null,{"$f":"SUM($CY$16:$DJ$16)","v":0},null,null,null,null,null,null,null,null,null,null,null,null,null,{"$f":"SUM($DM$16:$DX$16)","v":0},null,null,null,null,null,null,null,null,null,null,null,null,null,{"$f":"SUM($EA$16:$EL$16)","v":0},null,null,null,null,null,null,null,null,null,null,null,null,null,{"$f":"SUM($EO$16:$EZ$16)","v":0},null,null,null,null,null,null,null,null,null,null,null,null,null,{"$f":"SUM($FC$16:$FN$16)","v":0}]
[{"$f":"C17&D17","v":"HerbicidaP"},null,"Herbicida","P",0,0,0,0,0,0,0,0,0,0,0,0,{"$f":"SUM($E$17:$P$17)","v":0},null,0,0,0,0,0,0,0,0,0,0,0,0,{"$f":"SUM($S$17:$AD$17)","v":0},null,0,0,0,0,0,0,0,0,0,0,0,0,{"$f":"SUM($AG$17:$AR$17)","v":0},null,0,0,0,0,0,0,0,0,0,0,0,0,{"$f":"SUM($AU$17:$BF$17)","v":0},null,0,0,0,0,0,0,0,0,0,0,0,0,{"$f":"SUM($BI$17:$BT$17)","v":0},null,0,0,0,0,0,0,0,0,0,0,0,0,{"$f":"SUM($BW$17:$CH$17)","v":0},null,0,0,0,0,0,0,0,0,0,0,0,0,{"$f":"SUM($CK$17:$CV$17)","v":0},null,0,0,0,0,0,0,0,0,0,0,0,0,{"$f":"SUM($CY$17:$DJ$17)","v":0},null,0,0,0,0,0,0,0,0,0,0,0,0,{"$f":"SUM($DM$17:$DX$17)","v":0},null,0,0,0,0,0,0,0,0,0,0,0,0,{"$f":"SUM($EA$17:$EL$17)","v":0},null,0,0,0,0,0,0,0,0,0,0,0,0,{"$f":"SUM($EO$17:$EZ$17)","v":0},null,0,0,0,0,0,0,0,0,0,0,0,0,{"$f":"SUM($FC$17:$FN$17)","v":0}]
[{"$f":"C17&D18","v":"HerbicidaR"},null,null,"R",null,null,null,null,null,null,null,null,null,null,null,null,{"$f":"SUM($E$18:$P$18)","v":0},null,null,null,null,null,null,null,null,null,null,null,null,null,{"$f":"SUM($S$18:$AD$18)","v":0},null,null,null,null,null,null,null,null,null,null,null,null,null,{"$f":"SUM($AG$18:$AR$18)","v":0},null,null,null,null,null,null,null,null,null,null,null,null,null,{"$f":"SUM($AU$18:$BF$18)","v":0},null,null,null,null,null,null,null,null,null,null,null,null,null,{"$f":"SUM($BI$18:$BT$18)","v":0},null,null,null,null,null,null,null,null,null,null,null,null,null,{"$f":"SUM($BW$18:$CH$18)","v":0},null,null,null,null,null,null,null,null,null,null,null,null,null,{"$f":"SUM($CK$18:$CV$18)","v":0},null,null,null,null,null,null,null,null,null,null,null,null,null,{"$f":"SUM($CY$18:$DJ$18)","v":0},null,null,null,null,null,null,null,null,null,null,null,null,null,{"$f":"SUM($DM$18:$DX$18)","v":0},null,null,null,null,null,null,null,null,null,null,null,null,null,{"$f":"SUM($EA$18:$EL$18)","v":0},null,null,null,null,null,null,null,null,null,null,null,null,null,{"$f":"SUM($EO$18:$EZ$18)","v":0},null,null,null,null,null,null,null,null,null,null,null,null,null,{"$f":"SUM($FC$18:$FN$18)","v":0}]
[{"$f":"C19&D19","v":"DieselP"},null,"Diesel","P",0,0,0,0,0,0,0,0,0,0,0,0,{"$f":"SUM($E$19:$P$19)","v":0},null,0,0,0,0,0,0,0,0,0,0,0,0,{"$f":"SUM($S$19:$AD$19)","v":0},null,0,0,0,0,0,0,0,0,0,0,0,0,{"$f":"SUM($AG$19:$AR$19)","v":0},null,0,0,0,0,0,0,0,0,0,0,0,0,{"$f":"SUM($AU$19:$BF$19)","v":0},null,0,0,0,0,0,0,0,0,0,0,0,0,{"$f":"SUM($BI$19:$BT$19)","v":0},null,0,0,0,0,0,0,0,0,0,0,0,0,{"$f":"SUM($BW$19:$CH$19)","v":0},null,0,0,0,0,0,0,0,0,0,0,0,0,{"$f":"SUM($CK$19:$CV$19)","v":0},null,0,0,0,0,0,0,0,0,0,0,0,0,{"$f":"SUM($CY$19:$DJ$19)","v":0},null,0,0,0,0,0,0,0,0,0,0,0,0,{"$f":"SUM($DM$19:$DX$19)","v":0},null,0,0,0,0,0,0,0,0,0,0,0,0,{"$f":"SUM($EA$19:$EL$19)","v":0},null,0,0,0,0,0,0,0,0,0,0,0,0,{"$f":"SUM($EO$19:$EZ$19)","v":0},null,0,0,0,0,0,0,0,0,0,0,0,0,{"$f":"SUM($FC$19:$FN$19)","v":0}]
[{"$f":"C19&D20","v":"DieselR"},null,null,"R",null,null,null,null,null,null,null,null,null,null,null,null,{"$f":"SUM($E$20:$P$20)","v":0},null,null,null,null,null,null,null,null,null,null,null,null,null,{"$f":"SUM($S$20:$AD$20)","v":0},null,null,null,null,null,null,null,null,null,null,null,null,null,{"$f":"SUM($AG$20:$AR$20)","v":0},null,null,null,null,null,null,null,null,null,null,null,null,null,{"$f":"SUM($AU$20:$BF$20)","v":0},null,null,null,null,null,null,null,null,null,null,null,null,null,{"$f":"SUM($BI$20:$BT$20)","v":0},null,null,null,null,null,null,null,null,null,null,null,null,null,{"$f":"SUM($BW$20:$CH$20)","v":0},null,null,null,null,null,null,null,null,null,null,null,null,null,{"$f":"SUM($CK$20:$CV$20)","v":0},null,null,null,null,null,null,null,null,null,null,null,null,null,{"$f":"SUM($CY$20:$DJ$20)","v":0},null,null,null,null,null,null,null,null,null,null,null,null,null,{"$f":"SUM($DM$20:$DX$20)","v":0},null,null,null,null,null,null,null,null,null,null,null,null,null,{"$f":"SUM($EA$20:$EL$20)","v":0},null,null,null,null,null,null,null,null,null,null,null,null,null,{"$f":"SUM($EO$20:$EZ$20)","v":0},null,null,null,null,null,null,null,null,null,null,null,null,null,{"$f":"SUM($FC$20:$FN$20)","v":0}]
[{"$f":"C21&D21","v":"Pagamento de hora-máquinaP"},null,"Pagamento de hora-máquina","P",0,0,0,0,0,0,0,0,0,0,0,0,{"$f":"SUM($E$21:$P$21)","v":0},null,0,0,0,0,0,0,0,0,0,0,0,0,{"$f":"SUM($S$21:$AD$21)","v":0},null,0,0,0,0,0,0,0,0,0,0,0,0,{"$f":"SUM($AG$21:$AR$21)","v":0},null,0,0,0,0,0,0,0,0,0,0,0,0,{"$f":"SUM($AU$21:$BF$21)","v":0},null,0,0,0,0,0,0,0,0,0,0,0,0,{"$f":"SUM($BI$21:$BT$21)","v":0},null,0,0,0,0,0,0,0,0,0,0,0,0,{"$f":"SUM($BW$21:$CH$21)","v":0},null,0,0,0,0,0,0,0,0,0,0,0,0,{"$f":"SUM($CK$21:$CV$21)","v":0},null,0,0,0,0,0,0,0,0,0,0,0,0,{"$f":"SUM($CY$21:$DJ$21)","v":0},null,0,0,0,0,0,0,0,0,0,0,0,0,{"$f":"SUM($DM$21:$DX$21)","v":0},null,0,0,0,0,0,0,0,0,0,0,0,0,{"$f":"SUM($EA$21:$EL$21)","v":0},null,0,0,0,0,0,0,0,0,0,0,0,0,{"$f":"SUM($EO$21:$EZ$21)","v":0},null,0,0,0,0,0,0,0,0,0,0,0,0,{"$f":"SUM($FC$21:$FN$21)","v":0}]
[{"$f":"C21&D22","v":"Pagamento de hora-máquinaR"},null,null,"R",null,null,null,null,null,null,null,null,null,null,null,null,{"$f":"SUM($E$22:$P$22)","v":0},null,null,null,null,null,null,null,null,null,null,null,null,null,{"$f":"SUM($S$22:$AD$22)","v":0},null,null,null,null,null,null,null,null,null,null,null,null,null,{"$f":"SUM($AG$22:$AR$22)","v":0},null,null,null,null,null,null,null,null,null,null,null,null,null,{"$f":"SUM($AU$22:$BF$22)","v":0},null,null,null,null,null,null,null,null,null,null,null,null,null,{"$f":"SUM($BI$22:$BT$22)","v":0},null,null,null,null,null,null,null,null,null,null,null,null,null,{"$f":"SUM($BW$22:$CH$22)","v":0},null,null,null,null,null,null,null,null,null,null,null,null,null,{"$f":"SUM($CK$22:$CV$22)","v":0},null,null,null,null,null,null,null,null,null,null,null,null,null,{"$f":"SUM($CY$22:$DJ$22)","v":0},null,null,null,null,null,null,null,null,null,null,null,null,null,{"$f":"SUM($DM$22:$DX$22)","v":0},null,null,null,null,null,null,null,null,null,null,null,null,null,{"$f":"SUM($EA$22:$EL$22)","v":0},null,null,null,null,null,null,null,null,null,null,null,null,null,{"$f":"SUM($EO$22:$EZ$22)","v":0},null,null,null,null,null,null,null,null,null,null,null,null,null,{"$f":"SUM($FC$22:$FN$22)","v":0}]
[{"$f":"C23&D23","v":"SeguroP"},null,"Seguro","P",0,0,0,0,0,0,0,0,0,0,0,0,{"$f":"SUM($E$23:$P$23)","v":0},null,0,0,0,0,0,0,0,0,0,0,0,0,{"$f":"SUM($S$23:$AD$23)","v":0},null,0,0,0,0,0,0,0,0,0,0,0,0,{"$f":"SUM($AG$23:$AR$23)","v":0},null,0,0,0,0,0,0,0,0,0,0,0,0,{"$f":"SUM($AU$23:$BF$23)","v":0},null,0,0,0,0,0,0,0,0,0,0,0,0,{"$f":"SUM($BI$23:$BT$23)","v":0},null,0,0,0,0,0,0,0,0,0,0,0,0,{"$f":"SUM($BW$23:$CH$23)","v":0},null,0,0,0,0,0,0,0,0,0,0,0,0,{"$f":"SUM($CK$23:$CV$23)","v":0},null,0,0,0,0,0,0,0,0,0,0,0,0,{"$f":"SUM($CY$23:$DJ$23)","v":0},null,0,0,0,0,0,0,0,0,0,0,0,0,{"$f":"SUM($DM$23:$DX$23)","v":0},null,0,0,0,0,0,0,0,0,0,0,0,0,{"$f":"SUM($EA$23:$EL$23)","v":0},null,0,0,0,0,0,0,0,0,0,0,0,0,{"$f":"SUM($EO$23:$EZ$23)","v":0},null,0,0,0,0,0,0,0,0,0,0,0,0,{"$f":"SUM($FC$23:$FN$23)","v":0}]
[{"$f":"C23&D24","v":"SeguroR"},null,null,"R",null,null,null,null,null,null,null,null,null,null,null,null,{"$f":"SUM($E$24:$P$24)","v":0},null,null,null,null,null,null,null,null,null,null,null,null,null,{"$f":"SUM($S$24:$AD$24)","v":0},null,null,null,null,null,null,null,null,null,null,null,null,null,{"$f":"SUM($AG$24:$AR$24)","v":0},null,null,null,null,null,null,null,null,null,null,null,null,null,{"$f":"SUM($AU$24:$BF$24)","v":0},null,null,null,null,null,null,null,null,null,null,null,null,null,{"$f":"SUM($BI$24:$BT$24)","v":0},null,null,null,null,null,null,null,null,null,null,null,null,null,{"$f":"SUM($BW$24:$CH$24)","v":0},null,null,null,null,null,null,null,null,null,null,null,null,null,{"$f":"SUM($CK$24:$CV$24)","v":0},null,null,null,null,null,null,null,null,null,null,null,null,null,{"$f":"SUM($CY$24:$DJ$24)","v":0},null,null,null,null,null,null,null,null,null,null,null,null,null,{"$f":"SUM($DM$24:$DX$24)","v":0},null,null,null,null,null,null,null,null,null,null,null,null,null,{"$f":"SUM($EA$24:$EL$24)","v":0},null,null,null,null,null,null,null,null,null,null,null,null,null,{"$f":"SUM($EO$24:$EZ$24)","v":0},null,null,null,null,null,null,null,null,null,null,null,null,null,{"$f":"SUM($FC$24:$FN$24)","v":0}]
[{"$f":"C25&D25","v":"Reparo e Manutenção de Máquinas e BenfeitoriasP"},null,"Reparo e Manutenção de Máquinas e Benfeitorias","P",0,0,0,0,0,0,0,0,0,0,0,0,{"$f":"SUM($E$25:$P$25)","v":0},null,0,0,0,0,0,0,0,0,0,0,0,0,{"$f":"SUM($S$25:$AD$25)","v":0},null,0,0,0,0,0,0,0,0,0,0,0,0,{"$f":"SUM($AG$25:$AR$25)","v":0},null,0,0,0,0,0,0,0,0,0,0,0,0,{"$f":"SUM($AU$25:$BF$25)","v":0},null,0,0,0,0,0,0,0,0,0,0,0,0,{"$f":"SUM($BI$25:$BT$25)","v":0},null,0,0,0,0,0,0,0,0,0,0,0,0,{"$f":"SUM($BW$25:$CH$25)","v":0},null,0,0,0,0,0,0,0,0,0,0,0,0,{"$f":"SUM($CK$25:$CV$25)","v":0},null,0,0,0,0,0,0,0,0,0,0,0,0,{"$f":"SUM($CY$25:$DJ$25)","v":0},null,0,0,0,0,0,0,0,0,0,0,0,0,{"$f":"SUM($DM$25:$DX$25)","v":0},null,0,0,0,0,0,0,0,0,0,0,0,0,{"$f":"SUM($EA$25:$EL$25)","v":0},null,0,0,0,0,0,0,0,0,0,0,0,0,{"$f":"SUM($EO$25:$EZ$25)","v":0},null,0,0,0,0,0,0,0,0,0,0,0,0,{"$f":"SUM($FC$25:$FN$25)","v":0}]
[{"$f":"C25&D26","v":"Reparo e Manutenção de Máquinas e BenfeitoriasR"},null,null,"R",null,null,null,null,null,null,null,null,null,null,null,null,{"$f":"SUM($E$26:$P$26)","v":0},null,null,null,null,null,null,null,null,null,null,null,null,null,{"$f":"SUM($S$26:$AD$26)","v":0},null,null,null,null,null,null,null,null,null,null,null,null,null,{"$f":"SUM($AG$26:$AR$26)","v":0},null,null,null,null,null,null,null,null,null,null,null,null,null,{"$f":"SUM($AU$26:$BF$26)","v":0},null,null,null,null,null,null,null,null,null,null,null,null,null,{"$f":"SUM($BI$26:$BT$26)","v":0},null,null,null,null,null,null,null,null,null,null,null,null,null,{"$f":"SUM($BW$26:$CH$26)","v":0},null,null,null,null,null,null,null,null,null,null,null,null,null,{"$f":"SUM($CK$26:$CV$26)","v":0},null,null,null,null,null,null,null,null,null,null,null,null,null,{"$f":"SUM($CY$26:$DJ$26)","v":0},null,null,null,null,null,null,null,null,null,null,null,null,null,{"$f":"SUM($DM$26:$DX$26)","v":0},null,null,null,null,null,null,null,null,null,null,null,null,null,{"$f":"SUM($EA$26:$EL$26)","v":0},null,null,null,null,null,null,null,null,null,null,null,null,null,{"$f":"SUM($EO$26:$EZ$26)","v":0},null,null,null,null,null,null,null,null,null,null,null,null,null,{"$f":"SUM($FC$26:$FN$26)","v":0}]
[{"$f":"C27&D27","v":"ReinvestimentoP"},null,"Reinvestimento","P",0,0,0,0,0,0,0,0,0,0,0,0,{"$f":"SUM($E$27:$P$27)","v":0},null,0,0,0,0,0,0,0,0,0,0,0,0,{"$f":"SUM($S$27:$AD$27)","v":0},null,0,0,0,0,0,0,0,0,0,0,0,0,{"$f":"SUM($AG$27:$AR$27)","v":0},null,0,0,0,0,0,0,0,0,0,0,0,0,{"$f":"SUM($AU$27:$BF$27)","v":0},null,0,0,0,0,0,0,0,0,0,0,0,0,{"$f":"SUM($BI$27:$BT$27)","v":0},null,0,0,0,0,0,0,0,0,0,0,0,0,{"$f":"SUM($BW$27:$CH$27)","v":0},null,0,0,0,0,0,0,0,0,0,0,0,0,{"$f":"SUM($CK$27:$CV$27)","v":0},null,0,0,0,0,0,0,0,0,0,0,0,0,{"$f":"SUM($CY$27:$DJ$27)","v":0},null,0,0,0,0,0,0,0,0,0,0,0,0,{"$f":"SUM($DM$27:$DX$27)","v":0},null,0,0,0,0,0,0,0,0,0,0,0,0,{"$f":"SUM($EA$27:$EL$27)","v":0},null,0,0,0,0,0,0,0,0,0,0,0,0,{"$f":"SUM($EO$27:$EZ$27)","v":0},null,0,0,0,0,0,0,0,0,0,0,0,0,{"$f":"SUM($FC$27:$FN$27)","v":0}]
[{"$f":"C27&D28","v":"ReinvestimentoR"},null,null,"R",null,null,null,null,null,null,null,null,null,null,null,null,{"$f":"SUM($E$28:$P$28)","v":0},null,null,null,null,null,null,null,null,null,null,null,null,null,{"$f":"SUM($S$28:$AD$28)","v":0},null,null,null,null,null,null,null,null,null,null,null,null,null,{"$f":"SUM($AG$28:$AR$28)","v":0},null,null,null,null,null,null,null,null,null,null,null,null,null,{"$f":"SUM($AU$28:$BF$28)","v":0},null,null,null,null,null,null,null,null,null,null,null,null,null,{"$f":"SUM($BI$28:$BT$28)","v":0},null,null,null,null,null,null,null,null,null,null,null,null,null,{"$f":"SUM($BW$28:$CH$28)","v":0},null,null,null,null,null,null,null,null,null,null,null,null,null,{"$f":"SUM($CK$28:$CV$28)","v":0},null,null,null,null,null,null,null,null,null,null,null,null,null,{"$f":"SUM($CY$28:$DJ$28)","v":0},null,null,null,null,null,null,null,null,null,null,null,null,null,{"$f":"SUM($DM$28:$DX$28)","v":0},null,null,null,null,null,null,null,null,null,null,null,null,null,{"$f":"SUM($EA$28:$EL$28)","v":0},null,null,null,null,null,null,null,null,null,null,null,null,null,{"$f":"SUM($EO$28:$EZ$28)","v":0},null,null,null,null,null,null,null,null,null,null,null,null,null,{"$f":"SUM($FC$28:$FN$28)","v":0}]
[{"$f":"C29&D29","v":"OutrosP"},null,"Outros","P",0,0,0,0,0,0,0,0,0,0,0,0,{"$f":"SUM($E$29:$P$29)","v":0},null,0,0,0,0,0,0,0,0,0,0,0,0,{"$f":"SUM($S$29:$AD$29)","v":0},null,0,0,0,0,0,0,0,0,0,0,0,0,{"$f":"SUM($AG$29:$AR$29)","v":0},null,0,0,0,0,0,0,0,0,0,0,0,0,{"$f":"SUM($AU$29:$BF$29)","v":0},null,0,0,0,0,0,0,0,0,0,0,0,0,{"$f":"SUM($BI$29:$BT$29)","v":0},null,0,0,0,0,0,0,0,0,0,0,0,0,{"$f":"SUM($BW$29:$CH$29)","v":0},null,0,0,0,0,0,0,0,0,0,0,0,0,{"$f":"SUM($CK$29:$CV$29)","v":0},null,0,0,0,0,0,0,0,0,0,0,0,0,{"$f":"SUM($CY$29:$DJ$29)","v":0},null,0,0,0,0,0,0,0,0,0,0,0,0,{"$f":"SUM($DM$29:$DX$29)","v":0},null,0,0,0,0,0,0,0,0,0,0,0,0,{"$f":"SUM($EA$29:$EL$29)","v":0},null,0,0,0,0,0,0,0,0,0,0,0,0,{"$f":"SUM($EO$29:$EZ$29)","v":0},null,0,0,0,0,0,0,0,0,0,0,0,0,{"$f":"SUM($FC$29:$FN$29)","v":0}]
[{"$f":"C29&D30","v":"OutrosR"},null,null,"R",null,null,null,null,null,null,null,null,null,null,null,null,{"$f":"SUM($E$30:$P$30)","v":0},null,null,null,null,null,null,null,null,null,null,null,null,null,{"$f":"SUM($S$30:$AD$30)","v":0},null,null,null,null,null,null,null,null,null,null,null,null,null,{"$f":"SUM($AG$30:$AR$30)","v":0},null,null,null,null,null,null,null,null,null,null,null,null,null,{"$f":"SUM($AU$30:$BF$30)","v":0},null,null,null,null,null,null,null,null,null,null,null,null,null,{"$f":"SUM($BI$30:$BT$30)","v":0},null,null,null,null,null,null,null,null,null,null,null,null,null,{"$f":"SUM($BW$30:$CH$30)","v":0},null,null,null,null,null,null,null,null,null,null,null,null,null,{"$f":"SUM($CK$30:$CV$30)","v":0},null,null,null,null,null,null,null,null,null,null,null,null,null,{"$f":"SUM($CY$30:$DJ$30)","v":0},null,null,null,null,null,null,null,null,null,null,null,null,null,{"$f":"SUM($DM$30:$DX$30)","v":0},null,null,null,null,null,null,null,null,null,null,null,null,null,{"$f":"SUM($EA$30:$EL$30)","v":0},null,null,null,null,null,null,null,null,null,null,null,null,null,{"$f":"SUM($EO$30:$EZ$30)","v":0},null,null,null,null,null,null,null,null,null,null,null,null,null,{"$f":"SUM($FC$30:$FN$30)","v":0}]
["AP",null,"A","P",0,0,0,0,0,0,0,0,0,0,0,0,{"$f":"SUM($E$31:$P$31)","v":0},null,0,0,0,0,0,0,0,0,0,0,0,0,{"$f":"SUM($S$31:$AD$31)","v":0},null,0,0,0,0,0,0,0,0,0,0,0,0,{"$f":"SUM($AG$31:$AR$31)","v":0},null,0,0,0,0,0,0,0,0,0,0,0,0,{"$f":"SUM($AU$31:$BF$31)","v":0},null,0,0,0,0,0,0,0,0,0,0,0,0,{"$f":"SUM($BI$31:$BT$31)","v":0},null,0,0,0,0,0,0,0,0,0,0,0,0,{"$f":"SUM($BW$31:$CH$31)","v":0},null,0,0,0,0,0,0,0,0,0,0,0,0,{"$f":"SUM($CK$31:$CV$31)","v":0},null,0,0,0,0,0,0,0,0,0,0,0,0,{"$f":"SUM($CY$31:$DJ$31)","v":0},null,0,0,0,0,0,0,0,0,0,0,0,0,{"$f":"SUM($DM$31:$DX$31)","v":0},null,0,0,0,0,0,0,0,0,0,0,0,0,{"$f":"SUM($EA$31:$EL$31)","v":0},null,0,0,0,0,0,0,0,0,0,0,0,0,{"$f":"SUM($EO$31:$EZ$31)","v":0},null,0,0,0,0,0,0,0,0,0,0,0,0,{"$f":"SUM($FC$31:$FN$31)","v":0}]
["AR",null,null,"R",null,null,null,null,null,null,null,null,null,null,null,null,{"$f":"SUM($E$32:$P$32)","v":0},null,null,null,null,null,null,null,null,null,null,null,null,null,{"$f":"SUM($S$32:$AD$32)","v":0},null,null,null,null,null,null,null,null,null,null,null,null,null,{"$f":"SUM($AG$32:$AR$32)","v":0},null,null,null,null,null,null,null,null,null,null,null,null,null,{"$f":"SUM($AU$32:$BF$32)","v":0},null,null,null,null,null,null,null,null,null,null,null,null,null,{"$f":"SUM($BI$32:$BT$32)","v":0},null,null,null,null,null,null,null,null,null,null,null,null,null,{"$f":"SUM($BW$32:$CH$32)","v":0},null,null,null,null,null,null,null,null,null,null,null,null,null,{"$f":"SUM($CK$32:$CV$32)","v":0},null,null,null,null,null,null,null,null,null,null,null,null,null,{"$f":"SUM($CY$32:$DJ$32)","v":0},null,null,null,null,null,null,null,null,null,null,null,null,null,{"$f":"SUM($DM$32:$DX$32)","v":0},null,null,null,null,null,null,null,null,null,null,null,null,null,{"$f":"SUM($EA$32:$EL$32)","v":0},null,null,null,null,null,null,null,null,null,null,null,null,null,{"$f":"SUM($EO$32:$EZ$32)","v":0},null,null,null,null,null,null,null,null,null,null,null,null,null,{"$f":"SUM($FC$32:$FN$32)","v":0}]
["BP",null,"B","P",0,0,0,0,0,0,0,0,0,0,0,0,{"$f":"SUM($E$33:$P$33)","v":0},null,0,0,0,0,0,0,0,0,0,0,0,0,{"$f":"SUM($S$33:$AD$33)","v":0},null,0,0,0,0,0,0,0,0,0,0,0,0,{"$f":"SUM($AG$33:$AR$33)","v":0},null,0,0,0,0,0,0,0,0,0,0,0,0,{"$f":"SUM($AU$33:$BF$33)","v":0},null,0,0,0,0,0,0,0,0,0,0,0,0,{"$f":"SUM($BI$33:$BT$33)","v":0},null,0,0,0,0,0,0,0,0,0,0,0,0,{"$f":"SUM($BW$33:$CH$33)","v":0},null,0,0,0,0,0,0,0,0,0,0,0,0,{"$f":"SUM($CK$33:$CV$33)","v":0},null,0,0,0,0,0,0,0,0,0,0,0,0,{"$f":"SUM($CY$33:$DJ$33)","v":0},null,0,0,0,0,0,0,0,0,0,0,0,0,{"$f":"SUM($DM$33:$DX$33)","v":0},null,0,0,0,0,0,0,0,0,0,0,0,0,{"$f":"SUM($EA$33:$EL$33)","v":0},null,0,0,0,0,0,0,0,0,0,0,0,0,{"$f":"SUM($EO$33:$EZ$33)","v":0},null,0,0,0,0,0,0,0,0,0,0,0,0,{"$f":"SUM($FC$33:$FN$33)","v":0}]
["BR",null,null,"R",null,null,null,null,null,null,null,null,null,null,null,null,{"$f":"SUM($E$34:$P$34)","v":0},null,null,null,null,null,null,null,null,null,null,null,null,null,{"$f":"SUM($S$34:$AD$34)","v":0},null,null,null,null,null,null,null,null,null,null,null,null,null,{"$f":"SUM($AG$34:$AR$34)","v":0},null,null,null,null,null,null,null,null,null,null,null,null,null,{"$f":"SUM($AU$34:$BF$34)","v":0},null,null,null,null,null,null,null,null,null,null,null,null,null,{"$f":"SUM($BI$34:$BT$34)","v":0},null,null,null,null,null,null,null,null,null,null,null,null,null,{"$f":"SUM($BW$34:$CH$34)","v":0},null,null,null,null,null,null,null,null,null,null,null,null,null,{"$f":"SUM($CK$34:$CV$34)","v":0},null,null,null,null,null,null,null,null,null,null,null,null,null,{"$f":"SUM($CY$34:$DJ$34)","v":0},null,null,null,null,null,null,null,null,null,null,null,null,null,{"$f":"SUM($DM$34:$DX$34)","v":0},null,null,null,null,null,null,null,null,null,null,null,null,null,{"$f":"SUM($EA$34:$EL$34)","v":0},null,null,null,null,null,null,null,null,null,null,null,null,null,{"$f":"SUM($EO$34:$EZ$34)","v":0},null,null,null,null,null,null,null,null,null,null,null,null,null,{"$f":"SUM($FC$34:$FN$34)","v":0}]
["CP",null,"C","P",0,0,0,0,0,0,0,0,0,0,0,0,{"$f":"SUM($E$35:$P$35)","v":0},null,0,0,0,0,0,0,0,0,0,0,0,0,{"$f":"SUM($S$35:$AD$35)","v":0},null,0,0,0,0,0,0,0,0,0,0,0,0,{"$f":"SUM($AG$35:$AR$35)","v":0},null,0,0,0,0,0,0,0,0,0,0,0,0,{"$f":"SUM($AU$35:$BF$35)","v":0},null,0,0,0,0,0,0,0,0,0,0,0,0,{"$f":"SUM($BI$35:$BT$35)","v":0},null,0,0,0,0,0,0,0,0,0,0,0,0,{"$f":"SUM($BW$35:$CH$35)","v":0},null,0,0,0,0,0,0,0,0,0,0,0,0,{"$f":"SUM($CK$35:$CV$35)","v":0},null,0,0,0,0,0,0,0,0,0,0,0,0,{"$f":"SUM($CY$35:$DJ$35)","v":0},null,0,0,0,0,0,0,0,0,0,0,0,0,{"$f":"SUM($DM$35:$DX$35)","v":0},null,0,0,0,0,0,0,0,0,0,0,0,0,{"$f":"SUM($EA$35:$EL$35)","v":0},null,0,0,0,0,0,0,0,0,0,0,0,0,{"$f":"SUM($EO$35:$EZ$35)","v":0},null,0,0,0,0,0,0,0,0,0,0,0,0,{"$f":"SUM($FC$35:$FN$35)","v":0}]
["CR",null,null,"R",null,null,null,null,null,null,null,null,null,null,null,null,{"$f":"SUM($E$36:$P$36)","v":0},null,null,null,null,null,null,null,null,null,null,null,null,null,{"$f":"SUM($S$36:$AD$36)","v":0},null,null,null,null,null,null,null,null,null,null,null,null,null,{"$f":"SUM($AG$36:$AR$36)","v":0},null,null,null,null,null,null,null,null,null,null,null,null,null,{"$f":"SUM($AU$36:$BF$36)","v":0},null,null,null,null,null,null,null,null,null,null,null,null,null,{"$f":"SUM($BI$36:$BT$36)","v":0},null,null,null,null,null,null,null,null,null,null,null,null,null,{"$f":"SUM($BW$36:$CH$36)","v":0},null,null,null,null,null,null,null,null,null,null,null,null,null,{"$f":"SUM($CK$36:$CV$36)","v":0},null,null,null,null,null,null,null,null,null,null,null,null,null,{"$f":"SUM($CY$36:$DJ$36)","v":0},null,null,null,null,null,null,null,null,null,null,null,null,null,{"$f":"SUM($DM$36:$DX$36)","v":0},null,null,null,null,null,null,null,null,null,null,null,null,null,{"$f":"SUM($EA$36:$EL$36)","v":0},null,null,null,null,null,null,null,null,null,null,null,null,null,{"$f":"SUM($EO$36:$EZ$36)","v":0},null,null,null,null,null,null,null,null,null,null,null,null,null,{"$f":"SUM($FC$36:$FN$36)","v":0}]
["DP",null,"D","P",0,0,0,0,0,0,0,0,0,0,0,0,{"$f":"SUM($E$37:$P$37)","v":0},null,0,0,0,0,0,0,0,0,0,0,0,0,{"$f":"SUM($S$37:$AD$37)","v":0},null,0,0,0,0,0,0,0,0,0,0,0,0,{"$f":"SUM($AG$37:$AR$37)","v":0},null,0,0,0,0,0,0,0,0,0,0,0,0,{"$f":"SUM($AU$37:$BF$37)","v":0},null,0,0,0,0,0,0,0,0,0,0,0,0,{"$f":"SUM($BI$37:$BT$37)","v":0},null,0,0,0,0,0,0,0,0,0,0,0,0,{"$f":"SUM($BW$37:$CH$37)","v":0},null,0,0,0,0,0,0,0,0,0,0,0,0,{"$f":"SUM($CK$37:$CV$37)","v":0},null,0,0,0,0,0,0,0,0,0,0,0,0,{"$f":"SUM($CY$37:$DJ$37)","v":0},null,0,0,0,0,0,0,0,0,0,0,0,0,{"$f":"SUM($DM$37:$DX$37)","v":0},null,0,0,0,0,0,0,0,0,0,0,0,0,{"$f":"SUM($EA$37:$EL$37)","v":0},null,0,0,0,0,0,0,0,0,0,0,0,0,{"$f":"SUM($EO$37:$EZ$37)","v":0},null,0,0,0,0,0,0,0,0,0,0,0,0,{"$f":"SUM($FC$37:$FN$37)","v":0}]
["DR",null,null,"R",null,null,null,null,null,null,null,null,null,null,null,null,{"$f":"SUM($E$38:$P$38)","v":0},null,null,null,null,null,null,null,null,null,null,null,null,null,{"$f":"SUM($S$38:$AD$38)","v":0},null,null,null,null,null,null,null,null,null,null,null,null,null,{"$f":"SUM($AG$38:$AR$38)","v":0},null,null,null,null,null,null,null,null,null,null,null,null,null,{"$f":"SUM($AU$38:$BF$38)","v":0},null,null,null,null,null,null,null,null,null,null,null,null,null,{"$f":"SUM($BI$38:$BT$38)","v":0},null,null,null,null,null,null,null,null,null,null,null,null,null,{"$f":"SUM($BW$38:$CH$38)","v":0},null,null,null,null,null,null,null,null,null,null,null,null,null,{"$f":"SUM($CK$38:$CV$38)","v":0},null,null,null,null,null,null,null,null,null,null,null,null,null,{"$f":"SUM($CY$38:$DJ$38)","v":0},null,null,null,null,null,null,null,null,null,null,null,null,null,{"$f":"SUM($DM$38:$DX$38)","v":0},null,null,null,null,null,null,null,null,null,null,null,null,null,{"$f":"SUM($EA$38:$EL$38)","v":0},null,null,null,null,null,null,null,null,null,null,null,null,null,{"$f":"SUM($EO$38:$EZ$38)","v":0},null,null,null,null,null,null,null,null,null,null,null,null,null,{"$f":"SUM($FC$38:$FN$38)","v":0}]
["EP",null,"E","P",0,0,0,0,0,0,0,0,0,0,0,0,{"$f":"SUM($E$39:$P$39)","v":0},null,0,0,0,0,0,0,0,0,0,0,0,0,{"$f":"SUM($S$39:$AD$39)","v":0},null,0,0,0,0,0,0,0,0,0,0,0,0,{"$f":"SUM($AG$39:$AR$39)","v":0},null,0,0,0,0,0,0,0,0,0,0,0,0,{"$f":"SUM($AU$39:$BF$39)","v":0},null,0,0,0,0,0,0,0,0,0,0,0,0,{"$f":"SUM($BI$39:$BT$39)","v":0},null,0,0,0,0,0,0,0,0,0,0,0,0,{"$f":"SUM($BW$39:$CH$39)","v":0},null,0,0,0,0,0,0,0,0,0,0,0,0,{"$f":"SUM($CK$39:$CV$39)","v":0},null,0,0,0,0,0,0,0,0,0,0,0,0,{"$f":"SUM($CY$39:$DJ$39)","v":0},null,0,0,0,0,0,0,0,0,0,0,0,0,{"$f":"SUM($DM$39:$DX$39)","v":0},null,0,0,0,0,0,0,0,0,0,0,0,0,{"$f":"SUM($EA$39:$EL$39)","v":0},null,0,0,0,0,0,0,0,0,0,0,0,0,{"$f":"SUM($EO$39:$EZ$39)","v":0},null,0,0,0,0,0,0,0,0,0,0,0,0,{"$f":"SUM($FC$39:$FN$39)","v":0}]
["ER",null,null,"R",null,null,null,null,null,null,null,null,null,null,null,null,{"$f":"SUM($E$40:$P$40)","v":0},null,null,null,null,null,null,null,null,null,null,null,null,null,{"$f":"SUM($S$40:$AD$40)","v":0},null,null,null,null,null,null,null,null,null,null,null,null,null,{"$f":"SUM($AG$40:$AR$40)","v":0},null,null,null,null,null,null,null,null,null,null,null,null,null,{"$f":"SUM($AU$40:$BF$40)","v":0},null,null,null,null,null,null,null,null,null,null,null,null,null,{"$f":"SUM($BI$40:$BT$40)","v":0},null,null,null,null,null,null,null,null,null,null,null,null,null,{"$f":"SUM($BW$40:$CH$40)","v":0},null,null,null,null,null,null,null,null,null,null,null,null,null,{"$f":"SUM($CK$40:$CV$40)","v":0},null,null,null,null,null,null,null,null,null,null,null,null,null,{"$f":"SUM($CY$40:$DJ$40)","v":0},null,null,null,null,null,null,null,null,null,null,null,null,null,{"$f":"SUM($DM$40:$DX$40)","v":0},null,null,null,null,null,null,null,null,null,null,null,null,null,{"$f":"SUM($EA$40:$EL$40)","v":0},null,null,null,null,null,null,null,null,null,null,null,null,null,{"$f":"SUM($EO$40:$EZ$40)","v":0},null,null,null,null,null,null,null,null,null,null,null,null,null,{"$f":"SUM($FC$40:$FN$40)","v":0}]
[{"$f":"C41&D41","v":"FP"},null,"F","P",0,0,0,0,0,0,0,0,0,0,0,0,{"$f":"SUM($E$41:$P$41)","v":0},null,0,0,0,0,0,0,0,0,0,0,0,0,{"$f":"SUM($S$41:$AD$41)","v":0},null,0,0,0,0,0,0,0,0,0,0,0,0,{"$f":"SUM($AG$41:$AR$41)","v":0},null,0,0,0,0,0,0,0,0,0,0,0,0,{"$f":"SUM($AU$41:$BF$41)","v":0},null,0,0,0,0,0,0,0,0,0,0,0,0,{"$f":"SUM($BI$41:$BT$41)","v":0},null,0,0,0,0,0,0,0,0,0,0,0,0,{"$f":"SUM($BW$41:$CH$41)","v":0},null,0,0,0,0,0,0,0,0,0,0,0,0,{"$f":"SUM($CK$41:$CV$41)","v":0},null,0,0,0,0,0,0,0,0,0,0,0,0,{"$f":"SUM($CY$41:$DJ$41)","v":0},null,0,0,0,0,0,0,0,0,0,0,0,0,{"$f":"SUM($DM$41:$DX$41)","v":0},null,0,0,0,0,0,0,0,0,0,0,0,0,{"$f":"SUM($EA$41:$EL$41)","v":0},null,0,0,0,0,0,0,0,0,0,0,0,0,{"$f":"SUM($EO$41:$EZ$41)","v":0},null,0,0,0,0,0,0,0,0,0,0,0,0,{"$f":"SUM($FC$41:$FN$41)","v":0}]
[{"$f":"C41&D42","v":"FR"},null,null,"R",null,null,null,null,null,null,null,null,null,null,null,null,{"$f":"SUM($E$42:$P$42)","v":0},null,null,null,null,null,null,null,null,null,null,null,null,null,{"$f":"SUM($S$42:$AD$42)","v":0},null,null,null,null,null,null,null,null,null,null,null,null,null,{"$f":"SUM($AG$42:$AR$42)","v":0},null,null,null,null,null,null,null,null,null,null,null,null,null,{"$f":"SUM($AU$42:$BF$42)","v":0},null,null,null,null,null,null,null,null,null,null,null,null,null,{"$f":"SUM($BI$42:$BT$42)","v":0},null,null,null,null,null,null,null,null,null,null,null,null,null,{"$f":"SUM($BW$42:$CH$42)","v":0},null,null,null,null,null,null,null,null,null,null,null,null,null,{"$f":"SUM($CK$42:$CV$42)","v":0},null,null,null,null,null,null,null,null,null,null,null,null,null,{"$f":"SUM($CY$42:$DJ$42)","v":0},null,null,null,null,null,null,null,null,null,null,null,null,null,{"$f":"SUM($DM$42:$DX$42)","v":0},null,null,null,null,null,null,null,null,null,null,null,null,null,{"$f":"SUM($EA$42:$EL$42)","v":0},null,null,null,null,null,null,null,null,null,null,null,null,null,{"$f":"SUM($EO$42:$EZ$42)","v":0},null,null,null,null,null,null,null,null,null,null,null,null,null,{"$f":"SUM($FC$42:$FN$42)","v":0}]
[{"$f":"C43&D43","v":"Parcela Financiamento/ CusteioP"},null,"Parcela Financiamento/ Custeio","P",0,0,0,0,0,0,0,0,0,0,0,0,{"$f":"SUM($E$43:$P$43)","v":0},null,0,0,0,0,0,0,0,0,0,0,0,0,{"$f":"SUM($S$43:$AD$43)","v":0},null,0,0,0,0,0,0,0,0,0,0,0,0,{"$f":"SUM($AG$43:$AR$43)","v":0},null,0,0,0,0,0,0,0,0,0,0,0,0,{"$f":"SUM($AU$43:$BF$43)","v":0},null,0,0,0,0,0,0,0,0,0,0,0,0,{"$f":"SUM($BI$43:$BT$43)","v":0},null,0,0,0,0,0,0,0,0,0,0,0,0,{"$f":"SUM($BW$43:$CH$43)","v":0},null,0,0,0,0,0,0,0,0,0,0,0,0,{"$f":"SUM($CK$43:$CV$43)","v":0},null,0,0,0,0,0,0,0,0,0,0,0,0,{"$f":"SUM($CY$43:$DJ$43)","v":0},null,0,0,0,0,0,0,0,0,0,0,0,0,{"$f":"SUM($DM$43:$DX$43)","v":0},null,0,0,0,0,0,0,0,0,0,0,0,0,{"$f":"SUM($EA$43:$EL$43)","v":0},null,0,0,0,0,0,0,0,0,0,0,0,0,{"$f":"SUM($EO$43:$EZ$43)","v":0},null,0,0,0,0,0,0,0,0,0,0,0,0,{"$f":"SUM($FC$43:$FN$43)","v":0}]
[{"$f":"C43&D44","v":"Parcela Financiamento/ CusteioR"},null,null,"R",null,null,null,null,null,null,null,null,null,null,null,null,{"$f":"SUM($E$44:$P$44)","v":0},null,null,null,null,null,null,null,null,null,null,null,null,null,{"$f":"SUM($S$44:$AD$44)","v":0},null,null,null,null,null,null,null,null,null,null,null,null,null,{"$f":"SUM($AG$44:$AR$44)","v":0},null,null,null,null,null,null,null,null,null,null,null,null,null,{"$f":"SUM($AU$44:$BF$44)","v":0},null,null,null,null,null,null,null,null,null,null,null,null,null,{"$f":"SUM($BI$44:$BT$44)","v":0},null,null,null,null,null,null,null,null,null,null,null,null,null,{"$f":"SUM($BW$44:$CH$44)","v":0},null,null,null,null,null,null,null,null,null,null,null,null,null,{"$f":"SUM($CK$44:$CV$44)","v":0},null,null,null,null,null,null,null,null,null,null,null,null,null,{"$f":"SUM($CY$44:$DJ$44)","v":0},null,null,null,null,null,null,null,null,null,null,null,null,null,{"$f":"SUM($DM$44:$DX$44)","v":0},null,null,null,null,null,null,null,null,null,null,null,null,null,{"$f":"SUM($EA$44:$EL$44)","v":0},null,null,null,null,null,null,null,null,null,null,null,null,null,{"$f":"SUM($EO$44:$EZ$44)","v":0},null,null,null,null,null,null,null,null,null,null,null,null,null,{"$f":"SUM($FC$44:$FN$44)","v":0}]
[{"$f":"C45&D45","v":"Total SaídasP"},null,"Total Saídas","P",{"$f":"SUMIF($D$5:$D$44,$D45,E$5:E$44)","v":0},{"$f":"SUMIF($D$5:$D$44,$D45,F$5:F$44)","v":0},{"$f":"SUMIF($D$5:$D$44,$D45,G$5:G$44)","v":0},0,0,0,0,0,0,0,0,0,0,null,{"$f":"SUMIF($D$5:$D$44,$D45,S$5:S$44)","v":0},0,0,0,0,0,0,0,0,0,0,0,0,null,{"$f":"SUMIF($D$5:$D$44,$D45,AG$5:AG$44)","v":0},0,0,0,0,0,0,0,0,0,0,0,0,null,{"$f":"SUMIF($D$5:$D$44,$D45,AU$5:AU$44)","v":0},0,0,0,0,0,0,0,0,0,0,0,0,null,{"$f":"SUMIF($D$5:$D$44,$D45,BI$5:BI$44)","v":0},0,0,0,0,0,0,0,0,0,0,0,0,null,{"$f":"SUMIF($D$5:$D$44,$D45,BW$5:BW$44)","v":0},0,0,0,0,0,0,0,0,0,0,0,0,null,{"$f":"SUMIF($D$5:$D$44,$D45,CK$5:CK$44)","v":0},0,0,0,0,0,0,0,0,0,0,0,0,null,{"$f":"SUMIF($D$5:$D$44,$D45,CY$5:CY$44)","v":0},0,0,0,0,0,0,0,0,0,0,0,0,null,{"$f":"SUMIF($D$5:$D$44,$D45,DM$5:DM$44)","v":0},0,0,0,0,0,0,0,0,0,0,0,0,null,{"$f":"SUMIF($D$5:$D$44,$D45,EA$5:EA$44)","v":0},0,0,0,0,0,0,0,0,0,0,0,0,null,{"$f":"SUMIF($D$5:$D$44,$D45,EO$5:EO$44)","v":0},0,0,0,0,0,0,0,0,0,0,0,0,null,{"$f":"SUMIF($D$5:$D$44,$D45,FC$5:FC$44)","v":0},0,0,0,0,0,0,0,0,0,0,0,0]
[{"$f":"C45&D46","v":"Total SaídasR"},null,null,"R",0,0,0,0,0,0,0,0,0,0,0,0,0,null,0,0,0,0,0,0,0,0,0,0,0,0,0,null,0,0,0,0,0,0,0,0,0,0,0,0,0,null,0,0,0,0,0,0,0,0,0,0,0,0,0,null,0,0,0,0,0,0,0,0,0,0,0,0,0,null,0,0,0,0,0,0,0,0,0,0,0,0,0,null,0,0,0,0,0,0,0,0,0,0,0,0,0,null,0,0,0,0,0,0,0,0,0,0,0,0,0,null,0,0,0,0,0,0,0,0,0,0,0,0,0,null,0,0,0,0,0,0,0,0,0,0,0,0,0,null,0,0,0,0,0,0,0,0,0,0,0,0,0,null,0,0,0,0,0,0,0,0,0,0,0,0,0]
[{"$f":"C47&D47","v":""}]
[{"$f":"C47&D48","v":""}]
[{"$f":"C49&D49","v":"Venda grãosP"},"Entrada de Caixa","Venda grãos","P",0,0,0,0,0,0,0,0,0,0,0,0,{"$f":"SUM($E$49:$P$49)","v":0},null,0,0,0,0,0,0,0,0,0,0,0,0,{"$f":"SUM($S$49:$AD$49)","v":0},null,0,0,0,0,0,0,0,0,0,0,0,0,{"$f":"SUM($AG$49:$AR$49)","v":0},null,0,0,0,0,0,0,0,0,0,0,0,0,{"$f":"SUM($AU$49:$BF$49)","v":0},null,0,0,0,0,0,0,0,0,0,0,0,0,{"$f":"SUM($BI$49:$BT$49)","v":0},null,0,0,0,0,0,0,0,0,0,0,0,0,{"$f":"SUM($BW$49:$CH$49)","v":0},null,0,0,0,0,0,0,0,0,0,0,0,0,{"$f":"SUM($CK$49:$CV$49)","v":0},null,0,0,0,0,0,0,0,0,0,0,0,0,{"$f":"SUM($CY$49:$DJ$49)","v":0},null,0,0,0,0,0,0,0,0,0,0,0,0,{"$f":"SUM($DM$49:$DX$49)","v":0},null,0,0,0,0,0,0,0,0,0,0,0,0,{"$f":"SUM($EA$49:$EL$49)","v":0},null,0,0,0,0,0,0,0,0,0,0,0,0,{"$f":"SUM($EO$49:$EZ$49)","v":0},null,0,0,0,0,0,0,0,0,0,0,0,0,{"$f":"SUM($FC$49:$FN$49)","v":0}]
[{"$f":"C49&D50","v":"Venda grãosR"},null,null,"R",null,null,null,null,null,null,null,null,null,null,null,null,{"$f":"SUM($E$50:$P$50)","v":0},null,null,null,null,null,null,null,null,null,null,null,null,null,{"$f":"SUM($S$50:$AD$50)","v":0},null,null,null,null,null,null,null,null,null,null,null,null,null,{"$f":"SUM($AG$50:$AR$50)","v":0},null,null,null,null,null,null,null,null,null,null,null,null,null,{"$f":"SUM($AU$50:$BF$50)","v":0},null,null,null,null,null,null,null,null,null,null,null,null,null,{"$f":"SUM($BI$50:$BT$50)","v":0},null,null,null,null,null,null,null,null,null,null,null,null,null,{"$f":"SUM($BW$50:$CH$50)","v":0},null,null,null,null,null,null,null,null,null,null,null,null,null,{"$f":"SUM($CK$50:$CV$50)","v":0},null,null,null,null,null,null,null,null,null,null,null,null,null,{"$f":"SUM($CY$50:$DJ$50)","v":0},null,null,null,null,null,null,null,null,null,null,null,null,null,{"$f":"SUM($DM$50:$DX$50)","v":0},null,null,null,null,null,null,null,null,null,null,null,null,null,{"$f":"SUM($EA$50:$EL$50)","v":0},null,null,null,null,null,null,null,null,null,null,null,null,null,{"$f":"SUM($EO$50:$EZ$50)","v":0},null,null,null,null,null,null,null,null,null,null,null,null,null,{"$f":"SUM($FC$50:$FN$50)","v":0}]
[{"$f":"C51&D51","v":"AP"},null,"A","P",0,0,0,0,0,0,0,0,0,0,0,0,{"$f":"SUM($E$51:$P$51)","v":0},null,0,0,0,0,0,0,0,0,0,0,0,0,{"$f":"SUM($S$51:$AD$51)","v":0},null,0,0,0,0,0,0,0,0,0,0,0,0,{"$f":"SUM($AG$51:$AR$51)","v":0},null,0,0,0,0,0,0,0,0,0,0,0,0,{"$f":"SUM($AU$51:$BF$51)","v":0},null,0,0,0,0,0,0,0,0,0,0,0,0,{"$f":"SUM($BI$51:$BT$51)","v":0},null,0,0,0,0,0,0,0,0,0,0,0,0,{"$f":"SUM($BW$51:$CH$51)","v":0},null,0,0,0,0,0,0,0,0,0,0,0,0,{"$f":"SUM($CK$51:$CV$51)","v":0},null,0,0,0,0,0,0,0,0,0,0,0,0,{"$f":"SUM($CY$51:$DJ$51)","v":0},null,0,0,0,0,0,0,0,0,0,0,0,0,{"$f":"SUM($DM$51:$DX$51)","v":0},null,0,0,0,0,0,0,0,0,0,0,0,0,{"$f":"SUM($EA$51:$EL$51)","v":0},null,0,0,0,0,0,0,0,0,0,0,0,0,{"$f":"SUM($EO$51:$EZ$51)","v":0},null,0,0,0,0,0,0,0,0,0,0,0,0,{"$f":"SUM($FC$51:$FN$51)","v":0}]
[{"$f":"C51&D52","v":"AR"},null,null,"R",null,null,null,null,null,null,null,null,null,null,null,null,{"$f":"SUM($E$52:$P$52)","v":0},null,null,null,null,null,null,null,null,null,null,null,null,null,{"$f":"SUM($S$52:$AD$52)","v":0},null,null,null,null,null,null,null,null,null,null,null,null,null,{"$f":"SUM($AG$52:$AR$52)","v":0},null,null,null,null,null,null,null,null,null,null,null,null,null,{"$f":"SUM($AU$52:$BF$52)","v":0},null,null,null,null,null,null,null,null,null,null,null,null,null,{"$f":"SUM($BI$52:$BT$52)","v":0},null,null,null,null,null,null,null,null,null,null,null,null,null,{"$f":"SUM($BW$52:$CH$52)","v":0},null,null,null,null,null,null,null,null,null,null,null,null,null,{"$f":"SUM($CK$52:$CV$52)","v":0},null,null,null,null,null,null,null,null,null,null,null,null,null,{"$f":"SUM($CY$52:$DJ$52)","v":0},null,null,null,null,null,null,null,null,null,null,null,null,null,{"$f":"SUM($DM$52:$DX$52)","v":0},null,null,null,null,null,null,null,null,null,null,null,null,null,{"$f":"SUM($EA$52:$EL$52)","v":0},null,null,null,null,null,null,null,null,null,null,null,null,null,{"$f":"SUM($EO$52:$EZ$52)","v":0},null,null,null,null,null,null,null,null,null,null,null,null,null,{"$f":"SUM($FC$52:$FN$52)","v":0}]
[{"$f":"C53&D53","v":"BP"},null,"B","P",0,0,0,0,0,0,0,0,0,0,0,0,{"$f":"SUM($E$53:$P$53)","v":0},null,0,0,0,0,0,0,0,0,0,0,0,0,{"$f":"SUM($S$53:$AD$53)","v":0},null,0,0,0,0,0,0,0,0,0,0,0,0,{"$f":"SUM($AG$53:$AR$53)","v":0},null,0,0,0,0,0,0,0,0,0,0,0,0,{"$f":"SUM($AU$53:$BF$53)","v":0},null,0,0,0,0,0,0,0,0,0,0,0,0,{"$f":"SUM($BI$53:$BT$53)","v":0},null,0,0,0,0,0,0,0,0,0,0,0,0,{"$f":"SUM($BW$53:$CH$53)","v":0},null,0,0,0,0,0,0,0,0,0,0,0,0,{"$f":"SUM($CK$53:$CV$53)","v":0},null,0,0,0,0,0,0,0,0,0,0,0,0,{"$f":"SUM($CY$53:$DJ$53)","v":0},null,0,0,0,0,0,0,0,0,0,0,0,0,{"$f":"SUM($DM$53:$DX$53)","v":0},null,0,0,0,0,0,0,0,0,0,0,0,0,{"$f":"SUM($EA$53:$EL$53)","v":0},null,0,0,0,0,0,0,0,0,0,0,0,0,{"$f":"SUM($EO$53:$EZ$53)","v":0},null,0,0,0,0,0,0,0,0,0,0,0,0,{"$f":"SUM($FC$53:$FN$53)","v":0}]
[{"$f":"C53&D54","v":"BR"},null,null,"R",null,null,null,null,null,null,null,null,null,null,null,null,{"$f":"SUM($E$54:$P$54)","v":0},null,null,null,null,null,null,null,null,null,null,null,null,null,{"$f":"SUM($S$54:$AD$54)","v":0},null,null,null,null,null,null,null,null,null,null,null,null,null,{"$f":"SUM($AG$54:$AR$54)","v":0},null,null,null,null,null,null,null,null,null,null,null,null,null,{"$f":"SUM($AU$54:$BF$54)","v":0},null,null,null,null,null,null,null,null,null,null,null,null,null,{"$f":"SUM($BI$54:$BT$54)","v":0},null,null,null,null,null,null,null,null,null,null,null,null,null,{"$f":"SUM($BW$54:$CH$54)","v":0},null,null,null,null,null,null,null,null,null,null,null,null,null,{"$f":"SUM($CK$54:$CV$54)","v":0},null,null,null,null,null,null,null,null,null,null,null,null,null,{"$f":"SUM($CY$54:$DJ$54)","v":0},null,null,null,null,null,null,null,null,null,null,null,null,null,{"$f":"SUM($DM$54:$DX$54)","v":0},null,null,null,null,null,null,null,null,null,null,null,null,null,{"$f":"SUM($EA$54:$EL$54)","v":0},null,null,null,null,null,null,null,null,null,null,null,null,null,{"$f":"SUM($EO$54:$EZ$54)","v":0},null,null,null,null,null,null,null,null,null,null,null,null,null,{"$f":"SUM($FC$54:$FN$54)","v":0}]
[{"$f":"C55&D55","v":"Entrada de Financiamento / CusteioP"},null,"Entrada de Financiamento / Custeio","P",0,0,0,0,0,0,0,0,0,0,0,0,{"$f":"SUM($E$55:$P$55)","v":0},null,0,0,0,0,0,0,0,0,0,0,0,0,{"$f":"SUM($S$55:$AD$55)","v":0},null,0,0,0,0,0,0,0,0,0,0,0,0,{"$f":"SUM($AG$55:$AR$55)","v":0},null,0,0,0,0,0,0,0,0,0,0,0,0,{"$f":"SUM($AU$55:$BF$55)","v":0},null,0,0,0,0,0,0,0,0,0,0,0,0,{"$f":"SUM($BI$55:$BT$55)","v":0},null,0,0,0,0,0,0,0,0,0,0,0,0,{"$f":"SUM($BW$55:$CH$55)","v":0},null,0,0,0,0,0,0,0,0,0,0,0,0,{"$f":"SUM($CK$55:$CV$55)","v":0},null,0,0,0,0,0,0,0,0,0,0,0,0,{"$f":"SUM($CY$55:$DJ$55)","v":0},null,0,0,0,0,0,0,0,0,0,0,0,0,{"$f":"SUM($DM$55:$DX$55)","v":0},null,0,0,0,0,0,0,0,0,0,0,0,0,{"$f":"SUM($EA$55:$EL$55)","v":0},null,0,0,0,0,0,0,0,0,0,0,0,0,{"$f":"SUM($EO$55:$EZ$55)","v":0},null,0,0,0,0,0,0,0,0,0,0,0,0,{"$f":"SUM($FC$55:$FN$55)","v":0}]
[{"$f":"C55&D56","v":"Entrada de Financiamento / CusteioR"},null,null,"R",null,null,null,null,null,null,null,null,null,null,null,null,{"$f":"SUM($E$56:$P$56)","v":0},null,null,null,null,null,null,null,null,null,null,null,null,null,{"$f":"SUM($S$56:$AD$56)","v":0},null,null,null,null,null,null,null,null,null,null,null,null,null,{"$f":"SUM($AG$56:$AR$56)","v":0},null,null,null,null,null,null,null,null,null,null,null,null,null,{"$f":"SUM($AU$56:$BF$56)","v":0},null,null,null,null,null,null,null,null,null,null,null,null,null,{"$f":"SUM($BI$56:$BT$56)","v":0},null,null,null,null,null,null,null,null,null,null,null,null,null,{"$f":"SUM($BW$56:$CH$56)","v":0},null,null,null,null,null,null,null,null,null,null,null,null,null,{"$f":"SUM($CK$56:$CV$56)","v":0},null,null,null,null,null,null,null,null,null,null,null,null,null,{"$f":"SUM($CY$56:$DJ$56)","v":0},null,null,null,null,null,null,null,null,null,null,null,null,null,{"$f":"SUM($DM$56:$DX$56)","v":0},null,null,null,null,null,null,null,null,null,null,null,null,null,{"$f":"SUM($EA$56:$EL$56)","v":0},null,null,null,null,null,null,null,null,null,null,null,null,null,{"$f":"SUM($EO$56:$EZ$56)","v":0},null,null,null,null,null,null,null,null,null,null,null,null,null,{"$f":"SUM($FC$56:$FN$56)","v":0}]
[{"$f":"C57&D57","v":"Total EntradasP"},null,"Total Entradas","P",{"$f":"SUMIF($D$49:$D$56,$D57,E49:E56)","v":0},{"$f":"SUMIF($D$49:$D$56,$D57,F49:F56)","v":0},{"$f":"SUMIF($D$49:$D$56,$D57,G49:G56)","v":0},0,0,0,0,0,0,0,0,0,0,null,{"$f":"SUMIF($D$49:$D$56,$D57,S49:S56)","v":0},{"$f":"SUMIF($D$49:$D$56,$D57,T49:T56)","v":0},{"$f":"SUMIF($D$49:$D$56,$D57,U49:U56)","v":0},0,0,0,0,0,0,0,0,0,0,null,{"$f":"SUMIF($D$49:$D$56,$D57,AG49:AG56)","v":0},{"$f":"SUMIF($D$49:$D$56,$D57,AH49:AH56)","v":0},{"$f":"SUMIF($D$49:$D$56,$D57,AI49:AI56)","v":0},0,0,0,0,0,0,0,0,0,0,null,{"$f":"SUMIF($D$49:$D$56,$D57,AU49:AU56)","v":0},{"$f":"SUMIF($D$49:$D$56,$D57,AV49:AV56)","v":0},{"$f":"SUMIF($D$49:$D$56,$D57,AW49:AW56)","v":0},0,0,0,0,0,0,0,0,0,0,null,{"$f":"SUMIF($D$49:$D$56,$D57,BI49:BI56)","v":0},{"$f":"SUMIF($D$49:$D$56,$D57,BJ49:BJ56)","v":0},{"$f":"SUMIF($D$49:$D$56,$D57,BK49:BK56)","v":0},0,0,0,0,0,0,0,0,0,0,null,{"$f":"SUMIF($D$49:$D$56,$D57,BW49:BW56)","v":0},{"$f":"SUMIF($D$49:$D$56,$D57,BX49:BX56)","v":0},{"$f":"SUMIF($D$49:$D$56,$D57,BY49:BY56)","v":0},0,0,0,0,0,0,0,0,0,0,null,{"$f":"SUMIF($D$49:$D$56,$D57,CK49:CK56)","v":0},{"$f":"SUMIF($D$49:$D$56,$D57,CL49:CL56)","v":0},{"$f":"SUMIF($D$49:$D$56,$D57,CM49:CM56)","v":0},0,0,0,0,0,0,0,0,0,0,null,{"$f":"SUMIF($D$49:$D$56,$D57,CY49:CY56)","v":0},{"$f":"SUMIF($D$49:$D$56,$D57,CZ49:CZ56)","v":0},{"$f":"SUMIF($D$49:$D$56,$D57,DA49:DA56)","v":0},0,0,0,0,0,0,0,0,0,0,null,{"$f":"SUMIF($D$49:$D$56,$D57,DM49:DM56)","v":0},{"$f":"SUMIF($D$49:$D$56,$D57,DN49:DN56)","v":0},{"$f":"SUMIF($D$49:$D$56,$D57,DO49:DO56)","v":0},0,0,0,0,0,0,0,0,0,0,null,{"$f":"SUMIF($D$49:$D$56,$D57,EA49:EA56)","v":0},{"$f":"SUMIF($D$49:$D$56,$D57,EB49:EB56)","v":0},{"$f":"SUMIF($D$49:$D$56,$D57,EC49:EC56)","v":0},0,0,0,0,0,0,0,0,0,0,null,{"$f":"SUMIF($D$49:$D$56,$D57,EO49:EO56)","v":0},{"$f":"SUMIF($D$49:$D$56,$D57,EP49:EP56)","v":0},{"$f":"SUMIF($D$49:$D$56,$D57,EQ49:EQ56)","v":0},0,0,0,0,0,0,0,0,0,0,null,{"$f":"SUMIF($D$49:$D$56,$D57,FC49:FC56)","v":0},{"$f":"SUMIF($D$49:$D$56,$D57,FD49:FD56)","v":0},{"$f":"SUMIF($D$49:$D$56,$D57,FE49:FE56)","v":0},0,0,0,0,0,0,0,0,0,0]
[{"$f":"C57&D58","v":"Total EntradasR"},null,null,"R",{"$f":"SUMIF($D$49:$D$56,$D58,E$49:E$56)","v":0},{"$f":"SUMIF($D$49:$D$56,$D58,F$49:F$56)","v":0},0,0,0,0,0,0,0,0,0,0,0,null,{"$f":"SUMIF($D$49:$D$56,$D58,S$49:S$56)","v":0},{"$f":"SUMIF($D$49:$D$56,$D58,T$49:T$56)","v":0},0,0,0,0,0,0,0,0,0,0,0,null,{"$f":"SUMIF($D$49:$D$56,$D58,AG$49:AG$56)","v":0},{"$f":"SUMIF($D$49:$D$56,$D58,AH$49:AH$56)","v":0},0,0,0,0,0,0,0,0,0,0,0,null,{"$f":"SUMIF($D$49:$D$56,$D58,AU$49:AU$56)","v":0},{"$f":"SUMIF($D$49:$D$56,$D58,AV$49:AV$56)","v":0},0,0,0,0,0,0,0,0,0,0,0,null,{"$f":"SUMIF($D$49:$D$56,$D58,BI$49:BI$56)","v":0},{"$f":"SUMIF($D$49:$D$56,$D58,BJ$49:BJ$56)","v":0},0,0,0,0,0,0,0,0,0,0,0,null,{"$f":"SUMIF($D$49:$D$56,$D58,BW$49:BW$56)","v":0},{"$f":"SUMIF($D$49:$D$56,$D58,BX$49:BX$56)","v":0},0,0,0,0,0,0,0,0,0,0,0,null,{"$f":"SUMIF($D$49:$D$56,$D58,CK$49:CK$56)","v":0},{"$f":"SUMIF($D$49:$D$56,$D58,CL$49:CL$56)","v":0},0,0,0,0,0,0,0,0,0,0,0,null,{"$f":"SUMIF($D$49:$D$56,$D58,CY$49:CY$56)","v":0},{"$f":"SUMIF($D$49:$D$56,$D58,CZ$49:CZ$56)","v":0},0,0,0,0,0,0,0,0,0,0,0,null,{"$f":"SUMIF($D$49:$D$56,$D58,DM$49:DM$56)","v":0},{"$f":"SUMIF($D$49:$D$56,$D58,DN$49:DN$56)","v":0},0,0,0,0,0,0,0,0,0,0,0,null,{"$f":"SUMIF($D$49:$D$56,$D58,EA$49:EA$56)","v":0},{"$f":"SUMIF($D$49:$D$56,$D58,EB$49:EB$56)","v":0},0,0,0,0,0,0,0,0,0,0,0,null,{"$f":"SUMIF($D$49:$D$56,$D58,EO$49:EO$56)","v":0},{"$f":"SUMIF($D$49:$D$56,$D58,EP$49:EP$56)","v":0},0,0,0,0,0,0,0,0,0,0,0,null,{"$f":"SUMIF($D$49:$D$56,$D58,FC$49:FC$56)","v":0},{"$f":"SUMIF($D$49:$D$56,$D58,FD$49:FD$56)","v":0},0,0,0,0,0,0,0,0,0,0,0]
[{"$f":"C59&D59","v":""}]
[{"$f":"C59&D60","v":""},"Saldo de Exercícios Anteriores"]
[{"$f":"B61&D61","v":"Saldo de Caixa MensalP"},"Saldo de Caixa Mensal",null,"P",{"$f":"E57-E45","v":0},0,0,0,0,0,0,0,0,0,0,0,0,null,{"$f":"S57-S45","v":0},0,0,0,0,0,0,0,0,0,0,0,0,null,{"$f":"AG57-AG45","v":0},0,0,0,0,0,0,0,0,0,0,0,0,null,{"$f":"AU57-AU45","v":0},0,0,0,0,0,0,0,0,0,0,0,0,null,{"$f":"BI57-BI45","v":0},0,0,0,0,0,0,0,0,0,0,0,0,null,{"$f":"BW57-BW45","v":0},0,0,0,0,0,0,0,0,0,0,0,0,null,{"$f":"CK57-CK45","v":0},0,0,0,0,0,0,0,0,0,0,0,0,null,{"$f":"CY57-CY45","v":0},0,0,0,0,0,0,0,0,0,0,0,0,null,{"$f":"DM57-DM45","v":0},0,0,0,0,0,0,0,0,0,0,0,0,null,{"$f":"EA57-EA45","v":0},0,0,0,0,0,0,0,0,0,0,0,0,null,{"$f":"EO57-EO45","v":0},0,0,0,0,0,0,0,0,0,0,0,0,null,{"$f":"FC57-FC45","v":0},0,0,0,0,0,0,0,0,0,0,0,0]
[{"$f":"B61&D62","v":"Saldo de Caixa MensalR"},null,null,"R",{"$f":"E58-E46","v":0},0,0,0,0,0,0,0,0,0,0,0,0,null,{"$f":"S58-S46","v":0},0,0,0,0,0,0,0,0,0,0,0,0,null,{"$f":"AG58-AG46","v":0},0,0,0,0,0,0,0,0,0,0,0,0,null,{"$f":"AU58-AU46","v":0},0,0,0,0,0,0,0,0,0,0,0,0,null,{"$f":"BI58-BI46","v":0},0,0,0,0,0,0,0,0,0,0,0,0,null,{"$f":"BW58-BW46","v":0},0,0,0,0,0,0,0,0,0,0,0,0,null,{"$f":"CK58-CK46","v":0},0,0,0,0,0,0,0,0,0,0,0,0,null,{"$f":"CY58-CY46","v":0},0,0,0,0,0,0,0,0,0,0,0,0,null,{"$f":"DM58-DM46","v":0},0,0,0,0,0,0,0,0,0,0,0,0,null,{"$f":"EA58-EA46","v":0},0,0,0,0,0,0,0,0,0,0,0,0,null,{"$f":"EO58-EO46","v":0},0,0,0,0,0,0,0,0,0,0,0,0,null,{"$f":"FC58-FC46","v":0},0,0,0,0,0,0,0,0,0,0,0,0]
[{"$f":"B63&D63","v":"Caixa AcumuladoP"},"Caixa Acumulado",null,"P",{"$f":"E61","v":0},{"$f":"F61+E63","v":0},{"$f":"G61+F63","v":0},0,0,0,{"$f":"K61+J63","v":0},0,0,0,0,0,null,null,{"$f":"S61+P63","v":0},{"$f":"T61+S63","v":0},{"$f":"U61+T63","v":0},0,0,0,0,0,0,0,0,{"$f":"AD61+AC63","v":0},null,null,{"$f":"AG61+AD63","v":0},{"$f":"AH61+AG63","v":0},{"$f":"AI61+AH63","v":0},0,0,0,0,0,0,0,0,{"$f":"AR61+AQ63","v":0},null,null,{"$f":"AU61+AR63","v":0},{"$f":"AV61+AU63","v":0},{"$f":"AW61+AV63","v":0},0,0,0,0,0,0,0,0,{"$f":"BF61+BE63","v":0},null,null,{"$f":"BI61+BF63","v":0},{"$f":"BJ61+BI63","v":0},{"$f":"BK61+BJ63","v":0},0,0,0,0,0,0,0,0,{"$f":"BT61+BS63","v":0},null,null,{"$f":"BW61+BT63","v":0},{"$f":"BX61+BW63","v":0},{"$f":"BY61+BX63","v":0},0,0,0,0,0,0,0,0,{"$f":"CH61+CG63","v":0},null,null,{"$f":"CK61+CH63","v":0},{"$f":"CL61+CK63","v":0},{"$f":"CM61+CL63","v":0},0,0,0,0,0,0,0,0,{"$f":"CV61+CU63","v":0},null,null,{"$f":"CY61+CV63","v":0},{"$f":"CZ61+CY63","v":0},{"$f":"DA61+CZ63","v":0},0,0,0,0,0,0,0,0,{"$f":"DJ61+DI63","v":0},null,null,{"$f":"DM61+DJ63","v":0},{"$f":"DN61+DM63","v":0},{"$f":"DO61+DN63","v":0},0,0,0,0,0,0,0,0,{"$f":"DX61+DW63","v":0},null,null,{"$f":"EA61+DX63","v":0},{"$f":"EB61+EA63","v":0},{"$f":"EC61+EB63","v":0},0,0,0,0,0,0,0,0,{"$f":"EL61+EK63","v":0},null,null,{"$f":"EO61+EL63","v":0},{"$f":"EP61+EO63","v":0},{"$f":"EQ61+EP63","v":0},0,0,0,0,0,0,0,0,{"$f":"EZ61+EY63","v":0},null,null,{"$f":"FC61+EZ63","v":0},{"$f":"FD61+FC63","v":0},{"$f":"FE61+FD63","v":0},0,0,0,0,0,0,0,0,{"$f":"FN61+FM63","v":0}]
[{"$f":"B63&D64","v":"Caixa AcumuladoR"},null,null,"R",{"$f":"E60+E62","v":0},{"$f":"E64+F62","v":0},{"$f":"F64+G62","v":0},0,0,0,0,0,0,0,0,0,null,null,{"$f":"S62+P64","v":0},{"$f":"T62+S64","v":0},0,0,0,0,0,0,0,0,0,0,null,null,{"$f":"AG62+AD64","v":0},{"$f":"AH62+AG64","v":0},0,0,0,0,0,0,0,0,0,0,null,null,{"$f":"AU62+AR64","v":0},{"$f":"AV62+AU64","v":0},0,0,0,0,0,0,0,0,0,0,null,null,{"$f":"BI62+BF64","v":0},{"$f":"BJ62+BI64","v":0},0,0,0,0,0,0,0,0,0,0,null,null,{"$f":"BW62+BT64","v":0},{"$f":"BX62+BW64","v":0},0,0,0,0,0,0,0,0,0,0,null,null,{"$f":"CK62+CH64","v":0},{"$f":"CL62+CK64","v":0},0,0,0,0,0,0,0,0,0,0,null,null,{"$f":"CY62+CV64","v":0},{"$f":"CZ62+CY64","v":0},0,0,0,0,0,0,0,0,0,0,null,null,{"$f":"DM62+DJ64","v":0},{"$f":"DN62+DM64","v":0},0,0,0,0,0,0,0,0,0,0,null,null,{"$f":"EA62+DX64","v":0},{"$f":"EB62+EA64","v":0},0,0,0,0,0,0,0,0,0,0,null,null,{"$f":"EO62+EL64","v":0},{"$f":"EP62+EO64","v":0},0,0,0,0,0,0,0,0,0,0,null,null,{"$f":"FC62+EZ64","v":0},{"$f":"FD62+FC64","v":0},0,0,0,0,0,0,0,0,0,0]

{"sheet":"Atividade 4","index":4,"n_rows":64,"n_cols":183,"rows_kept":64,"cut":false,"hidden":false,"merged":[[30,2,31,2],[32,2,33,2],[34,2,35,2],[36,2,37,2],[38,2,39,2],[0,158,1,170],[2,130,2,142],[2,144,2,156],[2,158,2,170],[2,116,2,128],[0,116,1,128],[0,130,1,142],[0,144,1,156],[0,60,1,72],[0,74,1,86],[0,88,1,100],[0,102,1,114],[28,2,29,2],[2,60,2,72],[2,74,2,86],[2,88,2,100],[2,102,2,114],[2,4,2,16],[2,18,2,30],[2,32,2,44],[2,46,2,58],[0,4,1,16],[0,18,1,30],[0,32,1,44],[0,46,1,58],[4,1,45,1],[4,2,5,2],[6,2,7,2],[8,2,9,2],[10,2,11,2],[12,2,13,2],[14,2,15,2],[16,2,17,2],[18,2,19,2],[20,2,21,2],[22,2,23,2],[24,2,25,2],[26,2,27,2],[40,2,41,2],[42,2,43,2],[60,1,61,2],[62,1,63,2],[59,1,59,2],[44,2,45,2],[48,1,57,1],[48,2,49,2],[52,2,53,2],[54,2,55,2],[56,2,57,2],[50,2,51,2]]}
[null,null,null,null,{"$f":"MENU!$C$28","v":"Lavoura de Milho"},null,null,null,null,null,null,null,null,null,null,null,null,null,{"$f":"MENU!$C$28","v":"Lavoura de Milho"},null,null,null,null,null,null,null,null,null,null,null,null,null,{"$f":"MENU!$C$28","v":"Lavoura de Milho"},null,null,null,null,null,null,null,null,null,null,null,null,null,{"$f":"MENU!$C$28","v":"Lavoura de Milho"},null,null,null,null,null,null,null,null,null,null,null,null,null,{"$f":"MENU!$C$28","v":"Lavoura de Milho"},null,null,null,null,null,null,null,null,null,null,null,null,null,{"$f":"MENU!$C$28","v":"Lavoura de Milho"},null,null,null,null,null,null,null,null,null,null,null,null,null,{"$f":"MENU!$C$28","v":"Lavoura de Milho"},null,null,null,null,null,null,null,null,null,null,null,null,null,{"$f":"MENU!$C$28","v":"Lavoura de Milho"},null,null,null,null,null,null,null,null,null,null,null,null,null,{"$f":"MENU!$C$28","v":"Lavoura de Milho"},null,null,null,null,null,null,null,null,null,null,null,null,null,{"$f":"MENU!$C$28","v":"Lavoura de Milho"},null,null,null,null,null,null,null,null,null,null,null,null,null,{"$f":"MENU!$C$28","v":"Lavoura de Milho"},null,null,null,null,null,null,null,null,null,null,null,null,null,{"$f":"MENU!$C$28","v":"Lavoura de Milho"}]
[null,null,null,null,null,null,null,null,null,null,null,null,null,null,null,null,null,null,null,null,null,null,null,null,null,null,null,null,null,null,null,null,null,null,null,null,null,null,null,null,null,null,null,null,null,null,null,null,null,null,null,null,null,null,null,null,null,null,null,null,null,null,null,null,null,null,null,null,null,null,null,null,null,null,null,null,null,null,null,null,null,null,null,null,null,null,null,null,null,null,null,null,null,null,null,null,null,null,null,null,null,null,null,null,null,null,null,null,null,null,null,null,null,null,null,null,null,null,null,null,null,null,null,null,null,null,null,null,null,null,null,null,null,null,null,null,null,null,null,null,null,null,null,null,null,null,null,null,null,null,null,null,null,null,null,null,null,null,null,null,null,null,null,null,null,null,null,null,null,null,null,null,null,null,null,null,null,null,6,1,{"$f":"VLOOKUP(FX2,FX3:FY14,2,0)","v":2017},{"$f":"VLOOKUP(FY2,$FY$3:$FZ$14,2,0)","v":"R3C5"},6]
[null,null,null,null,{"$f":"MENU!F6","v":0},null,null,null,null,null,null,null,null,null,null,null,null,null,{"$f":"E3+1","v":1},null,null,null,null,null,null,null,null,null,null,null,null,null,{"$f":"S3+1","v":2},null,null,null,null,null,null,null,null,null,null,null,null,null,{"$f":"AG3+1","v":3},null,null,null,null,null,null,null,null,null,null,null,null,null,{"$f":"AU3+1","v":4},null,null,null,null,null,null,null,null,null,null,null,null,null,{"$f":"BI3+1","v":5},null,null,null,null,null,null,null,null,null,null,null,null,null,{"$f":"BW3+1","v":6},null,null,null,null,null,null,null,null,null,null,null,null,null,{"$f":"CK3+1","v":7},null,null,null,null,null,null,null,null,null,null,null,null,null,{"$f":"CY3+1","v":8},null,null,null,null,null,null,null,null,null,null,null,null,null,{"$f":"DM3+1","v":9},null,null,null,null,null,null,null,null,null,null,null,null,null,{"$f":"EA3+1","v":10},null,null,null,null,null,null,null,null,null,null,null,null,null,{"$f":"EO3+1","v":11},null,null,null,null,null,null,null,null,null,null,null,null,null,null,null,null,null,null,null,null,1,2017,"R3C5"]
[null,null,"Descrição de Despesa",null,"Jan","Fev","Mar","Abr","Mai","Jun","Jul","Ago","Set","Out","Nov","Dez","Total",null,"Jan","Fev","Mar","Abr","Mai","Jun","Jul","Ago","Set","Out","Nov","Dez","Total",null,"Jan","Fev","Mar","Abr","Mai","Jun","Jul","Ago","Set","Out","Nov","Dez","Total",null,"Jan","Fev","Mar","Abr","Mai","Jun","Jul","Ago","Set","Out","Nov","Dez","Total",null,"Jan","Fev","Mar","Abr","Mai","Jun","Jul","Ago","Set","Out","Nov","Dez","Total",null,"Jan","Fev","Mar","Abr","Mai","Jun","Jul","Ago","Set","Out","Nov","Dez","Total",null,"Jan","Fev","Mar","Abr","Mai","Jun","Jul","Ago","Set","Out","Nov","Dez","Total",null,"Jan","Fev","Mar","Abr","Mai","Jun","Jul","Ago","Set","Out","Nov","Dez","Total",null,"Jan","Fev","Mar","Abr","Mai","Jun","Jul","Ago","Set","Out","Nov","Dez","Total",null,"Jan","Fev","Mar","Abr","Mai","Jun","Jul","Ago","Set","Out","Nov","Dez","Total",null,"Jan","Fev","Mar","Abr","Mai","Jun","Jul","Ago","Set","Out","Nov","Dez","Total",null,"Jan","Fev","Mar","Abr","Mai","Jun","Jul","Ago","Set","Out","Nov","Dez","Total",null,null,null,null,null,null,null,null,2,2018,"R3C19"]
[{"$f":"C5&D5","v":"Mão de obra pagaP"},"Saídas de Caixa","Mão de obra paga","P",0,0,0,0,0,0,0,0,0,0,0,0,{"$f":"SUM($E$5:$P$5)","v":0},null,0,0,0,0,0,0,0,0,0,0,0,0,{"$f":"SUM($S$5:$AD$5)","v":0},null,0,0,0,0,0,0,0,0,0,0,0,0,{"$f":"SUM($AG$5:$AR$5)","v":0},null,0,0,0,0,0,0,0,0,0,0,0,0,{"$f":"SUM($AU$5:$BF$5)","v":0},null,0,0,0,0,0,0,0,0,0,0,0,0,{"$f":"SUM($BI$5:$BT$5)","v":0},null,0,0,0,0,0,0,0,0,0,0,0,0,{"$f":"SUM($BW$5:$CH$5)","v":0},null,0,0,0,0,0,0,0,0,0,0,0,0,{"$f":"SUM($CK$5:$CV$5)","v":0},null,0,0,0,0,0,0,0,0,0,0,0,0,{"$f":"SUM($CY$5:$DJ$5)","v":0},null,0,0,0,0,0,0,0,0,0,0,0,0,{"$f":"SUM($DM$5:$DX$5)","v":0},null,0,0,0,0,0,0,0,0,0,0,0,0,{"$f":"SUM($EA$5:$EL$5)","v":0},null,0,0,0,0,0,0,0,0,0,0,0,0,{"$f":"SUM($EO$5:$EZ$5)","v":0},null,0,0,0,0,0,0,0,0,0,0,0,0,{"$f":"SUM($FC$5:$FN$5)","v":0},null,null,null,null,null,null,null,null,3,2019,"R3C33"]
[{"$f":"C5&D6","v":"Mão de obra pagaR"},null,null,"R",null,null,null,null,null,null,null,null,null,null,null,null,{"$f":"SUM($E$6:$P$6)","v":0},null,null,null,null,null,null,null,null,null,null,null,null,null,{"$f":"SUM($S$6:$AD$6)","v":0},null,null,null,null,null,null,null,null,null,null,null,null,null,{"$f":"SUM($AG$6:$AR$6)","v":0},null,null,null,null,null,null,null,null,null,null,null,null,null,{"$f":"SUM($AU$6:$BF$6)","v":0},null,null,null,null,null,null,null,null,null,null,null,null,null,{"$f":"SUM($BI$6:$BT$6)","v":0},null,null,null,null,null,null,null,null,null,null,null,null,null,{"$f":"SUM($BW$6:$CH$6)","v":0},null,null,null,null,null,null,null,null,null,null,null,null,null,{"$f":"SUM($CK$6:$CV$6)","v":0},null,null,null,null,null,null,null,null,null,null,null,null,null,{"$f":"SUM($CY$6:$DJ$6)","v":0},null,null,null,null,null,null,null,null,null,null,null,null,null,{"$f":"SUM($DM$6:$DX$6)","v":0},null,null,null,null,null,null,null,null,null,null,null,null,null,{"$f":"SUM($EA$6:$EL$6)","v":0},null,null,null,null,null,null,null,null,null,null,null,null,null,{"$f":"SUM($EO$6:$EZ$6)","v":0},null,null,null,null,null,null,null,null,null,null,null,null,null,{"$f":"SUM($FC$6:$FN$6)","v":0},null,null,null,null,null,null,null,null,4,2020,"R3C47"]
[{"$f":"C7&D7","v":"SementeP"},null,"Semente","P",0,0,0,0,0,0,0,0,0,0,0,0,{"$f":"SUM($E$7:$P$7)","v":0},null,0,0,0,0,0,0,0,0,0,0,0,0,{"$f":"SUM($S$7:$AD$7)","v":0},null,0,0,0,0,0,0,0,0,0,0,0,0,{"$f":"SUM($AG$7:$AR$7)","v":0},null,0,0,0,0,0,0,0,0,0,0,0,0,{"$f":"SUM($AU$7:$BF$7)","v":0},null,0,0,0,0,0,0,0,0,0,0,0,0,{"$f":"SUM($BI$7:$BT$7)","v":0},null,0,0,0,0,0,0,0,0,0,0,0,0,{"$f":"SUM($BW$7:$CH$7)","v":0},null,0,0,0,0,0,0,0,0,0,0,0,0,{"$f":"SUM($CK$7:$CV$7)","v":0},null,0,0,0,0,0,0,0,0,0,0,0,0,{"$f":"SUM($CY$7:$DJ$7)","v":0},null,0,0,0,0,0,0,0,0,0,0,0,0,{"$f":"SUM($DM$7:$DX$7)","v":0},null,0,0,0,0,0,0,0,0,0,0,0,0,{"$f":"SUM($EA$7:$EL$7)","v":0},null,0,0,0,0,0,0,0,0,0,0,0,0,{"$f":"SUM($EO$7:$EZ$7)","v":0},null,0,0,0,0,0,0,0,0,0,0,0,0,{"$f":"SUM($FC$7:$FN$7)","v":0},null,null,null,null,null,null,null,null,5,2021,"R3C61"]
[{"$f":"C7&D8","v":"SementeR"},null,null,"R",null,null,null,null,null,null,null,null,null,null,null,null,{"$f":"SUM($E$8:$P$8)","v":0},null,null,null,null,null,null,null,null,null,null,null,null,null,{"$f":"SUM($S$8:$AD$8)","v":0},null,null,null,null,null,null,null,null,null,null,null,null,null,{"$f":"SUM($AG$8:$AR$8)","v":0},null,null,null,null,null,null,null,null,null,null,null,null,null,{"$f":"SUM($AU$8:$BF$8)","v":0},null,null,null,null,null,null,null,null,null,null,null,null,null,{"$f":"SUM($BI$8:$BT$8)","v":0},null,null,null,null,null,null,null,null,null,null,null,null,null,{"$f":"SUM($BW$8:$CH$8)","v":0},null,null,null,null,null,null,null,null,null,null,null,null,null,{"$f":"SUM($CK$8:$CV$8)","v":0},null,null,null,null,null,null,null,null,null,null,null,null,null,{"$f":"SUM($CY$8:$DJ$8)","v":0},null,null,null,null,null,null,null,null,null,null,null,null,null,{"$f":"SUM($DM$8:$DX$8)","v":0},null,null,null,null,null,null,null,null,null,null,null,null,null,{"$f":"SUM($EA$8:$EL$8)","v":0},null,null,null,null,null,null,null,null,null,null,null,null,null,{"$f":"SUM($EO$8:$EZ$8)","v":0},null,null,null,null,null,null,null,null,null,null,null,null,null,{"$f":"SUM($FC$8:$FN$8)","v":0},null,null,null,null,null,null,null,null,6,2022,"R3C75"]
[{"$f":"C9&D9","v":"Adubação orgânicaP"},null,"Adubação orgânica","P",0,0,0,0,0,0,0,0,0,0,0,0,{"$f":"SUM($E$9:$P$9)","v":0},null,0,0,0,0,0,0,0,0,0,0,0,0,{"$f":"SUM($S$9:$AD$9)","v":0},null,0,0,0,0,0,0,0,0,0,0,0,0,{"$f":"SUM($AG$9:$AR$9)","v":0},null,0,0,0,0,0,0,0,0,0,0,0,0,{"$f":"SUM($AU$9:$BF$9)","v":0},null,0,0,0,0,0,0,0,0,0,0,0,0,{"$f":"SUM($BI$9:$BT$9)","v":0},null,0,0,0,0,0,0,0,0,0,0,0,0,{"$f":"SUM($BW$9:$CH$9)","v":0},null,0,0,0,0,0,0,0,0,0,0,0,0,{"$f":"SUM($CK$9:$CV$9)","v":0},null,0,0,0,0,0,0,0,0,0,0,0,0,{"$f":"SUM($CY$9:$DJ$9)","v":0},null,0,0,0,0,0,0,0,0,0,0,0,0,{"$f":"SUM($DM$9:$DX$9)","v":0},null,0,0,0,0,0,0,0,0,0,0,0,0,{"$f":"SUM($EA$9:$EL$9)","v":0},null,0,0,0,0,0,0,0,0,0,0,0,0,{"$f":"SUM($EO$9:$EZ$9)","v":0},null,0,0,0,0,0,0,0,0,0,0,0,0,{"$f":"SUM($FC$9:$FN$9)","v":0},null,null,null,null,null,null,null,null,7,2023,"R3C89"]
[{"$f":"C9&D10","v":"Adubação orgânicaR"},null,null,"R",null,null,null,null,null,null,null,null,null,null,null,null,{"$f":"SUM($E$10:$P$10)","v":0},null,null,null,null,null,null,null,null,null,null,null,null,null,{"$f":"SUM($S$10:$AD$10)","v":0},null,null,null,null,null,null,null,null,null,null,null,null,null,{"$f":"SUM($AG$10:$AR$10)","v":0},null,null,null,null,null,null,null,null,null,null,null,null,null,{"$f":"SUM($AU$10:$BF$10)","v":0},null,null,null,null,null,null,null,null,null,null,null,null,null,{"$f":"SUM($BI$10:$BT$10)","v":0},null,null,null,null,null,null,null,null,null,null,null,null,null,{"$f":"SUM($BW$10:$CH$10)","v":0},null,null,null,null,null,null,null,null,null,null,null,null,null,{"$f":"SUM($CK$10:$CV$10)","v":0},null,null,null,null,null,null,null,null,null,null,null,null,null,{"$f":"SUM($CY$10:$DJ$10)","v":0},null,null,null,null,null,null,null,null,null,null,null,null,null,{"$f":"SUM($DM$10:$DX$10)","v":0},null,null,null,null,null,null,null,null,null,null,null,null,null,{"$f":"SUM($EA$10:$EL$10)","v":0},null,null,null,null,null,null,null,null,null,null,null,null,null,{"$f":"SUM($EO$10:$EZ$10)","v":0},null,null,null,null,null,null,null,null,null,null,null,null,null,{"$f":"SUM($FC$10:$FN$10)","v":0},null,null,null,null,null,null,null,null,8,2024,"R3C103"]
[{"$f":"C11&D11","v":"Adubação químicaP"},null,"Adubação química","P",0,0,0,0,0,0,0,0,0,0,0,0,{"$f":"SUM($E$11:$P$11)","v":0},null,0,0,0,0,0,0,0,0,0,0,0,0,{"$f":"SUM($S$11:$AD$11)","v":0},null,0,0,0,0,0,0,0,0,0,0,0,0,{"$f":"SUM($AG$11:$AR$11)","v":0},null,0,0,0,0,0,0,0,0,0,0,0,0,{"$f":"SUM($AU$11:$BF$11)","v":0},null,0,0,0,0,0,0,0,0,0,0,0,0,{"$f":"SUM($BI$11:$BT$11)","v":0},null,0,0,0,0,0,0,0,0,0,0,0,0,{"$f":"SUM($BW$11:$CH$11)","v":0},null,0,0,0,0,0,0,0,0,0,0,0,0,{"$f":"SUM($CK$11:$CV$11)","v":0},null,0,0,0,0,0,0,0,0,0,0,0,0,{"$f":"SUM($CY$11:$DJ$11)","v":0},null,0,0,0,0,0,0,0,0,0,0,0,0,{"$f":"SUM($DM$11:$DX$11)","v":0},null,0,0,0,0,0,0,0,0,0,0,0,0,{"$f":"SUM($EA$11:$EL$11)","v":0},null,0,0,0,0,0,0,0,0,0,0,0,0,{"$f":"SUM($EO$11:$EZ$11)","v":0},null,0,0,0,0,0,0,0,0,0,0,0,0,{"$f":"SUM($FC$11:$FN$11)","v":0},null,null,null,null,null,null,null,null,9,2025,"R3C117"]
[{"$f":"C11&D12","v":"Adubação químicaR"},null,null,"R",null,null,null,null,null,null,null,null,null,null,null,null,{"$f":"SUM($E$12:$P$12)","v":0},null,null,null,null,null,null,null,null,null,null,null,null,null,{"$f":"SUM($S$12:$AD$12)","v":0},null,null,null,null,null,null,null,null,null,null,null,null,null,{"$f":"SUM($AG$12:$AR$12)","v":0},null,null,null,null,null,null,null,null,null,null,null,null,null,{"$f":"SUM($AU$12:$BF$12)","v":0},null,null,null,null,null,null,null,null,null,null,null,null,null,{"$f":"SUM($BI$12:$BT$12)","v":0},null,null,null,null,null,null,null,null,null,null,null,null,null,{"$f":"SUM($BW$12:$CH$12)","v":0},null,null,null,null,null,null,null,null,null,null,null,null,null,{"$f":"SUM($CK$12:$CV$12)","v":0},null,null,null,null,null,null,null,null,null,null,null,null,null,{"$f":"SUM($CY$12:$DJ$12)","v":0},null,null,null,null,null,null,null,null,null,null,null,null,null,{"$f":"SUM($DM$12:$DX$12)","v":0},null,null,null,null,null,null,null,null,null,null,null,null,null,{"$f":"SUM($EA$12:$EL$12)","v":0},null,null,null,null,null,null,null,null,null,null,null,null,null,{"$f":"SUM($EO$12:$EZ$12)","v":0},null,null,null,null,null,null,null,null,null,null,null,null,null,{"$f":"SUM($FC$12:$FN$12)","v":0},null,null,null,null,null,null,null,null,10,2026,"R3C131"]
[{"$f":"C13&D13","v":"FungicidaP"},null,"Fungicida","P",0,0,0,0,0,0,0,0,0,0,0,0,{"$f":"SUM($E$13:$P$13)","v":0},null,0,0,0,0,0,0,0,0,0,0,0,0,{"$f":"SUM($S$13:$AD$13)","v":0},null,0,0,0,0,0,0,0,0,0,0,0,0,{"$f":"SUM($AG$13:$AR$13)","v":0},null,0,0,0,0,0,0,0,0,0,0,0,0,{"$f":"SUM($AU$13:$BF$13)","v":0},null,0,0,0,0,0,0,0,0,0,0,0,0,{"$f":"SUM($BI$13:$BT$13)","v":0},null,0,0,0,0,0,0,0,0,0,0,0,0,{"$f":"SUM($BW$13:$CH$13)","v":0},null,0,0,0,0,0,0,0,0,0,0,0,0,{"$f":"SUM($CK$13:$CV$13)","v":0},null,0,0,0,0,0,0,0,0,0,0,0,0,{"$f":"SUM($CY$13:$DJ$13)","v":0},null,0,0,0,0,0,0,0,0,0,0,0,0,{"$f":"SUM($DM$13:$DX$13)","v":0},null,0,0,0,0,0,0,0,0,0,0,0,0,{"$f":"SUM($EA$13:$EL$13)","v":0},null,0,0,0,0,0,0,0,0,0,0,0,0,{"$f":"SUM($EO$13:$EZ$13)","v":0},null,0,0,0,0,0,0,0,0,0,0,0,0,{"$f":"SUM($FC$13:$FN$13)","v":0},null,null,null,null,null,null,null,null,11,2027,"R3C145"]
[{"$f":"C13&D14","v":"FungicidaR"},null,null,"R",null,null,null,null,null,null,null,null,null,null,null,null,{"$f":"SUM($E$14:$P$14)","v":0},null,null,null,null,null,null,null,null,null,null,null,null,null,{"$f":"SUM($S$14:$AD$14)","v":0},null,null,null,null,null,null,null,null,null,null,null,null,null,{"$f":"SUM($AG$14:$AR$14)","v":0},null,null,null,null,null,null,null,null,null,null,null,null,null,{"$f":"SUM($AU$14:$BF$14)","v":0},null,null,null,null,null,null,null,null,null,null,null,null,null,{"$f":"SUM($BI$14:$BT$14)","v":0},null,null,null,null,null,null,null,null,null,null,null,null,null,{"$f":"SUM($BW$14:$CH$14)","v":0},null,null,null,null,null,null,null,null,null,null,null,null,null,{"$f":"SUM($CK$14:$CV$14)","v":0},null,null,null,null,null,null,null,null,null,null,null,null,null,{"$f":"SUM($CY$14:$DJ$14)","v":0},null,null,null,null,null,null,null,null,null,null,null,null,null,{"$f":"SUM($DM$14:$DX$14)","v":0},null,null,null,null,null,null,null,null,null,null,null,null,null,{"$f":"SUM($EA$14:$EL$14)","v":0},null,null,null,null,null,null,null,null,null,null,null,null,null,{"$f":"SUM($EO$14:$EZ$14)","v":0},null,null,null,null,null,null,null,null,null,null,null,null,null,{"$f":"SUM($FC$14:$FN$14)","v":0},null,null,null,null,null,null,null,null,12,2028,"R3C159"]
[{"$f":"C15&D15","v":"InseticidaP"},null,"Inseticida","P",0,0,0,0,0,0,0,0,0,0,0,0,{"$f":"SUM($E$15:$P$15)","v":0},null,0,0,0,0,0,0,0,0,0,0,0,0,{"$f":"SUM($S$15:$AD$15)","v":0},null,0,0,0,0,0,0,0,0,0,0,0,0,{"$f":"SUM($AG$15:$AR$15)","v":0},null,0,0,0,0,0,0,0,0,0,0,0,0,{"$f":"SUM($AU$15:$BF$15)","v":0},null,0,0,0,0,0,0,0,0,0,0,0,0,{"$f":"SUM($BI$15:$BT$15)","v":0},null,0,0,0,0,0,0,0,0,0,0,0,0,{"$f":"SUM($BW$15:$CH$15)","v":0},null,0,0,0,0,0,0,0,0,0,0,0,0,{"$f":"SUM($CK$15:$CV$15)","v":0},null,0,0,0,0,0,0,0,0,0,0,0,0,{"$f":"SUM($CY$15:$DJ$15)","v":0},null,0,0,0,0,0,0,0,0,0,0,0,0,{"$f":"SUM($DM$15:$DX$15)","v":0},null,0,0,0,0,0,0,0,0,0,0,0,0,{"$f":"SUM($EA$15:$EL$15)","v":0},null,0,0,0,0,0,0,0,0,0,0,0,0,{"$f":"SUM($EO$15:$EZ$15)","v":0},null,0,0,0,0,0,0,0,0,0,0,0,0,{"$f":"SUM($FC$15:$FN$15)","v":0}]
[{"$f":"C15&D16","v":"InseticidaR"},null,null,"R",null,null,null,null,null,null,null,null,null,null,null,null,{"$f":"SUM($E$16:$P$16)","v":0},null,null,null,null,null,null,null,null,null,null,null,null,null,{"$f":"SUM($S$16:$AD$16)","v":0},null,null,null,null,null,null,null,null,null,null,null,null,null,{"$f":"SUM($AG$16:$AR$16)","v":0},null,null,null,null,null,null,null,null,null,null,null,null,null,{"$f":"SUM($AU$16:$BF$16)","v":0},null,null,null,null,null,null,null,null,null,null,null,null,null,{"$f":"SUM($BI$16:$BT$16)","v":0},null,null,null,null,null,null,null,null,null,null,null,null,null,{"$f":"SUM($BW$16:$CH$16)","v":0},null,null,null,null,null,null,null,null,null,null,null,null,null,{"$f":"SUM($CK$16:$CV$16)","v":0},null,null,null,null,null,null,null,null,null,null,null,null,null,{"$f":"SUM($CY$16:$DJ$16)","v":0},null,null,null,null,null,null,null,null,null,null,null,null,null,{"$f":"SUM($DM$16:$DX$16)","v":0},null,null,null,null,null,null,null,null,null,null,null,null,null,{"$f":"SUM($EA$16:$EL$16)","v":0},null,null,null,null,null,null,null,null,null,null,null,null,null,{"$f":"SUM($EO$16:$EZ$16)","v":0},null,null,null,null,null,null,null,null,null,null,null,null,null,{"$f":"SUM($FC$16:$FN$16)","v":0}]
[{"$f":"C17&D17","v":"HerbicidaP"},null,"Herbicida","P",0,0,0,0,0,0,0,0,0,0,0,0,{"$f":"SUM($E$17:$P$17)","v":0},null,0,0,0,0,0,0,0,0,0,0,0,0,{"$f":"SUM($S$17:$AD$17)","v":0},null,0,0,0,0,0,0,0,0,0,0,0,0,{"$f":"SUM($AG$17:$AR$17)","v":0},null,0,0,0,0,0,0,0,0,0,0,0,0,{"$f":"SUM($AU$17:$BF$17)","v":0},null,0,0,0,0,0,0,0,0,0,0,0,0,{"$f":"SUM($BI$17:$BT$17)","v":0},null,0,0,0,0,0,0,0,0,0,0,0,0,{"$f":"SUM($BW$17:$CH$17)","v":0},null,0,0,0,0,0,0,0,0,0,0,0,0,{"$f":"SUM($CK$17:$CV$17)","v":0},null,0,0,0,0,0,0,0,0,0,0,0,0,{"$f":"SUM($CY$17:$DJ$17)","v":0},null,0,0,0,0,0,0,0,0,0,0,0,0,{"$f":"SUM($DM$17:$DX$17)","v":0},null,0,0,0,0,0,0,0,0,0,0,0,0,{"$f":"SUM($EA$17:$EL$17)","v":0},null,0,0,0,0,0,0,0,0,0,0,0,0,{"$f":"SUM($EO$17:$EZ$17)","v":0},null,0,0,0,0,0,0,0,0,0,0,0,0,{"$f":"SUM($FC$17:$FN$17)","v":0}]
[{"$f":"C17&D18","v":"HerbicidaR"},null,null,"R",null,null,null,null,null,null,null,null,null,null,null,null,{"$f":"SUM($E$18:$P$18)","v":0},null,null,null,null,null,null,null,null,null,null,null,null,null,{"$f":"SUM($S$18:$AD$18)","v":0},null,null,null,null,null,null,null,null,null,null,null,null,null,{"$f":"SUM($AG$18:$AR$18)","v":0},null,null,null,null,null,null,null,null,null,null,null,null,null,{"$f":"SUM($AU$18:$BF$18)","v":0},null,null,null,null,null,null,null,null,null,null,null,null,null,{"$f":"SUM($BI$18:$BT$18)","v":0},null,null,null,null,null,null,null,null,null,null,null,null,null,{"$f":"SUM($BW$18:$CH$18)","v":0},null,null,null,null,null,null,null,null,null,null,null,null,null,{"$f":"SUM($CK$18:$CV$18)","v":0},null,null,null,null,null,null,null,null,null,null,null,null,null,{"$f":"SUM($CY$18:$DJ$18)","v":0},null,null,null,null,null,null,null,null,null,null,null,null,null,{"$f":"SUM($DM$18:$DX$18)","v":0},null,null,null,null,null,null,null,null,null,null,null,null,null,{"$f":"SUM($EA$18:$EL$18)","v":0},null,null,null,null,null,null,null,null,null,null,null,null,null,{"$f":"SUM($EO$18:$EZ$18)","v":0},null,null,null,null,null,null,null,null,null,null,null,null,null,{"$f":"SUM($FC$18:$FN$18)","v":0}]
[{"$f":"C19&D19","v":"DieselP"},null,"Diesel","P",0,0,0,0,0,0,0,0,0,0,0,0,{"$f":"SUM($E$19:$P$19)","v":0},null,0,0,0,0,0,0,0,0,0,0,0,0,{"$f":"SUM($S$19:$AD$19)","v":0},null,0,0,0,0,0,0,0,0,0,0,0,0,{"$f":"SUM($AG$19:$AR$19)","v":0},null,0,0,0,0,0,0,0,0,0,0,0,0,{"$f":"SUM($AU$19:$BF$19)","v":0},null,0,0,0,0,0,0,0,0,0,0,0,0,{"$f":"SUM($BI$19:$BT$19)","v":0},null,0,0,0,0,0,0,0,0,0,0,0,0,{"$f":"SUM($BW$19:$CH$19)","v":0},null,0,0,0,0,0,0,0,0,0,0,0,0,{"$f":"SUM($CK$19:$CV$19)","v":0},null,0,0,0,0,0,0,0,0,0,0,0,0,{"$f":"SUM($CY$19:$DJ$19)","v":0},null,0,0,0,0,0,0,0,0,0,0,0,0,{"$f":"SUM($DM$19:$DX$19)","v":0},null,0,0,0,0,0,0,0,0,0,0,0,0,{"$f":"SUM($EA$19:$EL$19)","v":0},null,0,0,0,0,0,0,0,0,0,0,0,0,{"$f":"SUM($EO$19:$EZ$19)","v":0},null,0,0,0,0,0,0,0,0,0,0,0,0,{"$f":"SUM($FC$19:$FN$19)","v":0}]
[{"$f":"C19&D20","v":"DieselR"},null,null,"R",null,null,null,null,null,null,null,null,null,null,null,null,{"$f":"SUM($E$20:$P$20)","v":0},null,null,null,null,null,null,null,null,null,null,null,null,null,{"$f":"SUM($S$20:$AD$20)","v":0},null,null,null,null,null,null,null,null,null,null,null,null,null,{"$f":"SUM($AG$20:$AR$20)","v":0},null,null,null,null,null,null,null,null,null,null,null,null,null,{"$f":"SUM($AU$20:$BF$20)","v":0},null,null,null,null,null,null,null,null,null,null,null,null,null,{"$f":"SUM($BI$20:$BT$20)","v":0},null,null,null,null,null,null,null,null,null,null,null,null,null,{"$f":"SUM($BW$20:$CH$20)","v":0},null,null,null,null,null,null,null,null,null,null,null,null,null,{"$f":"SUM($CK$20:$CV$20)","v":0},null,null,null,null,null,null,null,null,null,null,null,null,null,{"$f":"SUM($CY$20:$DJ$20)","v":0},null,null,null,null,null,null,null,null,null,null,null,null,null,{"$f":"SUM($DM$20:$DX$20)","v":0},null,null,null,null,null,null,null,null,null,null,null,null,null,{"$f":"SUM($EA$20:$EL$20)","v":0},null,null,null,null,null,null,null,null,null,null,null,null,null,{"$f":"SUM($EO$20:$EZ$20)","v":0},null,null,null,null,null,null,null,null,null,null,null,null,null,{"$f":"SUM($FC$20:$FN$20)","v":0}]
[{"$f":"C21&D21","v":"Pagamento de hora-máquinaP"},null,"Pagamento de hora-máquina","P",0,0,0,0,0,0,0,0,0,0,0,0,{"$f":"SUM($E$21:$P$21)","v":0},null,0,0,0,0,0,0,0,0,0,0,0,0,{"$f":"SUM($S$21:$AD$21)","v":0},null,0,0,0,0,0,0,0,0,0,0,0,0,{"$f":"SUM($AG$21:$AR$21)","v":0},null,0,0,0,0,0,0,0,0,0,0,0,0,{"$f":"SUM($AU$21:$BF$21)","v":0},null,0,0,0,0,0,0,0,0,0,0,0,0,{"$f":"SUM($BI$21:$BT$21)","v":0},null,0,0,0,0,0,0,0,0,0,0,0,0,{"$f":"SUM($BW$21:$CH$21)","v":0},null,0,0,0,0,0,0,0,0,0,0,0,0,{"$f":"SUM($CK$21:$CV$21)","v":0},null,0,0,0,0,0,0,0,0,0,0,0,0,{"$f":"SUM($CY$21:$DJ$21)","v":0},null,0,0,0,0,0,0,0,0,0,0,0,0,{"$f":"SUM($DM$21:$DX$21)","v":0},null,0,0,0,0,0,0,0,0,0,0,0,0,{"$f":"SUM($EA$21:$EL$21)","v":0},null,0,0,0,0,0,0,0,0,0,0,0,0,{"$f":"SUM($EO$21:$EZ$21)","v":0},null,0,0,0,0,0,0,0,0,0,0,0,0,{"$f":"SUM($FC$21:$FN$21)","v":0}]
[{"$f":"C21&D22","v":"Pagamento de hora-máquinaR"},null,null,"R",null,null,null,null,null,null,null,null,null,null,null,null,{"$f":"SUM($E$22:$P$22)","v":0},null,null,null,null,null,null,null,null,null,null,null,null,null,{"$f":"SUM($S$22:$AD$22)","v":0},null,null,null,null,null,null,null,null,null,null,null,null,null,{"$f":"SUM($AG$22:$AR$22)","v":0},null,null,null,null,null,null,null,null,null,null,null,null,null,{"$f":"SUM($AU$22:$BF$22)","v":0},null,null,null,null,null,null,null,null,null,null,null,null,null,{"$f":"SUM($BI$22:$BT$22)","v":0},null,null,null,null,null,null,null,null,null,null,null,null,null,{"$f":"SUM($BW$22:$CH$22)","v":0},null,null,null,null,null,null,null,null,null,null,null,null,null,{"$f":"SUM($CK$22:$CV$22)","v":0},null,null,null,null,null,null,null,null,null,null,null,null,null,{"$f":"SUM($CY$22:$DJ$22)","v":0},null,null,null,null,null,null,null,null,null,null,null,null,null,{"$f":"SUM($DM$22:$DX$22)","v":0},null,null,null,null,null,null,null,null,null,null,null,null,null,{"$f":"SUM($EA$22:$EL$22)","v":0},null,null,null,null,null,null,null,null,null,null,null,null,null,{"$f":"SUM($EO$22:$EZ$22)","v":0},null,null,null,null,null,null,null,null,null,null,null,null,null,{"$f":"SUM($FC$22:$FN$22)","v":0}]
[{"$f":"C23&D23","v":"SeguroP"},null,"Seguro","P",0,0,0,0,0,0,0,0,0,0,0,0,{"$f":"SUM($E$23:$P$23)","v":0},null,0,0,0,0,0,0,0,0,0,0,0,0,{"$f":"SUM($S$23:$AD$23)","v":0},null,0,0,0,0,0,0,0,0,0,0,0,0,{"$f":"SUM($AG$23:$AR$23)","v":0},null,0,0,0,0,0,0,0,0,0,0,0,0,{"$f":"SUM($AU$23:$BF$23)","v":0},null,0,0,0,0,0,0,0,0,0,0,0,0,{"$f":"SUM($BI$23:$BT$23)","v":0},null,0,0,0,0,0,0,0,0,0,0,0,0,{"$f":"SUM($BW$23:$CH$23)","v":0},null,0,0,0,0,0,0,0,0,0,0,0,0,{"$f":"SUM($CK$23:$CV$23)","v":0},null,0,0,0,0,0,0,0,0,0,0,0,0,{"$f":"SUM($CY$23:$DJ$23)","v":0},null,0,0,0,0,0,0,0,0,0,0,0,0,{"$f":"SUM($DM$23:$DX$23)","v":0},null,0,0,0,0,0,0,0,0,0,0,0,0,{"$f":"SUM($EA$23:$EL$23)","v":0},null,0,0,0,0,0,0,0,0,0,0,0,0,{"$f":"SUM($EO$23:$EZ$23)","v":0},null,0,0,0,0,0,0,0,0,0,0,0,0,{"$f":"SUM($FC$23:$FN$23)","v":0}]
[{"$f":"C23&D24","v":"SeguroR"},null,null,"R",null,null,null,null,null,null,null,null,null,null,null,null,{"$f":"SUM($E$24:$P$24)","v":0},null,null,null,null,null,null,null,null,null,null,null,null,null,{"$f":"SUM($S$24:$AD$24)","v":0},null,null,null,null,null,null,null,null,null,null,null,null,null,{"$f":"SUM($AG$24:$AR$24)","v":0},null,null,null,null,null,null,null,null,null,null,null,null,null,{"$f":"SUM($AU$24:$BF$24)","v":0},null,null,null,null,null,null,null,null,null,null,null,null,null,{"$f":"SUM($BI$24:$BT$24)","v":0},null,null,null,null,null,null,null,null,null,null,null,null,null,{"$f":"SUM($BW$24:$CH$24)","v":0},null,null,null,null,null,null,null,null,null,null,null,null,null,{"$f":"SUM($CK$24:$CV$24)","v":0},null,null,null,null,null,null,null,null,null,null,null,null,null,{"$f":"SUM($CY$24:$DJ$24)","v":0},null,null,null,null,null,null,null,null,null,null,null,null,null,{"$f":"SUM($DM$24:$DX$24)","v":0},null,null,null,null,null,null,null,null,null,null,null,null,null,{"$f":"SUM($EA$24:$EL$24)","v":0},null,null,null,null,null,null,null,null,null,null,null,null,null,{"$f":"SUM($EO$24:$EZ$24)","v":0},null,null,null,null,null,null,null,null,null,null,null,null,null,{"$f":"SUM($FC$24:$FN$24)","v":0}]
[{"$f":"C25&D25","v":"Reparo e Manutenção de Máquinas e BenfeitoriasP"},null,"Reparo e Manutenção de Máquinas e Benfeitorias","P",0,0,0,0,0,0,0,0,0,0,0,0,{"$f":"SUM($E$25:$P$25)","v":0},null,0,0,0,0,0,0,0,0,0,0,0,0,{"$f":"SUM($S$25:$AD$25)","v":0},null,0,0,0,0,0,0,0,0,0,0,0,0,{"$f":"SUM($AG$25:$AR$25)","v":0},null,0,0,0,0,0,0,0,0,0,0,0,0,{"$f":"SUM($AU$25:$BF$25)","v":0},null,0,0,0,0,0,0,0,0,0,0,0,0,{"$f":"SUM($BI$25:$BT$25)","v":0},null,0,0,0,0,0,0,0,0,0,0,0,0,{"$f":"SUM($BW$25:$CH$25)","v":0},null,0,0,0,0,0,0,0,0,0,0,0,0,{"$f":"SUM($CK$25:$CV$25)","v":0},null,0,0,0,0,0,0,0,0,0,0,0,0,{"$f":"SUM($CY$25:$DJ$25)","v":0},null,0,0,0,0,0,0,0,0,0,0,0,0,{"$f":"SUM($DM$25:$DX$25)","v":0},null,0,0,0,0,0,0,0,0,0,0,0,0,{"$f":"SUM($EA$25:$EL$25)","v":0},null,0,0,0,0,0,0,0,0,0,0,0,0,{"$f":"SUM($EO$25:$EZ$25)","v":0},null,0,0,0,0,0,0,0,0,0,0,0,0,{"$f":"SUM($FC$25:$FN$25)","v":0}]
[{"$f":"C25&D26","v":"Reparo e Manutenção de Máquinas e BenfeitoriasR"},null,null,"R",null,null,null,null,null,null,null,null,null,null,null,null,{"$f":"SUM($E$26:$P$26)","v":0},null,null,null,null,null,null,null,null,null,null,null,null,null,{"$f":"SUM($S$26:$AD$26)","v":0},null,null,null,null,null,null,null,null,null,null,null,null,null,{"$f":"SUM($AG$26:$AR$26)","v":0},null,null,null,null,null,null,null,null,null,null,null,null,null,{"$f":"SUM($AU$26:$BF$26)","v":0},null,null,null,null,null,null,null,null,null,null,null,null,null,{"$f":"SUM($BI$26:$BT$26)","v":0},null,null,null,null,null,null,null,null,null,null,null,null,null,{"$f":"SUM($BW$26:$CH$26)","v":0},null,null,null,null,null,null,null,null,null,null,null,null,null,{"$f":"SUM($CK$26:$CV$26)","v":0},null,null,null,null,null,null,null,null,null,null,null,null,null,{"$f":"SUM($CY$26:$DJ$26)","v":0},null,null,null,null,null,null,null,null,null,null,null,null,null,{"$f":"SUM($DM$26:$DX$26)","v":0},null,null,null,null,null,null,null,null,null,null,null,null,null,{"$f":"SUM($EA$26:$EL$26)","v":0},null,null,null,null,null,null,null,null,null,null,null,null,null,{"$f":"SUM($EO$26:$EZ$26)","v":0},null,null,null,null,null,null,null,null,null,null,null,null,null,{"$f":"SUM($FC$26:$FN$26)","v":0}]
[{"$f":"C27&D27","v":"ReinvestimentoP"},null,"Reinvestimento","P",0,0,0,0,0,0,0,0,0,0,0,0,{"$f":"SUM($E$27:$P$27)","v":0},null,0,0,0,0,0,0,0,0,0,0,0,0,{"$f":"SUM($S$27:$AD$27)","v":0},null,0,0,0,0,0,0,0,0,0,0,0,0,{"$f":"SUM($AG$27:$AR$27)","v":0},null,0,0,0,0,0,0,0,0,0,0,0,0,{"$f":"SUM($AU$27:$BF$27)","v":0},null,0,0,0,0,0,0,0,0,0,0,0,0,{"$f":"SUM($BI$27:$BT$27)","v":0},null,0,0,0,0,0,0,0,0,0,0,0,0,{"$f":"SUM($BW$27:$CH$27)","v":0},null,0,0,0,0,0,0,0,0,0,0,0,0,{"$f":"SUM($CK$27:$CV$27)","v":0},null,0,0,0,0,0,0,0,0,0,0,0,0,{"$f":"SUM($CY$27:$DJ$27)","v":0},null,0,0,0,0,0,0,0,0,0,0,0,0,{"$f":"SUM($DM$27:$DX$27)","v":0},null,0,0,0,0,0,0,0,0,0,0,0,0,{"$f":"SUM($EA$27:$EL$27)","v":0},null,0,0,0,0,0,0,0,0,0,0,0,0,{"$f":"SUM($EO$27:$EZ$27)","v":0},null,0,0,0,0,0,0,0,0,0,0,0,0,{"$f":"SUM($FC$27:$FN$27)","v":0}]
[{"$f":"C27&D28","v":"ReinvestimentoR"},null,null,"R",null,null,null,null,null,null,null,null,null,null,null,null,{"$f":"SUM($E$28:$P$28)","v":0},null,null,null,null,null,null,null,null,null,null,null,null,null,{"$f":"SUM($S$28:$AD$28)","v":0},null,null,null,null,null,null,null,null,null,null,null,null,null,{"$f":"SUM($AG$28:$AR$28)","v":0},null,null,null,null,null,null,null,null,null,null,null,null,null,{"$f":"SUM($AU$28:$BF$28)","v":0},null,null,null,null,null,null,null,null,null,null,null,null,null,{"$f":"SUM($BI$28:$BT$28)","v":0},null,null,null,null,null,null,null,null,null,null,null,null,null,{"$f":"SUM($BW$28:$CH$28)","v":0},null,null,null,null,null,null,null,null,null,null,null,null,null,{"$f":"SUM($CK$28:$CV$28)","v":0},null,null,null,null,null,null,null,null,null,null,null,null,null,{"$f":"SUM($CY$28:$DJ$28)","v":0},null,null,null,null,null,null,null,null,null,null,null,null,null,{"$f":"SUM($DM$28:$DX$28)","v":0},null,null,null,null,null,null,null,null,null,null,null,null,null,{"$f":"SUM($EA$28:$EL$28)","v":0},null,null,null,null,null,null,null,null,null,null,null,null,null,{"$f":"SUM($EO$28:$EZ$28)","v":0},null,null,null,null,null,null,null,null,null,null,null,null,null,{"$f":"SUM($FC$28:$FN$28)","v":0}]
[{"$f":"C29&D29","v":"OutrosP"},null,"Outros","P",0,0,0,0,0,0,0,0,0,0,0,0,{"$f":"SUM($E$29:$P$29)","v":0},null,0,0,0,0,0,0,0,0,0,0,0,0,{"$f":"SUM($S$29:$AD$29)","v":0},null,0,0,0,0,0,0,0,0,0,0,0,0,{"$f":"SUM($AG$29:$AR$29)","v":0},null,0,0,0,0,0,0,0,0,0,0,0,0,{"$f":"SUM($AU$29:$BF$29)","v":0},null,0,0,0,0,0,0,0,0,0,0,0,0,{"$f":"SUM($BI$29:$BT$29)","v":0},null,0,0,0,0,0,0,0,0,0,0,0,0,{"$f":"SUM($BW$29:$CH$29)","v":0},null,0,0,0,0,0,0,0,0,0,0,0,0,{"$f":"SUM($CK$29:$CV$29)","v":0},null,0,0,0,0,0,0,0,0,0,0,0,0,{"$f":"SUM($CY$29:$DJ$29)","v":0},null,0,0,0,0,0,0,0,0,0,0,0,0,{"$f":"SUM($DM$29:$DX$29)","v":0},null,0,0,0,0,0,0,0,0,0,0,0,0,{"$f":"SUM($EA$29:$EL$29)","v":0},null,0,0,0,0,0,0,0,0,0,0,0,0,{"$f":"SUM($EO$29:$EZ$29)","v":0},null,0,0,0,0,0,0,0,0,0,0,0,0,{"$f":"SUM($FC$29:$FN$29)","v":0}]
[{"$f":"C29&D30","v":"OutrosR"},null,null,"R",null,null,null,null,null,null,null,null,null,null,null,null,{"$f":"SUM($E$30:$P$30)","v":0},null,null,null,null,null,null,null,null,null,null,null,null,null,{"$f":"SUM($S$30:$AD$30)","v":0},null,null,null,null,null,null,null,null,null,null,null,null,null,{"$f":"SUM($AG$30:$AR$30)","v":0},null,null,null,null,null,null,null,null,null,null,null,null,null,{"$f":"SUM($AU$30:$BF$30)","v":0},null,null,null,null,null,null,null,null,null,null,null,null,null,{"$f":"SUM($BI$30:$BT$30)","v":0},null,null,null,null,null,null,null,null,null,null,null,null,null,{"$f":"SUM($BW$30:$CH$30)","v":0},null,null,null,null,null,null,null,null,null,null,null,null,null,{"$f":"SUM($CK$30:$CV$30)","v":0},null,null,null,null,null,null,null,null,null,null,null,null,null,{"$f":"SUM($CY$30:$DJ$30)","v":0},null,null,null,null,null,null,null,null,null,null,null,null,null,{"$f":"SUM($DM$30:$DX$30)","v":0},null,null,null,null,null,null,null,null,null,null,null,null,null,{"$f":"SUM($EA$30:$EL$30)","v":0},null,null,null,null,null,null,null,null,null,null,null,null,null,{"$f":"SUM($EO$30:$EZ$30)","v":0},null,null,null,null,null,null,null,null,null,null,null,null,null,{"$f":"SUM($FC$30:$FN$30)","v":0}]
["AP",null,"A","P",0,0,0,0,0,0,0,0,0,0,0,0,{"$f":"SUM($E$31:$P$31)","v":0},null,0,0,0,0,0,0,0,0,0,0,0,0,{"$f":"SUM($S$31:$AD$31)","v":0},null,0,0,0,0,0,0,0,0,0,0,0,0,{"$f":"SUM($AG$31:$AR$31)","v":0},null,0,0,0,0,0,0,0,0,0,0,0,0,{"$f":"SUM($AU$31:$BF$31)","v":0},null,0,0,0,0,0,0,0,0,0,0,0,0,{"$f":"SUM($BI$31:$BT$31)","v":0},null,0,0,0,0,0,0,0,0,0,0,0,0,{"$f":"SUM($BW$31:$CH$31)","v":0},null,0,0,0,0,0,0,0,0,0,0,0,0,{"$f":"SUM($CK$31:$CV$31)","v":0},null,0,0,0,0,0,0,0,0,0,0,0,0,{"$f":"SUM($CY$31:$DJ$31)","v":0},null,0,0,0,0,0,0,0,0,0,0,0,0,{"$f":"SUM($DM$31:$DX$31)","v":0},null,0,0,0,0,0,0,0,0,0,0,0,0,{"$f":"SUM($EA$31:$EL$31)","v":0},null,0,0,0,0,0,0,0,0,0,0,0,0,{"$f":"SUM($EO$31:$EZ$31)","v":0},null,0,0,0,0,0,0,0,0,0,0,0,0,{"$f":"SUM($FC$31:$FN$31)","v":0}]
["AR",null,null,"R",null,null,null,null,null,null,null,null,null,null,null,null,{"$f":"SUM($E$32:$P$32)","v":0},null,null,null,null,null,null,null,null,null,null,null,null,null,{"$f":"SUM($S$32:$AD$32)","v":0},null,null,null,null,null,null,null,null,null,null,null,null,null,{"$f":"SUM($AG$32:$AR$32)","v":0},null,null,null,null,null,null,null,null,null,null,null,null,null,{"$f":"SUM($AU$32:$BF$32)","v":0},null,null,null,null,null,null,null,null,null,null,null,null,null,{"$f":"SUM($BI$32:$BT$32)","v":0},null,null,null,null,null,null,null,null,null,null,null,null,null,{"$f":"SUM($BW$32:$CH$32)","v":0},null,null,null,null,null,null,null,null,null,null,null,null,null,{"$f":"SUM($CK$32:$CV$32)","v":0},null,null,null,null,null,null,null,null,null,null,null,null,null,{"$f":"SUM($CY$32:$DJ$32)","v":0},null,null,null,null,null,null,null,null,null,null,null,null,null,{"$f":"SUM($DM$32:$DX$32)","v":0},null,null,null,null,null,null,null,null,null,null,null,null,null,{"$f":"SUM($EA$32:$EL$32)","v":0},null,null,null,null,null,null,null,null,null,null,null,null,null,{"$f":"SUM($EO$32:$EZ$32)","v":0},null,null,null,null,null,null,null,null,null,null,null,null,null,{"$f":"SUM($FC$32:$FN$32)","v":0}]
["BP",null,"B","P",0,0,0,0,0,0,0,0,0,0,0,0,{"$f":"SUM($E$33:$P$33)","v":0},null,0,0,0,0,0,0,0,0,0,0,0,0,{"$f":"SUM($S$33:$AD$33)","v":0},null,0,0,0,0,0,0,0,0,0,0,0,0,{"$f":"SUM($AG$33:$AR$33)","v":0},null,0,0,0,0,0,0,0,0,0,0,0,0,{"$f":"SUM($AU$33:$BF$33)","v":0},null,0,0,0,0,0,0,0,0,0,0,0,0,{"$f":"SUM($BI$33:$BT$33)","v":0},null,0,0,0,0,0,0,0,0,0,0,0,0,{"$f":"SUM($BW$33:$CH$33)","v":0},null,0,0,0,0,0,0,0,0,0,0,0,0,{"$f":"SUM($CK$33:$CV$33)","v":0},null,0,0,0,0,0,0,0,0,0,0,0,0,{"$f":"SUM($CY$33:$DJ$33)","v":0},null,0,0,0,0,0,0,0,0,0,0,0,0,{"$f":"SUM($DM$33:$DX$33)","v":0},null,0,0,0,0,0,0,0,0,0,0,0,0,{"$f":"SUM($EA$33:$EL$33)","v":0},null,0,0,0,0,0,0,0,0,0,0,0,0,{"$f":"SUM($EO$33:$EZ$33)","v":0},null,0,0,0,0,0,0,0,0,0,0,0,0,{"$f":"SUM($FC$33:$FN$33)","v":0}]
["BR",null,null,"R",null,null,null,null,null,null,null,null,null,null,null,null,{"$f":"SUM($E$34:$P$34)","v":0},null,null,null,null,null,null,null,null,null,null,null,null,null,{"$f":"SUM($S$34:$AD$34)","v":0},null,null,null,null,null,null,null,null,null,null,null,null,null,{"$f":"SUM($AG$34:$AR$34)","v":0},null,null,null,null,null,null,null,null,null,null,null,null,null,{"$f":"SUM($AU$34:$BF$34)","v":0},null,null,null,null,null,null,null,null,null,null,null,null,null,{"$f":"SUM($BI$34:$BT$34)","v":0},null,null,null,null,null,null,null,null,null,null,null,null,null,{"$f":"SUM($BW$34:$CH$34)","v":0},null,null,null,null,null,null,null,null,null,null,null,null,null,{"$f":"SUM($CK$34:$CV$34)","v":0},null,null,null,null,null,null,null,null,null,null,null,null,null,{"$f":"SUM($CY$34:$DJ$34)","v":0},null,null,null,null,null,null,null,null,null,null,null,null,null,{"$f":"SUM($DM$34:$DX$34)","v":0},null,null,null,null,null,null,null,null,null,null,null,null,null,{"$f":"SUM($EA$34:$EL$34)","v":0},null,null,null,null,null,null,null,null,null,null,null,null,null,{"$f":"SUM($EO$34:$EZ$34)","v":0},null,null,null,null,null,null,null,null,null,null,null,null,null,{"$f":"SUM($FC$34:$FN$34)","v":0}]
["CP",null,"C","P",0,0,0,0,0,0,0,0,0,0,0,0,{"$f":"SUM($E$35:$P$35)","v":0},null,0,0,0,0,0,0,0,0,0,0,0,0,{"$f":"SUM($S$35:$AD$35)","v":0},null,0,0,0,0,0,0,0,0,0,0,0,0,{"$f":"SUM($AG$35:$AR$35)","v":0},null,0,0,0,0,0,0,0,0,0,0,0,0,{"$f":"SUM($AU$35:$BF$35)","v":0},null,0,0,0,0,0,0,0,0,0,0,0,0,{"$f":"SUM($BI$35:$BT$35)","v":0},null,0,0,0,0,0,0,0,0,0,0,0,0,{"$f":"SUM($BW$35:$CH$35)","v":0},null,0,0,0,0,0,0,0,0,0,0,0,0,{"$f":"SUM($CK$35:$CV$35)","v":0},null,0,0,0,0,0,0,0,0,0,0,0,0,{"$f":"SUM($CY$35:$DJ$35)","v":0},null,0,0,0,0,0,0,0,0,0,0,0,0,{"$f":"SUM($DM$35:$DX$35)","v":0},null,0,0,0,0,0,0,0,0,0,0,0,0,{"$f":"SUM($EA$35:$EL$35)","v":0},null,0,0,0,0,0,0,0,0,0,0,0,0,{"$f":"SUM($EO$35:$EZ$35)","v":0},null,0,0,0,0,0,0,0,0,0,0,0,0,{"$f":"SUM($FC$35:$FN$35)","v":0}]
["CR",null,null,"R",null,null,null,null,null,null,null,null,null,null,null,null,{"$f":"SUM($E$36:$P$36)","v":0},null,null,null,null,null,null,null,null,null,null,null,null,null,{"$f":"SUM($S$36:$AD$36)","v":0},null,null,null,null,null,null,null,null,null,null,null,null,null,{"$f":"SUM($AG$36:$AR$36)","v":0},null,null,null,null,null,null,null,null,null,null,null,null,null,{"$f":"SUM($AU$36:$BF$36)","v":0},null,null,null,null,null,null,null,null,null,null,null,null,null,{"$f":"SUM($BI$36:$BT$36)","v":0},null,null,null,null,null,null,null,null,null,null,null,null,null,{"$f":"SUM($BW$36:$CH$36)","v":0},null,null,null,null,null,null,null,null,null,null,null,null,null,{"$f":"SUM($CK$36:$CV$36)","v":0},null,null,null,null,null,null,null,null,null,null,null,null,null,{"$f":"SUM($CY$36:$DJ$36)","v":0},null,null,null,null,null,null,null,null,null,null,null,null,null,{"$f":"SUM($DM$36:$DX$36)","v":0},null,null,null,null,null,null,null,null,null,null,null,null,null,{"$f":"SUM($EA$36:$EL$36)","v":0},null,null,null,null,null,null,null,null,null,null,null,null,null,{"$f":"SUM($EO$36:$EZ$36)","v":0},null,null,null,null,null,null,null,null,null,null,null,null,null,{"$f":"SUM($FC$36:$FN$36)","v":0}]
["DP",null,"D","P",0,0,0,0,0,0,0,0,0,0,0,0,{"$f":"SUM($E$37:$P$37)","v":0},null,0,0,0,0,0,0,0,0,0,0,0,0,{"$f":"SUM($S$37:$AD$37)","v":0},null,0,0,0,0,0,0,0,0,0,0,0,0,{"$f":"SUM($AG$37:$AR$37)","v":0},null,0,0,0,0,0,0,0,0,0,0,0,0,{"$f":"SUM($AU$37:$BF$37)","v":0},null,0,0,0,0,0,0,0,0,0,0,0,0,{"$f":"SUM($BI$37:$BT$37)","v":0},null,0,0,0,0,0,0,0,0,0,0,0,0,{"$f":"SUM($BW$37:$CH$37)","v":0},null,0,0,0,0,0,0,0,0,0,0,0,0,{"$f":"SUM($CK$37:$CV$37)","v":0},null,0,0,0,0,0,0,0,0,0,0,0,0,{"$f":"SUM($CY$37:$DJ$37)","v":0},null,0,0,0,0,0,0,0,0,0,0,0,0,{"$f":"SUM($DM$37:$DX$37)","v":0},null,0,0,0,0,0,0,0,0,0,0,0,0,{"$f":"SUM($EA$37:$EL$37)","v":0},null,0,0,0,0,0,0,0,0,0,0,0,0,{"$f":"SUM($EO$37:$EZ$37)","v":0},null,0,0,0,0,0,0,0,0,0,0,0,0,{"$f":"SUM($FC$37:$FN$37)","v":0}]
["DR",null,null,"R",null,null,null,null,null,null,null,null,null,null,null,null,{"$f":"SUM($E$38:$P$38)","v":0},null,null,null,null,null,null,null,null,null,null,null,null,null,{"$f":"SUM($S$38:$AD$38)","v":0},null,null,null,null,null,null,null,null,null,null,null,null,null,{"$f":"SUM($AG$38:$AR$38)","v":0},null,null,null,null,null,null,null,null,null,null,null,null,null,{"$f":"SUM($AU$38:$BF$38)","v":0},null,null,null,null,null,null,null,null,null,null,null,null,null,{"$f":"SUM($BI$38:$BT$38)","v":0},null,null,null,null,null,null,null,null,null,null,null,null,null,{"$f":"SUM($BW$38:$CH$38)","v":0},null,null,null,null,null,null,null,null,null,null,null,null,null,{"$f":"SUM($CK$38:$CV$38)","v":0},null,null,null,null,null,null,null,null,null,null,null,null,null,{"$f":"SUM($CY$38:$DJ$38)","v":0},null,null,null,null,null,null,null,null,null,null,null,null,null,{"$f":"SUM($DM$38:$DX$38)","v":0},null,null,null,null,null,null,null,null,null,null,null,null,null,{"$f":"SUM($EA$38:$EL$38)","v":0},null,null,null,null,null,null,null,null,null,null,null,null,null,{"$f":"SUM($EO$38:$EZ$38)","v":0},null,null,null,null,null,null,null,null,null,null,null,null,null,{"$f":"SUM($FC$38:$FN$38)","v":0}]
["EP",null,"E","P",0,0,0,0,0,0,0,0,0,0,0,0,{"$f":"SUM($E$39:$P$39)","v":0},null,0,0,0,0,0,0,0,0,0,0,0,0,{"$f":"SUM($S$39:$AD$39)","v":0},null,0,0,0,0,0,0,0,0,0,0,0,0,{"$f":"SUM($AG$39:$AR$39)","v":0},null,0,0,0,0,0,0,0,0,0,0,0,0,{"$f":"SUM($AU$39:$BF$39)","v":0},null,0,0,0,0,0,0,0,0,0,0,0,0,{"$f":"SUM($BI$39:$BT$39)","v":0},null,0,0,0,0,0,0,0,0,0,0,0,0,{"$f":"SUM($BW$39:$CH$39)","v":0},null,0,0,0,0,0,0,0,0,0,0,0,0,{"$f":"SUM($CK$39:$CV$39)","v":0},null,0,0,0,0,0,0,0,0,0,0,0,0,{"$f":"SUM($CY$39:$DJ$39)","v":0},null,0,0,0,0,0,0,0,0,0,0,0,0,{"$f":"SUM($DM$39:$DX$39)","v":0},null,0,0,0,0,0,0,0,0,0,0,0,0,{"$f":"SUM($EA$39:$EL$39)","v":0},null,0,0,0,0,0,0,0,0,0,0,0,0,{"$f":"SUM($EO$39:$EZ$39)","v":0},null,0,0,0,0,0,0,0,0,0,0,0,0,{"$f":"SUM($FC$39:$FN$39)","v":0}]
["ER",null,null,"R",null,null,null,null,null,null,null,null,null,null,null,null,{"$f":"SUM($E$40:$P$40)","v":0},null,null,null,null,null,null,null,null,null,null,null,null,null,{"$f":"SUM($S$40:$AD$40)","v":0},null,null,null,null,null,null,null,null,null,null,null,null,null,{"$f":"SUM($AG$40:$AR$40)","v":0},null,null,null,null,null,null,null,null,null,null,null,null,null,{"$f":"SUM($AU$40:$BF$40)","v":0},null,null,null,null,null,null,null,null,null,null,null,null,null,{"$f":"SUM($BI$40:$BT$40)","v":0},null,null,null,null,null,null,null,null,null,null,null,null,null,{"$f":"SUM($BW$40:$CH$40)","v":0},null,null,null,null,null,null,null,null,null,null,null,null,null,{"$f":"SUM($CK$40:$CV$40)","v":0},null,null,null,null,null,null,null,null,null,null,null,null,null,{"$f":"SUM($CY$40:$DJ$40)","v":0},null,null,null,null,null,null,null,null,null,null,null,null,null,{"$f":"SUM($DM$40:$DX$40)","v":0},null,null,null,null,null,null,null,null,null,null,null,null,null,{"$f":"SUM($EA$40:$EL$40)","v":0},null,null,null,null,null,null,null,null,null,null,null,null,null,{"$f":"SUM($EO$40:$EZ$40)","v":0},null,null,null,null,null,null,null,null,null,null,null,null,null,{"$f":"SUM($FC$40:$FN$40)","v":0}]
[{"$f":"C41&D41","v":"FP"},null,"F","P",0,0,0,0,0,0,0,0,0,0,0,0,{"$f":"SUM($E$41:$P$41)","v":0},null,0,0,0,0,0,0,0,0,0,0,0,0,{"$f":"SUM($S$41:$AD$41)","v":0},null,0,0,0,0,0,0,0,0,0,0,0,0,{"$f":"SUM($AG$41:$AR$41)","v":0},null,0,0,0,0,0,0,0,0,0,0,0,0,{"$f":"SUM($AU$41:$BF$41)","v":0},null,0,0,0,0,0,0,0,0,0,0,0,0,{"$f":"SUM($BI$41:$BT$41)","v":0},null,0,0,0,0,0,0,0,0,0,0,0,0,{"$f":"SUM($BW$41:$CH$41)","v":0},null,0,0,0,0,0,0,0,0,0,0,0,0,{"$f":"SUM($CK$41:$CV$41)","v":0},null,0,0,0,0,0,0,0,0,0,0,0,0,{"$f":"SUM($CY$41:$DJ$41)","v":0},null,0,0,0,0,0,0,0,0,0,0,0,0,{"$f":"SUM($DM$41:$DX$41)","v":0},null,0,0,0,0,0,0,0,0,0,0,0,0,{"$f":"SUM($EA$41:$EL$41)","v":0},null,0,0,0,0,0,0,0,0,0,0,0,0,{"$f":"SUM($EO$41:$EZ$41)","v":0},null,0,0,0,0,0,0,0,0,0,0,0,0,{"$f":"SUM($FC$41:$FN$41)","v":0}]
[{"$f":"C41&D42","v":"FR"},null,null,"R",null,null,null,null,null,null,null,null,null,null,null,null,{"$f":"SUM($E$42:$P$42)","v":0},null,null,null,null,null,null,null,null,null,null,null,null,null,{"$f":"SUM($S$42:$AD$42)","v":0},null,null,null,null,null,null,null,null,null,null,null,null,null,{"$f":"SUM($AG$42:$AR$42)","v":0},null,null,null,null,null,null,null,null,null,null,null,null,null,{"$f":"SUM($AU$42:$BF$42)","v":0},null,null,null,null,null,null,null,null,null,null,null,null,null,{"$f":"SUM($BI$42:$BT$42)","v":0},null,null,null,null,null,null,null,null,null,null,null,null,null,{"$f":"SUM($BW$42:$CH$42)","v":0},null,null,null,null,null,null,null,null,null,null,null,null,null,{"$f":"SUM($CK$42:$CV$42)","v":0},null,null,null,null,null,null,null,null,null,null,null,null,null,{"$f":"SUM($CY$42:$DJ$42)","v":0},null,null,null,null,null,null,null,null,null,null,null,null,null,{"$f":"SUM($DM$42:$DX$42)","v":0},null,null,null,null,null,null,null,null,null,null,null,null,null,{"$f":"SUM($EA$42:$EL$42)","v":0},null,null,null,null,null,null,null,null,null,null,null,null,null,{"$f":"SUM($EO$42:$EZ$42)","v":0},null,null,null,null,null,null,null,null,null,null,null,null,null,{"$f":"SUM($FC$42:$FN$42)","v":0}]
[{"$f":"C43&D43","v":"Parcela Financiamento/ CusteioP"},null,"Parcela Financiamento/ Custeio","P",0,0,0,0,0,0,0,0,0,0,0,0,{"$f":"SUM($E$43:$P$43)","v":0},null,0,0,0,0,0,0,0,0,0,0,0,0,{"$f":"SUM($S$43:$AD$43)","v":0},null,0,0,0,0,0,0,0,0,0,0,0,0,{"$f":"SUM($AG$43:$AR$43)","v":0},null,0,0,0,0,0,0,0,0,0,0,0,0,{"$f":"SUM($AU$43:$BF$43)","v":0},null,0,0,0,0,0,0,0,0,0,0,0,0,{"$f":"SUM($BI$43:$BT$43)","v":0},null,0,0,0,0,0,0,0,0,0,0,0,0,{"$f":"SUM($BW$43:$CH$43)","v":0},null,0,0,0,0,0,0,0,0,0,0,0,0,{"$f":"SUM($CK$43:$CV$43)","v":0},null,0,0,0,0,0,0,0,0,0,0,0,0,{"$f":"SUM($CY$43:$DJ$43)","v":0},null,0,0,0,0,0,0,0,0,0,0,0,0,{"$f":"SUM($DM$43:$DX$43)","v":0},null,0,0,0,0,0,0,0,0,0,0,0,0,{"$f":"SUM($EA$43:$EL$43)","v":0},null,0,0,0,0,0,0,0,0,0,0,0,0,{"$f":"SUM($EO$43:$EZ$43)","v":0},null,0,0,0,0,0,0,0,0,0,0,0,0,{"$f":"SUM($FC$43:$FN$43)","v":0}]
[{"$f":"C43&D44","v":"Parcela Financiamento/ CusteioR"},null,null,"R",null,null,null,null,null,null,null,null,null,null,null,null,{"$f":"SUM($E$44:$P$44)","v":0},null,null,null,null,null,null,null,null,null,null,null,null,null,{"$f":"SUM($S$44:$AD$44)","v":0},null,null,null,null,null,null,null,null,null,null,null,null,null,{"$f":"SUM($AG$44:$AR$44)","v":0},null,null,null,null,null,null,null,null,null,null,null,null,null,{"$f":"SUM($AU$44:$BF$44)","v":0},null,null,null,null,null,null,null,null,null,null,null,null,null,{"$f":"SUM($BI$44:$BT$44)","v":0},null,null,null,null,null,null,null,null,null,null,null,null,null,{"$f":"SUM($BW$44:$CH$44)","v":0},null,null,null,null,null,null,null,null,null,null,null,null,null,{"$f":"SUM($CK$44:$CV$44)","v":0},null,null,null,null,null,null,null,null,null,null,null,null,null,{"$f":"SUM($CY$44:$DJ$44)","v":0},null,null,null,null,null,null,null,null,null,null,null,null,null,{"$f":"SUM($DM$44:$DX$44)","v":0},null,null,null,null,null,null,null,null,null,null,null,null,null,{"$f":"SUM($EA$44:$EL$44)","v":0},null,null,null,null,null,null,null,null,null,null,null,null,null,{"$f":"SUM($EO$44:$EZ$44)","v":0},null,null,null,null,null,null,null,null,null,null,null,null,null,{"$f":"SUM($FC$44:$FN$44)","v":0}]
[{"$f":"C45&D45","v":"Total SaídasP"},null,"Total Saídas","P",{"$f":"SUMIF($D$5:$D$44,$D45,E$5:E$44)","v":0},{"$f":"SUMIF($D$5:$D$44,$D45,F$5:F$44)","v":0},{"$f":"SUMIF($D$5:$D$44,$D45,G$5:G$44)","v":0},0,0,0,0,0,0,0,0,0,0,null,{"$f":"SUMIF($D$5:$D$44,$D45,S$5:S$44)","v":0},0,0,0,0,0,0,0,0,0,0,0,0,null,{"$f":"SUMIF($D$5:$D$44,$D45,AG$5:AG$44)","v":0},0,0,0,0,0,0,0,0,0,0,0,0,null,{"$f":"SUMIF($D$5:$D$44,$D45,AU$5:AU$44)","v":0},0,0,0,0,0,0,0,0,0,0,0,0,null,{"$f":"SUMIF($D$5:$D$44,$D45,BI$5:BI$44)","v":0},0,0,0,0,0,0,0,0,0,0,0,0,null,{"$f":"SUMIF($D$5:$D$44,$D45,BW$5:BW$44)","v":0},0,0,0,0,0,0,0,0,0,0,0,0,null,{"$f":"SUMIF($D$5:$D$44,$D45,CK$5:CK$44)","v":0},0,0,0,0,0,0,0,0,0,0,0,0,null,{"$f":"SUMIF($D$5:$D$44,$D45,CY$5:CY$44)","v":0},0,0,0,0,0,0,0,0,0,0,0,0,null,{"$f":"SUMIF($D$5:$D$44,$D45,DM$5:DM$44)","v":0},0,0,0,0,0,0,0,0,0,0,0,0,null,{"$f":"SUMIF($D$5:$D$44,$D45,EA$5:EA$44)","v":0},0,0,0,0,0,0,0,0,0,0,0,0,null,{"$f":"SUMIF($D$5:$D$44,$D45,EO$5:EO$44)","v":0},0,0,0,0,0,0,0,0,0,0,0,0,null,{"$f":"SUMIF($D$5:$D$44,$D45,FC$5:FC$44)","v":0},0,0,0,0,0,0,0,0,0,0,0,0]
[{"$f":"C45&D46","v":"Total SaídasR"},null,null,"R",0,0,0,0,0,0,0,0,0,0,0,0,0,null,0,0,0,0,0,0,0,0,0,0,0,0,0,null,0,0,0,0,0,0,0,0,0,0,0,0,0,null,0,0,0,0,0,0,0,0,0,0,0,0,0,null,0,0,0,0,0,0,0,0,0,0,0,0,0,null,0,0,0,0,0,0,0,0,0,0,0,0,0,null,0,0,0,0,0,0,0,0,0,0,0,0,0,null,0,0,0,0,0,0,0,0,0,0,0,0,0,null,0,0,0,0,0,0,0,0,0,0,0,0,0,null,0,0,0,0,0,0,0,0,0,0,0,0,0,null,0,0,0,0,0,0,0,0,0,0,0,0,0,null,0,0,0,0,0,0,0,0,0,0,0,0,0]
[{"$f":"C47&D47","v":""}]
[{"$f":"C47&D48","v":""}]
[{"$f":"C49&D49","v":"Venda grãosP"},"Entrada de Caixa","Venda grãos","P",0,0,0,0,0,0,0,0,0,0,0,0,{"$f":"SUM($E$49:$P$49)","v":0},null,0,0,0,0,0,0,0,0,0,0,0,0,{"$f":"SUM($S$49:$AD$49)","v":0},null,0,0,0,0,0,0,0,0,0,0,0,0,{"$f":"SUM($AG$49:$AR$49)","v":0},null,0,0,0,0,0,0,0,0,0,0,0,0,{"$f":"SUM($AU$49:$BF$49)","v":0},null,0,0,0,0,0,0,0,0,0,0,0,0,{"$f":"SUM($BI$49:$BT$49)","v":0},null,0,0,0,0,0,0,0,0,0,0,0,0,{"$f":"SUM($BW$49:$CH$49)","v":0},null,0,0,0,0,0,0,0,0,0,0,0,0,{"$f":"SUM($CK$49:$CV$49)","v":0},null,0,0,0,0,0,0,0,0,0,0,0,0,{"$f":"SUM($CY$49:$DJ$49)","v":0},null,0,0,0,0,0,0,0,0,0,0,0,0,{"$f":"SUM($DM$49:$DX$49)","v":0},null,0,0,0,0,0,0,0,0,0,0,0,0,{"$f":"SUM($EA$49:$EL$49)","v":0},null,0,0,0,0,0,0,0,0,0,0,0,0,{"$f":"SUM($EO$49:$EZ$49)","v":0},null,0,0,0,0,0,0,0,0,0,0,0,0,{"$f":"SUM($FC$49:$FN$49)","v":0}]
[{"$f":"C49&D50","v":"Venda grãosR"},null,null,"R",null,null,null,null,null,null,null,null,null,null,null,null,{"$f":"SUM($E$50:$P$50)","v":0},null,null,null,null,null,null,null,null,null,null,null,null,null,{"$f":"SUM($S$50:$AD$50)","v":0},null,null,null,null,null,null,null,null,null,null,null,null,null,{"$f":"SUM($AG$50:$AR$50)","v":0},null,null,null,null,null,null,null,null,null,null,null,null,null,{"$f":"SUM($AU$50:$BF$50)","v":0},null,null,null,null,null,null,null,null,null,null,null,null,null,{"$f":"SUM($BI$50:$BT$50)","v":0},null,null,null,null,null,null,null,null,null,null,null,null,null,{"$f":"SUM($BW$50:$CH$50)","v":0},null,null,null,null,null,null,null,null,null,null,null,null,null,{"$f":"SUM($CK$50:$CV$50)","v":0},null,null,null,null,null,null,null,null,null,null,null,null,null,{"$f":"SUM($CY$50:$DJ$50)","v":0},null,null,null,null,null,null,null,null,null,null,null,null,null,{"$f":"SUM($DM$50:$DX$50)","v":0},null,null,null,null,null,null,null,null,null,null,null,null,null,{"$f":"SUM($EA$50:$EL$50)","v":0},null,null,null,null,null,null,null,null,null,null,null,null,null,{"$f":"SUM($EO$50:$EZ$50)","v":0},null,null,null,null,null,null,null,null,null,null,null,null,null,{"$f":"SUM($FC$50:$FN$50)","v":0}]
[{"$f":"C51&D51","v":"AP"},null,"A","P",0,0,0,0,0,0,0,0,0,0,0,0,{"$f":"SUM($E$51:$P$51)","v":0},null,0,0,0,0,0,0,0,0,0,0,0,0,{"$f":"SUM($S$51:$AD$51)","v":0},null,0,0,0,0,0,0,0,0,0,0,0,0,{"$f":"SUM($AG$51:$AR$51)","v":0},null,0,0,0,0,0,0,0,0,0,0,0,0,{"$f":"SUM($AU$51:$BF$51)","v":0},null,0,0,0,0,0,0,0,0,0,0,0,0,{"$f":"SUM($BI$51:$BT$51)","v":0},null,0,0,0,0,0,0,0,0,0,0,0,0,{"$f":"SUM($BW$51:$CH$51)","v":0},null,0,0,0,0,0,0,0,0,0,0,0,0,{"$f":"SUM($CK$51:$CV$51)","v":0},null,0,0,0,0,0,0,0,0,0,0,0,0,{"$f":"SUM($CY$51:$DJ$51)","v":0},null,0,0,0,0,0,0,0,0,0,0,0,0,{"$f":"SUM($DM$51:$DX$51)","v":0},null,0,0,0,0,0,0,0,0,0,0,0,0,{"$f":"SUM($EA$51:$EL$51)","v":0},null,0,0,0,0,0,0,0,0,0,0,0,0,{"$f":"SUM($EO$51:$EZ$51)","v":0},null,0,0,0,0,0,0,0,0,0,0,0,0,{"$f":"SUM($FC$51:$FN$51)","v":0}]
[{"$f":"C51&D52","v":"AR"},null,null,"R",null,null,null,null,null,null,null,null,null,null,null,null,{"$f":"SUM($E$52:$P$52)","v":0},null,null,null,null,null,null,null,null,null,null,null,null,null,{"$f":"SUM($S$52:$AD$52)","v":0},null,null,null,null,null,null,null,null,null,null,null,null,null,{"$f":"SUM($AG$52:$AR$52)","v":0},null,null,null,null,null,null,null,null,null,null,null,null,null,{"$f":"SUM($AU$52:$BF$52)","v":0},null,null,null,null,null,null,null,null,null,null,null,null,null,{"$f":"SUM($BI$52:$BT$52)","v":0},null,null,null,null,null,null,null,null,null,null,null,null,null,{"$f":"SUM($BW$52:$CH$52)","v":0},null,null,null,null,null,null,null,null,null,null,null,null,null,{"$f":"SUM($CK$52:$CV$52)","v":0},null,null,null,null,null,null,null,null,null,null,null,null,null,{"$f":"SUM($CY$52:$DJ$52)","v":0},null,null,null,null,null,null,null,null,null,null,null,null,null,{"$f":"SUM($DM$52:$DX$52)","v":0},null,null,null,null,null,null,null,null,null,null,null,null,null,{"$f":"SUM($EA$52:$EL$52)","v":0},null,null,null,null,null,null,null,null,null,null,null,null,null,{"$f":"SUM($EO$52:$EZ$52)","v":0},null,null,null,null,null,null,null,null,null,null,null,null,null,{"$f":"SUM($FC$52:$FN$52)","v":0}]
[{"$f":"C53&D53","v":"BP"},null,"B","P",0,0,0,0,0,0,0,0,0,0,0,0,{"$f":"SUM($E$53:$P$53)","v":0},null,0,0,0,0,0,0,0,0,0,0,0,0,{"$f":"SUM($S$53:$AD$53)","v":0},null,0,0,0,0,0,0,0,0,0,0,0,0,{"$f":"SUM($AG$53:$AR$53)","v":0},null,0,0,0,0,0,0,0,0,0,0,0,0,{"$f":"SUM($AU$53:$BF$53)","v":0},null,0,0,0,0,0,0,0,0,0,0,0,0,{"$f":"SUM($BI$53:$BT$53)","v":0},null,0,0,0,0,0,0,0,0,0,0,0,0,{"$f":"SUM($BW$53:$CH$53)","v":0},null,0,0,0,0,0,0,0,0,0,0,0,0,{"$f":"SUM($CK$53:$CV$53)","v":0},null,0,0,0,0,0,0,0,0,0,0,0,0,{"$f":"SUM($CY$53:$DJ$53)","v":0},null,0,0,0,0,0,0,0,0,0,0,0,0,{"$f":"SUM($DM$53:$DX$53)","v":0},null,0,0,0,0,0,0,0,0,0,0,0,0,{"$f":"SUM($EA$53:$EL$53)","v":0},null,0,0,0,0,0,0,0,0,0,0,0,0,{"$f":"SUM($EO$53:$EZ$53)","v":0},null,0,0,0,0,0,0,0,0,0,0,0,0,{"$f":"SUM($FC$53:$FN$53)","v":0}]
[{"$f":"C53&D54","v":"BR"},null,null,"R",null,null,null,null,null,null,null,null,null,null,null,null,{"$f":"SUM($E$54:$P$54)","v":0},null,null,null,null,null,null,null,null,null,null,null,null,null,{"$f":"SUM($S$54:$AD$54)","v":0},null,null,null,null,null,null,null,null,null,null,null,null,null,{"$f":"SUM($AG$54:$AR$54)","v":0},null,null,null,null,null,null,null,null,null,null,null,null,null,{"$f":"SUM($AU$54:$BF$54)","v":0},null,null,null,null,null,null,null,null,null,null,null,null,null,{"$f":"SUM($BI$54:$BT$54)","v":0},null,null,null,null,null,null,null,null,null,null,null,null,null,{"$f":"SUM($BW$54:$CH$54)","v":0},null,null,null,null,null,null,null,null,null,null,null,null,null,{"$f":"SUM($CK$54:$CV$54)","v":0},null,null,null,null,null,null,null,null,null,null,null,null,null,{"$f":"SUM($CY$54:$DJ$54)","v":0},null,null,null,null,null,null,null,null,null,null,null,null,null,{"$f":"SUM($DM$54:$DX$54)","v":0},null,null,null,null,null,null,null,null,null,null,null,null,null,{"$f":"SUM($EA$54:$EL$54)","v":0},null,null,null,null,null,null,null,null,null,null,null,null,null,{"$f":"SUM($EO$54:$EZ$54)","v":0},null,null,null,null,null,null,null,null,null,null,null,null,null,{"$f":"SUM($FC$54:$FN$54)","v":0}]
[{"$f":"C55&D55","v":"Entrada de Financiamento / CusteioP"},null,"Entrada de Financiamento / Custeio","P",0,0,0,0,0,0,0,0,0,0,0,0,{"$f":"SUM($E$55:$P$55)","v":0},null,0,0,0,0,0,0,0,0,0,0,0,0,{"$f":"SUM($S$55:$AD$55)","v":0},null,0,0,0,0,0,0,0,0,0,0,0,0,{"$f":"SUM($AG$55:$AR$55)","v":0},null,0,0,0,0,0,0,0,0,0,0,0,0,{"$f":"SUM($AU$55:$BF$55)","v":0},null,0,0,0,0,0,0,0,0,0,0,0,0,{"$f":"SUM($BI$55:$BT$55)","v":0},null,0,0,0,0,0,0,0,0,0,0,0,0,{"$f":"SUM($BW$55:$CH$55)","v":0},null,0,0,0,0,0,0,0,0,0,0,0,0,{"$f":"SUM($CK$55:$CV$55)","v":0},null,0,0,0,0,0,0,0,0,0,0,0,0,{"$f":"SUM($CY$55:$DJ$55)","v":0},null,0,0,0,0,0,0,0,0,0,0,0,0,{"$f":"SUM($DM$55:$DX$55)","v":0},null,0,0,0,0,0,0,0,0,0,0,0,0,{"$f":"SUM($EA$55:$EL$55)","v":0},null,0,0,0,0,0,0,0,0,0,0,0,0,{"$f":"SUM($EO$55:$EZ$55)","v":0},null,0,0,0,0,0,0,0,0,0,0,0,0,{"$f":"SUM($FC$55:$FN$55)","v":0}]
[{"$f":"C55&D56","v":"Entrada de Financiamento / CusteioR"},null,null,"R",null,null,null,null,null,null,null,null,null,null,null,null,{"$f":"SUM($E$56:$P$56)","v":0},null,null,null,null,null,null,null,null,null,null,null,null,null,{"$f":"SUM($S$56:$AD$56)","v":0},null,null,null,null,null,null,null,null,null,null,null,null,null,{"$f":"SUM($AG$56:$AR$56)","v":0},null,null,null,null,null,null,null,null,null,null,null,null,null,{"$f":"SUM($AU$56:$BF$56)","v":0},null,null,null,null,null,null,null,null,null,null,null,null,null,{"$f":"SUM($BI$56:$BT$56)","v":0},null,null,null,null,null,null,null,null,null,null,null,null,null,{"$f":"SUM($BW$56:$CH$56)","v":0},null,null,null,null,null,null,null,null,null,null,null,null,null,{"$f":"SUM($CK$56:$CV$56)","v":0},null,null,null,null,null,null,null,null,null,null,null,null,null,{"$f":"SUM($CY$56:$DJ$56)","v":0},null,null,null,null,null,null,null,null,null,null,null,null,null,{"$f":"SUM($DM$56:$DX$56)","v":0},null,null,null,null,null,null,null,null,null,null,null,null,null,{"$f":"SUM($EA$56:$EL$56)","v":0},null,null,null,null,null,null,null,null,null,null,null,null,null,{"$f":"SUM($EO$56:$EZ$56)","v":0},null,null,null,null,null,null,null,null,null,null,null,null,null,{"$f":"SUM($FC$56:$FN$56)","v":0}]
[{"$f":"C57&D57","v":"Total EntradasP"},null,"Total Entradas","P",{"$f":"SUMIF($D$49:$D$56,$D57,E49:E56)","v":0},{"$f":"SUMIF($D$49:$D$56,$D57,F49:F56)","v":0},{"$f":"SUMIF($D$49:$D$56,$D57,G49:G56)","v":0},0,0,0,0,0,0,0,0,0,0,null,{"$f":"SUMIF($D$49:$D$56,$D57,S49:S56)","v":0},{"$f":"SUMIF($D$49:$D$56,$D57,T49:T56)","v":0},{"$f":"SUMIF($D$49:$D$56,$D57,U49:U56)","v":0},0,0,0,0,0,0,0,0,0,0,null,{"$f":"SUMIF($D$49:$D$56,$D57,AG49:AG56)","v":0},{"$f":"SUMIF($D$49:$D$56,$D57,AH49:AH56)","v":0},{"$f":"SUMIF($D$49:$D$56,$D57,AI49:AI56)","v":0},0,0,0,0,0,0,0,0,0,0,null,{"$f":"SUMIF($D$49:$D$56,$D57,AU49:AU56)","v":0},{"$f":"SUMIF($D$49:$D$56,$D57,AV49:AV56)","v":0},{"$f":"SUMIF($D$49:$D$56,$D57,AW49:AW56)","v":0},0,0,0,0,0,0,0,0,0,0,null,{"$f":"SUMIF($D$49:$D$56,$D57,BI49:BI56)","v":0},{"$f":"SUMIF($D$49:$D$56,$D57,BJ49:BJ56)","v":0},{"$f":"SUMIF($D$49:$D$56,$D57,BK49:BK56)","v":0},0,0,0,0,0,0,0,0,0,0,null,{"$f":"SUMIF($D$49:$D$56,$D57,BW49:BW56)","v":0},{"$f":"SUMIF($D$49:$D$56,$D57,BX49:BX56)","v":0},{"$f":"SUMIF($D$49:$D$56,$D57,BY49:BY56)","v":0},0,0,0,0,0,0,0,0,0,0,null,{"$f":"SUMIF($D$49:$D$56,$D57,CK49:CK56)","v":0},{"$f":"SUMIF($D$49:$D$56,$D57,CL49:CL56)","v":0},{"$f":"SUMIF($D$49:$D$56,$D57,CM49:CM56)","v":0},0,0,0,0,0,0,0,0,0,0,null,{"$f":"SUMIF($D$49:$D$56,$D57,CY49:CY56)","v":0},{"$f":"SUMIF($D$49:$D$56,$D57,CZ49:CZ56)","v":0},{"$f":"SUMIF($D$49:$D$56,$D57,DA49:DA56)","v":0},0,0,0,0,0,0,0,0,0,0,null,{"$f":"SUMIF($D$49:$D$56,$D57,DM49:DM56)","v":0},{"$f":"SUMIF($D$49:$D$56,$D57,DN49:DN56)","v":0},{"$f":"SUMIF($D$49:$D$56,$D57,DO49:DO56)","v":0},0,0,0,0,0,0,0,0,0,0,null,{"$f":"SUMIF($D$49:$D$56,$D57,EA49:EA56)","v":0},{"$f":"SUMIF($D$49:$D$56,$D57,EB49:EB56)","v":0},{"$f":"SUMIF($D$49:$D$56,$D57,EC49:EC56)","v":0},0,0,0,0,0,0,0,0,0,0,null,{"$f":"SUMIF($D$49:$D$56,$D57,EO49:EO56)","v":0},{"$f":"SUMIF($D$49:$D$56,$D57,EP49:EP56)","v":0},{"$f":"SUMIF($D$49:$D$56,$D57,EQ49:EQ56)","v":0},0,0,0,0,0,0,0,0,0,0,null,{"$f":"SUMIF($D$49:$D$56,$D57,FC49:FC56)","v":0},{"$f":"SUMIF($D$49:$D$56,$D57,FD49:FD56)","v":0},{"$f":"SUMIF($D$49:$D$56,$D57,FE49:FE56)","v":0},0,0,0,0,0,0,0,0,0,0]
[{"$f":"C57&D58","v":"Total EntradasR"},null,null,"R",{"$f":"SUMIF($D$49:$D$56,$D58,E$49:E$56)","v":0},{"$f":"SUMIF($D$49:$D$56,$D58,F$49:F$56)","v":0},0,0,0,0,0,0,0,0,0,0,0,null,{"$f":"SUMIF($D$49:$D$56,$D58,S$49:S$56)","v":0},{"$f":"SUMIF($D$49:$D$56,$D58,T$49:T$56)","v":0},0,0,0,0,0,0,0,0,0,0,0,null,{"$f":"SUMIF($D$49:$D$56,$D58,AG$49:AG$56)","v":0},{"$f":"SUMIF($D$49:$D$56,$D58,AH$49:AH$56)","v":0},0,0,0,0,0,0,0,0,0,0,0,null,{"$f":"SUMIF($D$49:$D$56,$D58,AU$49:AU$56)","v":0},{"$f":"SUMIF($D$49:$D$56,$D58,AV$49:AV$56)","v":0},0,0,0,0,0,0,0,0,0,0,0,null,{"$f":"SUMIF($D$49:$D$56,$D58,BI$49:BI$56)","v":0},{"$f":"SUMIF($D$49:$D$56,$D58,BJ$49:BJ$56)","v":0},0,0,0,0,0,0,0,0,0,0,0,null,{"$f":"SUMIF($D$49:$D$56,$D58,BW$49:BW$56)","v":0},{"$f":"SUMIF($D$49:$D$56,$D58,BX$49:BX$56)","v":0},0,0,0,0,0,0,0,0,0,0,0,null,{"$f":"SUMIF($D$49:$D$56,$D58,CK$49:CK$56)","v":0},{"$f":"SUMIF($D$49:$D$56,$D58,CL$49:CL$56)","v":0},0,0,0,0,0,0,0,0,0,0,0,null,{"$f":"SUMIF($D$49:$D$56,$D58,CY$49:CY$56)","v":0},{"$f":"SUMIF($D$49:$D$56,$D58,CZ$49:CZ$56)","v":0},0,0,0,0,0,0,0,0,0,0,0,null,{"$f":"SUMIF($D$49:$D$56,$D58,DM$49:DM$56)","v":0},{"$f":"SUMIF($D$49:$D$56,$D58,DN$49:DN$56)","v":0},0,0,0,0,0,0,0,0,0,0,0,null,{"$f":"SUMIF($D$49:$D$56,$D58,EA$49:EA$56)","v":0},{"$f":"SUMIF($D$49:$D$56,$D58,EB$49:EB$56)","v":0},0,0,0,0,0,0,0,0,0,0,0,null,{"$f":"SUMIF($D$49:$D$56,$D58,EO$49:EO$56)","v":0},{"$f":"SUMIF($D$49:$D$56,$D58,EP$49:EP$56)","v":0},0,0,0,0,0,0,0,0,0,0,0,null,{"$f":"SUMIF($D$49:$D$56,$D58,FC$49:FC$56)","v":0},{"$f":"SUMIF($D$49:$D$56,$D58,FD$49:FD$56)","v":0},0,0,0,0,0,0,0,0,0,0,0]
[{"$f":"C59&D59","v":""}]
[{"$f":"C59&D60","v":""},"Saldo de Exercícios Anteriores"]
[{"$f":"B61&D61","v":"Saldo de Caixa MensalP"},"Saldo de Caixa Mensal",null,"P",{"$f":"E57-E45","v":0},0,0,0,0,0,0,0,0,0,0,0,0,null,{"$f":"S57-S45","v":0},0,0,0,0,0,0,0,0,0,0,0,0,null,{"$f":"AG57-AG45","v":0},0,0,0,0,0,0,0,0,0,0,0,0,null,{"$f":"AU57-AU45","v":0},0,0,0,0,0,0,0,0,0,0,0,0,null,{"$f":"BI57-BI45","v":0},0,0,0,0,0,0,0,0,0,0,0,0,null,{"$f":"BW57-BW45","v":0},0,0,0,0,0,0,0,0,0,0,0,0,null,{"$f":"CK57-CK45","v":0},0,0,0,0,0,0,0,0,0,0,0,0,null,{"$f":"CY57-CY45","v":0},0,0,0,0,0,0,0,0,0,0,0,0,null,{"$f":"DM57-DM45","v":0},0,0,0,0,0,0,0,0,0,0,0,0,null,{"$f":"EA57-EA45","v":0},0,0,0,0,0,0,0,0,0,0,0,0,null,{"$f":"EO57-EO45","v":0},0,0,0,0,0,0,0,0,0,0,0,0,null,{"$f":"FC57-FC45","v":0},0,0,0,0,0,0,0,0,0,0,0,0]
[{"$f":"B61&D62","v":"Saldo de Caixa MensalR"},null,null,"R",{"$f":"E58-E46","v":0},0,0,0,0,0,0,0,0,0,0,0,0,null,{"$f":"S58-S46","v":0},0,0,0,0,0,0,0,0,0,0,0,0,null,{"$f":"AG58-AG46","v":0},0,0,0,0,0,0,0,0,0,0,0,0,null,{"$f":"AU58-AU46","v":0},0,0,0,0,0,0,0,0,0,0,0,0,null,{"$f":"BI58-BI46","v":0},0,0,0,0,0,0,0,0,0,0,0,0,null,{"$f":"BW58-BW46","v":0},0,0,0,0,0,0,0,0,0,0,0,0,null,{"$f":"CK58-CK46","v":0},0,0,0,0,0,0,0,0,0,0,0,0,null,{"$f":"CY58-CY46","v":0},0,0,0,0,0,0,0,0,0,0,0,0,null,{"$f":"DM58-DM46","v":0},0,0,0,0,0,0,0,0,0,0,0,0,null,{"$f":"EA58-EA46","v":0},0,0,0,0,0,0,0,0,0,0,0,0,null,{"$f":"EO58-EO46","v":0},0,0,0,0,0,0,0,0,0,0,0,0,null,{"$f":"FC58-FC46","v":0},0,0,0,0,0,0,0,0,0,0,0,0]
[{"$f":"B63&D63","v":"Caixa AcumuladoP"},"Caixa Acumulado",null,"P",{"$f":"E61","v":0},{"$f":"F61+E63","v":0},{"$f":"G61+F63","v":0},0,0,0,{"$f":"K61+J63","v":0},0,0,0,0,0,null,null,{"$f":"S61+P63","v":0},{"$f":"T61+S63","v":0},{"$f":"U61+T63","v":0},0,0,0,0,0,0,0,0,{"$f":"AD61+AC63","v":0},null,null,{"$f":"AG61+AD63","v":0},{"$f":"AH61+AG63","v":0},{"$f":"AI61+AH63","v":0},0,0,0,0,0,0,0,0,{"$f":"AR61+AQ63","v":0},null,null,{"$f":"AU61+AR63","v":0},{"$f":"AV61+AU63","v":0},{"$f":"AW61+AV63","v":0},0,0,0,0,0,0,0,0,{"$f":"BF61+BE63","v":0},null,null,{"$f":"BI61+BF63","v":0},{"$f":"BJ61+BI63","v":0},{"$f":"BK61+BJ63","v":0},0,0,0,0,0,0,0,0,{"$f":"BT61+BS63","v":0},null,null,{"$f":"BW61+BT63","v":0},{"$f":"BX61+BW63","v":0},{"$f":"BY61+BX63","v":0},0,0,0,0,0,0,0,0,{"$f":"CH61+CG63","v":0},null,null,{"$f":"CK61+CH63","v":0},{"$f":"CL61+CK63","v":0},{"$f":"CM61+CL63","v":0},0,0,0,0,0,0,0,0,{"$f":"CV61+CU63","v":0},null,null,{"$f":"CY61+CV63","v":0},{"$f":"CZ61+CY63","v":0},{"$f":"DA61+CZ63","v":0},0,0,0,0,0,0,0,0,{"$f":"DJ61+DI63","v":0},null,null,{"$f":"DM61+DJ63","v":0},{"$f":"DN61+DM63","v":0},{"$f":"DO61+DN63","v":0},0,0,0,0,0,0,0,0,{"$f":"DX61+DW63","v":0},null,null,{"$f":"EA61+DX63","v":0},{"$f":"EB61+EA63","v":0},{"$f":"EC61+EB63","v":0},0,0,0,0,0,0,0,0,{"$f":"EL61+EK63","v":0},null,null,{"$f":"EO61+EL63","v":0},{"$f":"EP61+EO63","v":0},{"$f":"EQ61+EP63","v":0},0,0,0,0,0,0,0,0,{"$f":"EZ61+EY63","v":0},null,null,{"$f":"FC61+EZ63","v":0},{"$f":"FD61+FC63","v":0},{"$f":"FE61+FD63","v":0},0,0,0,0,0,0,0,0,{"$f":"FN61+FM63","v":0}]
[{"$f":"B63&D64","v":"Caixa AcumuladoR"},null,null,"R",{"$f":"E60+E62","v":0},{"$f":"E64+F62","v":0},{"$f":"F64+G62","v":0},0,0,0,0,0,0,0,0,0,null,null,{"$f":"S62+P64","v":0},{"$f":"T62+S64","v":0},0,0,0,0,0,0,0,0,0,0,null,null,{"$f":"AG62+AD64","v":0},{"$f":"AH62+AG64","v":0},0,0,0,0,0,0,0,0,0,0,null,null,{"$f":"AU62+AR64","v":0},{"$f":"AV62+AU64","v":0},0,0,0,0,0,0,0,0,0,0,null,null,{"$f":"BI62+BF64","v":0},{"$f":"BJ62+BI64","v":0},0,0,0,0,0,0,0,0,0,0,null,null,{"$f":"BW62+BT64","v":0},{"$f":"BX62+BW64","v":0},0,0,0,0,0,0,0,0,0,0,null,null,{"$f":"CK62+CH64","v":0},{"$f":"CL62+CK64","v":0},0,0,0,0,0,0,0,0,0,0,null,null,{"$f":"CY62+CV64","v":0},{"$f":"CZ62+CY64","v":0},0,0,0,0,0,0,0,0,0,0,null,null,{"$f":"DM62+DJ64","v":0},{"$f":"DN62+DM64","v":0},0,0,0,0,0,0,0,0,0,0,null,null,{"$f":"EA62+DX64","v":0},{"$f":"EB62+EA64","v":0},0,0,0,0,0,0,0,0,0,0,null,null,{"$f":"EO62+EL64","v":0},{"$f":"EP62+EO64","v":0},0,0,0,0,0,0,0,0,0,0,null,null,{"$f":"FC62+EZ64","v":0},{"$f":"FD62+FC64","v":0},0,0,0,0,0,0,0,0,0,0]

{"sheet":"Atividade 5","index":5,"n_rows":64,"n_cols":183,"rows_kept":64,"cut":false,"hidden":false,"merged":[[0,158,1,170],[2,130,2,142],[2,144,2,156],[2,158,2,170],[2,116,2,128],[0,116,1,128],[0,130,1,142],[0,144,1,156],[0,60,1,72],[0,74,1,86],[0,88,1,100],[0,102,1,114],[28,2,29,2],[2,60,2,72],[2,74,2,86],[2,88,2,100],[2,102,2,114],[2,4,2,16],[2,18,2,30],[2,32,2,44],[2,46,2,58],[0,4,1,16],[0,18,1,30],[0,32,1,44],[0,46,1,58],[4,1,45,1],[4,2,5,2],[6,2,7,2],[8,2,9,2],[10,2,11,2],[12,2,13,2],[14,2,15,2],[16,2,17,2],[18,2,19,2],[20,2,21,2],[22,2,23,2],[24,2,25,2],[26,2,27,2],[30,2,31,2],[42,2,43,2],[60,1,61,2],[62,1,63,2],[59,1,59,2],[44,2,45,2],[48,1,57,1],[48,2,49,2],[50,2,51,2],[54,2,55,2],[56,2,57,2],[52,2,53,2],[32,2,33,2],[34,2,35,2],[36,2,37,2],[38,2,39,2],[40,2,41,2]]}
[null,null,null,null,{"$f":"MENU!$C$29","v":"Bovinocultura de Leite"},null,null,null,null,null,null,null,null,null,null,null,null,null,{"$f":"MENU!$C$29","v":"Bovinocultura de Leite"},null,null,null,null,null,null,null,null,null,null,null,null,null,{"$f":"MENU!$C$29","v":"Bovinocultura de Leite"},null,null,null,null,null,null,null,null,null,null,null,null,null,{"$f":"MENU!$C$29","v":"Bovinocultura de Leite"},null,null,null,null,null,null,null,null,null,null,null,null,null,{"$f":"MENU!$C$29","v":"Bovinocultura de Leite"},null,null,null,null,null,null,null,null,null,null,null,null,null,{"$f":"MENU!$C$29","v":"Bovinocultura de Leite"},null,null,null,null,null,null,null,null,null,null,null,null,null,{"$f":"MENU!$C$29","v":"Bovinocultura de Leite"},null,null,null,null,null,null,null,null,null,null,null,null,null,{"$f":"MENU!$C$29","v":"Bovinocultura de Leite"},null,null,null,null,null,null,null,null,null,null,null,null,null,{"$f":"MENU!$C$29","v":"Bovinocultura de Leite"},null,null,null,null,null,null,null,null,null,null,null,null,null,{"$f":"MENU!$C$29","v":"Bovinocultura de Leite"},null,null,null,null,null,null,null,null,null,null,null,null,null,{"$f":"MENU!$C$29","v":"Bovinocultura de Leite"},null,null,null,null,null,null,null,null,null,null,null,null,null,{"$f":"MENU!$C$29","v":"Bovinocultura de Leite"}]
[null,null,null,null,null,null,null,null,null,null,null,null,null,null,null,null,null,null,null,null,null,null,null,null,null,null,null,null,null,null,null,null,null,null,null,null,null,null,null,null,null,null,null,null,null,null,null,null,null,null,null,null,null,null,null,null,null,null,null,null,null,null,null,null,null,null,null,null,null,null,null,null,null,null,null,null,null,null,null,null,null,null,null,null,null,null,null,null,null,null,null,null,null,null,null,null,null,null,null,null,null,null,null,null,null,null,null,null,null,null,null,null,null,null,null,null,null,null,null,null,null,null,null,null,null,null,null,null,null,null,null,null,null,null,null,null,null,null,null,null,null,null,null,null,null,null,null,null,null,null,null,null,null,null,null,null,null,null,null,null,null,null,null,null,null,null,null,null,null,null,null,null,null,null,null,null,null,null,6,1,{"$f":"VLOOKUP(FX2,FX3:FY14,2,0)","v":2017},{"$f":"VLOOKUP(FY2,$FY$3:$FZ$14,2,0)","v":"R3C5"},6]
[null,null,null,null,{"$f":"MENU!F6","v":0},null,null,null,null,null,null,null,null,null,null,null,null,null,{"$f":"E3+1","v":1},null,null,null,null,null,null,null,null,null,null,null,null,null,{"$f":"S3+1","v":2},null,null,null,null,null,null,null,null,null,null,null,null,null,{"$f":"AG3+1","v":3},null,null,null,null,null,null,null,null,null,null,null,null,null,{"$f":"AU3+1","v":4},null,null,null,null,null,null,null,null,null,null,null,null,null,{"$f":"BI3+1","v":5},null,null,null,null,null,null,null,null,null,null,null,null,null,{"$f":"BW3+1","v":6},null,null,null,null,null,null,null,null,null,null,null,null,null,{"$f":"CK3+1","v":7},null,null,null,null,null,null,null,null,null,null,null,null,null,{"$f":"CY3+1","v":8},null,null,null,null,null,null,null,null,null,null,null,null,null,{"$f":"DM3+1","v":9},null,null,null,null,null,null,null,null,null,null,null,null,null,{"$f":"EA3+1","v":10},null,null,null,null,null,null,null,null,null,null,null,null,null,{"$f":"EO3+1","v":11},null,null,null,null,null,null,null,null,null,null,null,null,null,null,null,null,null,null,null,null,1,2017,"R3C5"]
[null,null,"Descrição de Despesa",null,"Jan","Fev","Mar","Abr","Mai","Jun","Jul","Ago","Set","Out","Nov","Dez","Total",null,"Jan","Fev","Mar","Abr","Mai","Jun","Jul","Ago","Set","Out","Nov","Dez","Total",null,"Jan","Fev","Mar","Abr","Mai","Jun","Jul","Ago","Set","Out","Nov","Dez","Total",null,"Jan","Fev","Mar","Abr","Mai","Jun","Jul","Ago","Set","Out","Nov","Dez","Total",null,"Jan","Fev","Mar","Abr","Mai","Jun","Jul","Ago","Set","Out","Nov","Dez","Total",null,"Jan","Fev","Mar","Abr","Mai","Jun","Jul","Ago","Set","Out","Nov","Dez","Total",null,"Jan","Fev","Mar","Abr","Mai","Jun","Jul","Ago","Set","Out","Nov","Dez","Total",null,"Jan","Fev","Mar","Abr","Mai","Jun","Jul","Ago","Set","Out","Nov","Dez","Total",null,"Jan","Fev","Mar","Abr","Mai","Jun","Jul","Ago","Set","Out","Nov","Dez","Total",null,"Jan","Fev","Mar","Abr","Mai","Jun","Jul","Ago","Set","Out","Nov","Dez","Total",null,"Jan","Fev","Mar","Abr","Mai","Jun","Jul","Ago","Set","Out","Nov","Dez","Total",null,"Jan","Fev","Mar","Abr","Mai","Jun","Jul","Ago","Set","Out","Nov","Dez","Total",null,null,null,null,null,null,null,null,2,2018,"R3C19"]
[{"$f":"C5&D5","v":"Mão de obra pagaP"},"Saídas de Caixa","Mão de obra paga","P",0,0,0,0,0,0,0,0,0,0,0,0,{"$f":"SUM($E$5:$P$5)","v":0},null,0,0,0,0,0,0,0,0,0,0,0,0,{"$f":"SUM($S$5:$AD$5)","v":0},null,0,0,0,0,0,0,0,0,0,0,0,0,{"$f":"SUM($AG$5:$AR$5)","v":0},null,0,0,0,0,0,0,0,0,0,0,0,0,{"$f":"SUM($AU$5:$BF$5)","v":0},null,0,0,0,0,0,0,0,0,0,0,0,0,{"$f":"SUM($BI$5:$BT$5)","v":0},null,0,0,0,0,0,0,0,0,0,0,0,0,{"$f":"SUM($BW$5:$CH$5)","v":0},null,0,0,0,0,0,0,0,0,0,0,0,0,{"$f":"SUM($CK$5:$CV$5)","v":0},null,0,0,0,0,0,0,0,0,0,0,0,0,{"$f":"SUM($CY$5:$DJ$5)","v":0},null,0,0,0,0,0,0,0,0,0,0,0,0,{"$f":"SUM($DM$5:$DX$5)","v":0},null,0,0,0,0,0,0,0,0,0,0,0,0,{"$f":"SUM($EA$5:$EL$5)","v":0},null,0,0,0,0,0,0,0,0,0,0,0,0,{"$f":"SUM($EO$5:$EZ$5)","v":0},null,0,0,0,0,0,0,0,0,0,0,0,0,{"$f":"SUM($FC$5:$FN$5)","v":0},null,null,null,null,null,null,null,null,3,2019,"R3C33"]
[{"$f":"C5&D6","v":"Mão de obra pagaR"},null,null,"R",null,null,null,null,null,null,null,null,null,null,null,null,{"$f":"SUM($E$6:$P$6)","v":0},null,null,null,null,null,null,null,null,null,null,null,null,null,{"$f":"SUM($S$6:$AD$6)","v":0},null,null,null,null,null,null,null,null,null,null,null,null,null,{"$f":"SUM($AG$6:$AR$6)","v":0},null,null,null,null,null,null,null,null,null,null,null,null,null,{"$f":"SUM($AU$6:$BF$6)","v":0},null,null,null,null,null,null,null,null,null,null,null,null,null,{"$f":"SUM($BI$6:$BT$6)","v":0},null,null,null,null,null,null,null,null,null,null,null,null,null,{"$f":"SUM($BW$6:$CH$6)","v":0},null,null,null,null,null,null,null,null,null,null,null,null,null,{"$f":"SUM($CK$6:$CV$6)","v":0},null,null,null,null,null,null,null,null,null,null,null,null,null,{"$f":"SUM($CY$6:$DJ$6)","v":0},null,null,null,null,null,null,null,null,null,null,null,null,null,{"$f":"SUM($DM$6:$DX$6)","v":0},null,null,null,null,null,null,null,null,null,null,null,null,null,{"$f":"SUM($EA$6:$EL$6)","v":0},null,null,null,null,null,null,null,null,null,null,null,null,null,{"$f":"SUM($EO$6:$EZ$6)","v":0},null,null,null,null,null,null,null,null,null,null,null,null,null,{"$f":"SUM($FC$6:$FN$6)","v":0},null,null,null,null,null,null,null,null,4,2020,"R3C47"]
[{"$f":"C7&D7","v":"Rações e SuplementosP"},null,"Rações e Suplementos","P",0,0,0,0,0,0,0,0,0,0,0,0,{"$f":"SUM($E$7:$P$7)","v":0},null,0,0,0,0,0,0,0,0,0,0,0,0,{"$f":"SUM($S$7:$AD$7)","v":0},null,0,0,0,0,0,0,0,0,0,0,0,0,{"$f":"SUM($AG$7:$AR$7)","v":0},null,0,0,0,0,0,0,0,0,0,0,0,0,{"$f":"SUM($AU$7:$BF$7)","v":0},null,0,0,0,0,0,0,0,0,0,0,0,0,{"$f":"SUM($BI$7:$BT$7)","v":0},null,0,0,0,0,0,0,0,0,0,0,0,0,{"$f":"SUM($BW$7:$CH$7)","v":0},null,0,0,0,0,0,0,0,0,0,0,0,0,{"$f":"SUM($CK$7:$CV$7)","v":0},null,0,0,0,0,0,0,0,0,0,0,0,0,{"$f":"SUM($CY$7:$DJ$7)","v":0},null,0,0,0,0,0,0,0,0,0,0,0,0,{"$f":"SUM($DM$7:$DX$7)","v":0},null,0,0,0,0,0,0,0,0,0,0,0,0,{"$f":"SUM($EA$7:$EL$7)","v":0},null,0,0,0,0,0,0,0,0,0,0,0,0,{"$f":"SUM($EO$7:$EZ$7)","v":0},null,0,0,0,0,0,0,0,0,0,0,0,0,{"$f":"SUM($FC$7:$FN$7)","v":0},null,null,null,null,null,null,null,null,5,2021,"R3C61"]
[{"$f":"C7&D8","v":"Rações e SuplementosR"},null,null,"R",null,null,null,null,null,null,null,null,null,null,null,null,{"$f":"SUM($E$8:$P$8)","v":0},null,null,null,null,null,null,null,null,null,null,null,null,null,{"$f":"SUM($S$8:$AD$8)","v":0},null,null,null,null,null,null,null,null,null,null,null,null,null,{"$f":"SUM($AG$8:$AR$8)","v":0},null,null,null,null,null,null,null,null,null,null,null,null,null,{"$f":"SUM($AU$8:$BF$8)","v":0},null,null,null,null,null,null,null,null,null,null,null,null,null,{"$f":"SUM($BI$8:$BT$8)","v":0},null,null,null,null,null,null,null,null,null,null,null,null,null,{"$f":"SUM($BW$8:$CH$8)","v":0},null,null,null,null,null,null,null,null,null,null,null,null,null,{"$f":"SUM($CK$8:$CV$8)","v":0},null,null,null,null,null,null,null,null,null,null,null,null,null,{"$f":"SUM($CY$8:$DJ$8)","v":0},null,null,null,null,null,null,null,null,null,null,null,null,null,{"$f":"SUM($DM$8:$DX$8)","v":0},null,null,null,null,null,null,null,null,null,null,null,null,null,{"$f":"SUM($EA$8:$EL$8)","v":0},null,null,null,null,null,null,null,null,null,null,null,null,null,{"$f":"SUM($EO$8:$EZ$8)","v":0},null,null,null,null,null,null,null,null,null,null,null,null,null,{"$f":"SUM($FC$8:$FN$8)","v":0},null,null,null,null,null,null,null,null,6,2022,"R3C75"]
[{"$f":"C9&D9","v":"Vacinas/ MedicamentosP"},null,"Vacinas/ Medicamentos","P",0,0,0,0,0,0,0,0,0,0,0,0,{"$f":"SUM($E$9:$P$9)","v":0},null,0,0,0,0,0,0,0,0,0,0,0,0,{"$f":"SUM($S$9:$AD$9)","v":0},null,0,0,0,0,0,0,0,0,0,0,0,0,{"$f":"SUM($AG$9:$AR$9)","v":0},null,0,0,0,0,0,0,0,0,0,0,0,0,{"$f":"SUM($AU$9:$BF$9)","v":0},null,0,0,0,0,0,0,0,0,0,0,0,0,{"$f":"SUM($BI$9:$BT$9)","v":0},null,0,0,0,0,0,0,0,0,0,0,0,0,{"$f":"SUM($BW$9:$CH$9)","v":0},null,0,0,0,0,0,0,0,0,0,0,0,0,{"$f":"SUM($CK$9:$CV$9)","v":0},null,0,0,0,0,0,0,0,0,0,0,0,0,{"$f":"SUM($CY$9:$DJ$9)","v":0},null,0,0,0,0,0,0,0,0,0,0,0,0,{"$f":"SUM($DM$9:$DX$9)","v":0},null,0,0,0,0,0,0,0,0,0,0,0,0,{"$f":"SUM($EA$9:$EL$9)","v":0},null,0,0,0,0,0,0,0,0,0,0,0,0,{"$f":"SUM($EO$9:$EZ$9)","v":0},null,0,0,0,0,0,0,0,0,0,0,0,0,{"$f":"SUM($FC$9:$FN$9)","v":0},null,null,null,null,null,null,null,null,7,2023,"R3C89"]
[{"$f":"C9&D10","v":"Vacinas/ MedicamentosR"},null,null,"R",null,null,null,null,null,null,null,null,null,null,null,null,{"$f":"SUM($E$10:$P$10)","v":0},null,null,null,null,null,null,null,null,null,null,null,null,null,{"$f":"SUM($S$10:$AD$10)","v":0},null,null,null,null,null,null,null,null,null,null,null,null,null,{"$f":"SUM($AG$10:$AR$10)","v":0},null,null,null,null,null,null,null,null,null,null,null,null,null,{"$f":"SUM($AU$10:$BF$10)","v":0},null,null,null,null,null,null,null,null,null,null,null,null,null,{"$f":"SUM($BI$10:$BT$10)","v":0},null,null,null,null,null,null,null,null,null,null,null,null,null,{"$f":"SUM($BW$10:$CH$10)","v":0},null,null,null,null,null,null,null,null,null,null,null,null,null,{"$f":"SUM($CK$10:$CV$10)","v":0},null,null,null,null,null,null,null,null,null,null,null,null,null,{"$f":"SUM($CY$10:$DJ$10)","v":0},null,null,null,null,null,null,null,null,null,null,null,null,null,{"$f":"SUM($DM$10:$DX$10)","v":0},null,null,null,null,null,null,null,null,null,null,null,null,null,{"$f":"SUM($EA$10:$EL$10)","v":0},null,null,null,null,null,null,null,null,null,null,null,null,null,{"$f":"SUM($EO$10:$EZ$10)","v":0},null,null,null,null,null,null,null,null,null,null,null,null,null,{"$f":"SUM($FC$10:$FN$10)","v":0},null,null,null,null,null,null,null,null,8,2024,"R3C103"]
[{"$f":"C11&D11","v":"Adubo químicoP"},null,"Adubo químico","P",0,0,0,0,0,0,0,0,0,0,0,0,{"$f":"SUM($E$11:$P$11)","v":0},null,0,0,0,0,0,0,0,0,0,0,0,0,{"$f":"SUM($S$11:$AD$11)","v":0},null,0,0,0,0,0,0,0,0,0,0,0,0,{"$f":"SUM($AG$11:$AR$11)","v":0},null,0,0,0,0,0,0,0,0,0,0,0,0,{"$f":"SUM($AU$11:$BF$11)","v":0},null,0,0,0,0,0,0,0,0,0,0,0,0,{"$f":"SUM($BI$11:$BT$11)","v":0},null,0,0,0,0,0,0,0,0,0,0,0,0,{"$f":"SUM($BW$11:$CH$11)","v":0},null,0,0,0,0,0,0,0,0,0,0,0,0,{"$f":"SUM($CK$11:$CV$11)","v":0},null,0,0,0,0,0,0,0,0,0,0,0,0,{"$f":"SUM($CY$11:$DJ$11)","v":0},null,0,0,0,0,0,0,0,0,0,0,0,0,{"$f":"SUM($DM$11:$DX$11)","v":0},null,0,0,0,0,0,0,0,0,0,0,0,0,{"$f":"SUM($EA$11:$EL$11)","v":0},null,0,0,0,0,0,0,0,0,0,0,0,0,{"$f":"SUM($EO$11:$EZ$11)","v":0},null,0,0,0,0,0,0,0,0,0,0,0,0,{"$f":"SUM($FC$11:$FN$11)","v":0},null,null,null,null,null,null,null,null,9,2025,"R3C117"]
[{"$f":"C11&D12","v":"Adubo químicoR"},null,null,"R",null,null,null,null,null,null,null,null,null,null,null,null,{"$f":"SUM($E$12:$P$12)","v":0},null,null,null,null,null,null,null,null,null,null,null,null,null,{"$f":"SUM($S$12:$AD$12)","v":0},null,null,null,null,null,null,null,null,null,null,null,null,null,{"$f":"SUM($AG$12:$AR$12)","v":0},null,null,null,null,null,null,null,null,null,null,null,null,null,{"$f":"SUM($AU$12:$BF$12)","v":0},null,null,null,null,null,null,null,null,null,null,null,null,null,{"$f":"SUM($BI$12:$BT$12)","v":0},null,null,null,null,null,null,null,null,null,null,null,null,null,{"$f":"SUM($BW$12:$CH$12)","v":0},null,null,null,null,null,null,null,null,null,null,null,null,null,{"$f":"SUM($CK$12:$CV$12)","v":0},null,null,null,null,null,null,null,null,null,null,null,null,null,{"$f":"SUM($CY$12:$DJ$12)","v":0},null,null,null,null,null,null,null,null,null,null,null,null,null,{"$f":"SUM($DM$12:$DX$12)","v":0},null,null,null,null,null,null,null,null,null,null,null,null,null,{"$f":"SUM($EA$12:$EL$12)","v":0},null,null,null,null,null,null,null,null,null,null,null,null,null,{"$f":"SUM($EO$12:$EZ$12)","v":0},null,null,null,null,null,null,null,null,null,null,null,null,null,{"$f":"SUM($FC$12:$FN$12)","v":0},null,null,null,null,null,null,null,null,10,2026,"R3C131"]
[{"$f":"C13&D13","v":"Adubo orgânicoP"},null,"Adubo orgânico","P",0,0,0,0,0,0,0,0,0,0,0,0,{"$f":"SUM($E$13:$P$13)","v":0},null,0,0,0,0,0,0,0,0,0,0,0,0,{"$f":"SUM($S$13:$AD$13)","v":0},null,0,0,0,0,0,0,0,0,0,0,0,0,{"$f":"SUM($AG$13:$AR$13)","v":0},null,0,0,0,0,0,0,0,0,0,0,0,0,{"$f":"SUM($AU$13:$BF$13)","v":0},null,0,0,0,0,0,0,0,0,0,0,0,0,{"$f":"SUM($BI$13:$BT$13)","v":0},null,0,0,0,0,0,0,0,0,0,0,0,0,{"$f":"SUM($BW$13:$CH$13)","v":0},null,0,0,0,0,0,0,0,0,0,0,0,0,{"$f":"SUM($CK$13:$CV$13)","v":0},null,0,0,0,0,0,0,0,0,0,0,0,0,{"$f":"SUM($CY$13:$DJ$13)","v":0},null,0,0,0,0,0,0,0,0,0,0,0,0,{"$f":"SUM($DM$13:$DX$13)","v":0},null,0,0,0,0,0,0,0,0,0,0,0,0,{"$f":"SUM($EA$13:$EL$13)","v":0},null,0,0,0,0,0,0,0,0,0,0,0,0,{"$f":"SUM($EO$13:$EZ$13)","v":0},null,0,0,0,0,0,0,0,0,0,0,0,0,{"$f":"SUM($FC$13:$FN$13)","v":0},null,null,null,null,null,null,null,null,11,2027,"R3C145"]
[{"$f":"C13&D14","v":"Adubo orgânicoR"},null,null,"R",null,null,null,null,null,null,null,null,null,null,null,null,{"$f":"SUM($E$14:$P$14)","v":0},null,null,null,null,null,null,null,null,null,null,null,null,null,{"$f":"SUM($S$14:$AD$14)","v":0},null,null,null,null,null,null,null,null,null,null,null,null,null,{"$f":"SUM($AG$14:$AR$14)","v":0},null,null,null,null,null,null,null,null,null,null,null,null,null,{"$f":"SUM($AU$14:$BF$14)","v":0},null,null,null,null,null,null,null,null,null,null,null,null,null,{"$f":"SUM($BI$14:$BT$14)","v":0},null,null,null,null,null,null,null,null,null,null,null,null,null,{"$f":"SUM($BW$14:$CH$14)","v":0},null,null,null,null,null,null,null,null,null,null,null,null,null,{"$f":"SUM($CK$14:$CV$14)","v":0},null,null,null,null,null,null,null,null,null,null,null,null,null,{"$f":"SUM($CY$14:$DJ$14)","v":0},null,null,null,null,null,null,null,null,null,null,null,null,null,{"$f":"SUM($DM$14:$DX$14)","v":0},null,null,null,null,null,null,null,null,null,null,null,null,null,{"$f":"SUM($EA$14:$EL$14)","v":0},null,null,null,null,null,null,null,null,null,null,null,null,null,{"$f":"SUM($EO$14:$EZ$14)","v":0},null,null,null,null,null,null,null,null,null,null,null,null,null,{"$f":"SUM($FC$14:$FN$14)","v":0},null,null,null,null,null,null,null,null,12,2028,"R3C159"]
[{"$f":"C15&D15","v":"Semente de pastagemP"},null,"Semente de pastagem","P",0,0,0,0,0,0,0,0,0,0,0,0,{"$f":"SUM($E$15:$P$15)","v":0},null,0,0,0,0,0,0,0,0,0,0,0,0,{"$f":"SUM($S$15:$AD$15)","v":0},null,0,0,0,0,0,0,0,0,0,0,0,0,{"$f":"SUM($AG$15:$AR$15)","v":0},null,0,0,0,0,0,0,0,0,0,0,0,0,{"$f":"SUM($AU$15:$BF$15)","v":0},null,0,0,0,0,0,0,0,0,0,0,0,0,{"$f":"SUM($BI$15:$BT$15)","v":0},null,0,0,0,0,0,0,0,0,0,0,0,0,{"$f":"SUM($BW$15:$CH$15)","v":0},null,0,0,0,0,0,0,0,0,0,0,0,0,{"$f":"SUM($CK$15:$CV$15)","v":0},null,0,0,0,0,0,0,0,0,0,0,0,0,{"$f":"SUM($CY$15:$DJ$15)","v":0},null,0,0,0,0,0,0,0,0,0,0,0,0,{"$f":"SUM($DM$15:$DX$15)","v":0},null,0,0,0,0,0,0,0,0,0,0,0,0,{"$f":"SUM($EA$15:$EL$15)","v":0},null,0,0,0,0,0,0,0,0,0,0,0,0,{"$f":"SUM($EO$15:$EZ$15)","v":0},null,0,0,0,0,0,0,0,0,0,0,0,0,{"$f":"SUM($FC$15:$FN$15)","v":0}]
[{"$f":"C15&D16","v":"Semente de pastagemR"},null,null,"R",null,null,null,null,null,null,null,null,null,null,null,null,{"$f":"SUM($E$16:$P$16)","v":0},null,null,null,null,null,null,null,null,null,null,null,null,null,{"$f":"SUM($S$16:$AD$16)","v":0},null,null,null,null,null,null,null,null,null,null,null,null,null,{"$f":"SUM($AG$16:$AR$16)","v":0},null,null,null,null,null,null,null,null,null,null,null,null,null,{"$f":"SUM($AU$16:$BF$16)","v":0},null,null,null,null,null,null,null,null,null,null,null,null,null,{"$f":"SUM($BI$16:$BT$16)","v":0},null,null,null,null,null,null,null,null,null,null,null,null,null,{"$f":"SUM($BW$16:$CH$16)","v":0},null,null,null,null,null,null,null,null,null,null,null,null,null,{"$f":"SUM($CK$16:$CV$16)","v":0},null,null,null,null,null,null,null,null,null,null,null,null,null,{"$f":"SUM($CY$16:$DJ$16)","v":0},null,null,null,null,null,null,null,null,null,null,null,null,null,{"$f":"SUM($DM$16:$DX$16)","v":0},null,null,null,null,null,null,null,null,null,null,null,null,null,{"$f":"SUM($EA$16:$EL$16)","v":0},null,null,null,null,null,null,null,null,null,null,null,null,null,{"$f":"SUM($EO$16:$EZ$16)","v":0},null,null,null,null,null,null,null,null,null,null,null,null,null,{"$f":"SUM($FC$16:$FN$16)","v":0}]
[{"$f":"C17&D17","v":"Semente de milhoP"},null,"Semente de milho","P",0,0,0,0,0,0,0,0,0,0,0,0,{"$f":"SUM($E$17:$P$17)","v":0},null,0,0,0,0,0,0,0,0,0,0,0,0,{"$f":"SUM($S$17:$AD$17)","v":0},null,0,0,0,0,0,0,0,0,0,0,0,0,{"$f":"SUM($AG$17:$AR$17)","v":0},null,0,0,0,0,0,0,0,0,0,0,0,0,{"$f":"SUM($AU$17:$BF$17)","v":0},null,0,0,0,0,0,0,0,0,0,0,0,0,{"$f":"SUM($BI$17:$BT$17)","v":0},null,0,0,0,0,0,0,0,0,0,0,0,0,{"$f":"SUM($BW$17:$CH$17)","v":0},null,0,0,0,0,0,0,0,0,0,0,0,0,{"$f":"SUM($CK$17:$CV$17)","v":0},null,0,0,0,0,0,0,0,0,0,0,0,0,{"$f":"SUM($CY$17:$DJ$17)","v":0},null,0,0,0,0,0,0,0,0,0,0,0,0,{"$f":"SUM($DM$17:$DX$17)","v":0},null,0,0,0,0,0,0,0,0,0,0,0,0,{"$f":"SUM($EA$17:$EL$17)","v":0},null,0,0,0,0,0,0,0,0,0,0,0,0,{"$f":"SUM($EO$17:$EZ$17)","v":0},null,0,0,0,0,0,0,0,0,0,0,0,0,{"$f":"SUM($FC$17:$FN$17)","v":0}]
[{"$f":"C17&D18","v":"Semente de milhoR"},null,null,"R",null,null,null,null,null,null,null,null,null,null,null,null,{"$f":"SUM($E$18:$P$18)","v":0},null,null,null,null,null,null,null,null,null,null,null,null,null,{"$f":"SUM($S$18:$AD$18)","v":0},null,null,null,null,null,null,null,null,null,null,null,null,null,{"$f":"SUM($AG$18:$AR$18)","v":0},null,null,null,null,null,null,null,null,null,null,null,null,null,{"$f":"SUM($AU$18:$BF$18)","v":0},null,null,null,null,null,null,null,null,null,null,null,null,null,{"$f":"SUM($BI$18:$BT$18)","v":0},null,null,null,null,null,null,null,null,null,null,null,null,null,{"$f":"SUM($BW$18:$CH$18)","v":0},null,null,null,null,null,null,null,null,null,null,null,null,null,{"$f":"SUM($CK$18:$CV$18)","v":0},null,null,null,null,null,null,null,null,null,null,null,null,null,{"$f":"SUM($CY$18:$DJ$18)","v":0},null,null,null,null,null,null,null,null,null,null,null,null,null,{"$f":"SUM($DM$18:$DX$18)","v":0},null,null,null,null,null,null,null,null,null,null,null,null,null,{"$f":"SUM($EA$18:$EL$18)","v":0},null,null,null,null,null,null,null,null,null,null,null,null,null,{"$f":"SUM($EO$18:$EZ$18)","v":0},null,null,null,null,null,null,null,null,null,null,null,null,null,{"$f":"SUM($FC$18:$FN$18)","v":0}]
[{"$f":"C19&D19","v":"Reparo e Manutenção de Máquinas e BenfeitoriasP"},null,"Reparo e Manutenção de Máquinas e Benfeitorias","P",0,0,0,0,0,0,0,0,0,0,0,0,{"$f":"SUM($E$19:$P$19)","v":0},null,0,0,0,0,0,0,0,0,0,0,0,0,{"$f":"SUM($S$19:$AD$19)","v":0},null,0,0,0,0,0,0,0,0,0,0,0,0,{"$f":"SUM($AG$19:$AR$19)","v":0},null,0,0,0,0,0,0,0,0,0,0,0,0,{"$f":"SUM($AU$19:$BF$19)","v":0},null,0,0,0,0,0,0,0,0,0,0,0,0,{"$f":"SUM($BI$19:$BT$19)","v":0},null,0,0,0,0,0,0,0,0,0,0,0,0,{"$f":"SUM($BW$19:$CH$19)","v":0},null,0,0,0,0,0,0,0,0,0,0,0,0,{"$f":"SUM($CK$19:$CV$19)","v":0},null,0,0,0,0,0,0,0,0,0,0,0,0,{"$f":"SUM($CY$19:$DJ$19)","v":0},null,0,0,0,0,0,0,0,0,0,0,0,0,{"$f":"SUM($DM$19:$DX$19)","v":0},null,0,0,0,0,0,0,0,0,0,0,0,0,{"$f":"SUM($EA$19:$EL$19)","v":0},null,0,0,0,0,0,0,0,0,0,0,0,0,{"$f":"SUM($EO$19:$EZ$19)","v":0},null,0,0,0,0,0,0,0,0,0,0,0,0,{"$f":"SUM($FC$19:$FN$19)","v":0}]
[{"$f":"C19&D20","v":"Reparo e Manutenção de Máquinas e BenfeitoriasR"},null,null,"R",null,null,null,null,null,null,null,null,null,null,null,null,{"$f":"SUM($E$20:$P$20)","v":0},null,null,null,null,null,null,null,null,null,null,null,null,null,{"$f":"SUM($S$20:$AD$20)","v":0},null,null,null,null,null,null,null,null,null,null,null,null,null,{"$f":"SUM($AG$20:$AR$20)","v":0},null,null,null,null,null,null,null,null,null,null,null,null,null,{"$f":"SUM($AU$20:$BF$20)","v":0},null,null,null,null,null,null,null,null,null,null,null,null,null,{"$f":"SUM($BI$20:$BT$20)","v":0},null,null,null,null,null,null,null,null,null,null,null,null,null,{"$f":"SUM($BW$20:$CH$20)","v":0},null,null,null,null,null,null,null,null,null,null,null,null,null,{"$f":"SUM($CK$20:$CV$20)","v":0},null,null,null,null,null,null,null,null,null,null,null,null,null,{"$f":"SUM($CY$20:$DJ$20)","v":0},null,null,null,null,null,null,null,null,null,null,null,null,null,{"$f":"SUM($DM$20:$DX$20)","v":0},null,null,null,null,null,null,null,null,null,null,null,null,null,{"$f":"SUM($EA$20:$EL$20)","v":0},null,null,null,null,null,null,null,null,null,null,null,null,null,{"$f":"SUM($EO$20:$EZ$20)","v":0},null,null,null,null,null,null,null,null,null,null,null,null,null,{"$f":"SUM($FC$20:$FN$20)","v":0}]
[{"$f":"C21&D21","v":"SêmemP"},null,"Sêmem","P",0,0,0,0,0,0,0,0,0,0,0,0,{"$f":"SUM($E$21:$P$21)","v":0},null,0,0,0,0,0,0,0,0,0,0,0,0,{"$f":"SUM($S$21:$AD$21)","v":0},null,0,0,0,0,0,0,0,0,0,0,0,0,{"$f":"SUM($AG$21:$AR$21)","v":0},null,0,0,0,0,0,0,0,0,0,0,0,0,{"$f":"SUM($AU$21:$BF$21)","v":0},null,0,0,0,0,0,0,0,0,0,0,0,0,{"$f":"SUM($BI$21:$BT$21)","v":0},null,0,0,0,0,0,0,0,0,0,0,0,0,{"$f":"SUM($BW$21:$CH$21)","v":0},null,0,0,0,0,0,0,0,0,0,0,0,0,{"$f":"SUM($CK$21:$CV$21)","v":0},null,0,0,0,0,0,0,0,0,0,0,0,0,{"$f":"SUM($CY$21:$DJ$21)","v":0},null,0,0,0,0,0,0,0,0,0,0,0,0,{"$f":"SUM($DM$21:$DX$21)","v":0},null,0,0,0,0,0,0,0,0,0,0,0,0,{"$f":"SUM($EA$21:$EL$21)","v":0},null,0,0,0,0,0,0,0,0,0,0,0,0,{"$f":"SUM($EO$21:$EZ$21)","v":0},null,0,0,0,0,0,0,0,0,0,0,0,0,{"$f":"SUM($FC$21:$FN$21)","v":0}]
[{"$f":"C21&D22","v":"SêmemR"},null,null,"R",null,null,null,null,null,null,null,null,null,null,null,null,{"$f":"SUM($E$22:$P$22)","v":0},null,null,null,null,null,null,null,null,null,null,null,null,null,{"$f":"SUM($S$22:$AD$22)","v":0},null,null,null,null,null,null,null,null,null,null,null,null,null,{"$f":"SUM($AG$22:$AR$22)","v":0},null,null,null,null,null,null,null,null,null,null,null,null,null,{"$f":"SUM($AU$22:$BF$22)","v":0},null,null,null,null,null,null,null,null,null,null,null,null,null,{"$f":"SUM($BI$22:$BT$22)","v":0},null,null,null,null,null,null,null,null,null,null,null,null,null,{"$f":"SUM($BW$22:$CH$22)","v":0},null,null,null,null,null,null,null,null,null,null,null,null,null,{"$f":"SUM($CK$22:$CV$22)","v":0},null,null,null,null,null,null,null,null,null,null,null,null,null,{"$f":"SUM($CY$22:$DJ$22)","v":0},null,null,null,null,null,null,null,null,null,null,null,null,null,{"$f":"SUM($DM$22:$DX$22)","v":0},null,null,null,null,null,null,null,null,null,null,null,null,null,{"$f":"SUM($EA$22:$EL$22)","v":0},null,null,null,null,null,null,null,null,null,null,null,null,null,{"$f":"SUM($EO$22:$EZ$22)","v":0},null,null,null,null,null,null,null,null,null,null,null,null,null,{"$f":"SUM($FC$22:$FN$22)","v":0}]
[{"$f":"C23&D23","v":"Compra de animaisP"},null,"Compra de animais","P",0,0,0,0,0,0,0,0,0,0,0,0,{"$f":"SUM($E$23:$P$23)","v":0},null,0,0,0,0,0,0,0,0,0,0,0,0,{"$f":"SUM($S$23:$AD$23)","v":0},null,0,0,0,0,0,0,0,0,0,0,0,0,{"$f":"SUM($AG$23:$AR$23)","v":0},null,0,0,0,0,0,0,0,0,0,0,0,0,{"$f":"SUM($AU$23:$BF$23)","v":0},null,0,0,0,0,0,0,0,0,0,0,0,0,{"$f":"SUM($BI$23:$BT$23)","v":0},null,0,0,0,0,0,0,0,0,0,0,0,0,{"$f":"SUM($BW$23:$CH$23)","v":0},null,0,0,0,0,0,0,0,0,0,0,0,0,{"$f":"SUM($CK$23:$CV$23)","v":0},null,0,0,0,0,0,0,0,0,0,0,0,0,{"$f":"SUM($CY$23:$DJ$23)","v":0},null,0,0,0,0,0,0,0,0,0,0,0,0,{"$f":"SUM($DM$23:$DX$23)","v":0},null,0,0,0,0,0,0,0,0,0,0,0,0,{"$f":"SUM($EA$23:$EL$23)","v":0},null,0,0,0,0,0,0,0,0,0,0,0,0,{"$f":"SUM($EO$23:$EZ$23)","v":0},null,0,0,0,0,0,0,0,0,0,0,0,0,{"$f":"SUM($FC$23:$FN$23)","v":0}]
[{"$f":"C23&D24","v":"Compra de animaisR"},null,null,"R",null,null,null,null,null,null,null,null,null,null,null,null,{"$f":"SUM($E$24:$P$24)","v":0},null,null,null,null,null,null,null,null,null,null,null,null,null,{"$f":"SUM($S$24:$AD$24)","v":0},null,null,null,null,null,null,null,null,null,null,null,null,null,{"$f":"SUM($AG$24:$AR$24)","v":0},null,null,null,null,null,null,null,null,null,null,null,null,null,{"$f":"SUM($AU$24:$BF$24)","v":0},null,null,null,null,null,null,null,null,null,null,null,null,null,{"$f":"SUM($BI$24:$BT$24)","v":0},null,null,null,null,null,null,null,null,null,null,null,null,null,{"$f":"SUM($BW$24:$CH$24)","v":0},null,null,null,null,null,null,null,null,null,null,null,null,null,{"$f":"SUM($CK$24:$CV$24)","v":0},null,null,null,null,null,null,null,null,null,null,null,null,null,{"$f":"SUM($CY$24:$DJ$24)","v":0},null,null,null,null,null,null,null,null,null,null,null,null,null,{"$f":"SUM($DM$24:$DX$24)","v":0},null,null,null,null,null,null,null,null,null,null,null,null,null,{"$f":"SUM($EA$24:$EL$24)","v":0},null,null,null,null,null,null,null,null,null,null,null,null,null,{"$f":"SUM($EO$24:$EZ$24)","v":0},null,null,null,null,null,null,null,null,null,null,null,null,null,{"$f":"SUM($FC$24:$FN$24)","v":0}]
[{"$f":"C25&D25","v":"Diesel/hora máquinaP"},null,"Diesel/hora máquina","P",0,0,0,0,0,0,0,0,0,0,0,0,{"$f":"SUM($E$25:$P$25)","v":0},null,0,0,0,0,0,0,0,0,0,0,0,0,{"$f":"SUM($S$25:$AD$25)","v":0},null,0,0,0,0,0,0,0,0,0,0,0,0,{"$f":"SUM($AG$25:$AR$25)","v":0},null,0,0,0,0,0,0,0,0,0,0,0,0,{"$f":"SUM($AU$25:$BF$25)","v":0},null,0,0,0,0,0,0,0,0,0,0,0,0,{"$f":"SUM($BI$25:$BT$25)","v":0},null,0,0,0,0,0,0,0,0,0,0,0,0,{"$f":"SUM($BW$25:$CH$25)","v":0},null,0,0,0,0,0,0,0,0,0,0,0,0,{"$f":"SUM($CK$25:$CV$25)","v":0},null,0,0,0,0,0,0,0,0,0,0,0,0,{"$f":"SUM($CY$25:$DJ$25)","v":0},null,0,0,0,0,0,0,0,0,0,0,0,0,{"$f":"SUM($DM$25:$DX$25)","v":0},null,0,0,0,0,0,0,0,0,0,0,0,0,{"$f":"SUM($EA$25:$EL$25)","v":0},null,0,0,0,0,0,0,0,0,0,0,0,0,{"$f":"SUM($EO$25:$EZ$25)","v":0},null,0,0,0,0,0,0,0,0,0,0,0,0,{"$f":"SUM($FC$25:$FN$25)","v":0}]
[{"$f":"C25&D26","v":"Diesel/hora máquinaR"},null,null,"R",null,null,null,null,null,null,null,null,null,null,null,null,{"$f":"SUM($E$26:$P$26)","v":0},null,null,null,null,null,null,null,null,null,null,null,null,null,{"$f":"SUM($S$26:$AD$26)","v":0},null,null,null,null,null,null,null,null,null,null,null,null,null,{"$f":"SUM($AG$26:$AR$26)","v":0},null,null,null,null,null,null,null,null,null,null,null,null,null,{"$f":"SUM($AU$26:$BF$26)","v":0},null,null,null,null,null,null,null,null,null,null,null,null,null,{"$f":"SUM($BI$26:$BT$26)","v":0},null,null,null,null,null,null,null,null,null,null,null,null,null,{"$f":"SUM($BW$26:$CH$26)","v":0},null,null,null,null,null,null,null,null,null,null,null,null,null,{"$f":"SUM($CK$26:$CV$26)","v":0},null,null,null,null,null,null,null,null,null,null,null,null,null,{"$f":"SUM($CY$26:$DJ$26)","v":0},null,null,null,null,null,null,null,null,null,null,null,null,null,{"$f":"SUM($DM$26:$DX$26)","v":0},null,null,null,null,null,null,null,null,null,null,null,null,null,{"$f":"SUM($EA$26:$EL$26)","v":0},null,null,null,null,null,null,null,null,null,null,null,null,null,{"$f":"SUM($EO$26:$EZ$26)","v":0},null,null,null,null,null,null,null,null,null,null,null,null,null,{"$f":"SUM($FC$26:$FN$26)","v":0}]
[{"$f":"C27&D27","v":"AP"},null,"A","P",0,0,0,0,0,0,0,0,0,0,0,0,{"$f":"SUM($E$27:$P$27)","v":0},null,0,0,0,0,0,0,0,0,0,0,0,0,{"$f":"SUM($S$27:$AD$27)","v":0},null,0,0,0,0,0,0,0,0,0,0,0,0,{"$f":"SUM($AG$27:$AR$27)","v":0},null,0,0,0,0,0,0,0,0,0,0,0,0,{"$f":"SUM($AU$27:$BF$27)","v":0},null,0,0,0,0,0,0,0,0,0,0,0,0,{"$f":"SUM($BI$27:$BT$27)","v":0},null,0,0,0,0,0,0,0,0,0,0,0,0,{"$f":"SUM($BW$27:$CH$27)","v":0},null,0,0,0,0,0,0,0,0,0,0,0,0,{"$f":"SUM($CK$27:$CV$27)","v":0},null,0,0,0,0,0,0,0,0,0,0,0,0,{"$f":"SUM($CY$27:$DJ$27)","v":0},null,0,0,0,0,0,0,0,0,0,0,0,0,{"$f":"SUM($DM$27:$DX$27)","v":0},null,0,0,0,0,0,0,0,0,0,0,0,0,{"$f":"SUM($EA$27:$EL$27)","v":0},null,0,0,0,0,0,0,0,0,0,0,0,0,{"$f":"SUM($EO$27:$EZ$27)","v":0},null,0,0,0,0,0,0,0,0,0,0,0,0,{"$f":"SUM($FC$27:$FN$27)","v":0}]
[{"$f":"C27&D28","v":"AR"},null,null,"R",null,null,null,null,null,null,null,null,null,null,null,null,{"$f":"SUM($E$28:$P$28)","v":0},null,null,null,null,null,null,null,null,null,null,null,null,null,{"$f":"SUM($S$28:$AD$28)","v":0},null,null,null,null,null,null,null,null,null,null,null,null,null,{"$f":"SUM($AG$28:$AR$28)","v":0},null,null,null,null,null,null,null,null,null,null,null,null,null,{"$f":"SUM($AU$28:$BF$28)","v":0},null,null,null,null,null,null,null,null,null,null,null,null,null,{"$f":"SUM($BI$28:$BT$28)","v":0},null,null,null,null,null,null,null,null,null,null,null,null,null,{"$f":"SUM($BW$28:$CH$28)","v":0},null,null,null,null,null,null,null,null,null,null,null,null,null,{"$f":"SUM($CK$28:$CV$28)","v":0},null,null,null,null,null,null,null,null,null,null,null,null,null,{"$f":"SUM($CY$28:$DJ$28)","v":0},null,null,null,null,null,null,null,null,null,null,null,null,null,{"$f":"SUM($DM$28:$DX$28)","v":0},null,null,null,null,null,null,null,null,null,null,null,null,null,{"$f":"SUM($EA$28:$EL$28)","v":0},null,null,null,null,null,null,null,null,null,null,null,null,null,{"$f":"SUM($EO$28:$EZ$28)","v":0},null,null,null,null,null,null,null,null,null,null,null,null,null,{"$f":"SUM($FC$28:$FN$28)","v":0}]
[{"$f":"C29&D29","v":"BP"},null,"B","P",0,0,0,0,0,0,0,0,0,0,0,0,{"$f":"SUM($E$29:$P$29)","v":0},null,0,0,0,0,0,0,0,0,0,0,0,0,{"$f":"SUM($S$29:$AD$29)","v":0},null,0,0,0,0,0,0,0,0,0,0,0,0,{"$f":"SUM($AG$29:$AR$29)","v":0},null,0,0,0,0,0,0,0,0,0,0,0,0,{"$f":"SUM($AU$29:$BF$29)","v":0},null,0,0,0,0,0,0,0,0,0,0,0,0,{"$f":"SUM($BI$29:$BT$29)","v":0},null,0,0,0,0,0,0,0,0,0,0,0,0,{"$f":"SUM($BW$29:$CH$29)","v":0},null,0,0,0,0,0,0,0,0,0,0,0,0,{"$f":"SUM($CK$29:$CV$29)","v":0},null,0,0,0,0,0,0,0,0,0,0,0,0,{"$f":"SUM($CY$29:$DJ$29)","v":0},null,0,0,0,0,0,0,0,0,0,0,0,0,{"$f":"SUM($DM$29:$DX$29)","v":0},null,0,0,0,0,0,0,0,0,0,0,0,0,{"$f":"SUM($EA$29:$EL$29)","v":0},null,0,0,0,0,0,0,0,0,0,0,0,0,{"$f":"SUM($EO$29:$EZ$29)","v":0},null,0,0,0,0,0,0,0,0,0,0,0,0,{"$f":"SUM($FC$29:$FN$29)","v":0}]
[{"$f":"C29&D30","v":"BR"},null,null,"R",null,null,null,null,null,null,null,null,null,null,null,null,{"$f":"SUM($E$30:$P$30)","v":0},null,null,null,null,null,null,null,null,null,null,null,null,null,{"$f":"SUM($S$30:$AD$30)","v":0},null,null,null,null,null,null,null,null,null,null,null,null,null,{"$f":"SUM($AG$30:$AR$30)","v":0},null,null,null,null,null,null,null,null,null,null,null,null,null,{"$f":"SUM($AU$30:$BF$30)","v":0},null,null,null,null,null,null,null,null,null,null,null,null,null,{"$f":"SUM($BI$30:$BT$30)","v":0},null,null,null,null,null,null,null,null,null,null,null,null,null,{"$f":"SUM($BW$30:$CH$30)","v":0},null,null,null,null,null,null,null,null,null,null,null,null,null,{"$f":"SUM($CK$30:$CV$30)","v":0},null,null,null,null,null,null,null,null,null,null,null,null,null,{"$f":"SUM($CY$30:$DJ$30)","v":0},null,null,null,null,null,null,null,null,null,null,null,null,null,{"$f":"SUM($DM$30:$DX$30)","v":0},null,null,null,null,null,null,null,null,null,null,null,null,null,{"$f":"SUM($EA$30:$EL$30)","v":0},null,null,null,null,null,null,null,null,null,null,null,null,null,{"$f":"SUM($EO$30:$EZ$30)","v":0},null,null,null,null,null,null,null,null,null,null,null,null,null,{"$f":"SUM($FC$30:$FN$30)","v":0}]
[{"$f":"C31&D31","v":"CP"},null,"C","P",0,0,0,0,0,0,0,0,0,0,0,0,{"$f":"SUM($E$31:$P$31)","v":0},null,0,0,0,0,0,0,0,0,0,0,0,0,{"$f":"SUM($S$31:$AD$31)","v":0},null,0,0,0,0,0,0,0,0,0,0,0,0,{"$f":"SUM($AG$31:$AR$31)","v":0},null,0,0,0,0,0,0,0,0,0,0,0,0,{"$f":"SUM($AU$31:$BF$31)","v":0},null,0,0,0,0,0,0,0,0,0,0,0,0,{"$f":"SUM($BI$31:$BT$31)","v":0},null,0,0,0,0,0,0,0,0,0,0,0,0,{"$f":"SUM($BW$31:$CH$31)","v":0},null,0,0,0,0,0,0,0,0,0,0,0,0,{"$f":"SUM($CK$31:$CV$31)","v":0},null,0,0,0,0,0,0,0,0,0,0,0,0,{"$f":"SUM($CY$31:$DJ$31)","v":0},null,0,0,0,0,0,0,0,0,0,0,0,0,{"$f":"SUM($DM$31:$DX$31)","v":0},null,0,0,0,0,0,0,0,0,0,0,0,0,{"$f":"SUM($EA$31:$EL$31)","v":0},null,0,0,0,0,0,0,0,0,0,0,0,0,{"$f":"SUM($EO$31:$EZ$31)","v":0},null,0,0,0,0,0,0,0,0,0,0,0,0,{"$f":"SUM($FC$31:$FN$31)","v":0}]
[{"$f":"C31&D32","v":"CR"},null,null,"R",null,null,null,null,null,null,null,null,null,null,null,null,{"$f":"SUM($E$32:$P$32)","v":0},null,null,null,null,null,null,null,null,null,null,null,null,null,{"$f":"SUM($S$32:$AD$32)","v":0},null,null,null,null,null,null,null,null,null,null,null,null,null,{"$f":"SUM($AG$32:$AR$32)","v":0},null,null,null,null,null,null,null,null,null,null,null,null,null,{"$f":"SUM($AU$32:$BF$32)","v":0},null,null,null,null,null,null,null,null,null,null,null,null,null,{"$f":"SUM($BI$32:$BT$32)","v":0},null,null,null,null,null,null,null,null,null,null,null,null,null,{"$f":"SUM($BW$32:$CH$32)","v":0},null,null,null,null,null,null,null,null,null,null,null,null,null,{"$f":"SUM($CK$32:$CV$32)","v":0},null,null,null,null,null,null,null,null,null,null,null,null,null,{"$f":"SUM($CY$32:$DJ$32)","v":0},null,null,null,null,null,null,null,null,null,null,null,null,null,{"$f":"SUM($DM$32:$DX$32)","v":0},null,null,null,null,null,null,null,null,null,null,null,null,null,{"$f":"SUM($EA$32:$EL$32)","v":0},null,null,null,null,null,null,null,null,null,null,null,null,null,{"$f":"SUM($EO$32:$EZ$32)","v":0},null,null,null,null,null,null,null,null,null,null,null,null,null,{"$f":"SUM($FC$32:$FN$32)","v":0}]
[{"$f":"C33&D33","v":"DP"},null,"D","P",0,0,0,0,0,0,0,0,0,0,0,0,{"$f":"SUM($E$33:$P$33)","v":0},null,0,0,0,0,0,0,0,0,0,0,0,0,{"$f":"SUM($S$33:$AD$33)","v":0},null,0,0,0,0,0,0,0,0,0,0,0,0,{"$f":"SUM($AG$33:$AR$33)","v":0},null,0,0,0,0,0,0,0,0,0,0,0,0,{"$f":"SUM($AU$33:$BF$33)","v":0},null,0,0,0,0,0,0,0,0,0,0,0,0,{"$f":"SUM($BI$33:$BT$33)","v":0},null,0,0,0,0,0,0,0,0,0,0,0,0,{"$f":"SUM($BW$33:$CH$33)","v":0},null,0,0,0,0,0,0,0,0,0,0,0,0,{"$f":"SUM($CK$33:$CV$33)","v":0},null,0,0,0,0,0,0,0,0,0,0,0,0,{"$f":"SUM($CY$33:$DJ$33)","v":0},null,0,0,0,0,0,0,0,0,0,0,0,0,{"$f":"SUM($DM$33:$DX$33)","v":0},null,0,0,0,0,0,0,0,0,0,0,0,0,{"$f":"SUM($EA$33:$EL$33)","v":0},null,0,0,0,0,0,0,0,0,0,0,0,0,{"$f":"SUM($EO$33:$EZ$33)","v":0},null,0,0,0,0,0,0,0,0,0,0,0,0,{"$f":"SUM($FC$33:$FN$33)","v":0}]
["DR",null,null,"R",null,null,null,null,null,null,null,null,null,null,null,null,{"$f":"SUM($E$34:$P$34)","v":0},null,null,null,null,null,null,null,null,null,null,null,null,null,{"$f":"SUM($S$34:$AD$34)","v":0},null,null,null,null,null,null,null,null,null,null,null,null,null,{"$f":"SUM($AG$34:$AR$34)","v":0},null,null,null,null,null,null,null,null,null,null,null,null,null,{"$f":"SUM($AU$34:$BF$34)","v":0},null,null,null,null,null,null,null,null,null,null,null,null,null,{"$f":"SUM($BI$34:$BT$34)","v":0},null,null,null,null,null,null,null,null,null,null,null,null,null,{"$f":"SUM($BW$34:$CH$34)","v":0},null,null,null,null,null,null,null,null,null,null,null,null,null,{"$f":"SUM($CK$34:$CV$34)","v":0},null,null,null,null,null,null,null,null,null,null,null,null,null,{"$f":"SUM($CY$34:$DJ$34)","v":0},null,null,null,null,null,null,null,null,null,null,null,null,null,{"$f":"SUM($DM$34:$DX$34)","v":0},null,null,null,null,null,null,null,null,null,null,null,null,null,{"$f":"SUM($EA$34:$EL$34)","v":0},null,null,null,null,null,null,null,null,null,null,null,null,null,{"$f":"SUM($EO$34:$EZ$34)","v":0},null,null,null,null,null,null,null,null,null,null,null,null,null,{"$f":"SUM($FC$34:$FN$34)","v":0}]
[{"$f":"C35&D35","v":"EP"},null,"E","P",0,0,0,0,0,0,0,0,0,0,0,0,{"$f":"SUM($E$35:$P$35)","v":0},null,0,0,0,0,0,0,0,0,0,0,0,0,{"$f":"SUM($S$35:$AD$35)","v":0},null,0,0,0,0,0,0,0,0,0,0,0,0,{"$f":"SUM($AG$35:$AR$35)","v":0},null,0,0,0,0,0,0,0,0,0,0,0,0,{"$f":"SUM($AU$35:$BF$35)","v":0},null,0,0,0,0,0,0,0,0,0,0,0,0,{"$f":"SUM($BI$35:$BT$35)","v":0},null,0,0,0,0,0,0,0,0,0,0,0,0,{"$f":"SUM($BW$35:$CH$35)","v":0},null,0,0,0,0,0,0,0,0,0,0,0,0,{"$f":"SUM($CK$35:$CV$35)","v":0},null,0,0,0,0,0,0,0,0,0,0,0,0,{"$f":"SUM($CY$35:$DJ$35)","v":0},null,0,0,0,0,0,0,0,0,0,0,0,0,{"$f":"SUM($DM$35:$DX$35)","v":0},null,0,0,0,0,0,0,0,0,0,0,0,0,{"$f":"SUM($EA$35:$EL$35)","v":0},null,0,0,0,0,0,0,0,0,0,0,0,0,{"$f":"SUM($EO$35:$EZ$35)","v":0},null,0,0,0,0,0,0,0,0,0,0,0,0,{"$f":"SUM($FC$35:$FN$35)","v":0}]
["ER",null,null,"R",null,null,null,null,null,null,null,null,null,null,null,null,{"$f":"SUM($E$36:$P$36)","v":0},null,null,null,null,null,null,null,null,null,null,null,null,null,{"$f":"SUM($S$36:$AD$36)","v":0},null,null,null,null,null,null,null,null,null,null,null,null,null,{"$f":"SUM($AG$36:$AR$36)","v":0},null,null,null,null,null,null,null,null,null,null,null,null,null,{"$f":"SUM($AU$36:$BF$36)","v":0},null,null,null,null,null,null,null,null,null,null,null,null,null,{"$f":"SUM($BI$36:$BT$36)","v":0},null,null,null,null,null,null,null,null,null,null,null,null,null,{"$f":"SUM($BW$36:$CH$36)","v":0},null,null,null,null,null,null,null,null,null,null,null,null,null,{"$f":"SUM($CK$36:$CV$36)","v":0},null,null,null,null,null,null,null,null,null,null,null,null,null,{"$f":"SUM($CY$36:$DJ$36)","v":0},null,null,null,null,null,null,null,null,null,null,null,null,null,{"$f":"SUM($DM$36:$DX$36)","v":0},null,null,null,null,null,null,null,null,null,null,null,null,null,{"$f":"SUM($EA$36:$EL$36)","v":0},null,null,null,null,null,null,null,null,null,null,null,null,null,{"$f":"SUM($EO$36:$EZ$36)","v":0},null,null,null,null,null,null,null,null,null,null,null,null,null,{"$f":"SUM($FC$36:$FN$36)","v":0}]
[{"$f":"C37&D37","v":"FP"},null,"F","P",0,0,0,0,0,0,0,0,0,0,0,0,{"$f":"SUM($E$37:$P$37)","v":0},null,0,0,0,0,0,0,0,0,0,0,0,0,{"$f":"SUM($S$37:$AD$37)","v":0},null,0,0,0,0,0,0,0,0,0,0,0,0,{"$f":"SUM($AG$37:$AR$37)","v":0},null,0,0,0,0,0,0,0,0,0,0,0,0,{"$f":"SUM($AU$37:$BF$37)","v":0},null,0,0,0,0,0,0,0,0,0,0,0,0,{"$f":"SUM($BI$37:$BT$37)","v":0},null,0,0,0,0,0,0,0,0,0,0,0,0,{"$f":"SUM($BW$37:$CH$37)","v":0},null,0,0,0,0,0,0,0,0,0,0,0,0,{"$f":"SUM($CK$37:$CV$37)","v":0},null,0,0,0,0,0,0,0,0,0,0,0,0,{"$f":"SUM($CY$37:$DJ$37)","v":0},null,0,0,0,0,0,0,0,0,0,0,0,0,{"$f":"SUM($DM$37:$DX$37)","v":0},null,0,0,0,0,0,0,0,0,0,0,0,0,{"$f":"SUM($EA$37:$EL$37)","v":0},null,0,0,0,0,0,0,0,0,0,0,0,0,{"$f":"SUM($EO$37:$EZ$37)","v":0},null,0,0,0,0,0,0,0,0,0,0,0,0,{"$f":"SUM($FC$37:$FN$37)","v":0}]
["FR",null,null,"R",null,null,null,null,null,null,null,null,null,null,null,null,{"$f":"SUM($E$38:$P$38)","v":0},null,null,null,null,null,null,null,null,null,null,null,null,null,{"$f":"SUM($S$38:$AD$38)","v":0},null,null,null,null,null,null,null,null,null,null,null,null,null,{"$f":"SUM($AG$38:$AR$38)","v":0},null,null,null,null,null,null,null,null,null,null,null,null,null,{"$f":"SUM($AU$38:$BF$38)","v":0},null,null,null,null,null,null,null,null,null,null,null,null,null,{"$f":"SUM($BI$38:$BT$38)","v":0},null,null,null,null,null,null,null,null,null,null,null,null,null,{"$f":"SUM($BW$38:$CH$38)","v":0},null,null,null,null,null,null,null,null,null,null,null,null,null,{"$f":"SUM($CK$38:$CV$38)","v":0},null,null,null,null,null,null,null,null,null,null,null,null,null,{"$f":"SUM($CY$38:$DJ$38)","v":0},null,null,null,null,null,null,null,null,null,null,null,null,null,{"$f":"SUM($DM$38:$DX$38)","v":0},null,null,null,null,null,null,null,null,null,null,null,null,null,{"$f":"SUM($EA$38:$EL$38)","v":0},null,null,null,null,null,null,null,null,null,null,null,null,null,{"$f":"SUM($EO$38:$EZ$38)","v":0},null,null,null,null,null,null,null,null,null,null,null,null,null,{"$f":"SUM($FC$38:$FN$38)","v":0}]
[{"$f":"C39&D39","v":"GP"},null,"G","P",0,0,0,0,0,0,0,0,0,0,0,0,{"$f":"SUM($E$39:$P$39)","v":0},null,0,0,0,0,0,0,0,0,0,0,0,0,{"$f":"SUM($S$39:$AD$39)","v":0},null,0,0,0,0,0,0,0,0,0,0,0,0,{"$f":"SUM($AG$39:$AR$39)","v":0},null,0,0,0,0,0,0,0,0,0,0,0,0,{"$f":"SUM($AU$39:$BF$39)","v":0},null,0,0,0,0,0,0,0,0,0,0,0,0,{"$f":"SUM($BI$39:$BT$39)","v":0},null,0,0,0,0,0,0,0,0,0,0,0,0,{"$f":"SUM($BW$39:$CH$39)","v":0},null,0,0,0,0,0,0,0,0,0,0,0,0,{"$f":"SUM($CK$39:$CV$39)","v":0},null,0,0,0,0,0,0,0,0,0,0,0,0,{"$f":"SUM($CY$39:$DJ$39)","v":0},null,0,0,0,0,0,0,0,0,0,0,0,0,{"$f":"SUM($DM$39:$DX$39)","v":0},null,0,0,0,0,0,0,0,0,0,0,0,0,{"$f":"SUM($EA$39:$EL$39)","v":0},null,0,0,0,0,0,0,0,0,0,0,0,0,{"$f":"SUM($EO$39:$EZ$39)","v":0},null,0,0,0,0,0,0,0,0,0,0,0,0,{"$f":"SUM($FC$39:$FN$39)","v":0}]
["GR",null,null,"R",null,null,null,null,null,null,null,null,null,null,null,null,{"$f":"SUM($E$40:$P$40)","v":0},null,null,null,null,null,null,null,null,null,null,null,null,null,{"$f":"SUM($S$40:$AD$40)","v":0},null,null,null,null,null,null,null,null,null,null,null,null,null,{"$f":"SUM($AG$40:$AR$40)","v":0},null,null,null,null,null,null,null,null,null,null,null,null,null,{"$f":"SUM($AU$40:$BF$40)","v":0},null,null,null,null,null,null,null,null,null,null,null,null,null,{"$f":"SUM($BI$40:$BT$40)","v":0},null,null,null,null,null,null,null,null,null,null,null,null,null,{"$f":"SUM($BW$40:$CH$40)","v":0},null,null,null,null,null,null,null,null,null,null,null,null,null,{"$f":"SUM($CK$40:$CV$40)","v":0},null,null,null,null,null,null,null,null,null,null,null,null,null,{"$f":"SUM($CY$40:$DJ$40)","v":0},null,null,null,null,null,null,null,null,null,null,null,null,null,{"$f":"SUM($DM$40:$DX$40)","v":0},null,null,null,null,null,null,null,null,null,null,null,null,null,{"$f":"SUM($EA$40:$EL$40)","v":0},null,null,null,null,null,null,null,null,null,null,null,null,null,{"$f":"SUM($EO$40:$EZ$40)","v":0},null,null,null,null,null,null,null,null,null,null,null,null,null,{"$f":"SUM($FC$40:$FN$40)","v":0}]
[{"$f":"C41&D41","v":"HP"},null,"H","P",0,0,0,0,0,0,0,0,0,0,0,0,{"$f":"SUM($E$41:$P$41)","v":0},null,0,0,0,0,0,0,0,0,0,0,0,0,{"$f":"SUM($S$41:$AD$41)","v":0},null,0,0,0,0,0,0,0,0,0,0,0,0,{"$f":"SUM($AG$41:$AR$41)","v":0},null,0,0,0,0,0,0,0,0,0,0,0,0,{"$f":"SUM($AU$41:$BF$41)","v":0},null,0,0,0,0,0,0,0,0,0,0,0,0,{"$f":"SUM($BI$41:$BT$41)","v":0},null,0,0,0,0,0,0,0,0,0,0,0,0,{"$f":"SUM($BW$41:$CH$41)","v":0},null,0,0,0,0,0,0,0,0,0,0,0,0,{"$f":"SUM($CK$41:$CV$41)","v":0},null,0,0,0,0,0,0,0,0,0,0,0,0,{"$f":"SUM($CY$41:$DJ$41)","v":0},null,0,0,0,0,0,0,0,0,0,0,0,0,{"$f":"SUM($DM$41:$DX$41)","v":0},null,0,0,0,0,0,0,0,0,0,0,0,0,{"$f":"SUM($EA$41:$EL$41)","v":0},null,0,0,0,0,0,0,0,0,0,0,0,0,{"$f":"SUM($EO$41:$EZ$41)","v":0},null,0,0,0,0,0,0,0,0,0,0,0,0,{"$f":"SUM($FC$41:$FN$41)","v":0}]
["HR",null,null,"R",null,null,null,null,null,null,null,null,null,null,null,null,{"$f":"SUM($E$42:$P$42)","v":0},null,null,null,null,null,null,null,null,null,null,null,null,null,{"$f":"SUM($S$42:$AD$42)","v":0},null,null,null,null,null,null,null,null,null,null,null,null,null,{"$f":"SUM($AG$42:$AR$42)","v":0},null,null,null,null,null,null,null,null,null,null,null,null,null,{"$f":"SUM($AU$42:$BF$42)","v":0},null,null,null,null,null,null,null,null,null,null,null,null,null,{"$f":"SUM($BI$42:$BT$42)","v":0},null,null,null,null,null,null,null,null,null,null,null,null,null,{"$f":"SUM($BW$42:$CH$42)","v":0},null,null,null,null,null,null,null,null,null,null,null,null,null,{"$f":"SUM($CK$42:$CV$42)","v":0},null,null,null,null,null,null,null,null,null,null,null,null,null,{"$f":"SUM($CY$42:$DJ$42)","v":0},null,null,null,null,null,null,null,null,null,null,null,null,null,{"$f":"SUM($DM$42:$DX$42)","v":0},null,null,null,null,null,null,null,null,null,null,null,null,null,{"$f":"SUM($EA$42:$EL$42)","v":0},null,null,null,null,null,null,null,null,null,null,null,null,null,{"$f":"SUM($EO$42:$EZ$42)","v":0},null,null,null,null,null,null,null,null,null,null,null,null,null,{"$f":"SUM($FC$42:$FN$42)","v":0}]
[{"$f":"C43&D43","v":"Parcela Financiamento/ CusteioP"},null,"Parcela Financiamento/ Custeio","P",0,0,0,0,0,0,0,0,0,0,0,0,{"$f":"SUM($E$43:$P$43)","v":0},null,0,0,0,0,0,0,0,0,0,0,0,0,{"$f":"SUM($S$43:$AD$43)","v":0},null,0,0,0,0,0,0,0,0,0,0,0,0,{"$f":"SUM($AG$43:$AR$43)","v":0},null,0,0,0,0,0,0,0,0,0,0,0,0,{"$f":"SUM($AU$43:$BF$43)","v":0},null,0,0,0,0,0,0,0,0,0,0,0,0,{"$f":"SUM($BI$43:$BT$43)","v":0},null,0,0,0,0,0,0,0,0,0,0,0,0,{"$f":"SUM($BW$43:$CH$43)","v":0},null,0,0,0,0,0,0,0,0,0,0,0,0,{"$f":"SUM($CK$43:$CV$43)","v":0},null,0,0,0,0,0,0,0,0,0,0,0,0,{"$f":"SUM($CY$43:$DJ$43)","v":0},null,0,0,0,0,0,0,0,0,0,0,0,0,{"$f":"SUM($DM$43:$DX$43)","v":0},null,0,0,0,0,0,0,0,0,0,0,0,0,{"$f":"SUM($EA$43:$EL$43)","v":0},null,0,0,0,0,0,0,0,0,0,0,0,0,{"$f":"SUM($EO$43:$EZ$43)","v":0},null,0,0,0,0,0,0,0,0,0,0,0,0,{"$f":"SUM($FC$43:$FN$43)","v":0}]
[{"$f":"C43&D44","v":"Parcela Financiamento/ CusteioR"},null,null,"R",null,null,null,null,null,null,null,null,null,null,null,null,{"$f":"SUM($E$44:$P$44)","v":0},null,null,null,null,null,null,null,null,null,null,null,null,null,{"$f":"SUM($S$44:$AD$44)","v":0},null,null,null,null,null,null,null,null,null,null,null,null,null,{"$f":"SUM($AG$44:$AR$44)","v":0},null,null,null,null,null,null,null,null,null,null,null,null,null,{"$f":"SUM($AU$44:$BF$44)","v":0},null,null,null,null,null,null,null,null,null,null,null,null,null,{"$f":"SUM($BI$44:$BT$44)","v":0},null,null,null,null,null,null,null,null,null,null,null,null,null,{"$f":"SUM($BW$44:$CH$44)","v":0},null,null,null,null,null,null,null,null,null,null,null,null,null,{"$f":"SUM($CK$44:$CV$44)","v":0},null,null,null,null,null,null,null,null,null,null,null,null,null,{"$f":"SUM($CY$44:$DJ$44)","v":0},null,null,null,null,null,null,null,null,null,null,null,null,null,{"$f":"SUM($DM$44:$DX$44)","v":0},null,null,null,null,null,null,null,null,null,null,null,null,null,{"$f":"SUM($EA$44:$EL$44)","v":0},null,null,null,null,null,null,null,null,null,null,null,null,null,{"$f":"SUM($EO$44:$EZ$44)","v":0},null,null,null,null,null,null,null,null,null,null,null,null,null,{"$f":"SUM($FC$44:$FN$44)","v":0}]
[{"$f":"C45&D45","v":"Total SaídasP"},null,"Total Saídas","P",{"$f":"SUMIF($D$5:$D$44,$D45,E$5:E$44)","v":0},{"$f":"SUMIF($D$5:$D$44,$D45,F$5:F$44)","v":0},{"$f":"SUMIF($D$5:$D$44,$D45,G$5:G$44)","v":0},0,0,0,0,0,0,0,0,0,0,null,{"$f":"SUMIF($D$5:$D$44,$D45,S$5:S$44)","v":0},0,0,0,0,0,0,0,0,0,0,0,0,null,{"$f":"SUMIF($D$5:$D$44,$D45,AG$5:AG$44)","v":0},0,0,0,0,0,0,0,0,0,0,0,0,null,{"$f":"SUMIF($D$5:$D$44,$D45,AU$5:AU$44)","v":0},0,0,0,0,0,0,0,0,0,0,0,0,null,{"$f":"SUMIF($D$5:$D$44,$D45,BI$5:BI$44)","v":0},0,0,0,0,0,0,0,0,0,0,0,0,null,{"$f":"SUMIF($D$5:$D$44,$D45,BW$5:BW$44)","v":0},0,0,0,0,0,0,0,0,0,0,0,0,null,{"$f":"SUMIF($D$5:$D$44,$D45,CK$5:CK$44)","v":0},0,0,0,0,0,0,0,0,0,0,0,0,null,{"$f":"SUMIF($D$5:$D$44,$D45,CY$5:CY$44)","v":0},0,0,0,0,0,0,0,0,0,0,0,0,null,{"$f":"SUMIF($D$5:$D$44,$D45,DM$5:DM$44)","v":0},0,0,0,0,0,0,0,0,0,0,0,0,null,{"$f":"SUMIF($D$5:$D$44,$D45,EA$5:EA$44)","v":0},0,0,0,0,0,0,0,0,0,0,0,0,null,{"$f":"SUMIF($D$5:$D$44,$D45,EO$5:EO$44)","v":0},0,0,0,0,0,0,0,0,0,0,0,0,null,{"$f":"SUMIF($D$5:$D$44,$D45,FC$5:FC$44)","v":0},0,0,0,0,0,0,0,0,0,0,0,0]
[{"$f":"C45&D46","v":"Total SaídasR"},null,null,"R",0,0,0,0,0,0,0,0,0,0,0,0,0,null,0,0,0,0,0,0,0,0,0,0,0,0,0,null,0,0,0,0,0,0,0,0,0,0,0,0,0,null,0,0,0,0,0,0,0,0,0,0,0,0,0,null,0,0,0,0,0,0,0,0,0,0,0,0,0,null,0,0,0,0,0,0,0,0,0,0,0,0,0,null,0,0,0,0,0,0,0,0,0,0,0,0,0,null,0,0,0,0,0,0,0,0,0,0,0,0,0,null,0,0,0,0,0,0,0,0,0,0,0,0,0,null,0,0,0,0,0,0,0,0,0,0,0,0,0,null,0,0,0,0,0,0,0,0,0,0,0,0,0,null,0,0,0,0,0,0,0,0,0,0,0,0,0]
[{"$f":"C47&D47","v":""}]
[{"$f":"C47&D48","v":""}]
[{"$f":"C49&D49","v":"Venda AnimaisP"},"Entrada de Caixa","Venda Animais","P",0,0,0,0,0,0,0,0,0,0,0,0,{"$f":"SUM($E$49:$P$49)","v":0},null,0,0,0,0,0,0,0,0,0,0,0,0,{"$f":"SUM($S$49:$AD$49)","v":0},null,0,0,0,0,0,0,0,0,0,0,0,0,{"$f":"SUM($AG$49:$AR$49)","v":0},null,0,0,0,0,0,0,0,0,0,0,0,0,{"$f":"SUM($AU$49:$BF$49)","v":0},null,0,0,0,0,0,0,0,0,0,0,0,0,{"$f":"SUM($BI$49:$BT$49)","v":0},null,0,0,0,0,0,0,0,0,0,0,0,0,{"$f":"SUM($BW$49:$CH$49)","v":0},null,0,0,0,0,0,0,0,0,0,0,0,0,{"$f":"SUM($CK$49:$CV$49)","v":0},null,0,0,0,0,0,0,0,0,0,0,0,0,{"$f":"SUM($CY$49:$DJ$49)","v":0},null,0,0,0,0,0,0,0,0,0,0,0,0,{"$f":"SUM($DM$49:$DX$49)","v":0},null,0,0,0,0,0,0,0,0,0,0,0,0,{"$f":"SUM($EA$49:$EL$49)","v":0},null,0,0,0,0,0,0,0,0,0,0,0,0,{"$f":"SUM($EO$49:$EZ$49)","v":0},null,0,0,0,0,0,0,0,0,0,0,0,0,{"$f":"SUM($FC$49:$FN$49)","v":0}]
[{"$f":"C49&D50","v":"Venda AnimaisR"},null,null,"R",null,null,null,null,null,null,null,null,null,null,null,null,{"$f":"SUM($E$50:$P$50)","v":0},null,null,null,null,null,null,null,null,null,null,null,null,null,{"$f":"SUM($S$50:$AD$50)","v":0},null,null,null,null,null,null,null,null,null,null,null,null,null,{"$f":"SUM($AG$50:$AR$50)","v":0},null,null,null,null,null,null,null,null,null,null,null,null,null,{"$f":"SUM($AU$50:$BF$50)","v":0},null,null,null,null,null,null,null,null,null,null,null,null,null,{"$f":"SUM($BI$50:$BT$50)","v":0},null,null,null,null,null,null,null,null,null,null,null,null,null,{"$f":"SUM($BW$50:$CH$50)","v":0},null,null,null,null,null,null,null,null,null,null,null,null,null,{"$f":"SUM($CK$50:$CV$50)","v":0},null,null,null,null,null,null,null,null,null,null,null,null,null,{"$f":"SUM($CY$50:$DJ$50)","v":0},null,null,null,null,null,null,null,null,null,null,null,null,null,{"$f":"SUM($DM$50:$DX$50)","v":0},null,null,null,null,null,null,null,null,null,null,null,null,null,{"$f":"SUM($EA$50:$EL$50)","v":0},null,null,null,null,null,null,null,null,null,null,null,null,null,{"$f":"SUM($EO$50:$EZ$50)","v":0},null,null,null,null,null,null,null,null,null,null,null,null,null,{"$f":"SUM($FC$50:$FN$50)","v":0}]
[{"$f":"C51&D51","v":"Venda de Leite e Derivados P"},null,"Venda de Leite e Derivados ","P",0,0,0,0,0,0,0,0,0,0,0,0,{"$f":"SUM($E$51:$P$51)","v":0},null,0,0,0,0,0,0,0,0,0,0,0,0,{"$f":"SUM($S$51:$AD$51)","v":0},null,0,0,0,0,0,0,0,0,0,0,0,0,{"$f":"SUM($AG$51:$AR$51)","v":0},null,0,0,0,0,0,0,0,0,0,0,0,0,{"$f":"SUM($AU$51:$BF$51)","v":0},null,0,0,0,0,0,0,0,0,0,0,0,0,{"$f":"SUM($BI$51:$BT$51)","v":0},null,0,0,0,0,0,0,0,0,0,0,0,0,{"$f":"SUM($BW$51:$CH$51)","v":0},null,0,0,0,0,0,0,0,0,0,0,0,0,{"$f":"SUM($CK$51:$CV$51)","v":0},null,0,0,0,0,0,0,0,0,0,0,0,0,{"$f":"SUM($CY$51:$DJ$51)","v":0},null,0,0,0,0,0,0,0,0,0,0,0,0,{"$f":"SUM($DM$51:$DX$51)","v":0},null,0,0,0,0,0,0,0,0,0,0,0,0,{"$f":"SUM($EA$51:$EL$51)","v":0},null,0,0,0,0,0,0,0,0,0,0,0,0,{"$f":"SUM($EO$51:$EZ$51)","v":0},null,0,0,0,0,0,0,0,0,0,0,0,0,{"$f":"SUM($FC$51:$FN$51)","v":0}]
[{"$f":"C51&D52","v":"Venda de Leite e Derivados R"},null,null,"R",null,null,null,null,null,null,null,null,null,null,null,null,{"$f":"SUM($E$52:$P$52)","v":0},null,null,null,null,null,null,null,null,null,null,null,null,null,{"$f":"SUM($S$52:$AD$52)","v":0},null,null,null,null,null,null,null,null,null,null,null,null,null,{"$f":"SUM($AG$52:$AR$52)","v":0},null,null,null,null,null,null,null,null,null,null,null,null,null,{"$f":"SUM($AU$52:$BF$52)","v":0},null,null,null,null,null,null,null,null,null,null,null,null,null,{"$f":"SUM($BI$52:$BT$52)","v":0},null,null,null,null,null,null,null,null,null,null,null,null,null,{"$f":"SUM($BW$52:$CH$52)","v":0},null,null,null,null,null,null,null,null,null,null,null,null,null,{"$f":"SUM($CK$52:$CV$52)","v":0},null,null,null,null,null,null,null,null,null,null,null,null,null,{"$f":"SUM($CY$52:$DJ$52)","v":0},null,null,null,null,null,null,null,null,null,null,null,null,null,{"$f":"SUM($DM$52:$DX$52)","v":0},null,null,null,null,null,null,null,null,null,null,null,null,null,{"$f":"SUM($EA$52:$EL$52)","v":0},null,null,null,null,null,null,null,null,null,null,null,null,null,{"$f":"SUM($EO$52:$EZ$52)","v":0},null,null,null,null,null,null,null,null,null,null,null,null,null,{"$f":"SUM($FC$52:$FN$52)","v":0}]
[{"$f":"C53&D53","v":"AP"},null,"A","P",0,0,0,0,0,0,0,0,0,0,0,0,{"$f":"SUM($E$53:$P$53)","v":0},null,0,0,0,0,0,0,0,0,0,0,0,0,{"$f":"SUM($S$53:$AD$53)","v":0},null,0,0,0,0,0,0,0,0,0,0,0,0,{"$f":"SUM($AG$53:$AR$53)","v":0},null,0,0,0,0,0,0,0,0,0,0,0,0,{"$f":"SUM($AU$53:$BF$53)","v":0},null,0,0,0,0,0,0,0,0,0,0,0,0,{"$f":"SUM($BI$53:$BT$53)","v":0},null,0,0,0,0,0,0,0,0,0,0,0,0,{"$f":"SUM($BW$53:$CH$53)","v":0},null,0,0,0,0,0,0,0,0,0,0,0,0,{"$f":"SUM($CK$53:$CV$53)","v":0},null,0,0,0,0,0,0,0,0,0,0,0,0,{"$f":"SUM($CY$53:$DJ$53)","v":0},null,0,0,0,0,0,0,0,0,0,0,0,0,{"$f":"SUM($DM$53:$DX$53)","v":0},null,0,0,0,0,0,0,0,0,0,0,0,0,{"$f":"SUM($EA$53:$EL$53)","v":0},null,0,0,0,0,0,0,0,0,0,0,0,0,{"$f":"SUM($EO$53:$EZ$53)","v":0},null,0,0,0,0,0,0,0,0,0,0,0,0,{"$f":"SUM($FC$53:$FN$53)","v":0}]
[{"$f":"C53&D54","v":"AR"},null,null,"R",null,null,null,null,null,null,null,null,null,null,null,null,{"$f":"SUM($E$54:$P$54)","v":0},null,null,null,null,null,null,null,null,null,null,null,null,null,{"$f":"SUM($S$54:$AD$54)","v":0},null,null,null,null,null,null,null,null,null,null,null,null,null,{"$f":"SUM($AG$54:$AR$54)","v":0},null,null,null,null,null,null,null,null,null,null,null,null,null,{"$f":"SUM($AU$54:$BF$54)","v":0},null,null,null,null,null,null,null,null,null,null,null,null,null,{"$f":"SUM($BI$54:$BT$54)","v":0},null,null,null,null,null,null,null,null,null,null,null,null,null,{"$f":"SUM($BW$54:$CH$54)","v":0},null,null,null,null,null,null,null,null,null,null,null,null,null,{"$f":"SUM($CK$54:$CV$54)","v":0},null,null,null,null,null,null,null,null,null,null,null,null,null,{"$f":"SUM($CY$54:$DJ$54)","v":0},null,null,null,null,null,null,null,null,null,null,null,null,null,{"$f":"SUM($DM$54:$DX$54)","v":0},null,null,null,null,null,null,null,null,null,null,null,null,null,{"$f":"SUM($EA$54:$EL$54)","v":0},null,null,null,null,null,null,null,null,null,null,null,null,null,{"$f":"SUM($EO$54:$EZ$54)","v":0},null,null,null,null,null,null,null,null,null,null,null,null,null,{"$f":"SUM($FC$54:$FN$54)","v":0}]
[{"$f":"C55&D55","v":"Entrada de Financiamento / CusteioP"},null,"Entrada de Financiamento / Custeio","P",0,0,0,0,0,0,0,0,0,0,0,0,{"$f":"SUM($E$55:$P$55)","v":0},null,0,0,0,0,0,0,0,0,0,0,0,0,{"$f":"SUM($S$55:$AD$55)","v":0},null,0,0,0,0,0,0,0,0,0,0,0,0,{"$f":"SUM($AG$55:$AR$55)","v":0},null,0,0,0,0,0,0,0,0,0,0,0,0,{"$f":"SUM($AU$55:$BF$55)","v":0},null,0,0,0,0,0,0,0,0,0,0,0,0,{"$f":"SUM($BI$55:$BT$55)","v":0},null,0,0,0,0,0,0,0,0,0,0,0,0,{"$f":"SUM($BW$55:$CH$55)","v":0},null,0,0,0,0,0,0,0,0,0,0,0,0,{"$f":"SUM($CK$55:$CV$55)","v":0},null,0,0,0,0,0,0,0,0,0,0,0,0,{"$f":"SUM($CY$55:$DJ$55)","v":0},null,0,0,0,0,0,0,0,0,0,0,0,0,{"$f":"SUM($DM$55:$DX$55)","v":0},null,0,0,0,0,0,0,0,0,0,0,0,0,{"$f":"SUM($EA$55:$EL$55)","v":0},null,0,0,0,0,0,0,0,0,0,0,0,0,{"$f":"SUM($EO$55:$EZ$55)","v":0},null,0,0,0,0,0,0,0,0,0,0,0,0,{"$f":"SUM($FC$55:$FN$55)","v":0}]
[{"$f":"C55&D56","v":"Entrada de Financiamento / CusteioR"},null,null,"R",null,null,null,null,null,null,null,null,null,null,null,null,{"$f":"SUM($E$56:$P$56)","v":0},null,null,null,null,null,null,null,null,null,null,null,null,null,{"$f":"SUM($S$56:$AD$56)","v":0},null,null,null,null,null,null,null,null,null,null,null,null,null,{"$f":"SUM($AG$56:$AR$56)","v":0},null,null,null,null,null,null,null,null,null,null,null,null,null,{"$f":"SUM($AU$56:$BF$56)","v":0},null,null,null,null,null,null,null,null,null,null,null,null,null,{"$f":"SUM($BI$56:$BT$56)","v":0},null,null,null,null,null,null,null,null,null,null,null,null,null,{"$f":"SUM($BW$56:$CH$56)","v":0},null,null,null,null,null,null,null,null,null,null,null,null,null,{"$f":"SUM($CK$56:$CV$56)","v":0},null,null,null,null,null,null,null,null,null,null,null,null,null,{"$f":"SUM($CY$56:$DJ$56)","v":0},null,null,null,null,null,null,null,null,null,null,null,null,null,{"$f":"SUM($DM$56:$DX$56)","v":0},null,null,null,null,null,null,null,null,null,null,null,null,null,{"$f":"SUM($EA$56:$EL$56)","v":0},null,null,null,null,null,null,null,null,null,null,null,null,null,{"$f":"SUM($EO$56:$EZ$56)","v":0},null,null,null,null,null,null,null,null,null,null,null,null,null,{"$f":"SUM($FC$56:$FN$56)","v":0}]
[{"$f":"C57&D57","v":"Total EntradasP"},null,"Total Entradas","P",{"$f":"SUMIF($D$49:$D$56,$D57,E49:E56)","v":0},{"$f":"SUMIF($D$49:$D$56,$D57,F49:F56)","v":0},{"$f":"SUMIF($D$49:$D$56,$D57,G49:G56)","v":0},0,0,0,0,0,0,0,0,0,0,null,{"$f":"SUMIF($D$49:$D$56,$D57,S49:S56)","v":0},{"$f":"SUMIF($D$49:$D$56,$D57,T49:T56)","v":0},{"$f":"SUMIF($D$49:$D$56,$D57,U49:U56)","v":0},0,0,0,0,0,0,0,0,0,0,null,{"$f":"SUMIF($D$49:$D$56,$D57,AG49:AG56)","v":0},{"$f":"SUMIF($D$49:$D$56,$D57,AH49:AH56)","v":0},{"$f":"SUMIF($D$49:$D$56,$D57,AI49:AI56)","v":0},0,0,0,0,0,0,0,0,0,0,null,{"$f":"SUMIF($D$49:$D$56,$D57,AU49:AU56)","v":0},{"$f":"SUMIF($D$49:$D$56,$D57,AV49:AV56)","v":0},{"$f":"SUMIF($D$49:$D$56,$D57,AW49:AW56)","v":0},0,0,0,0,0,0,0,0,0,0,null,{"$f":"SUMIF($D$49:$D$56,$D57,BI49:BI56)","v":0},{"$f":"SUMIF($D$49:$D$56,$D57,BJ49:BJ56)","v":0},{"$f":"SUMIF($D$49:$D$56,$D57,BK49:BK56)","v":0},0,0,0,0,0,0,0,0,0,0,null,{"$f":"SUMIF($D$49:$D$56,$D57,BW49:BW56)","v":0},{"$f":"SUMIF($D$49:$D$56,$D57,BX49:BX56)","v":0},{"$f":"SUMIF($D$49:$D$56,$D57,BY49:BY56)","v":0},0,0,0,0,0,0,0,0,0,0,null,{"$f":"SUMIF($D$49:$D$56,$D57,CK49:CK56)","v":0},{"$f":"SUMIF($D$49:$D$56,$D57,CL49:CL56)","v":0},{"$f":"SUMIF($D$49:$D$56,$D57,CM49:CM56)","v":0},0,0,0,0,0,0,0,0,0,0,null,{"$f":"SUMIF($D$49:$D$56,$D57,CY49:CY56)","v":0},{"$f":"SUMIF($D$49:$D$56,$D57,CZ49:CZ56)","v":0},{"$f":"SUMIF($D$49:$D$56,$D57,DA49:DA56)","v":0},0,0,0,0,0,0,0,0,0,0,null,{"$f":"SUMIF($D$49:$D$56,$D57,DM49:DM56)","v":0},{"$f":"SUMIF($D$49:$D$56,$D57,DN49:DN56)","v":0},{"$f":"SUMIF($D$49:$D$56,$D57,DO49:DO56)","v":0},0,0,0,0,0,0,0,0,0,0,null,{"$f":"SUMIF($D$49:$D$56,$D57,EA49:EA56)","v":0},{"$f":"SUMIF($D$49:$D$56,$D57,EB49:EB56)","v":0},{"$f":"SUMIF($D$49:$D$56,$D57,EC49:EC56)","v":0},0,0,0,0,0,0,0,0,0,0,null,{"$f":"SUMIF($D$49:$D$56,$D57,EO49:EO56)","v":0},{"$f":"SUMIF($D$49:$D$56,$D57,EP49:EP56)","v":0},{"$f":"SUMIF($D$49:$D$56,$D57,EQ49:EQ56)","v":0},0,0,0,0,0,0,0,0,0,0,null,{"$f":"SUMIF($D$49:$D$56,$D57,FC49:FC56)","v":0},{"$f":"SUMIF($D$49:$D$56,$D57,FD49:FD56)","v":0},{"$f":"SUMIF($D$49:$D$56,$D57,FE49:FE56)","v":0},0,0,0,0,0,0,0,0,0,0]
[{"$f":"C57&D58","v":"Total EntradasR"},null,null,"R",{"$f":"SUMIF($D$49:$D$56,$D58,E$49:E$56)","v":0},{"$f":"SUMIF($D$49:$D$56,$D58,F$49:F$56)","v":0},0,0,0,0,0,0,0,0,0,0,0,null,{"$f":"SUMIF($D$49:$D$56,$D58,S$49:S$56)","v":0},{"$f":"SUMIF($D$49:$D$56,$D58,T$49:T$56)","v":0},0,0,0,0,0,0,0,0,0,0,0,null,{"$f":"SUMIF($D$49:$D$56,$D58,AG$49:AG$56)","v":0},{"$f":"SUMIF($D$49:$D$56,$D58,AH$49:AH$56)","v":0},0,0,0,0,0,0,0,0,0,0,0,null,{"$f":"SUMIF($D$49:$D$56,$D58,AU$49:AU$56)","v":0},{"$f":"SUMIF($D$49:$D$56,$D58,AV$49:AV$56)","v":0},0,0,0,0,0,0,0,0,0,0,0,null,{"$f":"SUMIF($D$49:$D$56,$D58,BI$49:BI$56)","v":0},{"$f":"SUMIF($D$49:$D$56,$D58,BJ$49:BJ$56)","v":0},0,0,0,0,0,0,0,0,0,0,0,null,{"$f":"SUMIF($D$49:$D$56,$D58,BW$49:BW$56)","v":0},{"$f":"SUMIF($D$49:$D$56,$D58,BX$49:BX$56)","v":0},0,0,0,0,0,0,0,0,0,0,0,null,{"$f":"SUMIF($D$49:$D$56,$D58,CK$49:CK$56)","v":0},{"$f":"SUMIF($D$49:$D$56,$D58,CL$49:CL$56)","v":0},0,0,0,0,0,0,0,0,0,0,0,null,{"$f":"SUMIF($D$49:$D$56,$D58,CY$49:CY$56)","v":0},{"$f":"SUMIF($D$49:$D$56,$D58,CZ$49:CZ$56)","v":0},0,0,0,0,0,0,0,0,0,0,0,null,{"$f":"SUMIF($D$49:$D$56,$D58,DM$49:DM$56)","v":0},{"$f":"SUMIF($D$49:$D$56,$D58,DN$49:DN$56)","v":0},0,0,0,0,0,0,0,0,0,0,0,null,{"$f":"SUMIF($D$49:$D$56,$D58,EA$49:EA$56)","v":0},{"$f":"SUMIF($D$49:$D$56,$D58,EB$49:EB$56)","v":0},0,0,0,0,0,0,0,0,0,0,0,null,{"$f":"SUMIF($D$49:$D$56,$D58,EO$49:EO$56)","v":0},{"$f":"SUMIF($D$49:$D$56,$D58,EP$49:EP$56)","v":0},0,0,0,0,0,0,0,0,0,0,0,null,{"$f":"SUMIF($D$49:$D$56,$D58,FC$49:FC$56)","v":0},{"$f":"SUMIF($D$49:$D$56,$D58,FD$49:FD$56)","v":0},0,0,0,0,0,0,0,0,0,0,0]
[{"$f":"C59&D59","v":""}]
[{"$f":"C59&D60","v":""},"Saldo de Exercícios Anteriores"]
[{"$f":"B61&D61","v":"Saldo de Caixa MensalP"},"Saldo de Caixa Mensal",null,"P",{"$f":"E57-E45","v":0},0,0,0,0,0,0,0,0,0,0,0,0,null,{"$f":"S57-S45","v":0},0,0,0,0,0,0,0,0,0,0,0,0,null,{"$f":"AG57-AG45","v":0},0,0,0,0,0,0,0,0,0,0,0,0,null,{"$f":"AU57-AU45","v":0},0,0,0,0,0,0,0,0,0,0,0,0,null,{"$f":"BI57-BI45","v":0},0,0,0,0,0,0,0,0,0,0,0,0,null,{"$f":"BW57-BW45","v":0},0,0,0,0,0,0,0,0,0,0,0,0,null,{"$f":"CK57-CK45","v":0},0,0,0,0,0,0,0,0,0,0,0,0,null,{"$f":"CY57-CY45","v":0},0,0,0,0,0,0,0,0,0,0,0,0,null,{"$f":"DM57-DM45","v":0},0,0,0,0,0,0,0,0,0,0,0,0,null,{"$f":"EA57-EA45","v":0},0,0,0,0,0,0,0,0,0,0,0,0,null,{"$f":"EO57-EO45","v":0},0,0,0,0,0,0,0,0,0,0,0,0,null,{"$f":"FC57-FC45","v":0},0,0,0,0,0,0,0,0,0,0,0,0]
[{"$f":"B61&D62","v":"Saldo de Caixa MensalR"},null,null,"R",{"$f":"E58-E46","v":0},0,0,0,0,0,0,0,0,0,0,0,0,null,{"$f":"S58-S46","v":0},0,0,0,0,0,0,0,0,0,0,0,0,null,{"$f":"AG58-AG46","v":0},0,0,0,0,0,0,0,0,0,0,0,0,null,{"$f":"AU58-AU46","v":0},0,0,0,0,0,0,0,0,0,0,0,0,null,{"$f":"BI58-BI46","v":0},0,0,0,0,0,0,0,0,0,0,0,0,null,{"$f":"BW58-BW46","v":0},0,0,0,0,0,0,0,0,0,0,0,0,null,{"$f":"CK58-CK46","v":0},0,0,0,0,0,0,0,0,0,0,0,0,null,{"$f":"CY58-CY46","v":0},0,0,0,0,0,0,0,0,0,0,0,0,null,{"$f":"DM58-DM46","v":0},0,0,0,0,0,0,0,0,0,0,0,0,null,{"$f":"EA58-EA46","v":0},0,0,0,0,0,0,0,0,0,0,0,0,null,{"$f":"EO58-EO46","v":0},0,0,0,0,0,0,0,0,0,0,0,0,null,{"$f":"FC58-FC46","v":0},0,0,0,0,0,0,0,0,0,0,0,0]
[{"$f":"B63&D63","v":"Caixa AcumuladoP"},"Caixa Acumulado",null,"P",{"$f":"E61","v":0},{"$f":"F61+E63","v":0},{"$f":"G61+F63","v":0},0,0,0,{"$f":"K61+J63","v":0},0,0,0,0,0,null,null,{"$f":"S61+P63","v":0},{"$f":"T61+S63","v":0},{"$f":"U61+T63","v":0},0,0,0,0,0,0,0,0,{"$f":"AD61+AC63","v":0},null,null,{"$f":"AG61+AD63","v":0},{"$f":"AH61+AG63","v":0},{"$f":"AI61+AH63","v":0},0,0,0,0,0,0,0,0,{"$f":"AR61+AQ63","v":0},null,null,{"$f":"AU61+AR63","v":0},{"$f":"AV61+AU63","v":0},{"$f":"AW61+AV63","v":0},0,0,0,0,0,0,0,0,{"$f":"BF61+BE63","v":0},null,null,{"$f":"BI61+BF63","v":0},{"$f":"BJ61+BI63","v":0},{"$f":"BK61+BJ63","v":0},0,0,0,0,0,0,0,0,{"$f":"BT61+BS63","v":0},null,null,{"$f":"BW61+BT63","v":0},{"$f":"BX61+BW63","v":0},{"$f":"BY61+BX63","v":0},0,0,0,0,0,0,0,0,{"$f":"CH61+CG63","v":0},null,null,{"$f":"CK61+CH63","v":0},{"$f":"CL61+CK63","v":0},{"$f":"CM61+CL63","v":0},0,0,0,0,0,0,0,0,{"$f":"CV61+CU63","v":0},null,null,{"$f":"CY61+CV63","v":0},{"$f":"CZ61+CY63","v":0},{"$f":"DA61+CZ63","v":0},0,0,0,0,0,0,0,0,{"$f":"DJ61+DI63","v":0},null,null,{"$f":"DM61+DJ63","v":0},{"$f":"DN61+DM63","v":0},{"$f":"DO61+DN63","v":0},0,0,0,0,0,0,0,0,{"$f":"DX61+DW63","v":0},null,null,{"$f":"EA61+DX63","v":0},{"$f":"EB61+EA63","v":0},{"$f":"EC61+EB63","v":0},0,0,0,0,0,0,0,0,{"$f":"EL61+EK63","v":0},null,null,{"$f":"EO61+EL63","v":0},{"$f":"EP61+EO63","v":0},{"$f":"EQ61+EP63","v":0},0,0,0,0,0,0,0,0,{"$f":"EZ61+EY63","v":0},null,null,{"$f":"FC61+EZ63","v":0},{"$f":"FD61+FC63","v":0},{"$f":"FE61+FD63","v":0},0,0,0,0,0,0,0,0,{"$f":"FN61+FM63","v":0}]
[{"$f":"B63&D64","v":"Caixa AcumuladoR"},null,null,"R",{"$f":"E60+E62","v":0},{"$f":"E64+F62","v":0},{"$f":"F64+G62","v":0},0,0,0,0,0,0,0,0,0,null,null,{"$f":"S62+P64","v":0},{"$f":"T62+S64","v":0},0,0,0,0,0,0,0,0,0,0,null,null,{"$f":"AG62+AD64","v":0},{"$f":"AH62+AG64","v":0},0,0,0,0,0,0,0,0,0,0,null,null,{"$f":"AU62+AR64","v":0},{"$f":"AV62+AU64","v":0},0,0,0,0,0,0,0,0,0,0,null,null,{"$f":"BI62+BF64","v":0},{"$f":"BJ62+BI64","v":0},0,0,0,0,0,0,0,0,0,0,null,null,{"$f":"BW62+BT64","v":0},{"$f":"BX62+BW64","v":0},0,0,0,0,0,0,0,0,0,0,null,null,{"$f":"CK62+CH64","v":0},{"$f":"CL62+CK64","v":0},0,0,0,0,0,0,0,0,0,0,null,null,{"$f":"CY62+CV64","v":0},{"$f":"CZ62+CY64","v":0},0,0,0,0,0,0,0,0,0,0,null,null,{"$f":"DM62+DJ64","v":0},{"$f":"DN62+DM64","v":0},0,0,0,0,0,0,0,0,0,0,null,null,{"$f":"EA62+DX64","v":0},{"$f":"EB62+EA64","v":0},0,0,0,0,0,0,0,0,0,0,null,null,{"$f":"EO62+EL64","v":0},{"$f":"EP62+EO64","v":0},0,0,0,0,0,0,0,0,0,0,null,null,{"$f":"FC62+EZ64","v":0},{"$f":"FD62+FC64","v":0},0,0,0,0,0,0,0,0,0,0]

{"sheet":"Atividade 6","index":6,"n_rows":64,"n_cols":183,"rows_kept":64,"cut":false,"hidden":false,"merged":[[0,158,1,170],[2,130,2,142],[2,144,2,156],[2,158,2,170],[2,116,2,128],[0,116,1,128],[0,130,1,142],[0,144,1,156],[0,60,1,72],[0,74,1,86],[0,88,1,100],[0,102,1,114],[28,2,29,2],[2,60,2,72],[2,74,2,86],[2,88,2,100],[2,102,2,114],[2,4,2,16],[2,18,2,30],[2,32,2,44],[2,46,2,58],[0,4,1,16],[0,18,1,30],[0,32,1,44],[0,46,1,58],[4,1,45,1],[4,2,5,2],[6,2,7,2],[8,2,9,2],[10,2,11,2],[12,2,13,2],[14,2,15,2],[16,2,17,2],[18,2,19,2],[20,2,21,2],[22,2,23,2],[24,2,25,2],[26,2,27,2],[40,2,41,2],[42,2,43,2],[60,1,61,2],[62,1,63,2],[59,1,59,2],[44,2,45,2],[48,1,57,1],[48,2,49,2],[52,2,53,2],[54,2,55,2],[56,2,57,2],[50,2,51,2],[30,2,31,2],[32,2,33,2],[34,2,35,2],[36,2,37,2],[38,2,39,2]]}
[null,null,null,null,{"$f":"MENU!$C$30","v":"Bovinocultura de Corte"},null,null,null,null,null,null,null,null,null,null,null,null,null,{"$f":"MENU!$C$30","v":"Bovinocultura de Corte"},null,null,null,null,null,null,null,null,null,null,null,null,null,{"$f":"MENU!$C$30","v":"Bovinocultura de Corte"},null,null,null,null,null,null,null,null,null,null,null,null,null,{"$f":"MENU!$C$30","v":"Bovinocultura de Corte"},null,null,null,null,null,null,null,null,null,null,null,null,null,{"$f":"MENU!$C$30","v":"Bovinocultura de Corte"},null,null,null,null,null,null,null,null,null,null,null,null,null,{"$f":"MENU!$C$30","v":"Bovinocultura de Corte"},null,null,null,null,null,null,null,null,null,null,null,null,null,{"$f":"MENU!$C$30","v":"Bovinocultura de Corte"},null,null,null,null,null,null,null,null,null,null,null,null,null,{"$f":"MENU!$C$30","v":"Bovinocultura de Corte"},null,null,null,null,null,null,null,null,null,null,null,null,null,{"$f":"MENU!$C$30","v":"Bovinocultura de Corte"},null,null,null,null,null,null,null,null,null,null,null,null,null,{"$f":"MENU!$C$30","v":"Bovinocultura de Corte"},null,null,null,null,null,null,null,null,null,null,null,null,null,{"$f":"MENU!$C$30","v":"Bovinocultura de Corte"},null,null,null,null,null,null,null,null,null,null,null,null,null,{"$f":"MENU!$C$30","v":"Bovinocultura de Corte"}]
[null,null,null,null,null,null,null,null,null,null,null,null,null,null,null,null,null,null,null,null,null,null,null,null,null,null,null,null,null,null,null,null,null,null,null,null,null,null,null,null,null,null,null,null,null,null,null,null,null,null,null,null,null,null,null,null,null,null,null,null,null,null,null,null,null,null,null,null,null,null,null,null,null,null,null,null,null,null,null,null,null,null,null,null,null,null,null,null,null,null,null,null,null,null,null,null,null,null,null,null,null,null,null,null,null,null,null,null,null,null,null,null,null,null,null,null,null,null,null,null,null,null,null,null,null,null,null,null,null,null,null,null,null,null,null,null,null,null,null,null,null,null,null,null,null,null,null,null,null,null,null,null,null,null,null,null,null,null,null,null,null,null,null,null,null,null,null,null,null,null,null,null,null,null,null,null,null,null,6,1,{"$f":"VLOOKUP(FX2,FX3:FY14,2,0)","v":2017},{"$f":"VLOOKUP(FY2,$FY$3:$FZ$14,2,0)","v":"R3C5"},1]
[null,null,null,null,{"$f":"MENU!F6","v":0},null,null,null,null,null,null,null,null,null,null,null,null,null,{"$f":"E3+1","v":1},null,null,null,null,null,null,null,null,null,null,null,null,null,{"$f":"S3+1","v":2},null,null,null,null,null,null,null,null,null,null,null,null,null,{"$f":"AG3+1","v":3},null,null,null,null,null,null,null,null,null,null,null,null,null,{"$f":"AU3+1","v":4},null,null,null,null,null,null,null,null,null,null,null,null,null,{"$f":"BI3+1","v":5},null,null,null,null,null,null,null,null,null,null,null,null,null,{"$f":"BW3+1","v":6},null,null,null,null,null,null,null,null,null,null,null,null,null,{"$f":"CK3+1","v":7},null,null,null,null,null,null,null,null,null,null,null,null,null,{"$f":"CY3+1","v":8},null,null,null,null,null,null,null,null,null,null,null,null,null,{"$f":"DM3+1","v":9},null,null,null,null,null,null,null,null,null,null,null,null,null,{"$f":"EA3+1","v":10},null,null,null,null,null,null,null,null,null,null,null,null,null,{"$f":"EO3+1","v":11},null,null,null,null,null,null,null,null,null,null,null,null,null,null,null,null,null,null,null,null,1,2017,"R3C5"]
[null,null,"Descrição de Despesa",null,"Jan","Fev","Mar","Abr","Mai","Jun","Jul","Ago","Set","Out","Nov","Dez","Total",null,"Jan","Fev","Mar","Abr","Mai","Jun","Jul","Ago","Set","Out","Nov","Dez","Total",null,"Jan","Fev","Mar","Abr","Mai","Jun","Jul","Ago","Set","Out","Nov","Dez","Total",null,"Jan","Fev","Mar","Abr","Mai","Jun","Jul","Ago","Set","Out","Nov","Dez","Total",null,"Jan","Fev","Mar","Abr","Mai","Jun","Jul","Ago","Set","Out","Nov","Dez","Total",null,"Jan","Fev","Mar","Abr","Mai","Jun","Jul","Ago","Set","Out","Nov","Dez","Total",null,"Jan","Fev","Mar","Abr","Mai","Jun","Jul","Ago","Set","Out","Nov","Dez","Total",null,"Jan","Fev","Mar","Abr","Mai","Jun","Jul","Ago","Set","Out","Nov","Dez","Total",null,"Jan","Fev","Mar","Abr","Mai","Jun","Jul","Ago","Set","Out","Nov","Dez","Total",null,"Jan","Fev","Mar","Abr","Mai","Jun","Jul","Ago","Set","Out","Nov","Dez","Total",null,"Jan","Fev","Mar","Abr","Mai","Jun","Jul","Ago","Set","Out","Nov","Dez","Total",null,"Jan","Fev","Mar","Abr","Mai","Jun","Jul","Ago","Set","Out","Nov","Dez","Total",null,null,null,null,null,null,null,null,2,2018,"R3C19"]
[{"$f":"C5&D5","v":"Mão de Obra PagaP"},"Saídas de Caixa","Mão de Obra Paga","P",0,0,0,0,0,0,0,0,0,0,0,0,{"$f":"SUM($E$5:$P$5)","v":0},null,0,0,0,0,0,0,0,0,0,0,0,0,{"$f":"SUM($S$5:$AD$5)","v":0},null,0,0,0,0,0,0,0,0,0,0,0,0,{"$f":"SUM($AG$5:$AR$5)","v":0},null,0,0,0,0,0,0,0,0,0,0,0,0,{"$f":"SUM($AU$5:$BF$5)","v":0},null,0,0,0,0,0,0,0,0,0,0,0,0,{"$f":"SUM($BI$5:$BT$5)","v":0},null,0,0,0,0,0,0,0,0,0,0,0,0,{"$f":"SUM($BW$5:$CH$5)","v":0},null,0,0,0,0,0,0,0,0,0,0,0,0,{"$f":"SUM($CK$5:$CV$5)","v":0},null,0,0,0,0,0,0,0,0,0,0,0,0,{"$f":"SUM($CY$5:$DJ$5)","v":0},null,0,0,0,0,0,0,0,0,0,0,0,0,{"$f":"SUM($DM$5:$DX$5)","v":0},null,0,0,0,0,0,0,0,0,0,0,0,0,{"$f":"SUM($EA$5:$EL$5)","v":0},null,0,0,0,0,0,0,0,0,0,0,0,0,{"$f":"SUM($EO$5:$EZ$5)","v":0},null,0,0,0,0,0,0,0,0,0,0,0,0,{"$f":"SUM($FC$5:$FN$5)","v":0},null,null,null,null,null,null,null,null,3,2019,"R3C33"]
[{"$f":"C5&D6","v":"Mão de Obra PagaR"},null,null,"R",null,null,null,null,null,null,null,null,null,null,null,null,{"$f":"SUM($E$6:$P$6)","v":0},null,null,null,null,null,null,null,null,null,null,null,null,null,{"$f":"SUM($S$6:$AD$6)","v":0},null,null,null,null,null,null,null,null,null,null,null,null,null,{"$f":"SUM($AG$6:$AR$6)","v":0},null,null,null,null,null,null,null,null,null,null,null,null,null,{"$f":"SUM($AU$6:$BF$6)","v":0},null,null,null,null,null,null,null,null,null,null,null,null,null,{"$f":"SUM($BI$6:$BT$6)","v":0},null,null,null,null,null,null,null,null,null,null,null,null,null,{"$f":"SUM($BW$6:$CH$6)","v":0},null,null,null,null,null,null,null,null,null,null,null,null,null,{"$f":"SUM($CK$6:$CV$6)","v":0},null,null,null,null,null,null,null,null,null,null,null,null,null,{"$f":"SUM($CY$6:$DJ$6)","v":0},null,null,null,null,null,null,null,null,null,null,null,null,null,{"$f":"SUM($DM$6:$DX$6)","v":0},null,null,null,null,null,null,null,null,null,null,null,null,null,{"$f":"SUM($EA$6:$EL$6)","v":0},null,null,null,null,null,null,null,null,null,null,null,null,null,{"$f":"SUM($EO$6:$EZ$6)","v":0},null,null,null,null,null,null,null,null,null,null,null,null,null,{"$f":"SUM($FC$6:$FN$6)","v":0},null,null,null,null,null,null,null,null,4,2020,"R3C47"]
[{"$f":"C7&D7","v":"Sal MineralP"},null,"Sal Mineral","P",0,0,0,0,0,0,0,0,0,0,0,0,{"$f":"SUM($E$7:$P$7)","v":0},null,0,0,0,0,0,0,0,0,0,0,0,0,{"$f":"SUM($S$7:$AD$7)","v":0},null,0,0,0,0,0,0,0,0,0,0,0,0,{"$f":"SUM($AG$7:$AR$7)","v":0},null,0,0,0,0,0,0,0,0,0,0,0,0,{"$f":"SUM($AU$7:$BF$7)","v":0},null,0,0,0,0,0,0,0,0,0,0,0,0,{"$f":"SUM($BI$7:$BT$7)","v":0},null,0,0,0,0,0,0,0,0,0,0,0,0,{"$f":"SUM($BW$7:$CH$7)","v":0},null,0,0,0,0,0,0,0,0,0,0,0,0,{"$f":"SUM($CK$7:$CV$7)","v":0},null,0,0,0,0,0,0,0,0,0,0,0,0,{"$f":"SUM($CY$7:$DJ$7)","v":0},null,0,0,0,0,0,0,0,0,0,0,0,0,{"$f":"SUM($DM$7:$DX$7)","v":0},null,0,0,0,0,0,0,0,0,0,0,0,0,{"$f":"SUM($EA$7:$EL$7)","v":0},null,0,0,0,0,0,0,0,0,0,0,0,0,{"$f":"SUM($EO$7:$EZ$7)","v":0},null,0,0,0,0,0,0,0,0,0,0,0,0,{"$f":"SUM($FC$7:$FN$7)","v":0},null,null,null,null,null,null,null,null,5,2021,"R3C61"]
[{"$f":"C7&D8","v":"Sal MineralR"},null,null,"R",null,null,null,null,null,null,null,null,null,null,null,null,{"$f":"SUM($E$8:$P$8)","v":0},null,null,null,null,null,null,null,null,null,null,null,null,null,{"$f":"SUM($S$8:$AD$8)","v":0},null,null,null,null,null,null,null,null,null,null,null,null,null,{"$f":"SUM($AG$8:$AR$8)","v":0},null,null,null,null,null,null,null,null,null,null,null,null,null,{"$f":"SUM($AU$8:$BF$8)","v":0},null,null,null,null,null,null,null,null,null,null,null,null,null,{"$f":"SUM($BI$8:$BT$8)","v":0},null,null,null,null,null,null,null,null,null,null,null,null,null,{"$f":"SUM($BW$8:$CH$8)","v":0},null,null,null,null,null,null,null,null,null,null,null,null,null,{"$f":"SUM($CK$8:$CV$8)","v":0},null,null,null,null,null,null,null,null,null,null,null,null,null,{"$f":"SUM($CY$8:$DJ$8)","v":0},null,null,null,null,null,null,null,null,null,null,null,null,null,{"$f":"SUM($DM$8:$DX$8)","v":0},null,null,null,null,null,null,null,null,null,null,null,null,null,{"$f":"SUM($EA$8:$EL$8)","v":0},null,null,null,null,null,null,null,null,null,null,null,null,null,{"$f":"SUM($EO$8:$EZ$8)","v":0},null,null,null,null,null,null,null,null,null,null,null,null,null,{"$f":"SUM($FC$8:$FN$8)","v":0},null,null,null,null,null,null,null,null,6,2022,"R3C75"]
[{"$f":"C9&D9","v":"Vacinas/ MedicamentosP"},null,"Vacinas/ Medicamentos","P",0,0,0,0,0,0,0,0,0,0,0,0,{"$f":"SUM($E$9:$P$9)","v":0},null,0,0,0,0,0,0,0,0,0,0,0,0,{"$f":"SUM($S$9:$AD$9)","v":0},null,0,0,0,0,0,0,0,0,0,0,0,0,{"$f":"SUM($AG$9:$AR$9)","v":0},null,0,0,0,0,0,0,0,0,0,0,0,0,{"$f":"SUM($AU$9:$BF$9)","v":0},null,0,0,0,0,0,0,0,0,0,0,0,0,{"$f":"SUM($BI$9:$BT$9)","v":0},null,0,0,0,0,0,0,0,0,0,0,0,0,{"$f":"SUM($BW$9:$CH$9)","v":0},null,0,0,0,0,0,0,0,0,0,0,0,0,{"$f":"SUM($CK$9:$CV$9)","v":0},null,0,0,0,0,0,0,0,0,0,0,0,0,{"$f":"SUM($CY$9:$DJ$9)","v":0},null,0,0,0,0,0,0,0,0,0,0,0,0,{"$f":"SUM($DM$9:$DX$9)","v":0},null,0,0,0,0,0,0,0,0,0,0,0,0,{"$f":"SUM($EA$9:$EL$9)","v":0},null,0,0,0,0,0,0,0,0,0,0,0,0,{"$f":"SUM($EO$9:$EZ$9)","v":0},null,0,0,0,0,0,0,0,0,0,0,0,0,{"$f":"SUM($FC$9:$FN$9)","v":0},null,null,null,null,null,null,null,null,7,2023,"R3C89"]
[{"$f":"C9&D10","v":"Vacinas/ MedicamentosR"},null,null,"R",null,null,null,null,null,null,null,null,null,null,null,null,{"$f":"SUM($E$10:$P$10)","v":0},null,null,null,null,null,null,null,null,null,null,null,null,null,{"$f":"SUM($S$10:$AD$10)","v":0},null,null,null,null,null,null,null,null,null,null,null,null,null,{"$f":"SUM($AG$10:$AR$10)","v":0},null,null,null,null,null,null,null,null,null,null,null,null,null,{"$f":"SUM($AU$10:$BF$10)","v":0},null,null,null,null,null,null,null,null,null,null,null,null,null,{"$f":"SUM($BI$10:$BT$10)","v":0},null,null,null,null,null,null,null,null,null,null,null,null,null,{"$f":"SUM($BW$10:$CH$10)","v":0},null,null,null,null,null,null,null,null,null,null,null,null,null,{"$f":"SUM($CK$10:$CV$10)","v":0},null,null,null,null,null,null,null,null,null,null,null,null,null,{"$f":"SUM($CY$10:$DJ$10)","v":0},null,null,null,null,null,null,null,null,null,null,null,null,null,{"$f":"SUM($DM$10:$DX$10)","v":0},null,null,null,null,null,null,null,null,null,null,null,null,null,{"$f":"SUM($EA$10:$EL$10)","v":0},null,null,null,null,null,null,null,null,null,null,null,null,null,{"$f":"SUM($EO$10:$EZ$10)","v":0},null,null,null,null,null,null,null,null,null,null,null,null,null,{"$f":"SUM($FC$10:$FN$10)","v":0},null,null,null,null,null,null,null,null,8,2024,"R3C103"]
[{"$f":"C11&D11","v":"Ração/ Alimentos/FenoP"},null,"Ração/ Alimentos/Feno","P",0,0,0,0,0,0,0,0,0,0,0,0,{"$f":"SUM($E$11:$P$11)","v":0},null,0,0,0,0,0,0,0,0,0,0,0,0,{"$f":"SUM($S$11:$AD$11)","v":0},null,0,0,0,0,0,0,0,0,0,0,0,0,{"$f":"SUM($AG$11:$AR$11)","v":0},null,0,0,0,0,0,0,0,0,0,0,0,0,{"$f":"SUM($AU$11:$BF$11)","v":0},null,0,0,0,0,0,0,0,0,0,0,0,0,{"$f":"SUM($BI$11:$BT$11)","v":0},null,0,0,0,0,0,0,0,0,0,0,0,0,{"$f":"SUM($BW$11:$CH$11)","v":0},null,0,0,0,0,0,0,0,0,0,0,0,0,{"$f":"SUM($CK$11:$CV$11)","v":0},null,0,0,0,0,0,0,0,0,0,0,0,0,{"$f":"SUM($CY$11:$DJ$11)","v":0},null,0,0,0,0,0,0,0,0,0,0,0,0,{"$f":"SUM($DM$11:$DX$11)","v":0},null,0,0,0,0,0,0,0,0,0,0,0,0,{"$f":"SUM($EA$11:$EL$11)","v":0},null,0,0,0,0,0,0,0,0,0,0,0,0,{"$f":"SUM($EO$11:$EZ$11)","v":0},null,0,0,0,0,0,0,0,0,0,0,0,0,{"$f":"SUM($FC$11:$FN$11)","v":0},null,null,null,null,null,null,null,null,9,2025,"R3C117"]
[{"$f":"C11&D12","v":"Ração/ Alimentos/FenoR"},null,null,"R",null,null,null,null,null,null,null,null,null,null,null,null,{"$f":"SUM($E$12:$P$12)","v":0},null,null,null,null,null,null,null,null,null,null,null,null,null,{"$f":"SUM($S$12:$AD$12)","v":0},null,null,null,null,null,null,null,null,null,null,null,null,null,{"$f":"SUM($AG$12:$AR$12)","v":0},null,null,null,null,null,null,null,null,null,null,null,null,null,{"$f":"SUM($AU$12:$BF$12)","v":0},null,null,null,null,null,null,null,null,null,null,null,null,null,{"$f":"SUM($BI$12:$BT$12)","v":0},null,null,null,null,null,null,null,null,null,null,null,null,null,{"$f":"SUM($BW$12:$CH$12)","v":0},null,null,null,null,null,null,null,null,null,null,null,null,null,{"$f":"SUM($CK$12:$CV$12)","v":0},null,null,null,null,null,null,null,null,null,null,null,null,null,{"$f":"SUM($CY$12:$DJ$12)","v":0},null,null,null,null,null,null,null,null,null,null,null,null,null,{"$f":"SUM($DM$12:$DX$12)","v":0},null,null,null,null,null,null,null,null,null,null,null,null,null,{"$f":"SUM($EA$12:$EL$12)","v":0},null,null,null,null,null,null,null,null,null,null,null,null,null,{"$f":"SUM($EO$12:$EZ$12)","v":0},null,null,null,null,null,null,null,null,null,null,null,null,null,{"$f":"SUM($FC$12:$FN$12)","v":0},null,null,null,null,null,null,null,null,10,2026,"R3C131"]
[{"$f":"C13&D13","v":"Pastagens de VerãoP"},null,"Pastagens de Verão","P",0,0,0,0,0,0,0,0,0,0,0,0,{"$f":"SUM($E$13:$P$13)","v":0},null,0,0,0,0,0,0,0,0,0,0,0,0,{"$f":"SUM($S$13:$AD$13)","v":0},null,0,0,0,0,0,0,0,0,0,0,0,0,{"$f":"SUM($AG$13:$AR$13)","v":0},null,0,0,0,0,0,0,0,0,0,0,0,0,{"$f":"SUM($AU$13:$BF$13)","v":0},null,0,0,0,0,0,0,0,0,0,0,0,0,{"$f":"SUM($BI$13:$BT$13)","v":0},null,0,0,0,0,0,0,0,0,0,0,0,0,{"$f":"SUM($BW$13:$CH$13)","v":0},null,0,0,0,0,0,0,0,0,0,0,0,0,{"$f":"SUM($CK$13:$CV$13)","v":0},null,0,0,0,0,0,0,0,0,0,0,0,0,{"$f":"SUM($CY$13:$DJ$13)","v":0},null,0,0,0,0,0,0,0,0,0,0,0,0,{"$f":"SUM($DM$13:$DX$13)","v":0},null,0,0,0,0,0,0,0,0,0,0,0,0,{"$f":"SUM($EA$13:$EL$13)","v":0},null,0,0,0,0,0,0,0,0,0,0,0,0,{"$f":"SUM($EO$13:$EZ$13)","v":0},null,0,0,0,0,0,0,0,0,0,0,0,0,{"$f":"SUM($FC$13:$FN$13)","v":0},null,null,null,null,null,null,null,null,11,2027,"R3C145"]
[{"$f":"C13&D14","v":"Pastagens de VerãoR"},null,null,"R",null,null,null,null,null,null,null,null,null,null,null,null,{"$f":"SUM($E$14:$P$14)","v":0},null,null,null,null,null,null,null,null,null,null,null,null,null,{"$f":"SUM($S$14:$AD$14)","v":0},null,null,null,null,null,null,null,null,null,null,null,null,null,{"$f":"SUM($AG$14:$AR$14)","v":0},null,null,null,null,null,null,null,null,null,null,null,null,null,{"$f":"SUM($AU$14:$BF$14)","v":0},null,null,null,null,null,null,null,null,null,null,null,null,null,{"$f":"SUM($BI$14:$BT$14)","v":0},null,null,null,null,null,null,null,null,null,null,null,null,null,{"$f":"SUM($BW$14:$CH$14)","v":0},null,null,null,null,null,null,null,null,null,null,null,null,null,{"$f":"SUM($CK$14:$CV$14)","v":0},null,null,null,null,null,null,null,null,null,null,null,null,null,{"$f":"SUM($CY$14:$DJ$14)","v":0},null,null,null,null,null,null,null,null,null,null,null,null,null,{"$f":"SUM($DM$14:$DX$14)","v":0},null,null,null,null,null,null,null,null,null,null,null,null,null,{"$f":"SUM($EA$14:$EL$14)","v":0},null,null,null,null,null,null,null,null,null,null,null,null,null,{"$f":"SUM($EO$14:$EZ$14)","v":0},null,null,null,null,null,null,null,null,null,null,null,null,null,{"$f":"SUM($FC$14:$FN$14)","v":0},null,null,null,null,null,null,null,null,12,2028,"R3C159"]
[{"$f":"C15&D15","v":"Pastagens de InvernoP"},null,"Pastagens de Inverno","P",0,0,0,0,0,0,0,0,0,0,0,0,{"$f":"SUM($E$15:$P$15)","v":0},null,0,0,0,0,0,0,0,0,0,0,0,0,{"$f":"SUM($S$15:$AD$15)","v":0},null,0,0,0,0,0,0,0,0,0,0,0,0,{"$f":"SUM($AG$15:$AR$15)","v":0},null,0,0,0,0,0,0,0,0,0,0,0,0,{"$f":"SUM($AU$15:$BF$15)","v":0},null,0,0,0,0,0,0,0,0,0,0,0,0,{"$f":"SUM($BI$15:$BT$15)","v":0},null,0,0,0,0,0,0,0,0,0,0,0,0,{"$f":"SUM($BW$15:$CH$15)","v":0},null,0,0,0,0,0,0,0,0,0,0,0,0,{"$f":"SUM($CK$15:$CV$15)","v":0},null,0,0,0,0,0,0,0,0,0,0,0,0,{"$f":"SUM($CY$15:$DJ$15)","v":0},null,0,0,0,0,0,0,0,0,0,0,0,0,{"$f":"SUM($DM$15:$DX$15)","v":0},null,0,0,0,0,0,0,0,0,0,0,0,0,{"$f":"SUM($EA$15:$EL$15)","v":0},null,0,0,0,0,0,0,0,0,0,0,0,0,{"$f":"SUM($EO$15:$EZ$15)","v":0},null,0,0,0,0,0,0,0,0,0,0,0,0,{"$f":"SUM($FC$15:$FN$15)","v":0}]
[{"$f":"C15&D16","v":"Pastagens de InvernoR"},null,null,"R",null,null,null,null,null,null,null,null,null,null,null,null,{"$f":"SUM($E$16:$P$16)","v":0},null,null,null,null,null,null,null,null,null,null,null,null,null,{"$f":"SUM($S$16:$AD$16)","v":0},null,null,null,null,null,null,null,null,null,null,null,null,null,{"$f":"SUM($AG$16:$AR$16)","v":0},null,null,null,null,null,null,null,null,null,null,null,null,null,{"$f":"SUM($AU$16:$BF$16)","v":0},null,null,null,null,null,null,null,null,null,null,null,null,null,{"$f":"SUM($BI$16:$BT$16)","v":0},null,null,null,null,null,null,null,null,null,null,null,null,null,{"$f":"SUM($BW$16:$CH$16)","v":0},null,null,null,null,null,null,null,null,null,null,null,null,null,{"$f":"SUM($CK$16:$CV$16)","v":0},null,null,null,null,null,null,null,null,null,null,null,null,null,{"$f":"SUM($CY$16:$DJ$16)","v":0},null,null,null,null,null,null,null,null,null,null,null,null,null,{"$f":"SUM($DM$16:$DX$16)","v":0},null,null,null,null,null,null,null,null,null,null,null,null,null,{"$f":"SUM($EA$16:$EL$16)","v":0},null,null,null,null,null,null,null,null,null,null,null,null,null,{"$f":"SUM($EO$16:$EZ$16)","v":0},null,null,null,null,null,null,null,null,null,null,null,null,null,{"$f":"SUM($FC$16:$FN$16)","v":0}]
[{"$f":"C17&D17","v":"Reparo e Manutenção de Máquinas e BenfeitoriasP"},null,"Reparo e Manutenção de Máquinas e Benfeitorias","P",0,0,0,0,0,0,0,0,0,0,0,0,{"$f":"SUM($E$17:$P$17)","v":0},null,0,0,0,0,0,0,0,0,0,0,0,0,{"$f":"SUM($S$17:$AD$17)","v":0},null,0,0,0,0,0,0,0,0,0,0,0,0,{"$f":"SUM($AG$17:$AR$17)","v":0},null,0,0,0,0,0,0,0,0,0,0,0,0,{"$f":"SUM($AU$17:$BF$17)","v":0},null,0,0,0,0,0,0,0,0,0,0,0,0,{"$f":"SUM($BI$17:$BT$17)","v":0},null,0,0,0,0,0,0,0,0,0,0,0,0,{"$f":"SUM($BW$17:$CH$17)","v":0},null,0,0,0,0,0,0,0,0,0,0,0,0,{"$f":"SUM($CK$17:$CV$17)","v":0},null,0,0,0,0,0,0,0,0,0,0,0,0,{"$f":"SUM($CY$17:$DJ$17)","v":0},null,0,0,0,0,0,0,0,0,0,0,0,0,{"$f":"SUM($DM$17:$DX$17)","v":0},null,0,0,0,0,0,0,0,0,0,0,0,0,{"$f":"SUM($EA$17:$EL$17)","v":0},null,0,0,0,0,0,0,0,0,0,0,0,0,{"$f":"SUM($EO$17:$EZ$17)","v":0},null,0,0,0,0,0,0,0,0,0,0,0,0,{"$f":"SUM($FC$17:$FN$17)","v":0}]
[{"$f":"C17&D18","v":"Reparo e Manutenção de Máquinas e BenfeitoriasR"},null,null,"R",null,null,null,null,null,null,null,null,null,null,null,null,{"$f":"SUM($E$18:$P$18)","v":0},null,null,null,null,null,null,null,null,null,null,null,null,null,{"$f":"SUM($S$18:$AD$18)","v":0},null,null,null,null,null,null,null,null,null,null,null,null,null,{"$f":"SUM($AG$18:$AR$18)","v":0},null,null,null,null,null,null,null,null,null,null,null,null,null,{"$f":"SUM($AU$18:$BF$18)","v":0},null,null,null,null,null,null,null,null,null,null,null,null,null,{"$f":"SUM($BI$18:$BT$18)","v":0},null,null,null,null,null,null,null,null,null,null,null,null,null,{"$f":"SUM($BW$18:$CH$18)","v":0},null,null,null,null,null,null,null,null,null,null,null,null,null,{"$f":"SUM($CK$18:$CV$18)","v":0},null,null,null,null,null,null,null,null,null,null,null,null,null,{"$f":"SUM($CY$18:$DJ$18)","v":0},null,null,null,null,null,null,null,null,null,null,null,null,null,{"$f":"SUM($DM$18:$DX$18)","v":0},null,null,null,null,null,null,null,null,null,null,null,null,null,{"$f":"SUM($EA$18:$EL$18)","v":0},null,null,null,null,null,null,null,null,null,null,null,null,null,{"$f":"SUM($EO$18:$EZ$18)","v":0},null,null,null,null,null,null,null,null,null,null,null,null,null,{"$f":"SUM($FC$18:$FN$18)","v":0}]
[{"$f":"C19&D19","v":"Inseminação ArtificialP"},null,"Inseminação Artificial","P",0,0,0,0,0,0,0,0,0,0,0,0,{"$f":"SUM($E$19:$P$19)","v":0},null,0,0,0,0,0,0,0,0,0,0,0,0,{"$f":"SUM($S$19:$AD$19)","v":0},null,0,0,0,0,0,0,0,0,0,0,0,0,{"$f":"SUM($AG$19:$AR$19)","v":0},null,0,0,0,0,0,0,0,0,0,0,0,0,{"$f":"SUM($AU$19:$BF$19)","v":0},null,0,0,0,0,0,0,0,0,0,0,0,0,{"$f":"SUM($BI$19:$BT$19)","v":0},null,0,0,0,0,0,0,0,0,0,0,0,0,{"$f":"SUM($BW$19:$CH$19)","v":0},null,0,0,0,0,0,0,0,0,0,0,0,0,{"$f":"SUM($CK$19:$CV$19)","v":0},null,0,0,0,0,0,0,0,0,0,0,0,0,{"$f":"SUM($CY$19:$DJ$19)","v":0},null,0,0,0,0,0,0,0,0,0,0,0,0,{"$f":"SUM($DM$19:$DX$19)","v":0},null,0,0,0,0,0,0,0,0,0,0,0,0,{"$f":"SUM($EA$19:$EL$19)","v":0},null,0,0,0,0,0,0,0,0,0,0,0,0,{"$f":"SUM($EO$19:$EZ$19)","v":0},null,0,0,0,0,0,0,0,0,0,0,0,0,{"$f":"SUM($FC$19:$FN$19)","v":0}]
[{"$f":"C19&D20","v":"Inseminação ArtificialR"},null,null,"R",null,null,null,null,null,null,null,null,null,null,null,null,{"$f":"SUM($E$20:$P$20)","v":0},null,null,null,null,null,null,null,null,null,null,null,null,null,{"$f":"SUM($S$20:$AD$20)","v":0},null,null,null,null,null,null,null,null,null,null,null,null,null,{"$f":"SUM($AG$20:$AR$20)","v":0},null,null,null,null,null,null,null,null,null,null,null,null,null,{"$f":"SUM($AU$20:$BF$20)","v":0},null,null,null,null,null,null,null,null,null,null,null,null,null,{"$f":"SUM($BI$20:$BT$20)","v":0},null,null,null,null,null,null,null,null,null,null,null,null,null,{"$f":"SUM($BW$20:$CH$20)","v":0},null,null,null,null,null,null,null,null,null,null,null,null,null,{"$f":"SUM($CK$20:$CV$20)","v":0},null,null,null,null,null,null,null,null,null,null,null,null,null,{"$f":"SUM($CY$20:$DJ$20)","v":0},null,null,null,null,null,null,null,null,null,null,null,null,null,{"$f":"SUM($DM$20:$DX$20)","v":0},null,null,null,null,null,null,null,null,null,null,null,null,null,{"$f":"SUM($EA$20:$EL$20)","v":0},null,null,null,null,null,null,null,null,null,null,null,null,null,{"$f":"SUM($EO$20:$EZ$20)","v":0},null,null,null,null,null,null,null,null,null,null,null,null,null,{"$f":"SUM($FC$20:$FN$20)","v":0}]
[{"$f":"C21&D21","v":"AP"},null,"A","P",0,0,0,0,0,0,0,0,0,0,0,0,{"$f":"SUM($E$21:$P$21)","v":0},null,0,0,0,0,0,0,0,0,0,0,0,0,{"$f":"SUM($S$21:$AD$21)","v":0},null,0,0,0,0,0,0,0,0,0,0,0,0,{"$f":"SUM($AG$21:$AR$21)","v":0},null,0,0,0,0,0,0,0,0,0,0,0,0,{"$f":"SUM($AU$21:$BF$21)","v":0},null,0,0,0,0,0,0,0,0,0,0,0,0,{"$f":"SUM($BI$21:$BT$21)","v":0},null,0,0,0,0,0,0,0,0,0,0,0,0,{"$f":"SUM($BW$21:$CH$21)","v":0},null,0,0,0,0,0,0,0,0,0,0,0,0,{"$f":"SUM($CK$21:$CV$21)","v":0},null,0,0,0,0,0,0,0,0,0,0,0,0,{"$f":"SUM($CY$21:$DJ$21)","v":0},null,0,0,0,0,0,0,0,0,0,0,0,0,{"$f":"SUM($DM$21:$DX$21)","v":0},null,0,0,0,0,0,0,0,0,0,0,0,0,{"$f":"SUM($EA$21:$EL$21)","v":0},null,0,0,0,0,0,0,0,0,0,0,0,0,{"$f":"SUM($EO$21:$EZ$21)","v":0},null,0,0,0,0,0,0,0,0,0,0,0,0,{"$f":"SUM($FC$21:$FN$21)","v":0}]
[{"$f":"C21&D22","v":"AR"},null,null,"R",null,null,null,null,null,null,null,null,null,null,null,null,{"$f":"SUM($E$22:$P$22)","v":0},null,null,null,null,null,null,null,null,null,null,null,null,null,{"$f":"SUM($S$22:$AD$22)","v":0},null,null,null,null,null,null,null,null,null,null,null,null,null,{"$f":"SUM($AG$22:$AR$22)","v":0},null,null,null,null,null,null,null,null,null,null,null,null,null,{"$f":"SUM($AU$22:$BF$22)","v":0},null,null,null,null,null,null,null,null,null,null,null,null,null,{"$f":"SUM($BI$22:$BT$22)","v":0},null,null,null,null,null,null,null,null,null,null,null,null,null,{"$f":"SUM($BW$22:$CH$22)","v":0},null,null,null,null,null,null,null,null,null,null,null,null,null,{"$f":"SUM($CK$22:$CV$22)","v":0},null,null,null,null,null,null,null,null,null,null,null,null,null,{"$f":"SUM($CY$22:$DJ$22)","v":0},null,null,null,null,null,null,null,null,null,null,null,null,null,{"$f":"SUM($DM$22:$DX$22)","v":0},null,null,null,null,null,null,null,null,null,null,null,null,null,{"$f":"SUM($EA$22:$EL$22)","v":0},null,null,null,null,null,null,null,null,null,null,null,null,null,{"$f":"SUM($EO$22:$EZ$22)","v":0},null,null,null,null,null,null,null,null,null,null,null,null,null,{"$f":"SUM($FC$22:$FN$22)","v":0}]
[{"$f":"C23&D23","v":"BP"},null,"B","P",0,0,0,0,0,0,0,0,0,0,0,0,{"$f":"SUM($E$23:$P$23)","v":0},null,0,0,0,0,0,0,0,0,0,0,0,0,{"$f":"SUM($S$23:$AD$23)","v":0},null,0,0,0,0,0,0,0,0,0,0,0,0,{"$f":"SUM($AG$23:$AR$23)","v":0},null,0,0,0,0,0,0,0,0,0,0,0,0,{"$f":"SUM($AU$23:$BF$23)","v":0},null,0,0,0,0,0,0,0,0,0,0,0,0,{"$f":"SUM($BI$23:$BT$23)","v":0},null,0,0,0,0,0,0,0,0,0,0,0,0,{"$f":"SUM($BW$23:$CH$23)","v":0},null,0,0,0,0,0,0,0,0,0,0,0,0,{"$f":"SUM($CK$23:$CV$23)","v":0},null,0,0,0,0,0,0,0,0,0,0,0,0,{"$f":"SUM($CY$23:$DJ$23)","v":0},null,0,0,0,0,0,0,0,0,0,0,0,0,{"$f":"SUM($DM$23:$DX$23)","v":0},null,0,0,0,0,0,0,0,0,0,0,0,0,{"$f":"SUM($EA$23:$EL$23)","v":0},null,0,0,0,0,0,0,0,0,0,0,0,0,{"$f":"SUM($EO$23:$EZ$23)","v":0},null,0,0,0,0,0,0,0,0,0,0,0,0,{"$f":"SUM($FC$23:$FN$23)","v":0}]
[{"$f":"C23&D24","v":"BR"},null,null,"R",null,null,null,null,null,null,null,null,null,null,null,null,{"$f":"SUM($E$24:$P$24)","v":0},null,null,null,null,null,null,null,null,null,null,null,null,null,{"$f":"SUM($S$24:$AD$24)","v":0},null,null,null,null,null,null,null,null,null,null,null,null,null,{"$f":"SUM($AG$24:$AR$24)","v":0},null,null,null,null,null,null,null,null,null,null,null,null,null,{"$f":"SUM($AU$24:$BF$24)","v":0},null,null,null,null,null,null,null,null,null,null,null,null,null,{"$f":"SUM($BI$24:$BT$24)","v":0},null,null,null,null,null,null,null,null,null,null,null,null,null,{"$f":"SUM($BW$24:$CH$24)","v":0},null,null,null,null,null,null,null,null,null,null,null,null,null,{"$f":"SUM($CK$24:$CV$24)","v":0},null,null,null,null,null,null,null,null,null,null,null,null,null,{"$f":"SUM($CY$24:$DJ$24)","v":0},null,null,null,null,null,null,null,null,null,null,null,null,null,{"$f":"SUM($DM$24:$DX$24)","v":0},null,null,null,null,null,null,null,null,null,null,null,null,null,{"$f":"SUM($EA$24:$EL$24)","v":0},null,null,null,null,null,null,null,null,null,null,null,null,null,{"$f":"SUM($EO$24:$EZ$24)","v":0},null,null,null,null,null,null,null,null,null,null,null,null,null,{"$f":"SUM($FC$24:$FN$24)","v":0}]
[{"$f":"C25&D25","v":"CP"},null,"C","P",0,0,0,0,0,0,0,0,0,0,0,0,{"$f":"SUM($E$25:$P$25)","v":0},null,0,0,0,0,0,0,0,0,0,0,0,0,{"$f":"SUM($S$25:$AD$25)","v":0},null,0,0,0,0,0,0,0,0,0,0,0,0,{"$f":"SUM($AG$25:$AR$25)","v":0},null,0,0,0,0,0,0,0,0,0,0,0,0,{"$f":"SUM($AU$25:$BF$25)","v":0},null,0,0,0,0,0,0,0,0,0,0,0,0,{"$f":"SUM($BI$25:$BT$25)","v":0},null,0,0,0,0,0,0,0,0,0,0,0,0,{"$f":"SUM($BW$25:$CH$25)","v":0},null,0,0,0,0,0,0,0,0,0,0,0,0,{"$f":"SUM($CK$25:$CV$25)","v":0},null,0,0,0,0,0,0,0,0,0,0,0,0,{"$f":"SUM($CY$25:$DJ$25)","v":0},null,0,0,0,0,0,0,0,0,0,0,0,0,{"$f":"SUM($DM$25:$DX$25)","v":0},null,0,0,0,0,0,0,0,0,0,0,0,0,{"$f":"SUM($EA$25:$EL$25)","v":0},null,0,0,0,0,0,0,0,0,0,0,0,0,{"$f":"SUM($EO$25:$EZ$25)","v":0},null,0,0,0,0,0,0,0,0,0,0,0,0,{"$f":"SUM($FC$25:$FN$25)","v":0}]
[{"$f":"C25&D26","v":"CR"},null,null,"R",null,null,null,null,null,null,null,null,null,null,null,null,{"$f":"SUM($E$26:$P$26)","v":0},null,null,null,null,null,null,null,null,null,null,null,null,null,{"$f":"SUM($S$26:$AD$26)","v":0},null,null,null,null,null,null,null,null,null,null,null,null,null,{"$f":"SUM($AG$26:$AR$26)","v":0},null,null,null,null,null,null,null,null,null,null,null,null,null,{"$f":"SUM($AU$26:$BF$26)","v":0},null,null,null,null,null,null,null,null,null,null,null,null,null,{"$f":"SUM($BI$26:$BT$26)","v":0},null,null,null,null,null,null,null,null,null,null,null,null,null,{"$f":"SUM($BW$26:$CH$26)","v":0},null,null,null,null,null,null,null,null,null,null,null,null,null,{"$f":"SUM($CK$26:$CV$26)","v":0},null,null,null,null,null,null,null,null,null,null,null,null,null,{"$f":"SUM($CY$26:$DJ$26)","v":0},null,null,null,null,null,null,null,null,null,null,null,null,null,{"$f":"SUM($DM$26:$DX$26)","v":0},null,null,null,null,null,null,null,null,null,null,null,null,null,{"$f":"SUM($EA$26:$EL$26)","v":0},null,null,null,null,null,null,null,null,null,null,null,null,null,{"$f":"SUM($EO$26:$EZ$26)","v":0},null,null,null,null,null,null,null,null,null,null,null,null,null,{"$f":"SUM($FC$26:$FN$26)","v":0}]
[{"$f":"C27&D27","v":"DP"},null,"D","P",0,0,0,0,0,0,0,0,0,0,0,0,{"$f":"SUM($E$27:$P$27)","v":0},null,0,0,0,0,0,0,0,0,0,0,0,0,{"$f":"SUM($S$27:$AD$27)","v":0},null,0,0,0,0,0,0,0,0,0,0,0,0,{"$f":"SUM($AG$27:$AR$27)","v":0},null,0,0,0,0,0,0,0,0,0,0,0,0,{"$f":"SUM($AU$27:$BF$27)","v":0},null,0,0,0,0,0,0,0,0,0,0,0,0,{"$f":"SUM($BI$27:$BT$27)","v":0},null,0,0,0,0,0,0,0,0,0,0,0,0,{"$f":"SUM($BW$27:$CH$27)","v":0},null,0,0,0,0,0,0,0,0,0,0,0,0,{"$f":"SUM($CK$27:$CV$27)","v":0},null,0,0,0,0,0,0,0,0,0,0,0,0,{"$f":"SUM($CY$27:$DJ$27)","v":0},null,0,0,0,0,0,0,0,0,0,0,0,0,{"$f":"SUM($DM$27:$DX$27)","v":0},null,0,0,0,0,0,0,0,0,0,0,0,0,{"$f":"SUM($EA$27:$EL$27)","v":0},null,0,0,0,0,0,0,0,0,0,0,0,0,{"$f":"SUM($EO$27:$EZ$27)","v":0},null,0,0,0,0,0,0,0,0,0,0,0,0,{"$f":"SUM($FC$27:$FN$27)","v":0}]
[{"$f":"C27&D28","v":"DR"},null,null,"R",null,null,null,null,null,null,null,null,null,null,null,null,{"$f":"SUM($E$28:$P$28)","v":0},null,null,null,null,null,null,null,null,null,null,null,null,null,{"$f":"SUM($S$28:$AD$28)","v":0},null,null,null,null,null,null,null,null,null,null,null,null,null,{"$f":"SUM($AG$28:$AR$28)","v":0},null,null,null,null,null,null,null,null,null,null,null,null,null,{"$f":"SUM($AU$28:$BF$28)","v":0},null,null,null,null,null,null,null,null,null,null,null,null,null,{"$f":"SUM($BI$28:$BT$28)","v":0},null,null,null,null,null,null,null,null,null,null,null,null,null,{"$f":"SUM($BW$28:$CH$28)","v":0},null,null,null,null,null,null,null,null,null,null,null,null,null,{"$f":"SUM($CK$28:$CV$28)","v":0},null,null,null,null,null,null,null,null,null,null,null,null,null,{"$f":"SUM($CY$28:$DJ$28)","v":0},null,null,null,null,null,null,null,null,null,null,null,null,null,{"$f":"SUM($DM$28:$DX$28)","v":0},null,null,null,null,null,null,null,null,null,null,null,null,null,{"$f":"SUM($EA$28:$EL$28)","v":0},null,null,null,null,null,null,null,null,null,null,null,null,null,{"$f":"SUM($EO$28:$EZ$28)","v":0},null,null,null,null,null,null,null,null,null,null,null,null,null,{"$f":"SUM($FC$28:$FN$28)","v":0}]
[{"$f":"C29&D29","v":"EP"},null,"E","P",0,0,0,0,0,0,0,0,0,0,0,0,{"$f":"SUM($E$29:$P$29)","v":0},null,0,0,0,0,0,0,0,0,0,0,0,0,{"$f":"SUM($S$29:$AD$29)","v":0},null,0,0,0,0,0,0,0,0,0,0,0,0,{"$f":"SUM($AG$29:$AR$29)","v":0},null,0,0,0,0,0,0,0,0,0,0,0,0,{"$f":"SUM($AU$29:$BF$29)","v":0},null,0,0,0,0,0,0,0,0,0,0,0,0,{"$f":"SUM($BI$29:$BT$29)","v":0},null,0,0,0,0,0,0,0,0,0,0,0,0,{"$f":"SUM($BW$29:$CH$29)","v":0},null,0,0,0,0,0,0,0,0,0,0,0,0,{"$f":"SUM($CK$29:$CV$29)","v":0},null,0,0,0,0,0,0,0,0,0,0,0,0,{"$f":"SUM($CY$29:$DJ$29)","v":0},null,0,0,0,0,0,0,0,0,0,0,0,0,{"$f":"SUM($DM$29:$DX$29)","v":0},null,0,0,0,0,0,0,0,0,0,0,0,0,{"$f":"SUM($EA$29:$EL$29)","v":0},null,0,0,0,0,0,0,0,0,0,0,0,0,{"$f":"SUM($EO$29:$EZ$29)","v":0},null,0,0,0,0,0,0,0,0,0,0,0,0,{"$f":"SUM($FC$29:$FN$29)","v":0}]
[{"$f":"C29&D30","v":"ER"},null,null,"R",null,null,null,null,null,null,null,null,null,null,null,null,{"$f":"SUM($E$30:$P$30)","v":0},null,null,null,null,null,null,null,null,null,null,null,null,null,{"$f":"SUM($S$30:$AD$30)","v":0},null,null,null,null,null,null,null,null,null,null,null,null,null,{"$f":"SUM($AG$30:$AR$30)","v":0},null,null,null,null,null,null,null,null,null,null,null,null,null,{"$f":"SUM($AU$30:$BF$30)","v":0},null,null,null,null,null,null,null,null,null,null,null,null,null,{"$f":"SUM($BI$30:$BT$30)","v":0},null,null,null,null,null,null,null,null,null,null,null,null,null,{"$f":"SUM($BW$30:$CH$30)","v":0},null,null,null,null,null,null,null,null,null,null,null,null,null,{"$f":"SUM($CK$30:$CV$30)","v":0},null,null,null,null,null,null,null,null,null,null,null,null,null,{"$f":"SUM($CY$30:$DJ$30)","v":0},null,null,null,null,null,null,null,null,null,null,null,null,null,{"$f":"SUM($DM$30:$DX$30)","v":0},null,null,null,null,null,null,null,null,null,null,null,null,null,{"$f":"SUM($EA$30:$EL$30)","v":0},null,null,null,null,null,null,null,null,null,null,null,null,null,{"$f":"SUM($EO$30:$EZ$30)","v":0},null,null,null,null,null,null,null,null,null,null,null,null,null,{"$f":"SUM($FC$30:$FN$30)","v":0}]
["FP",null,"F","P",0,0,0,0,0,0,0,0,0,0,0,0,{"$f":"SUM($E$31:$P$31)","v":0},null,0,0,0,0,0,0,0,0,0,0,0,0,{"$f":"SUM($S$31:$AD$31)","v":0},null,0,0,0,0,0,0,0,0,0,0,0,0,{"$f":"SUM($AG$31:$AR$31)","v":0},null,0,0,0,0,0,0,0,0,0,0,0,0,{"$f":"SUM($AU$31:$BF$31)","v":0},null,0,0,0,0,0,0,0,0,0,0,0,0,{"$f":"SUM($BI$31:$BT$31)","v":0},null,0,0,0,0,0,0,0,0,0,0,0,0,{"$f":"SUM($BW$31:$CH$31)","v":0},null,0,0,0,0,0,0,0,0,0,0,0,0,{"$f":"SUM($CK$31:$CV$31)","v":0},null,0,0,0,0,0,0,0,0,0,0,0,0,{"$f":"SUM($CY$31:$DJ$31)","v":0},null,0,0,0,0,0,0,0,0,0,0,0,0,{"$f":"SUM($DM$31:$DX$31)","v":0},null,0,0,0,0,0,0,0,0,0,0,0,0,{"$f":"SUM($EA$31:$EL$31)","v":0},null,0,0,0,0,0,0,0,0,0,0,0,0,{"$f":"SUM($EO$31:$EZ$31)","v":0},null,0,0,0,0,0,0,0,0,0,0,0,0,{"$f":"SUM($FC$31:$FN$31)","v":0}]
["FR",null,null,"R",null,null,null,null,null,null,null,null,null,null,null,null,{"$f":"SUM($E$32:$P$32)","v":0},null,null,null,null,null,null,null,null,null,null,null,null,null,{"$f":"SUM($S$32:$AD$32)","v":0},null,null,null,null,null,null,null,null,null,null,null,null,null,{"$f":"SUM($AG$32:$AR$32)","v":0},null,null,null,null,null,null,null,null,null,null,null,null,null,{"$f":"SUM($AU$32:$BF$32)","v":0},null,null,null,null,null,null,null,null,null,null,null,null,null,{"$f":"SUM($BI$32:$BT$32)","v":0},null,null,null,null,null,null,null,null,null,null,null,null,null,{"$f":"SUM($BW$32:$CH$32)","v":0},null,null,null,null,null,null,null,null,null,null,null,null,null,{"$f":"SUM($CK$32:$CV$32)","v":0},null,null,null,null,null,null,null,null,null,null,null,null,null,{"$f":"SUM($CY$32:$DJ$32)","v":0},null,null,null,null,null,null,null,null,null,null,null,null,null,{"$f":"SUM($DM$32:$DX$32)","v":0},null,null,null,null,null,null,null,null,null,null,null,null,null,{"$f":"SUM($EA$32:$EL$32)","v":0},null,null,null,null,null,null,null,null,null,null,null,null,null,{"$f":"SUM($EO$32:$EZ$32)","v":0},null,null,null,null,null,null,null,null,null,null,null,null,null,{"$f":"SUM($FC$32:$FN$32)","v":0}]
["GP",null,"G","P",0,0,0,0,0,0,0,0,0,0,0,0,{"$f":"SUM($E$33:$P$33)","v":0},null,0,0,0,0,0,0,0,0,0,0,0,0,{"$f":"SUM($S$33:$AD$33)","v":0},null,0,0,0,0,0,0,0,0,0,0,0,0,{"$f":"SUM($AG$33:$AR$33)","v":0},null,0,0,0,0,0,0,0,0,0,0,0,0,{"$f":"SUM($AU$33:$BF$33)","v":0},null,0,0,0,0,0,0,0,0,0,0,0,0,{"$f":"SUM($BI$33:$BT$33)","v":0},null,0,0,0,0,0,0,0,0,0,0,0,0,{"$f":"SUM($BW$33:$CH$33)","v":0},null,0,0,0,0,0,0,0,0,0,0,0,0,{"$f":"SUM($CK$33:$CV$33)","v":0},null,0,0,0,0,0,0,0,0,0,0,0,0,{"$f":"SUM($CY$33:$DJ$33)","v":0},null,0,0,0,0,0,0,0,0,0,0,0,0,{"$f":"SUM($DM$33:$DX$33)","v":0},null,0,0,0,0,0,0,0,0,0,0,0,0,{"$f":"SUM($EA$33:$EL$33)","v":0},null,0,0,0,0,0,0,0,0,0,0,0,0,{"$f":"SUM($EO$33:$EZ$33)","v":0},null,0,0,0,0,0,0,0,0,0,0,0,0,{"$f":"SUM($FC$33:$FN$33)","v":0}]
["GR",null,null,"R",null,null,null,null,null,null,null,null,null,null,null,null,{"$f":"SUM($E$34:$P$34)","v":0},null,null,null,null,null,null,null,null,null,null,null,null,null,{"$f":"SUM($S$34:$AD$34)","v":0},null,null,null,null,null,null,null,null,null,null,null,null,null,{"$f":"SUM($AG$34:$AR$34)","v":0},null,null,null,null,null,null,null,null,null,null,null,null,null,{"$f":"SUM($AU$34:$BF$34)","v":0},null,null,null,null,null,null,null,null,null,null,null,null,null,{"$f":"SUM($BI$34:$BT$34)","v":0},null,null,null,null,null,null,null,null,null,null,null,null,null,{"$f":"SUM($BW$34:$CH$34)","v":0},null,null,null,null,null,null,null,null,null,null,null,null,null,{"$f":"SUM($CK$34:$CV$34)","v":0},null,null,null,null,null,null,null,null,null,null,null,null,null,{"$f":"SUM($CY$34:$DJ$34)","v":0},null,null,null,null,null,null,null,null,null,null,null,null,null,{"$f":"SUM($DM$34:$DX$34)","v":0},null,null,null,null,null,null,null,null,null,null,null,null,null,{"$f":"SUM($EA$34:$EL$34)","v":0},null,null,null,null,null,null,null,null,null,null,null,null,null,{"$f":"SUM($EO$34:$EZ$34)","v":0},null,null,null,null,null,null,null,null,null,null,null,null,null,{"$f":"SUM($FC$34:$FN$34)","v":0}]
["HP",null,"H","P",0,0,0,0,0,0,0,0,0,0,0,0,{"$f":"SUM($E$35:$P$35)","v":0},null,0,0,0,0,0,0,0,0,0,0,0,0,{"$f":"SUM($S$35:$AD$35)","v":0},null,0,0,0,0,0,0,0,0,0,0,0,0,{"$f":"SUM($AG$35:$AR$35)","v":0},null,0,0,0,0,0,0,0,0,0,0,0,0,{"$f":"SUM($AU$35:$BF$35)","v":0},null,0,0,0,0,0,0,0,0,0,0,0,0,{"$f":"SUM($BI$35:$BT$35)","v":0},null,0,0,0,0,0,0,0,0,0,0,0,0,{"$f":"SUM($BW$35:$CH$35)","v":0},null,0,0,0,0,0,0,0,0,0,0,0,0,{"$f":"SUM($CK$35:$CV$35)","v":0},null,0,0,0,0,0,0,0,0,0,0,0,0,{"$f":"SUM($CY$35:$DJ$35)","v":0},null,0,0,0,0,0,0,0,0,0,0,0,0,{"$f":"SUM($DM$35:$DX$35)","v":0},null,0,0,0,0,0,0,0,0,0,0,0,0,{"$f":"SUM($EA$35:$EL$35)","v":0},null,0,0,0,0,0,0,0,0,0,0,0,0,{"$f":"SUM($EO$35:$EZ$35)","v":0},null,0,0,0,0,0,0,0,0,0,0,0,0,{"$f":"SUM($FC$35:$FN$35)","v":0}]
["HR",null,null,"R",null,null,null,null,null,null,null,null,null,null,null,null,{"$f":"SUM($E$36:$P$36)","v":0},null,null,null,null,null,null,null,null,null,null,null,null,null,{"$f":"SUM($S$36:$AD$36)","v":0},null,null,null,null,null,null,null,null,null,null,null,null,null,{"$f":"SUM($AG$36:$AR$36)","v":0},null,null,null,null,null,null,null,null,null,null,null,null,null,{"$f":"SUM($AU$36:$BF$36)","v":0},null,null,null,null,null,null,null,null,null,null,null,null,null,{"$f":"SUM($BI$36:$BT$36)","v":0},null,null,null,null,null,null,null,null,null,null,null,null,null,{"$f":"SUM($BW$36:$CH$36)","v":0},null,null,null,null,null,null,null,null,null,null,null,null,null,{"$f":"SUM($CK$36:$CV$36)","v":0},null,null,null,null,null,null,null,null,null,null,null,null,null,{"$f":"SUM($CY$36:$DJ$36)","v":0},null,null,null,null,null,null,null,null,null,null,null,null,null,{"$f":"SUM($DM$36:$DX$36)","v":0},null,null,null,null,null,null,null,null,null,null,null,null,null,{"$f":"SUM($EA$36:$EL$36)","v":0},null,null,null,null,null,null,null,null,null,null,null,null,null,{"$f":"SUM($EO$36:$EZ$36)","v":0},null,null,null,null,null,null,null,null,null,null,null,null,null,{"$f":"SUM($FC$36:$FN$36)","v":0}]
["IP",null,"I","P",0,0,0,0,0,0,0,0,0,0,0,0,{"$f":"SUM($E$37:$P$37)","v":0},null,0,0,0,0,0,0,0,0,0,0,0,0,{"$f":"SUM($S$37:$AD$37)","v":0},null,0,0,0,0,0,0,0,0,0,0,0,0,{"$f":"SUM($AG$37:$AR$37)","v":0},null,0,0,0,0,0,0,0,0,0,0,0,0,{"$f":"SUM($AU$37:$BF$37)","v":0},null,0,0,0,0,0,0,0,0,0,0,0,0,{"$f":"SUM($BI$37:$BT$37)","v":0},null,0,0,0,0,0,0,0,0,0,0,0,0,{"$f":"SUM($BW$37:$CH$37)","v":0},null,0,0,0,0,0,0,0,0,0,0,0,0,{"$f":"SUM($CK$37:$CV$37)","v":0},null,0,0,0,0,0,0,0,0,0,0,0,0,{"$f":"SUM($CY$37:$DJ$37)","v":0},null,0,0,0,0,0,0,0,0,0,0,0,0,{"$f":"SUM($DM$37:$DX$37)","v":0},null,0,0,0,0,0,0,0,0,0,0,0,0,{"$f":"SUM($EA$37:$EL$37)","v":0},null,0,0,0,0,0,0,0,0,0,0,0,0,{"$f":"SUM($EO$37:$EZ$37)","v":0},null,0,0,0,0,0,0,0,0,0,0,0,0,{"$f":"SUM($FC$37:$FN$37)","v":0}]
["IR",null,null,"R",null,null,null,null,null,null,null,null,null,null,null,null,{"$f":"SUM($E$38:$P$38)","v":0},null,null,null,null,null,null,null,null,null,null,null,null,null,{"$f":"SUM($S$38:$AD$38)","v":0},null,null,null,null,null,null,null,null,null,null,null,null,null,{"$f":"SUM($AG$38:$AR$38)","v":0},null,null,null,null,null,null,null,null,null,null,null,null,null,{"$f":"SUM($AU$38:$BF$38)","v":0},null,null,null,null,null,null,null,null,null,null,null,null,null,{"$f":"SUM($BI$38:$BT$38)","v":0},null,null,null,null,null,null,null,null,null,null,null,null,null,{"$f":"SUM($BW$38:$CH$38)","v":0},null,null,null,null,null,null,null,null,null,null,null,null,null,{"$f":"SUM($CK$38:$CV$38)","v":0},null,null,null,null,null,null,null,null,null,null,null,null,null,{"$f":"SUM($CY$38:$DJ$38)","v":0},null,null,null,null,null,null,null,null,null,null,null,null,null,{"$f":"SUM($DM$38:$DX$38)","v":0},null,null,null,null,null,null,null,null,null,null,null,null,null,{"$f":"SUM($EA$38:$EL$38)","v":0},null,null,null,null,null,null,null,null,null,null,null,null,null,{"$f":"SUM($EO$38:$EZ$38)","v":0},null,null,null,null,null,null,null,null,null,null,null,null,null,{"$f":"SUM($FC$38:$FN$38)","v":0}]
["JP",null,"J","P",0,0,0,0,0,0,0,0,0,0,0,0,{"$f":"SUM($E$39:$P$39)","v":0},null,0,0,0,0,0,0,0,0,0,0,0,0,{"$f":"SUM($S$39:$AD$39)","v":0},null,0,0,0,0,0,0,0,0,0,0,0,0,{"$f":"SUM($AG$39:$AR$39)","v":0},null,0,0,0,0,0,0,0,0,0,0,0,0,{"$f":"SUM($AU$39:$BF$39)","v":0},null,0,0,0,0,0,0,0,0,0,0,0,0,{"$f":"SUM($BI$39:$BT$39)","v":0},null,0,0,0,0,0,0,0,0,0,0,0,0,{"$f":"SUM($BW$39:$CH$39)","v":0},null,0,0,0,0,0,0,0,0,0,0,0,0,{"$f":"SUM($CK$39:$CV$39)","v":0},null,0,0,0,0,0,0,0,0,0,0,0,0,{"$f":"SUM($CY$39:$DJ$39)","v":0},null,0,0,0,0,0,0,0,0,0,0,0,0,{"$f":"SUM($DM$39:$DX$39)","v":0},null,0,0,0,0,0,0,0,0,0,0,0,0,{"$f":"SUM($EA$39:$EL$39)","v":0},null,0,0,0,0,0,0,0,0,0,0,0,0,{"$f":"SUM($EO$39:$EZ$39)","v":0},null,0,0,0,0,0,0,0,0,0,0,0,0,{"$f":"SUM($FC$39:$FN$39)","v":0}]
["JR",null,null,"R",null,null,null,null,null,null,null,null,null,null,null,null,{"$f":"SUM($E$40:$P$40)","v":0},null,null,null,null,null,null,null,null,null,null,null,null,null,{"$f":"SUM($S$40:$AD$40)","v":0},null,null,null,null,null,null,null,null,null,null,null,null,null,{"$f":"SUM($AG$40:$AR$40)","v":0},null,null,null,null,null,null,null,null,null,null,null,null,null,{"$f":"SUM($AU$40:$BF$40)","v":0},null,null,null,null,null,null,null,null,null,null,null,null,null,{"$f":"SUM($BI$40:$BT$40)","v":0},null,null,null,null,null,null,null,null,null,null,null,null,null,{"$f":"SUM($BW$40:$CH$40)","v":0},null,null,null,null,null,null,null,null,null,null,null,null,null,{"$f":"SUM($CK$40:$CV$40)","v":0},null,null,null,null,null,null,null,null,null,null,null,null,null,{"$f":"SUM($CY$40:$DJ$40)","v":0},null,null,null,null,null,null,null,null,null,null,null,null,null,{"$f":"SUM($DM$40:$DX$40)","v":0},null,null,null,null,null,null,null,null,null,null,null,null,null,{"$f":"SUM($EA$40:$EL$40)","v":0},null,null,null,null,null,null,null,null,null,null,null,null,null,{"$f":"SUM($EO$40:$EZ$40)","v":0},null,null,null,null,null,null,null,null,null,null,null,null,null,{"$f":"SUM($FC$40:$FN$40)","v":0}]
[{"$f":"C41&D41","v":"KP"},null,"K","P",0,0,0,0,0,0,0,0,0,0,0,0,{"$f":"SUM($E$41:$P$41)","v":0},null,0,0,0,0,0,0,0,0,0,0,0,0,{"$f":"SUM($S$41:$AD$41)","v":0},null,0,0,0,0,0,0,0,0,0,0,0,0,{"$f":"SUM($AG$41:$AR$41)","v":0},null,0,0,0,0,0,0,0,0,0,0,0,0,{"$f":"SUM($AU$41:$BF$41)","v":0},null,0,0,0,0,0,0,0,0,0,0,0,0,{"$f":"SUM($BI$41:$BT$41)","v":0},null,0,0,0,0,0,0,0,0,0,0,0,0,{"$f":"SUM($BW$41:$CH$41)","v":0},null,0,0,0,0,0,0,0,0,0,0,0,0,{"$f":"SUM($CK$41:$CV$41)","v":0},null,0,0,0,0,0,0,0,0,0,0,0,0,{"$f":"SUM($CY$41:$DJ$41)","v":0},null,0,0,0,0,0,0,0,0,0,0,0,0,{"$f":"SUM($DM$41:$DX$41)","v":0},null,0,0,0,0,0,0,0,0,0,0,0,0,{"$f":"SUM($EA$41:$EL$41)","v":0},null,0,0,0,0,0,0,0,0,0,0,0,0,{"$f":"SUM($EO$41:$EZ$41)","v":0},null,0,0,0,0,0,0,0,0,0,0,0,0,{"$f":"SUM($FC$41:$FN$41)","v":0}]
[{"$f":"C41&D42","v":"KR"},null,null,"R",null,null,null,null,null,null,null,null,null,null,null,null,{"$f":"SUM($E$42:$P$42)","v":0},null,null,null,null,null,null,null,null,null,null,null,null,null,{"$f":"SUM($S$42:$AD$42)","v":0},null,null,null,null,null,null,null,null,null,null,null,null,null,{"$f":"SUM($AG$42:$AR$42)","v":0},null,null,null,null,null,null,null,null,null,null,null,null,null,{"$f":"SUM($AU$42:$BF$42)","v":0},null,null,null,null,null,null,null,null,null,null,null,null,null,{"$f":"SUM($BI$42:$BT$42)","v":0},null,null,null,null,null,null,null,null,null,null,null,null,null,{"$f":"SUM($BW$42:$CH$42)","v":0},null,null,null,null,null,null,null,null,null,null,null,null,null,{"$f":"SUM($CK$42:$CV$42)","v":0},null,null,null,null,null,null,null,null,null,null,null,null,null,{"$f":"SUM($CY$42:$DJ$42)","v":0},null,null,null,null,null,null,null,null,null,null,null,null,null,{"$f":"SUM($DM$42:$DX$42)","v":0},null,null,null,null,null,null,null,null,null,null,null,null,null,{"$f":"SUM($EA$42:$EL$42)","v":0},null,null,null,null,null,null,null,null,null,null,null,null,null,{"$f":"SUM($EO$42:$EZ$42)","v":0},null,null,null,null,null,null,null,null,null,null,null,null,null,{"$f":"SUM($FC$42:$FN$42)","v":0}]
[{"$f":"C43&D43","v":"Parcela Financiamento/ CusteioP"},null,"Parcela Financiamento/ Custeio","P",0,0,0,0,0,0,0,0,0,0,0,0,{"$f":"SUM($E$43:$P$43)","v":0},null,0,0,0,0,0,0,0,0,0,0,0,0,{"$f":"SUM($S$43:$AD$43)","v":0},null,0,0,0,0,0,0,0,0,0,0,0,0,{"$f":"SUM($AG$43:$AR$43)","v":0},null,0,0,0,0,0,0,0,0,0,0,0,0,{"$f":"SUM($AU$43:$BF$43)","v":0},null,0,0,0,0,0,0,0,0,0,0,0,0,{"$f":"SUM($BI$43:$BT$43)","v":0},null,0,0,0,0,0,0,0,0,0,0,0,0,{"$f":"SUM($BW$43:$CH$43)","v":0},null,0,0,0,0,0,0,0,0,0,0,0,0,{"$f":"SUM($CK$43:$CV$43)","v":0},null,0,0,0,0,0,0,0,0,0,0,0,0,{"$f":"SUM($CY$43:$DJ$43)","v":0},null,0,0,0,0,0,0,0,0,0,0,0,0,{"$f":"SUM($DM$43:$DX$43)","v":0},null,0,0,0,0,0,0,0,0,0,0,0,0,{"$f":"SUM($EA$43:$EL$43)","v":0},null,0,0,0,0,0,0,0,0,0,0,0,0,{"$f":"SUM($EO$43:$EZ$43)","v":0},null,0,0,0,0,0,0,0,0,0,0,0,0,{"$f":"SUM($FC$43:$FN$43)","v":0}]
[{"$f":"C43&D44","v":"Parcela Financiamento/ CusteioR"},null,null,"R",null,null,null,null,null,null,null,null,null,null,null,null,{"$f":"SUM($E$44:$P$44)","v":0},null,null,null,null,null,null,null,null,null,null,null,null,null,{"$f":"SUM($S$44:$AD$44)","v":0},null,null,null,null,null,null,null,null,null,null,null,null,null,{"$f":"SUM($AG$44:$AR$44)","v":0},null,null,null,null,null,null,null,null,null,null,null,null,null,{"$f":"SUM($AU$44:$BF$44)","v":0},null,null,null,null,null,null,null,null,null,null,null,null,null,{"$f":"SUM($BI$44:$BT$44)","v":0},null,null,null,null,null,null,null,null,null,null,null,null,null,{"$f":"SUM($BW$44:$CH$44)","v":0},null,null,null,null,null,null,null,null,null,null,null,null,null,{"$f":"SUM($CK$44:$CV$44)","v":0},null,null,null,null,null,null,null,null,null,null,null,null,null,{"$f":"SUM($CY$44:$DJ$44)","v":0},null,null,null,null,null,null,null,null,null,null,null,null,null,{"$f":"SUM($DM$44:$DX$44)","v":0},null,null,null,null,null,null,null,null,null,null,null,null,null,{"$f":"SUM($EA$44:$EL$44)","v":0},null,null,null,null,null,null,null,null,null,null,null,null,null,{"$f":"SUM($EO$44:$EZ$44)","v":0},null,null,null,null,null,null,null,null,null,null,null,null,null,{"$f":"SUM($FC$44:$FN$44)","v":0}]
[{"$f":"C45&D45","v":"Total SaídasP"},null,"Total Saídas","P",{"$f":"SUMIF($D$5:$D$44,$D45,E$5:E$44)","v":0},{"$f":"SUMIF($D$5:$D$44,$D45,F$5:F$44)","v":0},{"$f":"SUMIF($D$5:$D$44,$D45,G$5:G$44)","v":0},0,0,0,0,0,0,0,0,0,0,null,{"$f":"SUMIF($D$5:$D$44,$D45,S$5:S$44)","v":0},0,0,0,0,0,0,0,0,0,0,0,0,null,{"$f":"SUMIF($D$5:$D$44,$D45,AG$5:AG$44)","v":0},0,0,0,0,0,0,0,0,0,0,0,0,null,{"$f":"SUMIF($D$5:$D$44,$D45,AU$5:AU$44)","v":0},0,0,0,0,0,0,0,0,0,0,0,0,null,{"$f":"SUMIF($D$5:$D$44,$D45,BI$5:BI$44)","v":0},0,0,0,0,0,0,0,0,0,0,0,0,null,{"$f":"SUMIF($D$5:$D$44,$D45,BW$5:BW$44)","v":0},0,0,0,0,0,0,0,0,0,0,0,0,null,{"$f":"SUMIF($D$5:$D$44,$D45,CK$5:CK$44)","v":0},0,0,0,0,0,0,0,0,0,0,0,0,null,{"$f":"SUMIF($D$5:$D$44,$D45,CY$5:CY$44)","v":0},0,0,0,0,0,0,0,0,0,0,0,0,null,{"$f":"SUMIF($D$5:$D$44,$D45,DM$5:DM$44)","v":0},0,0,0,0,0,0,0,0,0,0,0,0,null,{"$f":"SUMIF($D$5:$D$44,$D45,EA$5:EA$44)","v":0},0,0,0,0,0,0,0,0,0,0,0,0,null,{"$f":"SUMIF($D$5:$D$44,$D45,EO$5:EO$44)","v":0},0,0,0,0,0,0,0,0,0,0,0,0,null,{"$f":"SUMIF($D$5:$D$44,$D45,FC$5:FC$44)","v":0},0,0,0,0,0,0,0,0,0,0,0,0]
[{"$f":"C45&D46","v":"Total SaídasR"},null,null,"R",0,0,0,0,0,0,0,0,0,0,0,0,0,null,0,0,0,0,0,0,0,0,0,0,0,0,0,null,0,0,0,0,0,0,0,0,0,0,0,0,0,null,0,0,0,0,0,0,0,0,0,0,0,0,0,null,0,0,0,0,0,0,0,0,0,0,0,0,0,null,0,0,0,0,0,0,0,0,0,0,0,0,0,null,0,0,0,0,0,0,0,0,0,0,0,0,0,null,0,0,0,0,0,0,0,0,0,0,0,0,0,null,0,0,0,0,0,0,0,0,0,0,0,0,0,null,0,0,0,0,0,0,0,0,0,0,0,0,0,null,0,0,0,0,0,0,0,0,0,0,0,0,0,null,0,0,0,0,0,0,0,0,0,0,0,0,0]
[{"$f":"C47&D47","v":""}]
[{"$f":"C47&D48","v":""}]
[{"$f":"C49&D49","v":"Venda de animaisP"},"Entrada de Caixa","Venda de animais","P",0,0,0,0,0,0,0,0,0,0,0,0,{"$f":"SUM($E$49:$P$49)","v":0},null,0,0,0,0,0,0,0,0,0,0,0,0,{"$f":"SUM($S$49:$AD$49)","v":0},null,0,0,0,0,0,0,0,0,0,0,0,0,{"$f":"SUM($AG$49:$AR$49)","v":0},null,0,0,0,0,0,0,0,0,0,0,0,0,{"$f":"SUM($AU$49:$BF$49)","v":0},null,0,0,0,0,0,0,0,0,0,0,0,0,{"$f":"SUM($BI$49:$BT$49)","v":0},null,0,0,0,0,0,0,0,0,0,0,0,0,{"$f":"SUM($BW$49:$CH$49)","v":0},null,0,0,0,0,0,0,0,0,0,0,0,0,{"$f":"SUM($CK$49:$CV$49)","v":0},null,0,0,0,0,0,0,0,0,0,0,0,0,{"$f":"SUM($CY$49:$DJ$49)","v":0},null,0,0,0,0,0,0,0,0,0,0,0,0,{"$f":"SUM($DM$49:$DX$49)","v":0},null,0,0,0,0,0,0,0,0,0,0,0,0,{"$f":"SUM($EA$49:$EL$49)","v":0},null,0,0,0,0,0,0,0,0,0,0,0,0,{"$f":"SUM($EO$49:$EZ$49)","v":0},null,0,0,0,0,0,0,0,0,0,0,0,0,{"$f":"SUM($FC$49:$FN$49)","v":0}]
[{"$f":"C49&D50","v":"Venda de animaisR"},null,null,"R",null,null,null,null,null,null,null,null,null,null,null,null,{"$f":"SUM($E$50:$P$50)","v":0},null,null,null,null,null,null,null,null,null,null,null,null,null,{"$f":"SUM($S$50:$AD$50)","v":0},null,null,null,null,null,null,null,null,null,null,null,null,null,{"$f":"SUM($AG$50:$AR$50)","v":0},null,null,null,null,null,null,null,null,null,null,null,null,null,{"$f":"SUM($AU$50:$BF$50)","v":0},null,null,null,null,null,null,null,null,null,null,null,null,null,{"$f":"SUM($BI$50:$BT$50)","v":0},null,null,null,null,null,null,null,null,null,null,null,null,null,{"$f":"SUM($BW$50:$CH$50)","v":0},null,null,null,null,null,null,null,null,null,null,null,null,null,{"$f":"SUM($CK$50:$CV$50)","v":0},null,null,null,null,null,null,null,null,null,null,null,null,null,{"$f":"SUM($CY$50:$DJ$50)","v":0},null,null,null,null,null,null,null,null,null,null,null,null,null,{"$f":"SUM($DM$50:$DX$50)","v":0},null,null,null,null,null,null,null,null,null,null,null,null,null,{"$f":"SUM($EA$50:$EL$50)","v":0},null,null,null,null,null,null,null,null,null,null,null,null,null,{"$f":"SUM($EO$50:$EZ$50)","v":0},null,null,null,null,null,null,null,null,null,null,null,null,null,{"$f":"SUM($FC$50:$FN$50)","v":0}]
[{"$f":"C51&D51","v":"AP"},null,"A","P",0,0,0,0,0,0,0,0,0,0,0,0,{"$f":"SUM($E$51:$P$51)","v":0},null,0,0,0,0,0,0,0,0,0,0,0,0,{"$f":"SUM($S$51:$AD$51)","v":0},null,0,0,0,0,0,0,0,0,0,0,0,0,{"$f":"SUM($AG$51:$AR$51)","v":0},null,0,0,0,0,0,0,0,0,0,0,0,0,{"$f":"SUM($AU$51:$BF$51)","v":0},null,0,0,0,0,0,0,0,0,0,0,0,0,{"$f":"SUM($BI$51:$BT$51)","v":0},null,0,0,0,0,0,0,0,0,0,0,0,0,{"$f":"SUM($BW$51:$CH$51)","v":0},null,0,0,0,0,0,0,0,0,0,0,0,0,{"$f":"SUM($CK$51:$CV$51)","v":0},null,0,0,0,0,0,0,0,0,0,0,0,0,{"$f":"SUM($CY$51:$DJ$51)","v":0},null,0,0,0,0,0,0,0,0,0,0,0,0,{"$f":"SUM($DM$51:$DX$51)","v":0},null,0,0,0,0,0,0,0,0,0,0,0,0,{"$f":"SUM($EA$51:$EL$51)","v":0},null,0,0,0,0,0,0,0,0,0,0,0,0,{"$f":"SUM($EO$51:$EZ$51)","v":0},null,0,0,0,0,0,0,0,0,0,0,0,0,{"$f":"SUM($FC$51:$FN$51)","v":0}]
[{"$f":"C51&D52","v":"AR"},null,null,"R",null,null,null,null,null,null,null,null,null,null,null,null,{"$f":"SUM($E$52:$P$52)","v":0},null,null,null,null,null,null,null,null,null,null,null,null,null,{"$f":"SUM($S$52:$AD$52)","v":0},null,null,null,null,null,null,null,null,null,null,null,null,null,{"$f":"SUM($AG$52:$AR$52)","v":0},null,null,null,null,null,null,null,null,null,null,null,null,null,{"$f":"SUM($AU$52:$BF$52)","v":0},null,null,null,null,null,null,null,null,null,null,null,null,null,{"$f":"SUM($BI$52:$BT$52)","v":0},null,null,null,null,null,null,null,null,null,null,null,null,null,{"$f":"SUM($BW$52:$CH$52)","v":0},null,null,null,null,null,null,null,null,null,null,null,null,null,{"$f":"SUM($CK$52:$CV$52)","v":0},null,null,null,null,null,null,null,null,null,null,null,null,null,{"$f":"SUM($CY$52:$DJ$52)","v":0},null,null,null,null,null,null,null,null,null,null,null,null,null,{"$f":"SUM($DM$52:$DX$52)","v":0},null,null,null,null,null,null,null,null,null,null,null,null,null,{"$f":"SUM($EA$52:$EL$52)","v":0},null,null,null,null,null,null,null,null,null,null,null,null,null,{"$f":"SUM($EO$52:$EZ$52)","v":0},null,null,null,null,null,null,null,null,null,null,null,null,null,{"$f":"SUM($FC$52:$FN$52)","v":0}]
[{"$f":"C53&D53","v":"BP"},null,"B","P",0,0,0,0,0,0,0,0,0,0,0,0,{"$f":"SUM($E$53:$P$53)","v":0},null,0,0,0,0,0,0,0,0,0,0,0,0,{"$f":"SUM($S$53:$AD$53)","v":0},null,0,0,0,0,0,0,0,0,0,0,0,0,{"$f":"SUM($AG$53:$AR$53)","v":0},null,0,0,0,0,0,0,0,0,0,0,0,0,{"$f":"SUM($AU$53:$BF$53)","v":0},null,0,0,0,0,0,0,0,0,0,0,0,0,{"$f":"SUM($BI$53:$BT$53)","v":0},null,0,0,0,0,0,0,0,0,0,0,0,0,{"$f":"SUM($BW$53:$CH$53)","v":0},null,0,0,0,0,0,0,0,0,0,0,0,0,{"$f":"SUM($CK$53:$CV$53)","v":0},null,0,0,0,0,0,0,0,0,0,0,0,0,{"$f":"SUM($CY$53:$DJ$53)","v":0},null,0,0,0,0,0,0,0,0,0,0,0,0,{"$f":"SUM($DM$53:$DX$53)","v":0},null,0,0,0,0,0,0,0,0,0,0,0,0,{"$f":"SUM($EA$53:$EL$53)","v":0},null,0,0,0,0,0,0,0,0,0,0,0,0,{"$f":"SUM($EO$53:$EZ$53)","v":0},null,0,0,0,0,0,0,0,0,0,0,0,0,{"$f":"SUM($FC$53:$FN$53)","v":0}]
[{"$f":"C53&D54","v":"BR"},null,null,"R",null,null,null,null,null,null,null,null,null,null,null,null,{"$f":"SUM($E$54:$P$54)","v":0},null,null,null,null,null,null,null,null,null,null,null,null,null,{"$f":"SUM($S$54:$AD$54)","v":0},null,null,null,null,null,null,null,null,null,null,null,null,null,{"$f":"SUM($AG$54:$AR$54)","v":0},null,null,null,null,null,null,null,null,null,null,null,null,null,{"$f":"SUM($AU$54:$BF$54)","v":0},null,null,null,null,null,null,null,null,null,null,null,null,null,{"$f":"SUM($BI$54:$BT$54)","v":0},null,null,null,null,null,null,null,null,null,null,null,null,null,{"$f":"SUM($BW$54:$CH$54)","v":0},null,null,null,null,null,null,null,null,null,null,null,null,null,{"$f":"SUM($CK$54:$CV$54)","v":0},null,null,null,null,null,null,null,null,null,null,null,null,null,{"$f":"SUM($CY$54:$DJ$54)","v":0},null,null,null,null,null,null,null,null,null,null,null,null,null,{"$f":"SUM($DM$54:$DX$54)","v":0},null,null,null,null,null,null,null,null,null,null,null,null,null,{"$f":"SUM($EA$54:$EL$54)","v":0},null,null,null,null,null,null,null,null,null,null,null,null,null,{"$f":"SUM($EO$54:$EZ$54)","v":0},null,null,null,null,null,null,null,null,null,null,null,null,null,{"$f":"SUM($FC$54:$FN$54)","v":0}]
[{"$f":"C55&D55","v":"Entrada de Financiamento / CusteioP"},null,"Entrada de Financiamento / Custeio","P",0,0,0,0,0,0,0,0,0,0,0,0,{"$f":"SUM($E$55:$P$55)","v":0},null,0,0,0,0,0,0,0,0,0,0,0,0,{"$f":"SUM($S$55:$AD$55)","v":0},null,0,0,0,0,0,0,0,0,0,0,0,0,{"$f":"SUM($AG$55:$AR$55)","v":0},null,0,0,0,0,0,0,0,0,0,0,0,0,{"$f":"SUM($AU$55:$BF$55)","v":0},null,0,0,0,0,0,0,0,0,0,0,0,0,{"$f":"SUM($BI$55:$BT$55)","v":0},null,0,0,0,0,0,0,0,0,0,0,0,0,{"$f":"SUM($BW$55:$CH$55)","v":0},null,0,0,0,0,0,0,0,0,0,0,0,0,{"$f":"SUM($CK$55:$CV$55)","v":0},null,0,0,0,0,0,0,0,0,0,0,0,0,{"$f":"SUM($CY$55:$DJ$55)","v":0},null,0,0,0,0,0,0,0,0,0,0,0,0,{"$f":"SUM($DM$55:$DX$55)","v":0},null,0,0,0,0,0,0,0,0,0,0,0,0,{"$f":"SUM($EA$55:$EL$55)","v":0},null,0,0,0,0,0,0,0,0,0,0,0,0,{"$f":"SUM($EO$55:$EZ$55)","v":0},null,0,0,0,0,0,0,0,0,0,0,0,0,{"$f":"SUM($FC$55:$FN$55)","v":0}]
[{"$f":"C55&D56","v":"Entrada de Financiamento / CusteioR"},null,null,"R",null,null,null,null,null,null,null,null,null,null,null,null,{"$f":"SUM($E$56:$P$56)","v":0},null,null,null,null,null,null,null,null,null,null,null,null,null,{"$f":"SUM($S$56:$AD$56)","v":0},null,null,null,null,null,null,null,null,null,null,null,null,null,{"$f":"SUM($AG$56:$AR$56)","v":0},null,null,null,null,null,null,null,null,null,null,null,null,null,{"$f":"SUM($AU$56:$BF$56)","v":0},null,null,null,null,null,null,null,null,null,null,null,null,null,{"$f":"SUM($BI$56:$BT$56)","v":0},null,null,null,null,null,null,null,null,null,null,null,null,null,{"$f":"SUM($BW$56:$CH$56)","v":0},null,null,null,null,null,null,null,null,null,null,null,null,null,{"$f":"SUM($CK$56:$CV$56)","v":0},null,null,null,null,null,null,null,null,null,null,null,null,null,{"$f":"SUM($CY$56:$DJ$56)","v":0},null,null,null,null,null,null,null,null,null,null,null,null,null,{"$f":"SUM($DM$56:$DX$56)","v":0},null,null,null,null,null,null,null,null,null,null,null,null,null,{"$f":"SUM($EA$56:$EL$56)","v":0},null,null,null,null,null,null,null,null,null,null,null,null,null,{"$f":"SUM($EO$56:$EZ$56)","v":0},null,null,null,null,null,null,null,null,null,null,null,null,null,{"$f":"SUM($FC$56:$FN$56)","v":0}]
[{"$f":"C57&D57","v":"Total EntradasP"},null,"Total Entradas","P",{"$f":"SUMIF($D$49:$D$56,$D57,E49:E56)","v":0},{"$f":"SUMIF($D$49:$D$56,$D57,F49:F56)","v":0},{"$f":"SUMIF($D$49:$D$56,$D57,G49:G56)","v":0},0,0,0,0,0,0,0,0,0,0,null,{"$f":"SUMIF($D$49:$D$56,$D57,S49:S56)","v":0},{"$f":"SUMIF($D$49:$D$56,$D57,T49:T56)","v":0},{"$f":"SUMIF($D$49:$D$56,$D57,U49:U56)","v":0},0,0,0,0,0,0,0,0,0,0,null,{"$f":"SUMIF($D$49:$D$56,$D57,AG49:AG56)","v":0},{"$f":"SUMIF($D$49:$D$56,$D57,AH49:AH56)","v":0},{"$f":"SUMIF($D$49:$D$56,$D57,AI49:AI56)","v":0},0,0,0,0,0,0,0,0,0,0,null,{"$f":"SUMIF($D$49:$D$56,$D57,AU49:AU56)","v":0},{"$f":"SUMIF($D$49:$D$56,$D57,AV49:AV56)","v":0},{"$f":"SUMIF($D$49:$D$56,$D57,AW49:AW56)","v":0},0,0,0,0,0,0,0,0,0,0,null,{"$f":"SUMIF($D$49:$D$56,$D57,BI49:BI56)","v":0},{"$f":"SUMIF($D$49:$D$56,$D57,BJ49:BJ56)","v":0},{"$f":"SUMIF($D$49:$D$56,$D57,BK49:BK56)","v":0},0,0,0,0,0,0,0,0,0,0,null,{"$f":"SUMIF($D$49:$D$56,$D57,BW49:BW56)","v":0},{"$f":"SUMIF($D$49:$D$56,$D57,BX49:BX56)","v":0},{"$f":"SUMIF($D$49:$D$56,$D57,BY49:BY56)","v":0},0,0,0,0,0,0,0,0,0,0,null,{"$f":"SUMIF($D$49:$D$56,$D57,CK49:CK56)","v":0},{"$f":"SUMIF($D$49:$D$56,$D57,CL49:CL56)","v":0},{"$f":"SUMIF($D$49:$D$56,$D57,CM49:CM56)","v":0},0,0,0,0,0,0,0,0,0,0,null,{"$f":"SUMIF($D$49:$D$56,$D57,CY49:CY56)","v":0},{"$f":"SUMIF($D$49:$D$56,$D57,CZ49:CZ56)","v":0},{"$f":"SUMIF($D$49:$D$56,$D57,DA49:DA56)","v":0},0,0,0,0,0,0,0,0,0,0,null,{"$f":"SUMIF($D$49:$D$56,$D57,DM49:DM56)","v":0},{"$f":"SUMIF($D$49:$D$56,$D57,DN49:DN56)","v":0},{"$f":"SUMIF($D$49:$D$56,$D57,DO49:DO56)","v":0},0,0,0,0,0,0,0,0,0,0,null,{"$f":"SUMIF($D$49:$D$56,$D57,EA49:EA56)","v":0},{"$f":"SUMIF($D$49:$D$56,$D57,EB49:EB56)","v":0},{"$f":"SUMIF($D$49:$D$56,$D57,EC49:EC56)","v":0},0,0,0,0,0,0,0,0,0,0,null,{"$f":"SUMIF($D$49:$D$56,$D57,EO49:EO56)","v":0},{"$f":"SUMIF($D$49:$D$56,$D57,EP49:EP56)","v":0},{"$f":"SUMIF($D$49:$D$56,$D57,EQ49:EQ56)","v":0},0,0,0,0,0,0,0,0,0,0,null,{"$f":"SUMIF($D$49:$D$56,$D57,FC49:FC56)","v":0},{"$f":"SUMIF($D$49:$D$56,$D57,FD49:FD56)","v":0},{"$f":"SUMIF($D$49:$D$56,$D57,FE49:FE56)","v":0},0,0,0,0,0,0,0,0,0,0]
[{"$f":"C57&D58","v":"Total EntradasR"},null,null,"R",{"$f":"SUMIF($D$49:$D$56,$D58,E$49:E$56)","v":0},{"$f":"SUMIF($D$49:$D$56,$D58,F$49:F$56)","v":0},0,0,0,0,0,0,0,0,0,0,0,null,{"$f":"SUMIF($D$49:$D$56,$D58,S$49:S$56)","v":0},{"$f":"SUMIF($D$49:$D$56,$D58,T$49:T$56)","v":0},0,0,0,0,0,0,0,0,0,0,0,null,{"$f":"SUMIF($D$49:$D$56,$D58,AG$49:AG$56)","v":0},{"$f":"SUMIF($D$49:$D$56,$D58,AH$49:AH$56)","v":0},0,0,0,0,0,0,0,0,0,0,0,null,{"$f":"SUMIF($D$49:$D$56,$D58,AU$49:AU$56)","v":0},{"$f":"SUMIF($D$49:$D$56,$D58,AV$49:AV$56)","v":0},0,0,0,0,0,0,0,0,0,0,0,null,{"$f":"SUMIF($D$49:$D$56,$D58,BI$49:BI$56)","v":0},{"$f":"SUMIF($D$49:$D$56,$D58,BJ$49:BJ$56)","v":0},0,0,0,0,0,0,0,0,0,0,0,null,{"$f":"SUMIF($D$49:$D$56,$D58,BW$49:BW$56)","v":0},{"$f":"SUMIF($D$49:$D$56,$D58,BX$49:BX$56)","v":0},0,0,0,0,0,0,0,0,0,0,0,null,{"$f":"SUMIF($D$49:$D$56,$D58,CK$49:CK$56)","v":0},{"$f":"SUMIF($D$49:$D$56,$D58,CL$49:CL$56)","v":0},0,0,0,0,0,0,0,0,0,0,0,null,{"$f":"SUMIF($D$49:$D$56,$D58,CY$49:CY$56)","v":0},{"$f":"SUMIF($D$49:$D$56,$D58,CZ$49:CZ$56)","v":0},0,0,0,0,0,0,0,0,0,0,0,null,{"$f":"SUMIF($D$49:$D$56,$D58,DM$49:DM$56)","v":0},{"$f":"SUMIF($D$49:$D$56,$D58,DN$49:DN$56)","v":0},0,0,0,0,0,0,0,0,0,0,0,null,{"$f":"SUMIF($D$49:$D$56,$D58,EA$49:EA$56)","v":0},{"$f":"SUMIF($D$49:$D$56,$D58,EB$49:EB$56)","v":0},0,0,0,0,0,0,0,0,0,0,0,null,{"$f":"SUMIF($D$49:$D$56,$D58,EO$49:EO$56)","v":0},{"$f":"SUMIF($D$49:$D$56,$D58,EP$49:EP$56)","v":0},0,0,0,0,0,0,0,0,0,0,0,null,{"$f":"SUMIF($D$49:$D$56,$D58,FC$49:FC$56)","v":0},{"$f":"SUMIF($D$49:$D$56,$D58,FD$49:FD$56)","v":0},0,0,0,0,0,0,0,0,0,0,0]
[{"$f":"C59&D59","v":""}]
[{"$f":"C59&D60","v":""},"Saldo de Exercícios Anteriores"]
[{"$f":"B61&D61","v":"Saldo de Caixa MensalP"},"Saldo de Caixa Mensal",null,"P",{"$f":"E57-E45","v":0},0,0,0,0,0,0,0,0,0,0,0,0,null,{"$f":"S57-S45","v":0},0,0,0,0,0,0,0,0,0,0,0,0,null,{"$f":"AG57-AG45","v":0},0,0,0,0,0,0,0,0,0,0,0,0,null,{"$f":"AU57-AU45","v":0},0,0,0,0,0,0,0,0,0,0,0,0,null,{"$f":"BI57-BI45","v":0},0,0,0,0,0,0,0,0,0,0,0,0,null,{"$f":"BW57-BW45","v":0},0,0,0,0,0,0,0,0,0,0,0,0,null,{"$f":"CK57-CK45","v":0},0,0,0,0,0,0,0,0,0,0,0,0,null,{"$f":"CY57-CY45","v":0},0,0,0,0,0,0,0,0,0,0,0,0,null,{"$f":"DM57-DM45","v":0},0,0,0,0,0,0,0,0,0,0,0,0,null,{"$f":"EA57-EA45","v":0},0,0,0,0,0,0,0,0,0,0,0,0,null,{"$f":"EO57-EO45","v":0},0,0,0,0,0,0,0,0,0,0,0,0,null,{"$f":"FC57-FC45","v":0},0,0,0,0,0,0,0,0,0,0,0,0]
[{"$f":"B61&D62","v":"Saldo de Caixa MensalR"},null,null,"R",{"$f":"E58-E46","v":0},0,0,0,0,0,0,0,0,0,0,0,0,null,{"$f":"S58-S46","v":0},0,0,0,0,0,0,0,0,0,0,0,0,null,{"$f":"AG58-AG46","v":0},0,0,0,0,0,0,0,0,0,0,0,0,null,{"$f":"AU58-AU46","v":0},0,0,0,0,0,0,0,0,0,0,0,0,null,{"$f":"BI58-BI46","v":0},0,0,0,0,0,0,0,0,0,0,0,0,null,{"$f":"BW58-BW46","v":0},0,0,0,0,0,0,0,0,0,0,0,0,null,{"$f":"CK58-CK46","v":0},0,0,0,0,0,0,0,0,0,0,0,0,null,{"$f":"CY58-CY46","v":0},0,0,0,0,0,0,0,0,0,0,0,0,null,{"$f":"DM58-DM46","v":0},0,0,0,0,0,0,0,0,0,0,0,0,null,{"$f":"EA58-EA46","v":0},0,0,0,0,0,0,0,0,0,0,0,0,null,{"$f":"EO58-EO46","v":0},0,0,0,0,0,0,0,0,0,0,0,0,null,{"$f":"FC58-FC46","v":0},0,0,0,0,0,0,0,0,0,0,0,0]
[{"$f":"B63&D63","v":"Caixa AcumuladoP"},"Caixa Acumulado",null,"P",{"$f":"E61","v":0},{"$f":"F61+E63","v":0},{"$f":"G61+F63","v":0},0,0,0,{"$f":"K61+J63","v":0},0,0,0,0,0,null,null,{"$f":"S61+P63","v":0},{"$f":"T61+S63","v":0},{"$f":"U61+T63","v":0},0,0,0,0,0,0,0,0,{"$f":"AD61+AC63","v":0},null,null,{"$f":"AG61+AD63","v":0},{"$f":"AH61+AG63","v":0},{"$f":"AI61+AH63","v":0},0,0,0,0,0,0,0,0,{"$f":"AR61+AQ63","v":0},null,null,{"$f":"AU61+AR63","v":0},{"$f":"AV61+AU63","v":0},{"$f":"AW61+AV63","v":0},0,0,0,0,0,0,0,0,{"$f":"BF61+BE63","v":0},null,null,{"$f":"BI61+BF63","v":0},{"$f":"BJ61+BI63","v":0},{"$f":"BK61+BJ63","v":0},0,0,0,0,0,0,0,0,{"$f":"BT61+BS63","v":0},null,null,{"$f":"BW61+BT63","v":0},{"$f":"BX61+BW63","v":0},{"$f":"BY61+BX63","v":0},0,0,0,0,0,0,0,0,{"$f":"CH61+CG63","v":0},null,null,{"$f":"CK61+CH63","v":0},{"$f":"CL61+CK63","v":0},{"$f":"CM61+CL63","v":0},0,0,0,0,0,0,0,0,{"$f":"CV61+CU63","v":0},null,null,{"$f":"CY61+CV63","v":0},{"$f":"CZ61+CY63","v":0},{"$f":"DA61+CZ63","v":0},0,0,0,0,0,0,0,0,{"$f":"DJ61+DI63","v":0},null,null,{"$f":"DM61+DJ63","v":0},{"$f":"DN61+DM63","v":0},{"$f":"DO61+DN63","v":0},0,0,0,0,0,0,0,0,{"$f":"DX61+DW63","v":0},null,null,{"$f":"EA61+DX63","v":0},{"$f":"EB61+EA63","v":0},{"$f":"EC61+EB63","v":0},0,0,0,0,0,0,0,0,{"$f":"EL61+EK63","v":0},null,null,{"$f":"EO61+EL63","v":0},{"$f":"EP61+EO63","v":0},{"$f":"EQ61+EP63","v":0},0,0,0,0,0,0,0,0,{"$f":"EZ61+EY63","v":0},null,null,{"$f":"FC61+EZ63","v":0},{"$f":"FD61+FC63","v":0},{"$f":"FE61+FD63","v":0},0,0,0,0,0,0,0,0,{"$f":"FN61+FM63","v":0}]
[{"$f":"B63&D64","v":"Caixa AcumuladoR"},null,null,"R",{"$f":"E60+E62","v":0},{"$f":"E64+F62","v":0},{"$f":"F64+G62","v":0},0,0,0,0,0,0,0,0,0,null,null,{"$f":"S62+P64","v":0},{"$f":"T62+S64","v":0},0,0,0,0,0,0,0,0,0,0,null,null,{"$f":"AG62+AD64","v":0},{"$f":"AH62+AG64","v":0},0,0,0,0,0,0,0,0,0,0,null,null,{"$f":"AU62+AR64","v":0},{"$f":"AV62+AU64","v":0},0,0,0,0,0,0,0,0,0,0,null,null,{"$f":"BI62+BF64","v":0},{"$f":"BJ62+BI64","v":0},0,0,0,0,0,0,0,0,0,0,null,null,{"$f":"BW62+BT64","v":0},{"$f":"BX62+BW64","v":0},0,0,0,0,0,0,0,0,0,0,null,null,{"$f":"CK62+CH64","v":0},{"$f":"CL62+CK64","v":0},0,0,0,0,0,0,0,0,0,0,null,null,{"$f":"CY62+CV64","v":0},{"$f":"CZ62+CY64","v":0},0,0,0,0,0,0,0,0,0,0,null,null,{"$f":"DM62+DJ64","v":0},{"$f":"DN62+DM64","v":0},0,0,0,0,0,0,0,0,0,0,null,null,{"$f":"EA62+DX64","v":0},{"$f":"EB62+EA64","v":0},0,0,0,0,0,0,0,0,0,0,null,null,{"$f":"EO62+EL64","v":0},{"$f":"EP62+EO64","v":0},0,0,0,0,0,0,0,0,0,0,null,null,{"$f":"FC62+EZ64","v":0},{"$f":"FD62+FC64","v":0},0,0,0,0,0,0,0,0,0,0]

{"sheet":"Atividade 7","index":7,"n_rows":64,"n_cols":183,"rows_kept":64,"cut":false,"hidden":false,"merged":[[0,158,1,170],[2,130,2,142],[2,144,2,156],[2,158,2,170],[2,116,2,128],[0,116,1,128],[0,130,1,142],[0,144,1,156],[0,60,1,72],[0,74,1,86],[0,88,1,100],[0,102,1,114],[28,2,29,2],[2,60,2,72],[2,74,2,86],[2,88,2,100],[2,102,2,114],[2,4,2,16],[2,18,2,30],[2,32,2,44],[2,46,2,58],[0,4,1,16],[0,18,1,30],[0,32,1,44],[0,46,1,58],[4,1,45,1],[4,2,5,2],[6,2,7,2],[8,2,9,2],[10,2,11,2],[12,2,13,2],[14,2,15,2],[16,2,17,2],[18,2,19,2],[20,2,21,2],[22,2,23,2],[24,2,25,2],[26,2,27,2],[30,2,31,2],[42,2,43,2],[60,1,61,2],[62,1,63,2],[59,1,59,2],[44,2,45,2],[48,1,57,1],[48,2,49,2],[52,2,53,2],[54,2,55,2],[56,2,57,2],[50,2,51,2],[32,2,33,2],[34,2,35,2],[36,2,37,2],[38,2,39,2],[40,2,41,2]]}
[null,null,null,null,{"$f":"MENU!$C$31","v":"Atividade"},null,null,null,null,null,null,null,null,null,null,null,null,null,{"$f":"MENU!$C$31","v":"Atividade"},null,null,null,null,null,null,null,null,null,null,null,null,null,{"$f":"MENU!$C$31","v":"Atividade"},null,null,null,null,null,null,null,null,null,null,null,null,null,{"$f":"MENU!$C$31","v":"Atividade"},null,null,null,null,null,null,null,null,null,null,null,null,null,{"$f":"MENU!$C$31","v":"Atividade"},null,null,null,null,null,null,null,null,null,null,null,null,null,{"$f":"MENU!$C$31","v":"Atividade"},null,null,null,null,null,null,null,null,null,null,null,null,null,{"$f":"MENU!$C$31","v":"Atividade"},null,null,null,null,null,null,null,null,null,null,null,null,null,{"$f":"MENU!$C$31","v":"Atividade"},null,null,null,null,null,null,null,null,null,null,null,null,null,{"$f":"MENU!$C$31","v":"Atividade"},null,null,null,null,null,null,null,null,null,null,null,null,null,{"$f":"MENU!$C$31","v":"Atividade"},null,null,null,null,null,null,null,null,null,null,null,null,null,{"$f":"MENU!$C$31","v":"Atividade"},null,null,null,null,null,null,null,null,null,null,null,null,null,{"$f":"MENU!$C$31","v":"Atividade"}]
[null,null,null,null,null,null,null,null,null,null,null,null,null,null,null,null,null,null,null,null,null,null,null,null,null,null,null,null,null,null,null,null,null,null,null,null,null,null,null,null,null,null,null,null,null,null,null,null,null,null,null,null,null,null,null,null,null,null,null,null,null,null,null,null,null,null,null,null,null,null,null,null,null,null,null,null,null,null,null,null,null,null,null,null,null,null,null,null,null,null,null,null,null,null,null,null,null,null,null,null,null,null,null,null,null,null,null,null,null,null,null,null,null,null,null,null,null,null,null,null,null,null,null,null,null,null,null,null,null,null,null,null,null,null,null,null,null,null,null,null,null,null,null,null,null,null,null,null,null,null,null,null,null,null,null,null,null,null,null,null,null,null,null,null,null,null,null,null,null,null,null,null,null,null,null,null,null,null,6,1,{"$f":"VLOOKUP(FX2,FX3:FY14,2,0)","v":2017},{"$f":"VLOOKUP(FY2,$FY$3:$FZ$14,2,0)","v":"R3C5"},6]
[null,null,null,null,{"$f":"MENU!F6","v":0},null,null,null,null,null,null,null,null,null,null,null,null,null,{"$f":"E3+1","v":1},null,null,null,null,null,null,null,null,null,null,null,null,null,{"$f":"S3+1","v":2},null,null,null,null,null,null,null,null,null,null,null,null,null,{"$f":"AG3+1","v":3},null,null,null,null,null,null,null,null,null,null,null,null,null,{"$f":"AU3+1","v":4},null,null,null,null,null,null,null,null,null,null,null,null,null,{"$f":"BI3+1","v":5},null,null,null,null,null,null,null,null,null,null,null,null,null,{"$f":"BW3+1","v":6},null,null,null,null,null,null,null,null,null,null,null,null,null,{"$f":"CK3+1","v":7},null,null,null,null,null,null,null,null,null,null,null,null,null,{"$f":"CY3+1","v":8},null,null,null,null,null,null,null,null,null,null,null,null,null,{"$f":"DM3+1","v":9},null,null,null,null,null,null,null,null,null,null,null,null,null,{"$f":"EA3+1","v":10},null,null,null,null,null,null,null,null,null,null,null,null,null,{"$f":"EO3+1","v":11},null,null,null,null,null,null,null,null,null,null,null,null,null,null,null,null,null,null,null,null,1,2017,"R3C5"]
[null,null,"Descrição de Despesa",null,"Jan","Fev","Mar","Abr","Mai","Jun","Jul","Ago","Set","Out","Nov","Dez","Total",null,"Jan","Fev","Mar","Abr","Mai","Jun","Jul","Ago","Set","Out","Nov","Dez","Total",null,"Jan","Fev","Mar","Abr","Mai","Jun","Jul","Ago","Set","Out","Nov","Dez","Total",null,"Jan","Fev","Mar","Abr","Mai","Jun","Jul","Ago","Set","Out","Nov","Dez","Total",null,"Jan","Fev","Mar","Abr","Mai","Jun","Jul","Ago","Set","Out","Nov","Dez","Total",null,"Jan","Fev","Mar","Abr","Mai","Jun","Jul","Ago","Set","Out","Nov","Dez","Total",null,"Jan","Fev","Mar","Abr","Mai","Jun","Jul","Ago","Set","Out","Nov","Dez","Total",null,"Jan","Fev","Mar","Abr","Mai","Jun","Jul","Ago","Set","Out","Nov","Dez","Total",null,"Jan","Fev","Mar","Abr","Mai","Jun","Jul","Ago","Set","Out","Nov","Dez","Total",null,"Jan","Fev","Mar","Abr","Mai","Jun","Jul","Ago","Set","Out","Nov","Dez","Total",null,"Jan","Fev","Mar","Abr","Mai","Jun","Jul","Ago","Set","Out","Nov","Dez","Total",null,"Jan","Fev","Mar","Abr","Mai","Jun","Jul","Ago","Set","Out","Nov","Dez","Total",null,null,null,null,null,null,null,null,2,2018,"R3C19"]
[{"$f":"C5&D5","v":"RoupaP"},"Saídas de Caixa","Roupa","P",0,0,0,0,0,0,0,0,0,0,0,0,{"$f":"SUM($E$5:$P$5)","v":0},null,0,0,0,0,0,0,0,0,0,0,0,0,{"$f":"SUM($S$5:$AD$5)","v":0},null,0,0,0,0,0,0,0,0,0,0,0,0,{"$f":"SUM($AG$5:$AR$5)","v":0},null,0,0,0,0,0,0,0,0,0,0,0,0,{"$f":"SUM($AU$5:$BF$5)","v":0},null,0,0,0,0,0,0,0,0,0,0,0,0,{"$f":"SUM($BI$5:$BT$5)","v":0},null,0,0,0,0,0,0,0,0,0,0,0,0,{"$f":"SUM($BW$5:$CH$5)","v":0},null,0,0,0,0,0,0,0,0,0,0,0,0,{"$f":"SUM($CK$5:$CV$5)","v":0},null,0,0,0,0,0,0,0,0,0,0,0,0,{"$f":"SUM($CY$5:$DJ$5)","v":0},null,0,0,0,0,0,0,0,0,0,0,0,0,{"$f":"SUM($DM$5:$DX$5)","v":0},null,0,0,0,0,0,0,0,0,0,0,0,0,{"$f":"SUM($EA$5:$EL$5)","v":0},null,0,0,0,0,0,0,0,0,0,0,0,0,{"$f":"SUM($EO$5:$EZ$5)","v":0},null,0,0,0,0,0,0,0,0,0,0,0,0,{"$f":"SUM($FC$5:$FN$5)","v":0},null,null,null,null,null,null,null,null,3,2019,"R3C33"]
[{"$f":"C5&D6","v":"RoupaR"},null,null,"R",null,null,null,null,null,null,null,null,null,null,null,null,{"$f":"SUM($E$6:$P$6)","v":0},null,null,null,null,null,null,null,null,null,null,null,null,null,{"$f":"SUM($S$6:$AD$6)","v":0},null,null,null,null,null,null,null,null,null,null,null,null,null,{"$f":"SUM($AG$6:$AR$6)","v":0},null,null,null,null,null,null,null,null,null,null,null,null,null,{"$f":"SUM($AU$6:$BF$6)","v":0},null,null,null,null,null,null,null,null,null,null,null,null,null,{"$f":"SUM($BI$6:$BT$6)","v":0},null,null,null,null,null,null,null,null,null,null,null,null,null,{"$f":"SUM($BW$6:$CH$6)","v":0},null,null,null,null,null,null,null,null,null,null,null,null,null,{"$f":"SUM($CK$6:$CV$6)","v":0},null,null,null,null,null,null,null,null,null,null,null,null,null,{"$f":"SUM($CY$6:$DJ$6)","v":0},null,null,null,null,null,null,null,null,null,null,null,null,null,{"$f":"SUM($DM$6:$DX$6)","v":0},null,null,null,null,null,null,null,null,null,null,null,null,null,{"$f":"SUM($EA$6:$EL$6)","v":0},null,null,null,null,null,null,null,null,null,null,null,null,null,{"$f":"SUM($EO$6:$EZ$6)","v":0},null,null,null,null,null,null,null,null,null,null,null,null,null,{"$f":"SUM($FC$6:$FN$6)","v":0},null,null,null,null,null,null,null,null,4,2020,"R3C47"]
[{"$f":"C7&D7","v":"FavoP"},null,"Favo","P",0,0,0,0,0,0,0,0,0,0,0,0,{"$f":"SUM($E$7:$P$7)","v":0},null,0,0,0,0,0,0,0,0,0,0,0,0,{"$f":"SUM($S$7:$AD$7)","v":0},null,0,0,0,0,0,0,0,0,0,0,0,0,{"$f":"SUM($AG$7:$AR$7)","v":0},null,0,0,0,0,0,0,0,0,0,0,0,0,{"$f":"SUM($AU$7:$BF$7)","v":0},null,0,0,0,0,0,0,0,0,0,0,0,0,{"$f":"SUM($BI$7:$BT$7)","v":0},null,0,0,0,0,0,0,0,0,0,0,0,0,{"$f":"SUM($BW$7:$CH$7)","v":0},null,0,0,0,0,0,0,0,0,0,0,0,0,{"$f":"SUM($CK$7:$CV$7)","v":0},null,0,0,0,0,0,0,0,0,0,0,0,0,{"$f":"SUM($CY$7:$DJ$7)","v":0},null,0,0,0,0,0,0,0,0,0,0,0,0,{"$f":"SUM($DM$7:$DX$7)","v":0},null,0,0,0,0,0,0,0,0,0,0,0,0,{"$f":"SUM($EA$7:$EL$7)","v":0},null,0,0,0,0,0,0,0,0,0,0,0,0,{"$f":"SUM($EO$7:$EZ$7)","v":0},null,0,0,0,0,0,0,0,0,0,0,0,0,{"$f":"SUM($FC$7:$FN$7)","v":0},null,null,null,null,null,null,null,null,5,2021,"R3C61"]
[{"$f":"C7&D8","v":"FavoR"},null,null,"R",null,null,null,null,null,null,null,null,null,null,null,null,{"$f":"SUM($E$8:$P$8)","v":0},null,null,null,null,null,null,null,null,null,null,null,null,null,{"$f":"SUM($S$8:$AD$8)","v":0},null,null,null,null,null,null,null,null,null,null,null,null,null,{"$f":"SUM($AG$8:$AR$8)","v":0},null,null,null,null,null,null,null,null,null,null,null,null,null,{"$f":"SUM($AU$8:$BF$8)","v":0},null,null,null,null,null,null,null,null,null,null,null,null,null,{"$f":"SUM($BI$8:$BT$8)","v":0},null,null,null,null,null,null,null,null,null,null,null,null,null,{"$f":"SUM($BW$8:$CH$8)","v":0},null,null,null,null,null,null,null,null,null,null,null,null,null,{"$f":"SUM($CK$8:$CV$8)","v":0},null,null,null,null,null,null,null,null,null,null,null,null,null,{"$f":"SUM($CY$8:$DJ$8)","v":0},null,null,null,null,null,null,null,null,null,null,null,null,null,{"$f":"SUM($DM$8:$DX$8)","v":0},null,null,null,null,null,null,null,null,null,null,null,null,null,{"$f":"SUM($EA$8:$EL$8)","v":0},null,null,null,null,null,null,null,null,null,null,null,null,null,{"$f":"SUM($EO$8:$EZ$8)","v":0},null,null,null,null,null,null,null,null,null,null,null,null,null,{"$f":"SUM($FC$8:$FN$8)","v":0},null,null,null,null,null,null,null,null,6,2022,"R3C75"]
[{"$f":"C9&D9","v":"Caixas novasP"},null,"Caixas novas","P",0,0,0,0,0,0,0,0,0,0,0,0,{"$f":"SUM($E$9:$P$9)","v":0},null,0,0,0,0,0,0,0,0,0,0,0,0,{"$f":"SUM($S$9:$AD$9)","v":0},null,0,0,0,0,0,0,0,0,0,0,0,0,{"$f":"SUM($AG$9:$AR$9)","v":0},null,0,0,0,0,0,0,0,0,0,0,0,0,{"$f":"SUM($AU$9:$BF$9)","v":0},null,0,0,0,0,0,0,0,0,0,0,0,0,{"$f":"SUM($BI$9:$BT$9)","v":0},null,0,0,0,0,0,0,0,0,0,0,0,0,{"$f":"SUM($BW$9:$CH$9)","v":0},null,0,0,0,0,0,0,0,0,0,0,0,0,{"$f":"SUM($CK$9:$CV$9)","v":0},null,0,0,0,0,0,0,0,0,0,0,0,0,{"$f":"SUM($CY$9:$DJ$9)","v":0},null,0,0,0,0,0,0,0,0,0,0,0,0,{"$f":"SUM($DM$9:$DX$9)","v":0},null,0,0,0,0,0,0,0,0,0,0,0,0,{"$f":"SUM($EA$9:$EL$9)","v":0},null,0,0,0,0,0,0,0,0,0,0,0,0,{"$f":"SUM($EO$9:$EZ$9)","v":0},null,0,0,0,0,0,0,0,0,0,0,0,0,{"$f":"SUM($FC$9:$FN$9)","v":0},null,null,null,null,null,null,null,null,7,2023,"R3C89"]
[{"$f":"C9&D10","v":"Caixas novasR"},null,null,"R",null,null,null,null,null,null,null,null,null,null,null,null,{"$f":"SUM($E$10:$P$10)","v":0},null,null,null,null,null,null,null,null,null,null,null,null,null,{"$f":"SUM($S$10:$AD$10)","v":0},null,null,null,null,null,null,null,null,null,null,null,null,null,{"$f":"SUM($AG$10:$AR$10)","v":0},null,null,null,null,null,null,null,null,null,null,null,null,null,{"$f":"SUM($AU$10:$BF$10)","v":0},null,null,null,null,null,null,null,null,null,null,null,null,null,{"$f":"SUM($BI$10:$BT$10)","v":0},null,null,null,null,null,null,null,null,null,null,null,null,null,{"$f":"SUM($BW$10:$CH$10)","v":0},null,null,null,null,null,null,null,null,null,null,null,null,null,{"$f":"SUM($CK$10:$CV$10)","v":0},null,null,null,null,null,null,null,null,null,null,null,null,null,{"$f":"SUM($CY$10:$DJ$10)","v":0},null,null,null,null,null,null,null,null,null,null,null,null,null,{"$f":"SUM($DM$10:$DX$10)","v":0},null,null,null,null,null,null,null,null,null,null,null,null,null,{"$f":"SUM($EA$10:$EL$10)","v":0},null,null,null,null,null,null,null,null,null,null,null,null,null,{"$f":"SUM($EO$10:$EZ$10)","v":0},null,null,null,null,null,null,null,null,null,null,null,null,null,{"$f":"SUM($FC$10:$FN$10)","v":0},null,null,null,null,null,null,null,null,8,2024,"R3C103"]
[{"$f":"C11&D11","v":"VidrosP"},null,"Vidros","P",0,0,0,0,0,0,0,0,0,0,0,0,{"$f":"SUM($E$11:$P$11)","v":0},null,0,0,0,0,0,0,0,0,0,0,0,0,{"$f":"SUM($S$11:$AD$11)","v":0},null,0,0,0,0,0,0,0,0,0,0,0,0,{"$f":"SUM($AG$11:$AR$11)","v":0},null,0,0,0,0,0,0,0,0,0,0,0,0,{"$f":"SUM($AU$11:$BF$11)","v":0},null,0,0,0,0,0,0,0,0,0,0,0,0,{"$f":"SUM($BI$11:$BT$11)","v":0},null,0,0,0,0,0,0,0,0,0,0,0,0,{"$f":"SUM($BW$11:$CH$11)","v":0},null,0,0,0,0,0,0,0,0,0,0,0,0,{"$f":"SUM($CK$11:$CV$11)","v":0},null,0,0,0,0,0,0,0,0,0,0,0,0,{"$f":"SUM($CY$11:$DJ$11)","v":0},null,0,0,0,0,0,0,0,0,0,0,0,0,{"$f":"SUM($DM$11:$DX$11)","v":0},null,0,0,0,0,0,0,0,0,0,0,0,0,{"$f":"SUM($EA$11:$EL$11)","v":0},null,0,0,0,0,0,0,0,0,0,0,0,0,{"$f":"SUM($EO$11:$EZ$11)","v":0},null,0,0,0,0,0,0,0,0,0,0,0,0,{"$f":"SUM($FC$11:$FN$11)","v":0},null,null,null,null,null,null,null,null,9,2025,"R3C117"]
[{"$f":"C11&D12","v":"VidrosR"},null,null,"R",null,null,null,null,null,null,null,null,null,null,null,null,{"$f":"SUM($E$12:$P$12)","v":0},null,null,null,null,null,null,null,null,null,null,null,null,null,{"$f":"SUM($S$12:$AD$12)","v":0},null,null,null,null,null,null,null,null,null,null,null,null,null,{"$f":"SUM($AG$12:$AR$12)","v":0},null,null,null,null,null,null,null,null,null,null,null,null,null,{"$f":"SUM($AU$12:$BF$12)","v":0},null,null,null,null,null,null,null,null,null,null,null,null,null,{"$f":"SUM($BI$12:$BT$12)","v":0},null,null,null,null,null,null,null,null,null,null,null,null,null,{"$f":"SUM($BW$12:$CH$12)","v":0},null,null,null,null,null,null,null,null,null,null,null,null,null,{"$f":"SUM($CK$12:$CV$12)","v":0},null,null,null,null,null,null,null,null,null,null,null,null,null,{"$f":"SUM($CY$12:$DJ$12)","v":0},null,null,null,null,null,null,null,null,null,null,null,null,null,{"$f":"SUM($DM$12:$DX$12)","v":0},null,null,null,null,null,null,null,null,null,null,null,null,null,{"$f":"SUM($EA$12:$EL$12)","v":0},null,null,null,null,null,null,null,null,null,null,null,null,null,{"$f":"SUM($EO$12:$EZ$12)","v":0},null,null,null,null,null,null,null,null,null,null,null,null,null,{"$f":"SUM($FC$12:$FN$12)","v":0},null,null,null,null,null,null,null,null,10,2026,"R3C131"]
[{"$f":"C13&D13","v":"BotasP"},null,"Botas","P",0,0,0,0,0,0,0,0,0,0,0,0,{"$f":"SUM($E$13:$P$13)","v":0},null,0,0,0,0,0,0,0,0,0,0,0,0,{"$f":"SUM($S$13:$AD$13)","v":0},null,0,0,0,0,0,0,0,0,0,0,0,0,{"$f":"SUM($AG$13:$AR$13)","v":0},null,0,0,0,0,0,0,0,0,0,0,0,0,{"$f":"SUM($AU$13:$BF$13)","v":0},null,0,0,0,0,0,0,0,0,0,0,0,0,{"$f":"SUM($BI$13:$BT$13)","v":0},null,0,0,0,0,0,0,0,0,0,0,0,0,{"$f":"SUM($BW$13:$CH$13)","v":0},null,0,0,0,0,0,0,0,0,0,0,0,0,{"$f":"SUM($CK$13:$CV$13)","v":0},null,0,0,0,0,0,0,0,0,0,0,0,0,{"$f":"SUM($CY$13:$DJ$13)","v":0},null,0,0,0,0,0,0,0,0,0,0,0,0,{"$f":"SUM($DM$13:$DX$13)","v":0},null,0,0,0,0,0,0,0,0,0,0,0,0,{"$f":"SUM($EA$13:$EL$13)","v":0},null,0,0,0,0,0,0,0,0,0,0,0,0,{"$f":"SUM($EO$13:$EZ$13)","v":0},null,0,0,0,0,0,0,0,0,0,0,0,0,{"$f":"SUM($FC$13:$FN$13)","v":0},null,null,null,null,null,null,null,null,11,2027,"R3C145"]
[{"$f":"C13&D14","v":"BotasR"},null,null,"R",null,null,null,null,null,null,null,null,null,null,null,null,{"$f":"SUM($E$14:$P$14)","v":0},null,null,null,null,null,null,null,null,null,null,null,null,null,{"$f":"SUM($S$14:$AD$14)","v":0},null,null,null,null,null,null,null,null,null,null,null,null,null,{"$f":"SUM($AG$14:$AR$14)","v":0},null,null,null,null,null,null,null,null,null,null,null,null,null,{"$f":"SUM($AU$14:$BF$14)","v":0},null,null,null,null,null,null,null,null,null,null,null,null,null,{"$f":"SUM($BI$14:$BT$14)","v":0},null,null,null,null,null,null,null,null,null,null,null,null,null,{"$f":"SUM($BW$14:$CH$14)","v":0},null,null,null,null,null,null,null,null,null,null,null,null,null,{"$f":"SUM($CK$14:$CV$14)","v":0},null,null,null,null,null,null,null,null,null,null,null,null,null,{"$f":"SUM($CY$14:$DJ$14)","v":0},null,null,null,null,null,null,null,null,null,null,null,null,null,{"$f":"SUM($DM$14:$DX$14)","v":0},null,null,null,null,null,null,null,null,null,null,null,null,null,{"$f":"SUM($EA$14:$EL$14)","v":0},null,null,null,null,null,null,null,null,null,null,null,null,null,{"$f":"SUM($EO$14:$EZ$14)","v":0},null,null,null,null,null,null,null,null,null,null,null,null,null,{"$f":"SUM($FC$14:$FN$14)","v":0},null,null,null,null,null,null,null,null,12,2028,"R3C159"]
[{"$f":"C15&D15","v":"FumegadorP"},null,"Fumegador","P",0,0,0,0,0,0,0,0,0,0,0,0,{"$f":"SUM($E$15:$P$15)","v":0},null,0,0,0,0,0,0,0,0,0,0,0,0,{"$f":"SUM($S$15:$AD$15)","v":0},null,0,0,0,0,0,0,0,0,0,0,0,0,{"$f":"SUM($AG$15:$AR$15)","v":0},null,0,0,0,0,0,0,0,0,0,0,0,0,{"$f":"SUM($AU$15:$BF$15)","v":0},null,0,0,0,0,0,0,0,0,0,0,0,0,{"$f":"SUM($BI$15:$BT$15)","v":0},null,0,0,0,0,0,0,0,0,0,0,0,0,{"$f":"SUM($BW$15:$CH$15)","v":0},null,0,0,0,0,0,0,0,0,0,0,0,0,{"$f":"SUM($CK$15:$CV$15)","v":0},null,0,0,0,0,0,0,0,0,0,0,0,0,{"$f":"SUM($CY$15:$DJ$15)","v":0},null,0,0,0,0,0,0,0,0,0,0,0,0,{"$f":"SUM($DM$15:$DX$15)","v":0},null,0,0,0,0,0,0,0,0,0,0,0,0,{"$f":"SUM($EA$15:$EL$15)","v":0},null,0,0,0,0,0,0,0,0,0,0,0,0,{"$f":"SUM($EO$15:$EZ$15)","v":0},null,0,0,0,0,0,0,0,0,0,0,0,0,{"$f":"SUM($FC$15:$FN$15)","v":0}]
[{"$f":"C15&D16","v":"FumegadorR"},null,null,"R",null,null,null,null,null,null,null,null,null,null,null,null,{"$f":"SUM($E$16:$P$16)","v":0},null,null,null,null,null,null,null,null,null,null,null,null,null,{"$f":"SUM($S$16:$AD$16)","v":0},null,null,null,null,null,null,null,null,null,null,null,null,null,{"$f":"SUM($AG$16:$AR$16)","v":0},null,null,null,null,null,null,null,null,null,null,null,null,null,{"$f":"SUM($AU$16:$BF$16)","v":0},null,null,null,null,null,null,null,null,null,null,null,null,null,{"$f":"SUM($BI$16:$BT$16)","v":0},null,null,null,null,null,null,null,null,null,null,null,null,null,{"$f":"SUM($BW$16:$CH$16)","v":0},null,null,null,null,null,null,null,null,null,null,null,null,null,{"$f":"SUM($CK$16:$CV$16)","v":0},null,null,null,null,null,null,null,null,null,null,null,null,null,{"$f":"SUM($CY$16:$DJ$16)","v":0},null,null,null,null,null,null,null,null,null,null,null,null,null,{"$f":"SUM($DM$16:$DX$16)","v":0},null,null,null,null,null,null,null,null,null,null,null,null,null,{"$f":"SUM($EA$16:$EL$16)","v":0},null,null,null,null,null,null,null,null,null,null,null,null,null,{"$f":"SUM($EO$16:$EZ$16)","v":0},null,null,null,null,null,null,null,null,null,null,null,null,null,{"$f":"SUM($FC$16:$FN$16)","v":0}]
[{"$f":"C17&D17","v":"AP"},null,"A","P",0,0,0,0,0,0,0,0,0,0,0,0,{"$f":"SUM($E$17:$P$17)","v":0},null,0,0,0,0,0,0,0,0,0,0,0,0,{"$f":"SUM($S$17:$AD$17)","v":0},null,0,0,0,0,0,0,0,0,0,0,0,0,{"$f":"SUM($AG$17:$AR$17)","v":0},null,0,0,0,0,0,0,0,0,0,0,0,0,{"$f":"SUM($AU$17:$BF$17)","v":0},null,0,0,0,0,0,0,0,0,0,0,0,0,{"$f":"SUM($BI$17:$BT$17)","v":0},null,0,0,0,0,0,0,0,0,0,0,0,0,{"$f":"SUM($BW$17:$CH$17)","v":0},null,0,0,0,0,0,0,0,0,0,0,0,0,{"$f":"SUM($CK$17:$CV$17)","v":0},null,0,0,0,0,0,0,0,0,0,0,0,0,{"$f":"SUM($CY$17:$DJ$17)","v":0},null,0,0,0,0,0,0,0,0,0,0,0,0,{"$f":"SUM($DM$17:$DX$17)","v":0},null,0,0,0,0,0,0,0,0,0,0,0,0,{"$f":"SUM($EA$17:$EL$17)","v":0},null,0,0,0,0,0,0,0,0,0,0,0,0,{"$f":"SUM($EO$17:$EZ$17)","v":0},null,0,0,0,0,0,0,0,0,0,0,0,0,{"$f":"SUM($FC$17:$FN$17)","v":0}]
[{"$f":"C17&D18","v":"AR"},null,null,"R",null,null,null,null,null,null,null,null,null,null,null,null,{"$f":"SUM($E$18:$P$18)","v":0},null,null,null,null,null,null,null,null,null,null,null,null,null,{"$f":"SUM($S$18:$AD$18)","v":0},null,null,null,null,null,null,null,null,null,null,null,null,null,{"$f":"SUM($AG$18:$AR$18)","v":0},null,null,null,null,null,null,null,null,null,null,null,null,null,{"$f":"SUM($AU$18:$BF$18)","v":0},null,null,null,null,null,null,null,null,null,null,null,null,null,{"$f":"SUM($BI$18:$BT$18)","v":0},null,null,null,null,null,null,null,null,null,null,null,null,null,{"$f":"SUM($BW$18:$CH$18)","v":0},null,null,null,null,null,null,null,null,null,null,null,null,null,{"$f":"SUM($CK$18:$CV$18)","v":0},null,null,null,null,null,null,null,null,null,null,null,null,null,{"$f":"SUM($CY$18:$DJ$18)","v":0},null,null,null,null,null,null,null,null,null,null,null,null,null,{"$f":"SUM($DM$18:$DX$18)","v":0},null,null,null,null,null,null,null,null,null,null,null,null,null,{"$f":"SUM($EA$18:$EL$18)","v":0},null,null,null,null,null,null,null,null,null,null,null,null,null,{"$f":"SUM($EO$18:$EZ$18)","v":0},null,null,null,null,null,null,null,null,null,null,null,null,null,{"$f":"SUM($FC$18:$FN$18)","v":0}]
[{"$f":"C19&D19","v":"BP"},null,"B","P",0,0,0,0,0,0,0,0,0,0,0,0,{"$f":"SUM($E$19:$P$19)","v":0},null,0,0,0,0,0,0,0,0,0,0,0,0,{"$f":"SUM($S$19:$AD$19)","v":0},null,0,0,0,0,0,0,0,0,0,0,0,0,{"$f":"SUM($AG$19:$AR$19)","v":0},null,0,0,0,0,0,0,0,0,0,0,0,0,{"$f":"SUM($AU$19:$BF$19)","v":0},null,0,0,0,0,0,0,0,0,0,0,0,0,{"$f":"SUM($BI$19:$BT$19)","v":0},null,0,0,0,0,0,0,0,0,0,0,0,0,{"$f":"SUM($BW$19:$CH$19)","v":0},null,0,0,0,0,0,0,0,0,0,0,0,0,{"$f":"SUM($CK$19:$CV$19)","v":0},null,0,0,0,0,0,0,0,0,0,0,0,0,{"$f":"SUM($CY$19:$DJ$19)","v":0},null,0,0,0,0,0,0,0,0,0,0,0,0,{"$f":"SUM($DM$19:$DX$19)","v":0},null,0,0,0,0,0,0,0,0,0,0,0,0,{"$f":"SUM($EA$19:$EL$19)","v":0},null,0,0,0,0,0,0,0,0,0,0,0,0,{"$f":"SUM($EO$19:$EZ$19)","v":0},null,0,0,0,0,0,0,0,0,0,0,0,0,{"$f":"SUM($FC$19:$FN$19)","v":0}]
[{"$f":"C19&D20","v":"BR"},null,null,"R",null,null,null,null,null,null,null,null,null,null,null,null,{"$f":"SUM($E$20:$P$20)","v":0},null,null,null,null,null,null,null,null,null,null,null,null,null,{"$f":"SUM($S$20:$AD$20)","v":0},null,null,null,null,null,null,null,null,null,null,null,null,null,{"$f":"SUM($AG$20:$AR$20)","v":0},null,null,null,null,null,null,null,null,null,null,null,null,null,{"$f":"SUM($AU$20:$BF$20)","v":0},null,null,null,null,null,null,null,null,null,null,null,null,null,{"$f":"SUM($BI$20:$BT$20)","v":0},null,null,null,null,null,null,null,null,null,null,null,null,null,{"$f":"SUM($BW$20:$CH$20)","v":0},null,null,null,null,null,null,null,null,null,null,null,null,null,{"$f":"SUM($CK$20:$CV$20)","v":0},null,null,null,null,null,null,null,null,null,null,null,null,null,{"$f":"SUM($CY$20:$DJ$20)","v":0},null,null,null,null,null,null,null,null,null,null,null,null,null,{"$f":"SUM($DM$20:$DX$20)","v":0},null,null,null,null,null,null,null,null,null,null,null,null,null,{"$f":"SUM($EA$20:$EL$20)","v":0},null,null,null,null,null,null,null,null,null,null,null,null,null,{"$f":"SUM($EO$20:$EZ$20)","v":0},null,null,null,null,null,null,null,null,null,null,null,null,null,{"$f":"SUM($FC$20:$FN$20)","v":0}]
[{"$f":"C21&D21","v":"CP"},null,"C","P",0,0,0,0,0,0,0,0,0,0,0,0,{"$f":"SUM($E$21:$P$21)","v":0},null,0,0,0,0,0,0,0,0,0,0,0,0,{"$f":"SUM($S$21:$AD$21)","v":0},null,0,0,0,0,0,0,0,0,0,0,0,0,{"$f":"SUM($AG$21:$AR$21)","v":0},null,0,0,0,0,0,0,0,0,0,0,0,0,{"$f":"SUM($AU$21:$BF$21)","v":0},null,0,0,0,0,0,0,0,0,0,0,0,0,{"$f":"SUM($BI$21:$BT$21)","v":0},null,0,0,0,0,0,0,0,0,0,0,0,0,{"$f":"SUM($BW$21:$CH$21)","v":0},null,0,0,0,0,0,0,0,0,0,0,0,0,{"$f":"SUM($CK$21:$CV$21)","v":0},null,0,0,0,0,0,0,0,0,0,0,0,0,{"$f":"SUM($CY$21:$DJ$21)","v":0},null,0,0,0,0,0,0,0,0,0,0,0,0,{"$f":"SUM($DM$21:$DX$21)","v":0},null,0,0,0,0,0,0,0,0,0,0,0,0,{"$f":"SUM($EA$21:$EL$21)","v":0},null,0,0,0,0,0,0,0,0,0,0,0,0,{"$f":"SUM($EO$21:$EZ$21)","v":0},null,0,0,0,0,0,0,0,0,0,0,0,0,{"$f":"SUM($FC$21:$FN$21)","v":0}]
[{"$f":"C21&D22","v":"CR"},null,null,"R",null,null,null,null,null,null,null,null,null,null,null,null,{"$f":"SUM($E$22:$P$22)","v":0},null,null,null,null,null,null,null,null,null,null,null,null,null,{"$f":"SUM($S$22:$AD$22)","v":0},null,null,null,null,null,null,null,null,null,null,null,null,null,{"$f":"SUM($AG$22:$AR$22)","v":0},null,null,null,null,null,null,null,null,null,null,null,null,null,{"$f":"SUM($AU$22:$BF$22)","v":0},null,null,null,null,null,null,null,null,null,null,null,null,null,{"$f":"SUM($BI$22:$BT$22)","v":0},null,null,null,null,null,null,null,null,null,null,null,null,null,{"$f":"SUM($BW$22:$CH$22)","v":0},null,null,null,null,null,null,null,null,null,null,null,null,null,{"$f":"SUM($CK$22:$CV$22)","v":0},null,null,null,null,null,null,null,null,null,null,null,null,null,{"$f":"SUM($CY$22:$DJ$22)","v":0},null,null,null,null,null,null,null,null,null,null,null,null,null,{"$f":"SUM($DM$22:$DX$22)","v":0},null,null,null,null,null,null,null,null,null,null,null,null,null,{"$f":"SUM($EA$22:$EL$22)","v":0},null,null,null,null,null,null,null,null,null,null,null,null,null,{"$f":"SUM($EO$22:$EZ$22)","v":0},null,null,null,null,null,null,null,null,null,null,null,null,null,{"$f":"SUM($FC$22:$FN$22)","v":0}]
[{"$f":"C23&D23","v":"DP"},null,"D","P",0,0,0,0,0,0,0,0,0,0,0,0,{"$f":"SUM($E$23:$P$23)","v":0},null,0,0,0,0,0,0,0,0,0,0,0,0,{"$f":"SUM($S$23:$AD$23)","v":0},null,0,0,0,0,0,0,0,0,0,0,0,0,{"$f":"SUM($AG$23:$AR$23)","v":0},null,0,0,0,0,0,0,0,0,0,0,0,0,{"$f":"SUM($AU$23:$BF$23)","v":0},null,0,0,0,0,0,0,0,0,0,0,0,0,{"$f":"SUM($BI$23:$BT$23)","v":0},null,0,0,0,0,0,0,0,0,0,0,0,0,{"$f":"SUM($BW$23:$CH$23)","v":0},null,0,0,0,0,0,0,0,0,0,0,0,0,{"$f":"SUM($CK$23:$CV$23)","v":0},null,0,0,0,0,0,0,0,0,0,0,0,0,{"$f":"SUM($CY$23:$DJ$23)","v":0},null,0,0,0,0,0,0,0,0,0,0,0,0,{"$f":"SUM($DM$23:$DX$23)","v":0},null,0,0,0,0,0,0,0,0,0,0,0,0,{"$f":"SUM($EA$23:$EL$23)","v":0},null,0,0,0,0,0,0,0,0,0,0,0,0,{"$f":"SUM($EO$23:$EZ$23)","v":0},null,0,0,0,0,0,0,0,0,0,0,0,0,{"$f":"SUM($FC$23:$FN$23)","v":0}]
[{"$f":"C23&D24","v":"DR"},null,null,"R",null,null,null,null,null,null,null,null,null,null,null,null,{"$f":"SUM($E$24:$P$24)","v":0},null,null,null,null,null,null,null,null,null,null,null,null,null,{"$f":"SUM($S$24:$AD$24)","v":0},null,null,null,null,null,null,null,null,null,null,null,null,null,{"$f":"SUM($AG$24:$AR$24)","v":0},null,null,null,null,null,null,null,null,null,null,null,null,null,{"$f":"SUM($AU$24:$BF$24)","v":0},null,null,null,null,null,null,null,null,null,null,null,null,null,{"$f":"SUM($BI$24:$BT$24)","v":0},null,null,null,null,null,null,null,null,null,null,null,null,null,{"$f":"SUM($BW$24:$CH$24)","v":0},null,null,null,null,null,null,null,null,null,null,null,null,null,{"$f":"SUM($CK$24:$CV$24)","v":0},null,null,null,null,null,null,null,null,null,null,null,null,null,{"$f":"SUM($CY$24:$DJ$24)","v":0},null,null,null,null,null,null,null,null,null,null,null,null,null,{"$f":"SUM($DM$24:$DX$24)","v":0},null,null,null,null,null,null,null,null,null,null,null,null,null,{"$f":"SUM($EA$24:$EL$24)","v":0},null,null,null,null,null,null,null,null,null,null,null,null,null,{"$f":"SUM($EO$24:$EZ$24)","v":0},null,null,null,null,null,null,null,null,null,null,null,null,null,{"$f":"SUM($FC$24:$FN$24)","v":0}]
[{"$f":"C25&D25","v":"EP"},null,"E","P",0,0,0,0,0,0,0,0,0,0,0,0,{"$f":"SUM($E$25:$P$25)","v":0},null,0,0,0,0,0,0,0,0,0,0,0,0,{"$f":"SUM($S$25:$AD$25)","v":0},null,0,0,0,0,0,0,0,0,0,0,0,0,{"$f":"SUM($AG$25:$AR$25)","v":0},null,0,0,0,0,0,0,0,0,0,0,0,0,{"$f":"SUM($AU$25:$BF$25)","v":0},null,0,0,0,0,0,0,0,0,0,0,0,0,{"$f":"SUM($BI$25:$BT$25)","v":0},null,0,0,0,0,0,0,0,0,0,0,0,0,{"$f":"SUM($BW$25:$CH$25)","v":0},null,0,0,0,0,0,0,0,0,0,0,0,0,{"$f":"SUM($CK$25:$CV$25)","v":0},null,0,0,0,0,0,0,0,0,0,0,0,0,{"$f":"SUM($CY$25:$DJ$25)","v":0},null,0,0,0,0,0,0,0,0,0,0,0,0,{"$f":"SUM($DM$25:$DX$25)","v":0},null,0,0,0,0,0,0,0,0,0,0,0,0,{"$f":"SUM($EA$25:$EL$25)","v":0},null,0,0,0,0,0,0,0,0,0,0,0,0,{"$f":"SUM($EO$25:$EZ$25)","v":0},null,0,0,0,0,0,0,0,0,0,0,0,0,{"$f":"SUM($FC$25:$FN$25)","v":0}]
[{"$f":"C25&D26","v":"ER"},null,null,"R",null,null,null,null,null,null,null,null,null,null,null,null,{"$f":"SUM($E$26:$P$26)","v":0},null,null,null,null,null,null,null,null,null,null,null,null,null,{"$f":"SUM($S$26:$AD$26)","v":0},null,null,null,null,null,null,null,null,null,null,null,null,null,{"$f":"SUM($AG$26:$AR$26)","v":0},null,null,null,null,null,null,null,null,null,null,null,null,null,{"$f":"SUM($AU$26:$BF$26)","v":0},null,null,null,null,null,null,null,null,null,null,null,null,null,{"$f":"SUM($BI$26:$BT$26)","v":0},null,null,null,null,null,null,null,null,null,null,null,null,null,{"$f":"SUM($BW$26:$CH$26)","v":0},null,null,null,null,null,null,null,null,null,null,null,null,null,{"$f":"SUM($CK$26:$CV$26)","v":0},null,null,null,null,null,null,null,null,null,null,null,null,null,{"$f":"SUM($CY$26:$DJ$26)","v":0},null,null,null,null,null,null,null,null,null,null,null,null,null,{"$f":"SUM($DM$26:$DX$26)","v":0},null,null,null,null,null,null,null,null,null,null,null,null,null,{"$f":"SUM($EA$26:$EL$26)","v":0},null,null,null,null,null,null,null,null,null,null,null,null,null,{"$f":"SUM($EO$26:$EZ$26)","v":0},null,null,null,null,null,null,null,null,null,null,null,null,null,{"$f":"SUM($FC$26:$FN$26)","v":0}]
[{"$f":"C27&D27","v":"FP"},null,"F","P",0,0,0,0,0,0,0,0,0,0,0,0,{"$f":"SUM($E$27:$P$27)","v":0},null,0,0,0,0,0,0,0,0,0,0,0,0,{"$f":"SUM($S$27:$AD$27)","v":0},null,0,0,0,0,0,0,0,0,0,0,0,0,{"$f":"SUM($AG$27:$AR$27)","v":0},null,0,0,0,0,0,0,0,0,0,0,0,0,{"$f":"SUM($AU$27:$BF$27)","v":0},null,0,0,0,0,0,0,0,0,0,0,0,0,{"$f":"SUM($BI$27:$BT$27)","v":0},null,0,0,0,0,0,0,0,0,0,0,0,0,{"$f":"SUM($BW$27:$CH$27)","v":0},null,0,0,0,0,0,0,0,0,0,0,0,0,{"$f":"SUM($CK$27:$CV$27)","v":0},null,0,0,0,0,0,0,0,0,0,0,0,0,{"$f":"SUM($CY$27:$DJ$27)","v":0},null,0,0,0,0,0,0,0,0,0,0,0,0,{"$f":"SUM($DM$27:$DX$27)","v":0},null,0,0,0,0,0,0,0,0,0,0,0,0,{"$f":"SUM($EA$27:$EL$27)","v":0},null,0,0,0,0,0,0,0,0,0,0,0,0,{"$f":"SUM($EO$27:$EZ$27)","v":0},null,0,0,0,0,0,0,0,0,0,0,0,0,{"$f":"SUM($FC$27:$FN$27)","v":0}]
[{"$f":"C27&D28","v":"FR"},null,null,"R",null,null,null,null,null,null,null,null,null,null,null,null,{"$f":"SUM($E$28:$P$28)","v":0},null,null,null,null,null,null,null,null,null,null,null,null,null,{"$f":"SUM($S$28:$AD$28)","v":0},null,null,null,null,null,null,null,null,null,null,null,null,null,{"$f":"SUM($AG$28:$AR$28)","v":0},null,null,null,null,null,null,null,null,null,null,null,null,null,{"$f":"SUM($AU$28:$BF$28)","v":0},null,null,null,null,null,null,null,null,null,null,null,null,null,{"$f":"SUM($BI$28:$BT$28)","v":0},null,null,null,null,null,null,null,null,null,null,null,null,null,{"$f":"SUM($BW$28:$CH$28)","v":0},null,null,null,null,null,null,null,null,null,null,null,null,null,{"$f":"SUM($CK$28:$CV$28)","v":0},null,null,null,null,null,null,null,null,null,null,null,null,null,{"$f":"SUM($CY$28:$DJ$28)","v":0},null,null,null,null,null,null,null,null,null,null,null,null,null,{"$f":"SUM($DM$28:$DX$28)","v":0},null,null,null,null,null,null,null,null,null,null,null,null,null,{"$f":"SUM($EA$28:$EL$28)","v":0},null,null,null,null,null,null,null,null,null,null,null,null,null,{"$f":"SUM($EO$28:$EZ$28)","v":0},null,null,null,null,null,null,null,null,null,null,null,null,null,{"$f":"SUM($FC$28:$FN$28)","v":0}]
[{"$f":"C29&D29","v":"GP"},null,"G","P",0,0,0,0,0,0,0,0,0,0,0,0,{"$f":"SUM($E$29:$P$29)","v":0},null,0,0,0,0,0,0,0,0,0,0,0,0,{"$f":"SUM($S$29:$AD$29)","v":0},null,0,0,0,0,0,0,0,0,0,0,0,0,{"$f":"SUM($AG$29:$AR$29)","v":0},null,0,0,0,0,0,0,0,0,0,0,0,0,{"$f":"SUM($AU$29:$BF$29)","v":0},null,0,0,0,0,0,0,0,0,0,0,0,0,{"$f":"SUM($BI$29:$BT$29)","v":0},null,0,0,0,0,0,0,0,0,0,0,0,0,{"$f":"SUM($BW$29:$CH$29)","v":0},null,0,0,0,0,0,0,0,0,0,0,0,0,{"$f":"SUM($CK$29:$CV$29)","v":0},null,0,0,0,0,0,0,0,0,0,0,0,0,{"$f":"SUM($CY$29:$DJ$29)","v":0},null,0,0,0,0,0,0,0,0,0,0,0,0,{"$f":"SUM($DM$29:$DX$29)","v":0},null,0,0,0,0,0,0,0,0,0,0,0,0,{"$f":"SUM($EA$29:$EL$29)","v":0},null,0,0,0,0,0,0,0,0,0,0,0,0,{"$f":"SUM($EO$29:$EZ$29)","v":0},null,0,0,0,0,0,0,0,0,0,0,0,0,{"$f":"SUM($FC$29:$FN$29)","v":0}]
[{"$f":"C29&D30","v":"GR"},null,null,"R",null,null,null,null,null,null,null,null,null,null,null,null,{"$f":"SUM($E$30:$P$30)","v":0},null,null,null,null,null,null,null,null,null,null,null,null,null,{"$f":"SUM($S$30:$AD$30)","v":0},null,null,null,null,null,null,null,null,null,null,null,null,null,{"$f":"SUM($AG$30:$AR$30)","v":0},null,null,null,null,null,null,null,null,null,null,null,null,null,{"$f":"SUM($AU$30:$BF$30)","v":0},null,null,null,null,null,null,null,null,null,null,null,null,null,{"$f":"SUM($BI$30:$BT$30)","v":0},null,null,null,null,null,null,null,null,null,null,null,null,null,{"$f":"SUM($BW$30:$CH$30)","v":0},null,null,null,null,null,null,null,null,null,null,null,null,null,{"$f":"SUM($CK$30:$CV$30)","v":0},null,null,null,null,null,null,null,null,null,null,null,null,null,{"$f":"SUM($CY$30:$DJ$30)","v":0},null,null,null,null,null,null,null,null,null,null,null,null,null,{"$f":"SUM($DM$30:$DX$30)","v":0},null,null,null,null,null,null,null,null,null,null,null,null,null,{"$f":"SUM($EA$30:$EL$30)","v":0},null,null,null,null,null,null,null,null,null,null,null,null,null,{"$f":"SUM($EO$30:$EZ$30)","v":0},null,null,null,null,null,null,null,null,null,null,null,null,null,{"$f":"SUM($FC$30:$FN$30)","v":0}]
[{"$f":"C31&D31","v":"HP"},null,"H","P",0,0,0,0,0,0,0,0,0,0,0,0,{"$f":"SUM($E$31:$P$31)","v":0},null,0,0,0,0,0,0,0,0,0,0,0,0,{"$f":"SUM($S$31:$AD$31)","v":0},null,0,0,0,0,0,0,0,0,0,0,0,0,{"$f":"SUM($AG$31:$AR$31)","v":0},null,0,0,0,0,0,0,0,0,0,0,0,0,{"$f":"SUM($AU$31:$BF$31)","v":0},null,0,0,0,0,0,0,0,0,0,0,0,0,{"$f":"SUM($BI$31:$BT$31)","v":0},null,0,0,0,0,0,0,0,0,0,0,0,0,{"$f":"SUM($BW$31:$CH$31)","v":0},null,0,0,0,0,0,0,0,0,0,0,0,0,{"$f":"SUM($CK$31:$CV$31)","v":0},null,0,0,0,0,0,0,0,0,0,0,0,0,{"$f":"SUM($CY$31:$DJ$31)","v":0},null,0,0,0,0,0,0,0,0,0,0,0,0,{"$f":"SUM($DM$31:$DX$31)","v":0},null,0,0,0,0,0,0,0,0,0,0,0,0,{"$f":"SUM($EA$31:$EL$31)","v":0},null,0,0,0,0,0,0,0,0,0,0,0,0,{"$f":"SUM($EO$31:$EZ$31)","v":0},null,0,0,0,0,0,0,0,0,0,0,0,0,{"$f":"SUM($FC$31:$FN$31)","v":0}]
[{"$f":"C31&D32","v":"HR"},null,null,"R",null,null,null,null,null,null,null,null,null,null,null,null,{"$f":"SUM($E$32:$P$32)","v":0},null,null,null,null,null,null,null,null,null,null,null,null,null,{"$f":"SUM($S$32:$AD$32)","v":0},null,null,null,null,null,null,null,null,null,null,null,null,null,{"$f":"SUM($AG$32:$AR$32)","v":0},null,null,null,null,null,null,null,null,null,null,null,null,null,{"$f":"SUM($AU$32:$BF$32)","v":0},null,null,null,null,null,null,null,null,null,null,null,null,null,{"$f":"SUM($BI$32:$BT$32)","v":0},null,null,null,null,null,null,null,null,null,null,null,null,null,{"$f":"SUM($BW$32:$CH$32)","v":0},null,null,null,null,null,null,null,null,null,null,null,null,null,{"$f":"SUM($CK$32:$CV$32)","v":0},null,null,null,null,null,null,null,null,null,null,null,null,null,{"$f":"SUM($CY$32:$DJ$32)","v":0},null,null,null,null,null,null,null,null,null,null,null,null,null,{"$f":"SUM($DM$32:$DX$32)","v":0},null,null,null,null,null,null,null,null,null,null,null,null,null,{"$f":"SUM($EA$32:$EL$32)","v":0},null,null,null,null,null,null,null,null,null,null,null,null,null,{"$f":"SUM($EO$32:$EZ$32)","v":0},null,null,null,null,null,null,null,null,null,null,null,null,null,{"$f":"SUM($FC$32:$FN$32)","v":0}]
["IP",null,"I","P",0,0,0,0,0,0,0,0,0,0,0,0,{"$f":"SUM($E$33:$P$33)","v":0},null,0,0,0,0,0,0,0,0,0,0,0,0,{"$f":"SUM($S$33:$AD$33)","v":0},null,0,0,0,0,0,0,0,0,0,0,0,0,{"$f":"SUM($AG$33:$AR$33)","v":0},null,0,0,0,0,0,0,0,0,0,0,0,0,{"$f":"SUM($AU$33:$BF$33)","v":0},null,0,0,0,0,0,0,0,0,0,0,0,0,{"$f":"SUM($BI$33:$BT$33)","v":0},null,0,0,0,0,0,0,0,0,0,0,0,0,{"$f":"SUM($BW$33:$CH$33)","v":0},null,0,0,0,0,0,0,0,0,0,0,0,0,{"$f":"SUM($CK$33:$CV$33)","v":0},null,0,0,0,0,0,0,0,0,0,0,0,0,{"$f":"SUM($CY$33:$DJ$33)","v":0},null,0,0,0,0,0,0,0,0,0,0,0,0,{"$f":"SUM($DM$33:$DX$33)","v":0},null,0,0,0,0,0,0,0,0,0,0,0,0,{"$f":"SUM($EA$33:$EL$33)","v":0},null,0,0,0,0,0,0,0,0,0,0,0,0,{"$f":"SUM($EO$33:$EZ$33)","v":0},null,0,0,0,0,0,0,0,0,0,0,0,0,{"$f":"SUM($FC$33:$FN$33)","v":0}]
["IR",null,null,"R",null,null,null,null,null,null,null,null,null,null,null,null,{"$f":"SUM($E$34:$P$34)","v":0},null,null,null,null,null,null,null,null,null,null,null,null,null,{"$f":"SUM($S$34:$AD$34)","v":0},null,null,null,null,null,null,null,null,null,null,null,null,null,{"$f":"SUM($AG$34:$AR$34)","v":0},null,null,null,null,null,null,null,null,null,null,null,null,null,{"$f":"SUM($AU$34:$BF$34)","v":0},null,null,null,null,null,null,null,null,null,null,null,null,null,{"$f":"SUM($BI$34:$BT$34)","v":0},null,null,null,null,null,null,null,null,null,null,null,null,null,{"$f":"SUM($BW$34:$CH$34)","v":0},null,null,null,null,null,null,null,null,null,null,null,null,null,{"$f":"SUM($CK$34:$CV$34)","v":0},null,null,null,null,null,null,null,null,null,null,null,null,null,{"$f":"SUM($CY$34:$DJ$34)","v":0},null,null,null,null,null,null,null,null,null,null,null,null,null,{"$f":"SUM($DM$34:$DX$34)","v":0},null,null,null,null,null,null,null,null,null,null,null,null,null,{"$f":"SUM($EA$34:$EL$34)","v":0},null,null,null,null,null,null,null,null,null,null,null,null,null,{"$f":"SUM($EO$34:$EZ$34)","v":0},null,null,null,null,null,null,null,null,null,null,null,null,null,{"$f":"SUM($FC$34:$FN$34)","v":0}]
["JP",null,"J","P",0,0,0,0,0,0,0,0,0,0,0,0,{"$f":"SUM($E$35:$P$35)","v":0},null,0,0,0,0,0,0,0,0,0,0,0,0,{"$f":"SUM($S$35:$AD$35)","v":0},null,0,0,0,0,0,0,0,0,0,0,0,0,{"$f":"SUM($AG$35:$AR$35)","v":0},null,0,0,0,0,0,0,0,0,0,0,0,0,{"$f":"SUM($AU$35:$BF$35)","v":0},null,0,0,0,0,0,0,0,0,0,0,0,0,{"$f":"SUM($BI$35:$BT$35)","v":0},null,0,0,0,0,0,0,0,0,0,0,0,0,{"$f":"SUM($BW$35:$CH$35)","v":0},null,0,0,0,0,0,0,0,0,0,0,0,0,{"$f":"SUM($CK$35:$CV$35)","v":0},null,0,0,0,0,0,0,0,0,0,0,0,0,{"$f":"SUM($CY$35:$DJ$35)","v":0},null,0,0,0,0,0,0,0,0,0,0,0,0,{"$f":"SUM($DM$35:$DX$35)","v":0},null,0,0,0,0,0,0,0,0,0,0,0,0,{"$f":"SUM($EA$35:$EL$35)","v":0},null,0,0,0,0,0,0,0,0,0,0,0,0,{"$f":"SUM($EO$35:$EZ$35)","v":0},null,0,0,0,0,0,0,0,0,0,0,0,0,{"$f":"SUM($FC$35:$FN$35)","v":0}]
["JR",null,null,"R",null,null,null,null,null,null,null,null,null,null,null,null,{"$f":"SUM($E$36:$P$36)","v":0},null,null,null,null,null,null,null,null,null,null,null,null,null,{"$f":"SUM($S$36:$AD$36)","v":0},null,null,null,null,null,null,null,null,null,null,null,null,null,{"$f":"SUM($AG$36:$AR$36)","v":0},null,null,null,null,null,null,null,null,null,null,null,null,null,{"$f":"SUM($AU$36:$BF$36)","v":0},null,null,null,null,null,null,null,null,null,null,null,null,null,{"$f":"SUM($BI$36:$BT$36)","v":0},null,null,null,null,null,null,null,null,null,null,null,null,null,{"$f":"SUM($BW$36:$CH$36)","v":0},null,null,null,null,null,null,null,null,null,null,null,null,null,{"$f":"SUM($CK$36:$CV$36)","v":0},null,null,null,null,null,null,null,null,null,null,null,null,null,{"$f":"SUM($CY$36:$DJ$36)","v":0},null,null,null,null,null,null,null,null,null,null,null,null,null,{"$f":"SUM($DM$36:$DX$36)","v":0},null,null,null,null,null,null,null,null,null,null,null,null,null,{"$f":"SUM($EA$36:$EL$36)","v":0},null,null,null,null,null,null,null,null,null,null,null,null,null,{"$f":"SUM($EO$36:$EZ$36)","v":0},null,null,null,null,null,null,null,null,null,null,null,null,null,{"$f":"SUM($FC$36:$FN$36)","v":0}]
["KP",null,"K","P",0,0,0,0,0,0,0,0,0,0,0,0,{"$f":"SUM($E$37:$P$37)","v":0},null,0,0,0,0,0,0,0,0,0,0,0,0,{"$f":"SUM($S$37:$AD$37)","v":0},null,0,0,0,0,0,0,0,0,0,0,0,0,{"$f":"SUM($AG$37:$AR$37)","v":0},null,0,0,0,0,0,0,0,0,0,0,0,0,{"$f":"SUM($AU$37:$BF$37)","v":0},null,0,0,0,0,0,0,0,0,0,0,0,0,{"$f":"SUM($BI$37:$BT$37)","v":0},null,0,0,0,0,0,0,0,0,0,0,0,0,{"$f":"SUM($BW$37:$CH$37)","v":0},null,0,0,0,0,0,0,0,0,0,0,0,0,{"$f":"SUM($CK$37:$CV$37)","v":0},null,0,0,0,0,0,0,0,0,0,0,0,0,{"$f":"SUM($CY$37:$DJ$37)","v":0},null,0,0,0,0,0,0,0,0,0,0,0,0,{"$f":"SUM($DM$37:$DX$37)","v":0},null,0,0,0,0,0,0,0,0,0,0,0,0,{"$f":"SUM($EA$37:$EL$37)","v":0},null,0,0,0,0,0,0,0,0,0,0,0,0,{"$f":"SUM($EO$37:$EZ$37)","v":0},null,0,0,0,0,0,0,0,0,0,0,0,0,{"$f":"SUM($FC$37:$FN$37)","v":0}]
["KR",null,null,"R",null,null,null,null,null,null,null,null,null,null,null,null,{"$f":"SUM($E$38:$P$38)","v":0},null,null,null,null,null,null,null,null,null,null,null,null,null,{"$f":"SUM($S$38:$AD$38)","v":0},null,null,null,null,null,null,null,null,null,null,null,null,null,{"$f":"SUM($AG$38:$AR$38)","v":0},null,null,null,null,null,null,null,null,null,null,null,null,null,{"$f":"SUM($AU$38:$BF$38)","v":0},null,null,null,null,null,null,null,null,null,null,null,null,null,{"$f":"SUM($BI$38:$BT$38)","v":0},null,null,null,null,null,null,null,null,null,null,null,null,null,{"$f":"SUM($BW$38:$CH$38)","v":0},null,null,null,null,null,null,null,null,null,null,null,null,null,{"$f":"SUM($CK$38:$CV$38)","v":0},null,null,null,null,null,null,null,null,null,null,null,null,null,{"$f":"SUM($CY$38:$DJ$38)","v":0},null,null,null,null,null,null,null,null,null,null,null,null,null,{"$f":"SUM($DM$38:$DX$38)","v":0},null,null,null,null,null,null,null,null,null,null,null,null,null,{"$f":"SUM($EA$38:$EL$38)","v":0},null,null,null,null,null,null,null,null,null,null,null,null,null,{"$f":"SUM($EO$38:$EZ$38)","v":0},null,null,null,null,null,null,null,null,null,null,null,null,null,{"$f":"SUM($FC$38:$FN$38)","v":0}]
["LP",null,"L","P",0,0,0,0,0,0,0,0,0,0,0,0,{"$f":"SUM($E$39:$P$39)","v":0},null,0,0,0,0,0,0,0,0,0,0,0,0,{"$f":"SUM($S$39:$AD$39)","v":0},null,0,0,0,0,0,0,0,0,0,0,0,0,{"$f":"SUM($AG$39:$AR$39)","v":0},null,0,0,0,0,0,0,0,0,0,0,0,0,{"$f":"SUM($AU$39:$BF$39)","v":0},null,0,0,0,0,0,0,0,0,0,0,0,0,{"$f":"SUM($BI$39:$BT$39)","v":0},null,0,0,0,0,0,0,0,0,0,0,0,0,{"$f":"SUM($BW$39:$CH$39)","v":0},null,0,0,0,0,0,0,0,0,0,0,0,0,{"$f":"SUM($CK$39:$CV$39)","v":0},null,0,0,0,0,0,0,0,0,0,0,0,0,{"$f":"SUM($CY$39:$DJ$39)","v":0},null,0,0,0,0,0,0,0,0,0,0,0,0,{"$f":"SUM($DM$39:$DX$39)","v":0},null,0,0,0,0,0,0,0,0,0,0,0,0,{"$f":"SUM($EA$39:$EL$39)","v":0},null,0,0,0,0,0,0,0,0,0,0,0,0,{"$f":"SUM($EO$39:$EZ$39)","v":0},null,0,0,0,0,0,0,0,0,0,0,0,0,{"$f":"SUM($FC$39:$FN$39)","v":0}]
["LR",null,null,"R",null,null,null,null,null,null,null,null,null,null,null,null,{"$f":"SUM($E$40:$P$40)","v":0},null,null,null,null,null,null,null,null,null,null,null,null,null,{"$f":"SUM($S$40:$AD$40)","v":0},null,null,null,null,null,null,null,null,null,null,null,null,null,{"$f":"SUM($AG$40:$AR$40)","v":0},null,null,null,null,null,null,null,null,null,null,null,null,null,{"$f":"SUM($AU$40:$BF$40)","v":0},null,null,null,null,null,null,null,null,null,null,null,null,null,{"$f":"SUM($BI$40:$BT$40)","v":0},null,null,null,null,null,null,null,null,null,null,null,null,null,{"$f":"SUM($BW$40:$CH$40)","v":0},null,null,null,null,null,null,null,null,null,null,null,null,null,{"$f":"SUM($CK$40:$CV$40)","v":0},null,null,null,null,null,null,null,null,null,null,null,null,null,{"$f":"SUM($CY$40:$DJ$40)","v":0},null,null,null,null,null,null,null,null,null,null,null,null,null,{"$f":"SUM($DM$40:$DX$40)","v":0},null,null,null,null,null,null,null,null,null,null,null,null,null,{"$f":"SUM($EA$40:$EL$40)","v":0},null,null,null,null,null,null,null,null,null,null,null,null,null,{"$f":"SUM($EO$40:$EZ$40)","v":0},null,null,null,null,null,null,null,null,null,null,null,null,null,{"$f":"SUM($FC$40:$FN$40)","v":0}]
["MP",null,"M","P",0,0,0,0,0,0,0,0,0,0,0,0,{"$f":"SUM($E$41:$P$41)","v":0},null,0,0,0,0,0,0,0,0,0,0,0,0,{"$f":"SUM($S$41:$AD$41)","v":0},null,0,0,0,0,0,0,0,0,0,0,0,0,{"$f":"SUM($AG$41:$AR$41)","v":0},null,0,0,0,0,0,0,0,0,0,0,0,0,{"$f":"SUM($AU$41:$BF$41)","v":0},null,0,0,0,0,0,0,0,0,0,0,0,0,{"$f":"SUM($BI$41:$BT$41)","v":0},null,0,0,0,0,0,0,0,0,0,0,0,0,{"$f":"SUM($BW$41:$CH$41)","v":0},null,0,0,0,0,0,0,0,0,0,0,0,0,{"$f":"SUM($CK$41:$CV$41)","v":0},null,0,0,0,0,0,0,0,0,0,0,0,0,{"$f":"SUM($CY$41:$DJ$41)","v":0},null,0,0,0,0,0,0,0,0,0,0,0,0,{"$f":"SUM($DM$41:$DX$41)","v":0},null,0,0,0,0,0,0,0,0,0,0,0,0,{"$f":"SUM($EA$41:$EL$41)","v":0},null,0,0,0,0,0,0,0,0,0,0,0,0,{"$f":"SUM($EO$41:$EZ$41)","v":0},null,0,0,0,0,0,0,0,0,0,0,0,0,{"$f":"SUM($FC$41:$FN$41)","v":0}]
["MR",null,null,"R",null,null,null,null,null,null,null,null,null,null,null,null,{"$f":"SUM($E$42:$P$42)","v":0},null,null,null,null,null,null,null,null,null,null,null,null,null,{"$f":"SUM($S$42:$AD$42)","v":0},null,null,null,null,null,null,null,null,null,null,null,null,null,{"$f":"SUM($AG$42:$AR$42)","v":0},null,null,null,null,null,null,null,null,null,null,null,null,null,{"$f":"SUM($AU$42:$BF$42)","v":0},null,null,null,null,null,null,null,null,null,null,null,null,null,{"$f":"SUM($BI$42:$BT$42)","v":0},null,null,null,null,null,null,null,null,null,null,null,null,null,{"$f":"SUM($BW$42:$CH$42)","v":0},null,null,null,null,null,null,null,null,null,null,null,null,null,{"$f":"SUM($CK$42:$CV$42)","v":0},null,null,null,null,null,null,null,null,null,null,null,null,null,{"$f":"SUM($CY$42:$DJ$42)","v":0},null,null,null,null,null,null,null,null,null,null,null,null,null,{"$f":"SUM($DM$42:$DX$42)","v":0},null,null,null,null,null,null,null,null,null,null,null,null,null,{"$f":"SUM($EA$42:$EL$42)","v":0},null,null,null,null,null,null,null,null,null,null,null,null,null,{"$f":"SUM($EO$42:$EZ$42)","v":0},null,null,null,null,null,null,null,null,null,null,null,null,null,{"$f":"SUM($FC$42:$FN$42)","v":0}]
[{"$f":"C43&D43","v":"Parcela Financiamento/ CusteioP"},null,"Parcela Financiamento/ Custeio","P",0,0,0,0,0,0,0,0,0,0,0,0,{"$f":"SUM($E$43:$P$43)","v":0},null,0,0,0,0,0,0,0,0,0,0,0,0,{"$f":"SUM($S$43:$AD$43)","v":0},null,0,0,0,0,0,0,0,0,0,0,0,0,{"$f":"SUM($AG$43:$AR$43)","v":0},null,0,0,0,0,0,0,0,0,0,0,0,0,{"$f":"SUM($AU$43:$BF$43)","v":0},null,0,0,0,0,0,0,0,0,0,0,0,0,{"$f":"SUM($BI$43:$BT$43)","v":0},null,0,0,0,0,0,0,0,0,0,0,0,0,{"$f":"SUM($BW$43:$CH$43)","v":0},null,0,0,0,0,0,0,0,0,0,0,0,0,{"$f":"SUM($CK$43:$CV$43)","v":0},null,0,0,0,0,0,0,0,0,0,0,0,0,{"$f":"SUM($CY$43:$DJ$43)","v":0},null,0,0,0,0,0,0,0,0,0,0,0,0,{"$f":"SUM($DM$43:$DX$43)","v":0},null,0,0,0,0,0,0,0,0,0,0,0,0,{"$f":"SUM($EA$43:$EL$43)","v":0},null,0,0,0,0,0,0,0,0,0,0,0,0,{"$f":"SUM($EO$43:$EZ$43)","v":0},null,0,0,0,0,0,0,0,0,0,0,0,0,{"$f":"SUM($FC$43:$FN$43)","v":0}]
[{"$f":"C43&D44","v":"Parcela Financiamento/ CusteioR"},null,null,"R",null,null,null,null,null,null,null,null,null,null,null,null,{"$f":"SUM($E$44:$P$44)","v":0},null,null,null,null,null,null,null,null,null,null,null,null,null,{"$f":"SUM($S$44:$AD$44)","v":0},null,null,null,null,null,null,null,null,null,null,null,null,null,{"$f":"SUM($AG$44:$AR$44)","v":0},null,null,null,null,null,null,null,null,null,null,null,null,null,{"$f":"SUM($AU$44:$BF$44)","v":0},null,null,null,null,null,null,null,null,null,null,null,null,null,{"$f":"SUM($BI$44:$BT$44)","v":0},null,null,null,null,null,null,null,null,null,null,null,null,null,{"$f":"SUM($BW$44:$CH$44)","v":0},null,null,null,null,null,null,null,null,null,null,null,null,null,{"$f":"SUM($CK$44:$CV$44)","v":0},null,null,null,null,null,null,null,null,null,null,null,null,null,{"$f":"SUM($CY$44:$DJ$44)","v":0},null,null,null,null,null,null,null,null,null,null,null,null,null,{"$f":"SUM($DM$44:$DX$44)","v":0},null,null,null,null,null,null,null,null,null,null,null,null,null,{"$f":"SUM($EA$44:$EL$44)","v":0},null,null,null,null,null,null,null,null,null,null,null,null,null,{"$f":"SUM($EO$44:$EZ$44)","v":0},null,null,null,null,null,null,null,null,null,null,null,null,null,{"$f":"SUM($FC$44:$FN$44)","v":0}]
[{"$f":"C45&D45","v":"Total SaídasP"},null,"Total Saídas","P",{"$f":"SUMIF($D$5:$D$44,$D45,E$5:E$44)","v":0},{"$f":"SUMIF($D$5:$D$44,$D45,F$5:F$44)","v":0},{"$f":"SUMIF($D$5:$D$44,$D45,G$5:G$44)","v":0},0,0,0,0,0,0,0,0,0,0,null,{"$f":"SUMIF($D$5:$D$44,$D45,S$5:S$44)","v":0},0,0,0,0,0,0,0,0,0,0,0,0,null,{"$f":"SUMIF($D$5:$D$44,$D45,AG$5:AG$44)","v":0},0,0,0,0,0,0,0,0,0,0,0,0,null,{"$f":"SUMIF($D$5:$D$44,$D45,AU$5:AU$44)","v":0},0,0,0,0,0,0,0,0,0,0,0,0,null,{"$f":"SUMIF($D$5:$D$44,$D45,BI$5:BI$44)","v":0},0,0,0,0,0,0,0,0,0,0,0,0,null,{"$f":"SUMIF($D$5:$D$44,$D45,BW$5:BW$44)","v":0},0,0,0,0,0,0,0,0,0,0,0,0,null,{"$f":"SUMIF($D$5:$D$44,$D45,CK$5:CK$44)","v":0},0,0,0,0,0,0,0,0,0,0,0,0,null,{"$f":"SUMIF($D$5:$D$44,$D45,CY$5:CY$44)","v":0},0,0,0,0,0,0,0,0,0,0,0,0,null,{"$f":"SUMIF($D$5:$D$44,$D45,DM$5:DM$44)","v":0},0,0,0,0,0,0,0,0,0,0,0,0,null,{"$f":"SUMIF($D$5:$D$44,$D45,EA$5:EA$44)","v":0},0,0,0,0,0,0,0,0,0,0,0,0,null,{"$f":"SUMIF($D$5:$D$44,$D45,EO$5:EO$44)","v":0},0,0,0,0,0,0,0,0,0,0,0,0,null,{"$f":"SUMIF($D$5:$D$44,$D45,FC$5:FC$44)","v":0},0,0,0,0,0,0,0,0,0,0,0,0]
[{"$f":"C45&D46","v":"Total SaídasR"},null,null,"R",{"$f":"SUMIF($D$5:$D$44,$D46,E$5:E$44)","v":0},0,0,0,0,0,0,0,0,0,0,0,0,null,0,0,0,0,0,0,0,0,0,0,0,0,0,null,0,0,0,0,0,0,0,0,0,0,0,0,0,null,0,0,0,0,0,0,0,0,0,0,0,0,0,null,0,0,0,0,0,0,0,0,0,0,0,0,0,null,0,0,0,0,0,0,0,0,0,0,0,0,0,null,0,0,0,0,0,0,0,0,0,0,0,0,0,null,0,0,0,0,0,0,0,0,0,0,0,0,0,null,0,0,0,0,0,0,0,0,0,0,0,0,0,null,0,0,0,0,0,0,0,0,0,0,0,0,0,null,0,0,0,0,0,0,0,0,0,0,0,0,0,null,0,0,0,0,0,0,0,0,0,0,0,0,0]
[{"$f":"C47&D47","v":""}]
[{"$f":"C47&D48","v":""}]
[{"$f":"C49&D49","v":"Venda melP"},"Entrada de Caixa","Venda mel","P",0,0,0,0,0,0,0,0,0,0,0,0,{"$f":"SUM($E$49:$P$49)","v":0},null,0,0,0,0,0,0,0,0,0,0,0,0,{"$f":"SUM($S$49:$AD$49)","v":0},null,0,0,0,0,0,0,0,0,0,0,0,0,{"$f":"SUM($AG$49:$AR$49)","v":0},null,0,0,0,0,0,0,0,0,0,0,0,0,{"$f":"SUM($AU$49:$BF$49)","v":0},null,0,0,0,0,0,0,0,0,0,0,0,0,{"$f":"SUM($BI$49:$BT$49)","v":0},null,0,0,0,0,0,0,0,0,0,0,0,0,{"$f":"SUM($BW$49:$CH$49)","v":0},null,0,0,0,0,0,0,0,0,0,0,0,0,{"$f":"SUM($CK$49:$CV$49)","v":0},null,0,0,0,0,0,0,0,0,0,0,0,0,{"$f":"SUM($CY$49:$DJ$49)","v":0},null,0,0,0,0,0,0,0,0,0,0,0,0,{"$f":"SUM($DM$49:$DX$49)","v":0},null,0,0,0,0,0,0,0,0,0,0,0,0,{"$f":"SUM($EA$49:$EL$49)","v":0},null,0,0,0,0,0,0,0,0,0,0,0,0,{"$f":"SUM($EO$49:$EZ$49)","v":0},null,0,0,0,0,0,0,0,0,0,0,0,0,{"$f":"SUM($FC$49:$FN$49)","v":0}]
[{"$f":"C49&D50","v":"Venda melR"},null,null,"R",null,null,null,null,null,null,null,null,null,null,null,null,{"$f":"SUM($E$50:$P$50)","v":0},null,null,null,null,null,null,null,null,null,null,null,null,null,{"$f":"SUM($S$50:$AD$50)","v":0},null,null,null,null,null,null,null,null,null,null,null,null,null,{"$f":"SUM($AG$50:$AR$50)","v":0},null,null,null,null,null,null,null,null,null,null,null,null,null,{"$f":"SUM($AU$50:$BF$50)","v":0},null,null,null,null,null,null,null,null,null,null,null,null,null,{"$f":"SUM($BI$50:$BT$50)","v":0},null,null,null,null,null,null,null,null,null,null,null,null,null,{"$f":"SUM($BW$50:$CH$50)","v":0},null,null,null,null,null,null,null,null,null,null,null,null,null,{"$f":"SUM($CK$50:$CV$50)","v":0},null,null,null,null,null,null,null,null,null,null,null,null,null,{"$f":"SUM($CY$50:$DJ$50)","v":0},null,null,null,null,null,null,null,null,null,null,null,null,null,{"$f":"SUM($DM$50:$DX$50)","v":0},null,null,null,null,null,null,null,null,null,null,null,null,null,{"$f":"SUM($EA$50:$EL$50)","v":0},null,null,null,null,null,null,null,null,null,null,null,null,null,{"$f":"SUM($EO$50:$EZ$50)","v":0},null,null,null,null,null,null,null,null,null,null,null,null,null,{"$f":"SUM($FC$50:$FN$50)","v":0}]
[{"$f":"C51&D51","v":"AP"},null,"A","P",0,0,0,0,0,0,0,0,0,0,0,0,{"$f":"SUM($E$51:$P$51)","v":0},null,0,0,0,0,0,0,0,0,0,0,0,0,{"$f":"SUM($S$51:$AD$51)","v":0},null,0,0,0,0,0,0,0,0,0,0,0,0,{"$f":"SUM($AG$51:$AR$51)","v":0},null,0,0,0,0,0,0,0,0,0,0,0,0,{"$f":"SUM($AU$51:$BF$51)","v":0},null,0,0,0,0,0,0,0,0,0,0,0,0,{"$f":"SUM($BI$51:$BT$51)","v":0},null,0,0,0,0,0,0,0,0,0,0,0,0,{"$f":"SUM($BW$51:$CH$51)","v":0},null,0,0,0,0,0,0,0,0,0,0,0,0,{"$f":"SUM($CK$51:$CV$51)","v":0},null,0,0,0,0,0,0,0,0,0,0,0,0,{"$f":"SUM($CY$51:$DJ$51)","v":0},null,0,0,0,0,0,0,0,0,0,0,0,0,{"$f":"SUM($DM$51:$DX$51)","v":0},null,0,0,0,0,0,0,0,0,0,0,0,0,{"$f":"SUM($EA$51:$EL$51)","v":0},null,0,0,0,0,0,0,0,0,0,0,0,0,{"$f":"SUM($EO$51:$EZ$51)","v":0},null,0,0,0,0,0,0,0,0,0,0,0,0,{"$f":"SUM($FC$51:$FN$51)","v":0}]
[{"$f":"C51&D52","v":"AR"},null,null,"R",null,null,null,null,null,null,null,null,null,null,null,null,{"$f":"SUM($E$52:$P$52)","v":0},null,null,null,null,null,null,null,null,null,null,null,null,null,{"$f":"SUM($S$52:$AD$52)","v":0},null,null,null,null,null,null,null,null,null,null,null,null,null,{"$f":"SUM($AG$52:$AR$52)","v":0},null,null,null,null,null,null,null,null,null,null,null,null,null,{"$f":"SUM($AU$52:$BF$52)","v":0},null,null,null,null,null,null,null,null,null,null,null,null,null,{"$f":"SUM($BI$52:$BT$52)","v":0},null,null,null,null,null,null,null,null,null,null,null,null,null,{"$f":"SUM($BW$52:$CH$52)","v":0},null,null,null,null,null,null,null,null,null,null,null,null,null,{"$f":"SUM($CK$52:$CV$52)","v":0},null,null,null,null,null,null,null,null,null,null,null,null,null,{"$f":"SUM($CY$52:$DJ$52)","v":0},null,null,null,null,null,null,null,null,null,null,null,null,null,{"$f":"SUM($DM$52:$DX$52)","v":0},null,null,null,null,null,null,null,null,null,null,null,null,null,{"$f":"SUM($EA$52:$EL$52)","v":0},null,null,null,null,null,null,null,null,null,null,null,null,null,{"$f":"SUM($EO$52:$EZ$52)","v":0},null,null,null,null,null,null,null,null,null,null,null,null,null,{"$f":"SUM($FC$52:$FN$52)","v":0}]
[{"$f":"C53&D53","v":"BP"},null,"B","P",0,0,0,0,0,0,0,0,0,0,0,0,{"$f":"SUM($E$53:$P$53)","v":0},null,0,0,0,0,0,0,0,0,0,0,0,0,{"$f":"SUM($S$53:$AD$53)","v":0},null,0,0,0,0,0,0,0,0,0,0,0,0,{"$f":"SUM($AG$53:$AR$53)","v":0},null,0,0,0,0,0,0,0,0,0,0,0,0,{"$f":"SUM($AU$53:$BF$53)","v":0},null,0,0,0,0,0,0,0,0,0,0,0,0,{"$f":"SUM($BI$53:$BT$53)","v":0},null,0,0,0,0,0,0,0,0,0,0,0,0,{"$f":"SUM($BW$53:$CH$53)","v":0},null,0,0,0,0,0,0,0,0,0,0,0,0,{"$f":"SUM($CK$53:$CV$53)","v":0},null,0,0,0,0,0,0,0,0,0,0,0,0,{"$f":"SUM($CY$53:$DJ$53)","v":0},null,0,0,0,0,0,0,0,0,0,0,0,0,{"$f":"SUM($DM$53:$DX$53)","v":0},null,0,0,0,0,0,0,0,0,0,0,0,0,{"$f":"SUM($EA$53:$EL$53)","v":0},null,0,0,0,0,0,0,0,0,0,0,0,0,{"$f":"SUM($EO$53:$EZ$53)","v":0},null,0,0,0,0,0,0,0,0,0,0,0,0,{"$f":"SUM($FC$53:$FN$53)","v":0}]
[{"$f":"C53&D54","v":"BR"},null,null,"R",null,null,null,null,null,null,null,null,null,null,null,null,{"$f":"SUM($E$54:$P$54)","v":0},null,null,null,null,null,null,null,null,null,null,null,null,null,{"$f":"SUM($S$54:$AD$54)","v":0},null,null,null,null,null,null,null,null,null,null,null,null,null,{"$f":"SUM($AG$54:$AR$54)","v":0},null,null,null,null,null,null,null,null,null,null,null,null,null,{"$f":"SUM($AU$54:$BF$54)","v":0},null,null,null,null,null,null,null,null,null,null,null,null,null,{"$f":"SUM($BI$54:$BT$54)","v":0},null,null,null,null,null,null,null,null,null,null,null,null,null,{"$f":"SUM($BW$54:$CH$54)","v":0},null,null,null,null,null,null,null,null,null,null,null,null,null,{"$f":"SUM($CK$54:$CV$54)","v":0},null,null,null,null,null,null,null,null,null,null,null,null,null,{"$f":"SUM($CY$54:$DJ$54)","v":0},null,null,null,null,null,null,null,null,null,null,null,null,null,{"$f":"SUM($DM$54:$DX$54)","v":0},null,null,null,null,null,null,null,null,null,null,null,null,null,{"$f":"SUM($EA$54:$EL$54)","v":0},null,null,null,null,null,null,null,null,null,null,null,null,null,{"$f":"SUM($EO$54:$EZ$54)","v":0},null,null,null,null,null,null,null,null,null,null,null,null,null,{"$f":"SUM($FC$54:$FN$54)","v":0}]
[{"$f":"C55&D55","v":"Entrada de Financiamento / CusteioP"},null,"Entrada de Financiamento / Custeio","P",0,0,0,0,0,0,0,0,0,0,0,0,{"$f":"SUM($E$55:$P$55)","v":0},null,0,0,0,0,0,0,0,0,0,0,0,0,{"$f":"SUM($S$55:$AD$55)","v":0},null,0,0,0,0,0,0,0,0,0,0,0,0,{"$f":"SUM($AG$55:$AR$55)","v":0},null,0,0,0,0,0,0,0,0,0,0,0,0,{"$f":"SUM($AU$55:$BF$55)","v":0},null,0,0,0,0,0,0,0,0,0,0,0,0,{"$f":"SUM($BI$55:$BT$55)","v":0},null,0,0,0,0,0,0,0,0,0,0,0,0,{"$f":"SUM($BW$55:$CH$55)","v":0},null,0,0,0,0,0,0,0,0,0,0,0,0,{"$f":"SUM($CK$55:$CV$55)","v":0},null,0,0,0,0,0,0,0,0,0,0,0,0,{"$f":"SUM($CY$55:$DJ$55)","v":0},null,0,0,0,0,0,0,0,0,0,0,0,0,{"$f":"SUM($DM$55:$DX$55)","v":0},null,0,0,0,0,0,0,0,0,0,0,0,0,{"$f":"SUM($EA$55:$EL$55)","v":0},null,0,0,0,0,0,0,0,0,0,0,0,0,{"$f":"SUM($EO$55:$EZ$55)","v":0},null,0,0,0,0,0,0,0,0,0,0,0,0,{"$f":"SUM($FC$55:$FN$55)","v":0}]
[{"$f":"C55&D56","v":"Entrada de Financiamento / CusteioR"},null,null,"R",null,null,null,null,null,null,null,null,null,null,null,null,{"$f":"SUM($E$56:$P$56)","v":0},null,null,null,null,null,null,null,null,null,null,null,null,null,{"$f":"SUM($S$56:$AD$56)","v":0},null,null,null,null,null,null,null,null,null,null,null,null,null,{"$f":"SUM($AG$56:$AR$56)","v":0},null,null,null,null,null,null,null,null,null,null,null,null,null,{"$f":"SUM($AU$56:$BF$56)","v":0},null,null,null,null,null,null,null,null,null,null,null,null,null,{"$f":"SUM($BI$56:$BT$56)","v":0},null,null,null,null,null,null,null,null,null,null,null,null,null,{"$f":"SUM($BW$56:$CH$56)","v":0},null,null,null,null,null,null,null,null,null,null,null,null,null,{"$f":"SUM($CK$56:$CV$56)","v":0},null,null,null,null,null,null,null,null,null,null,null,null,null,{"$f":"SUM($CY$56:$DJ$56)","v":0},null,null,null,null,null,null,null,null,null,null,null,null,null,{"$f":"SUM($DM$56:$DX$56)","v":0},null,null,null,null,null,null,null,null,null,null,null,null,null,{"$f":"SUM($EA$56:$EL$56)","v":0},null,null,null,null,null,null,null,null,null,null,null,null,null,{"$f":"SUM($EO$56:$EZ$56)","v":0},null,null,null,null,null,null,null,null,null,null,null,null,null,{"$f":"SUM($FC$56:$FN$56)","v":0}]
[{"$f":"C57&D57","v":"Total EntradasP"},null,"Total Entradas","P",{"$f":"SUMIF($D$49:$D$56,$D57,E49:E56)","v":0},{"$f":"SUMIF($D$49:$D$56,$D57,F49:F56)","v":0},{"$f":"SUMIF($D$49:$D$56,$D57,G49:G56)","v":0},0,0,0,0,0,0,0,0,0,0,null,{"$f":"SUMIF($D$49:$D$56,$D57,S49:S56)","v":0},{"$f":"SUMIF($D$49:$D$56,$D57,T49:T56)","v":0},{"$f":"SUMIF($D$49:$D$56,$D57,U49:U56)","v":0},0,0,0,0,0,0,0,0,0,0,null,{"$f":"SUMIF($D$49:$D$56,$D57,AG49:AG56)","v":0},{"$f":"SUMIF($D$49:$D$56,$D57,AH49:AH56)","v":0},{"$f":"SUMIF($D$49:$D$56,$D57,AI49:AI56)","v":0},0,0,0,0,0,0,0,0,0,0,null,{"$f":"SUMIF($D$49:$D$56,$D57,AU49:AU56)","v":0},{"$f":"SUMIF($D$49:$D$56,$D57,AV49:AV56)","v":0},{"$f":"SUMIF($D$49:$D$56,$D57,AW49:AW56)","v":0},0,0,0,0,0,0,0,0,0,0,null,{"$f":"SUMIF($D$49:$D$56,$D57,BI49:BI56)","v":0},{"$f":"SUMIF($D$49:$D$56,$D57,BJ49:BJ56)","v":0},{"$f":"SUMIF($D$49:$D$56,$D57,BK49:BK56)","v":0},0,0,0,0,0,0,0,0,0,0,null,{"$f":"SUMIF($D$49:$D$56,$D57,BW49:BW56)","v":0},{"$f":"SUMIF($D$49:$D$56,$D57,BX49:BX56)","v":0},{"$f":"SUMIF($D$49:$D$56,$D57,BY49:BY56)","v":0},0,0,0,0,0,0,0,0,0,0,null,{"$f":"SUMIF($D$49:$D$56,$D57,CK49:CK56)","v":0},{"$f":"SUMIF($D$49:$D$56,$D57,CL49:CL56)","v":0},{"$f":"SUMIF($D$49:$D$56,$D57,CM49:CM56)","v":0},0,0,0,0,0,0,0,0,0,0,null,{"$f":"SUMIF($D$49:$D$56,$D57,CY49:CY56)","v":0},{"$f":"SUMIF($D$49:$D$56,$D57,CZ49:CZ56)","v":0},{"$f":"SUMIF($D$49:$D$56,$D57,DA49:DA56)","v":0},0,0,0,0,0,0,0,0,0,0,null,{"$f":"SUMIF($D$49:$D$56,$D57,DM49:DM56)","v":0},{"$f":"SUMIF($D$49:$D$56,$D57,DN49:DN56)","v":0},{"$f":"SUMIF($D$49:$D$56,$D57,DO49:DO56)","v":0},0,0,0,0,0,0,0,0,0,0,null,{"$f":"SUMIF($D$49:$D$56,$D57,EA49:EA56)","v":0},{"$f":"SUMIF($D$49:$D$56,$D57,EB49:EB56)","v":0},{"$f":"SUMIF($D$49:$D$56,$D57,EC49:EC56)","v":0},0,0,0,0,0,0,0,0,0,0,null,{"$f":"SUMIF($D$49:$D$56,$D57,EO49:EO56)","v":0},{"$f":"SUMIF($D$49:$D$56,$D57,EP49:EP56)","v":0},{"$f":"SUMIF($D$49:$D$56,$D57,EQ49:EQ56)","v":0},0,0,0,0,0,0,0,0,0,0,null,{"$f":"SUMIF($D$49:$D$56,$D57,FC49:FC56)","v":0},{"$f":"SUMIF($D$49:$D$56,$D57,FD49:FD56)","v":0},{"$f":"SUMIF($D$49:$D$56,$D57,FE49:FE56)","v":0},0,0,0,0,0,0,0,0,0,0]
[{"$f":"C57&D58","v":"Total EntradasR"},null,null,"R",{"$f":"SUMIF($D$49:$D$56,$D58,E$49:E$56)","v":0},{"$f":"SUMIF($D$49:$D$56,$D58,F$49:F$56)","v":0},0,0,0,0,0,0,0,0,0,0,0,null,{"$f":"SUMIF($D$49:$D$56,$D58,S$49:S$56)","v":0},{"$f":"SUMIF($D$49:$D$56,$D58,T$49:T$56)","v":0},0,0,0,0,0,0,0,0,0,0,0,null,{"$f":"SUMIF($D$49:$D$56,$D58,AG$49:AG$56)","v":0},{"$f":"SUMIF($D$49:$D$56,$D58,AH$49:AH$56)","v":0},0,0,0,0,0,0,0,0,0,0,0,null,{"$f":"SUMIF($D$49:$D$56,$D58,AU$49:AU$56)","v":0},{"$f":"SUMIF($D$49:$D$56,$D58,AV$49:AV$56)","v":0},0,0,0,0,0,0,0,0,0,0,0,null,{"$f":"SUMIF($D$49:$D$56,$D58,BI$49:BI$56)","v":0},{"$f":"SUMIF($D$49:$D$56,$D58,BJ$49:BJ$56)","v":0},0,0,0,0,0,0,0,0,0,0,0,null,{"$f":"SUMIF($D$49:$D$56,$D58,BW$49:BW$56)","v":0},{"$f":"SUMIF($D$49:$D$56,$D58,BX$49:BX$56)","v":0},0,0,0,0,0,0,0,0,0,0,0,null,{"$f":"SUMIF($D$49:$D$56,$D58,CK$49:CK$56)","v":0},{"$f":"SUMIF($D$49:$D$56,$D58,CL$49:CL$56)","v":0},0,0,0,0,0,0,0,0,0,0,0,null,{"$f":"SUMIF($D$49:$D$56,$D58,CY$49:CY$56)","v":0},{"$f":"SUMIF($D$49:$D$56,$D58,CZ$49:CZ$56)","v":0},0,0,0,0,0,0,0,0,0,0,0,null,{"$f":"SUMIF($D$49:$D$56,$D58,DM$49:DM$56)","v":0},{"$f":"SUMIF($D$49:$D$56,$D58,DN$49:DN$56)","v":0},0,0,0,0,0,0,0,0,0,0,0,null,{"$f":"SUMIF($D$49:$D$56,$D58,EA$49:EA$56)","v":0},{"$f":"SUMIF($D$49:$D$56,$D58,EB$49:EB$56)","v":0},0,0,0,0,0,0,0,0,0,0,0,null,{"$f":"SUMIF($D$49:$D$56,$D58,EO$49:EO$56)","v":0},{"$f":"SUMIF($D$49:$D$56,$D58,EP$49:EP$56)","v":0},0,0,0,0,0,0,0,0,0,0,0,null,{"$f":"SUMIF($D$49:$D$56,$D58,FC$49:FC$56)","v":0},{"$f":"SUMIF($D$49:$D$56,$D58,FD$49:FD$56)","v":0},0,0,0,0,0,0,0,0,0,0,0]
[{"$f":"C59&D59","v":""}]
[{"$f":"C59&D60","v":""},"Saldo de Exercícios Anteriores"]
[{"$f":"B61&D61","v":"Saldo de Caixa MensalP"},"Saldo de Caixa Mensal",null,"P",{"$f":"E57-E45","v":0},0,0,0,0,0,0,0,0,0,0,0,0,null,{"$f":"S57-S45","v":0},0,0,0,0,0,0,0,0,0,0,0,0,null,{"$f":"AG57-AG45","v":0},0,0,0,0,0,0,0,0,0,0,0,0,null,{"$f":"AU57-AU45","v":0},0,0,0,0,0,0,0,0,0,0,0,0,null,{"$f":"BI57-BI45","v":0},0,0,0,0,0,0,0,0,0,0,0,0,null,{"$f":"BW57-BW45","v":0},0,0,0,0,0,0,0,0,0,0,0,0,null,{"$f":"CK57-CK45","v":0},0,0,0,0,0,0,0,0,0,0,0,0,null,{"$f":"CY57-CY45","v":0},0,0,0,0,0,0,0,0,0,0,0,0,null,{"$f":"DM57-DM45","v":0},0,0,0,0,0,0,0,0,0,0,0,0,null,{"$f":"EA57-EA45","v":0},0,0,0,0,0,0,0,0,0,0,0,0,null,{"$f":"EO57-EO45","v":0},0,0,0,0,0,0,0,0,0,0,0,0,null,{"$f":"FC57-FC45","v":0},0,0,0,0,0,0,0,0,0,0,0,0]
[{"$f":"B61&D62","v":"Saldo de Caixa MensalR"},null,null,"R",{"$f":"E58-E46","v":0},0,0,0,0,0,0,0,0,0,0,0,0,null,{"$f":"S58-S46","v":0},0,0,0,0,0,0,0,0,0,0,0,0,null,{"$f":"AG58-AG46","v":0},0,0,0,0,0,0,0,0,0,0,0,0,null,{"$f":"AU58-AU46","v":0},0,0,0,0,0,0,0,0,0,0,0,0,null,{"$f":"BI58-BI46","v":0},0,0,0,0,0,0,0,0,0,0,0,0,null,{"$f":"BW58-BW46","v":0},0,0,0,0,0,0,0,0,0,0,0,0,null,{"$f":"CK58-CK46","v":0},0,0,0,0,0,0,0,0,0,0,0,0,null,{"$f":"CY58-CY46","v":0},0,0,0,0,0,0,0,0,0,0,0,0,null,{"$f":"DM58-DM46","v":0},0,0,0,0,0,0,0,0,0,0,0,0,null,{"$f":"EA58-EA46","v":0},0,0,0,0,0,0,0,0,0,0,0,0,null,{"$f":"EO58-EO46","v":0},0,0,0,0,0,0,0,0,0,0,0,0,null,{"$f":"FC58-FC46","v":0},0,0,0,0,0,0,0,0,0,0,0,0]
[{"$f":"B63&D63","v":"Caixa AcumuladoP"},"Caixa Acumulado",null,"P",{"$f":"E61","v":0},{"$f":"F61+E63","v":0},{"$f":"G61+F63","v":0},0,0,0,{"$f":"K61+J63","v":0},0,0,0,0,0,null,null,{"$f":"S61+P63","v":0},{"$f":"T61+S63","v":0},{"$f":"U61+T63","v":0},0,0,0,0,0,0,0,0,{"$f":"AD61+AC63","v":0},null,null,{"$f":"AG61+AD63","v":0},{"$f":"AH61+AG63","v":0},{"$f":"AI61+AH63","v":0},0,0,0,0,0,0,0,0,{"$f":"AR61+AQ63","v":0},null,null,{"$f":"AU61+AR63","v":0},{"$f":"AV61+AU63","v":0},{"$f":"AW61+AV63","v":0},0,0,0,0,0,0,0,0,{"$f":"BF61+BE63","v":0},null,null,{"$f":"BI61+BF63","v":0},{"$f":"BJ61+BI63","v":0},{"$f":"BK61+BJ63","v":0},0,0,0,0,0,0,0,0,{"$f":"BT61+BS63","v":0},null,null,{"$f":"BW61+BT63","v":0},{"$f":"BX61+BW63","v":0},{"$f":"BY61+BX63","v":0},0,0,0,0,0,0,0,0,{"$f":"CH61+CG63","v":0},null,null,{"$f":"CK61+CH63","v":0},{"$f":"CL61+CK63","v":0},{"$f":"CM61+CL63","v":0},0,0,0,0,0,0,0,0,{"$f":"CV61+CU63","v":0},null,null,{"$f":"CY61+CV63","v":0},{"$f":"CZ61+CY63","v":0},{"$f":"DA61+CZ63","v":0},0,0,0,0,0,0,0,0,{"$f":"DJ61+DI63","v":0},null,null,{"$f":"DM61+DJ63","v":0},{"$f":"DN61+DM63","v":0},{"$f":"DO61+DN63","v":0},0,0,0,0,0,0,0,0,{"$f":"DX61+DW63","v":0},null,null,{"$f":"EA61+DX63","v":0},{"$f":"EB61+EA63","v":0},{"$f":"EC61+EB63","v":0},0,0,0,0,0,0,0,0,{"$f":"EL61+EK63","v":0},null,null,{"$f":"EO61+EL63","v":0},{"$f":"EP61+EO63","v":0},{"$f":"EQ61+EP63","v":0},0,0,0,0,0,0,0,0,{"$f":"EZ61+EY63","v":0},null,null,{"$f":"FC61+EZ63","v":0},{"$f":"FD61+FC63","v":0},{"$f":"FE61+FD63","v":0},0,0,0,0,0,0,0,0,{"$f":"FN61+FM63","v":0}]
[{"$f":"B63&D64","v":"Caixa AcumuladoR"},null,null,"R",{"$f":"E60+E62","v":0},{"$f":"E64+F62","v":0},{"$f":"F64+G62","v":0},0,0,0,0,0,0,0,0,0,null,null,{"$f":"S62+P64","v":0},{"$f":"T62+S64","v":0},0,0,0,0,0,0,0,0,0,0,null,null,{"$f":"AG62+AD64","v":0},{"$f":"AH62+AG64","v":0},0,0,0,0,0,0,0,0,0,0,null,null,{"$f":"AU62+AR64","v":0},{"$f":"AV62+AU64","v":0},0,0,0,0,0,0,0,0,0,0,null,null,{"$f":"BI62+BF64","v":0},{"$f":"BJ62+BI64","v":0},0,0,0,0,0,0,0,0,0,0,null,null,{"$f":"BW62+BT64","v":0},{"$f":"BX62+BW64","v":0},0,0,0,0,0,0,0,0,0,0,null,null,{"$f":"CK62+CH64","v":0},{"$f":"CL62+CK64","v":0},0,0,0,0,0,0,0,0,0,0,null,null,{"$f":"CY62+CV64","v":0},{"$f":"CZ62+CY64","v":0},0,0,0,0,0,0,0,0,0,0,null,null,{"$f":"DM62+DJ64","v":0},{"$f":"DN62+DM64","v":0},0,0,0,0,0,0,0,0,0,0,null,null,{"$f":"EA62+DX64","v":0},{"$f":"EB62+EA64","v":0},0,0,0,0,0,0,0,0,0,0,null,null,{"$f":"EO62+EL64","v":0},{"$f":"EP62+EO64","v":0},0,0,0,0,0,0,0,0,0,0,null,null,{"$f":"FC62+EZ64","v":0},{"$f":"FD62+FC64","v":0},0,0,0,0,0,0,0,0,0,0]

{"sheet":"Atividade 8","index":8,"n_rows":64,"n_cols":183,"rows_kept":64,"cut":false,"hidden":false,"merged":[[0,158,1,170],[2,130,2,142],[2,144,2,156],[2,158,2,170],[2,116,2,128],[0,116,1,128],[0,130,1,142],[0,144,1,156],[0,60,1,72],[0,74,1,86],[0,88,1,100],[0,102,1,114],[28,2,29,2],[2,60,2,72],[2,74,2,86],[2,88,2,100],[2,102,2,114],[2,4,2,16],[2,18,2,30],[2,32,2,44],[2,46,2,58],[0,4,1,16],[0,18,1,30],[0,32,1,44],[0,46,1,58],[4,1,45,1],[4,2,5,2],[6,2,7,2],[8,2,9,2],[10,2,11,2],[12,2,13,2],[14,2,15,2],[16,2,17,2],[18,2,19,2],[20,2,21,2],[22,2,23,2],[24,2,25,2],[26,2,27,2],[30,2,31,2],[42,2,43,2],[60,1,61,2],[62,1,63,2],[59,1,59,2],[44,2,45,2],[48,1,57,1],[48,2,49,2],[52,2,53,2],[54,2,55,2],[56,2,57,2],[50,2,51,2],[32,2,33,2],[34,2,35,2],[36,2,37,2],[38,2,39,2],[40,2,41,2]]}
[null,null,null,null,{"$f":"MENU!$C$32","v":"Atividade"},null,null,null,null,null,null,null,null,null,null,null,null,null,{"$f":"MENU!$C$32","v":"Atividade"},null,null,null,null,null,null,null,null,null,null,null,null,null,{"$f":"MENU!$C$32","v":"Atividade"},null,null,null,null,null,null,null,null,null,null,null,null,null,{"$f":"MENU!$C$32","v":"Atividade"},null,null,null,null,null,null,null,null,null,null,null,null,null,{"$f":"MENU!$C$32","v":"Atividade"},null,null,null,null,null,null,null,null,null,null,null,null,null,{"$f":"MENU!$C$32","v":"Atividade"},null,null,null,null,null,null,null,null,null,null,null,null,null,{"$f":"MENU!$C$32","v":"Atividade"},null,null,null,null,null,null,null,null,null,null,null,null,null,{"$f":"MENU!$C$32","v":"Atividade"},null,null,null,null,null,null,null,null,null,null,null,null,null,{"$f":"MENU!$C$32","v":"Atividade"},null,null,null,null,null,null,null,null,null,null,null,null,null,{"$f":"MENU!$C$32","v":"Atividade"},null,null,null,null,null,null,null,null,null,null,null,null,null,{"$f":"MENU!$C$32","v":"Atividade"},null,null,null,null,null,null,null,null,null,null,null,null,null,{"$f":"MENU!$C$32","v":"Atividade"}]
[null,null,null,null,null,null,null,null,null,null,null,null,null,null,null,null,null,null,null,null,null,null,null,null,null,null,null,null,null,null,null,null,null,null,null,null,null,null,null,null,null,null,null,null,null,null,null,null,null,null,null,null,null,null,null,null,null,null,null,null,null,null,null,null,null,null,null,null,null,null,null,null,null,null,null,null,null,null,null,null,null,null,null,null,null,null,null,null,null,null,null,null,null,null,null,null,null,null,null,null,null,null,null,null,null,null,null,null,null,null,null,null,null,null,null,null,null,null,null,null,null,null,null,null,null,null,null,null,null,null,null,null,null,null,null,null,null,null,null,null,null,null,null,null,null,null,null,null,null,null,null,null,null,null,null,null,null,null,null,null,null,null,null,null,null,null,null,null,null,null,null,null,null,null,null,null,null,null,6,1,{"$f":"VLOOKUP(FX2,FX3:FY14,2,0)","v":2017},{"$f":"VLOOKUP(FY2,$FY$3:$FZ$14,2,0)","v":"R3C5"},6]
[null,null,null,null,{"$f":"MENU!F6","v":0},null,null,null,null,null,null,null,null,null,null,null,null,null,{"$f":"E3+1","v":1},null,null,null,null,null,null,null,null,null,null,null,null,null,{"$f":"S3+1","v":2},null,null,null,null,null,null,null,null,null,null,null,null,null,{"$f":"AG3+1","v":3},null,null,null,null,null,null,null,null,null,null,null,null,null,{"$f":"AU3+1","v":4},null,null,null,null,null,null,null,null,null,null,null,null,null,{"$f":"BI3+1","v":5},null,null,null,null,null,null,null,null,null,null,null,null,null,{"$f":"BW3+1","v":6},null,null,null,null,null,null,null,null,null,null,null,null,null,{"$f":"CK3+1","v":7},null,null,null,null,null,null,null,null,null,null,null,null,null,{"$f":"CY3+1","v":8},null,null,null,null,null,null,null,null,null,null,null,null,null,{"$f":"DM3+1","v":9},null,null,null,null,null,null,null,null,null,null,null,null,null,{"$f":"EA3+1","v":10},null,null,null,null,null,null,null,null,null,null,null,null,null,{"$f":"EO3+1","v":11},null,null,null,null,null,null,null,null,null,null,null,null,null,null,null,null,null,null,null,null,1,2017,"R3C5"]
[null,null,"Descrição de Despesa",null,"Jan","Fev","Mar","Abr","Mai","Jun","Jul","Ago","Set","Out","Nov","Dez","Total",null,"Jan","Fev","Mar","Abr","Mai","Jun","Jul","Ago","Set","Out","Nov","Dez","Total",null,"Jan","Fev","Mar","Abr","Mai","Jun","Jul","Ago","Set","Out","Nov","Dez","Total",null,"Jan","Fev","Mar","Abr","Mai","Jun","Jul","Ago","Set","Out","Nov","Dez","Total",null,"Jan","Fev","Mar","Abr","Mai","Jun","Jul","Ago","Set","Out","Nov","Dez","Total",null,"Jan","Fev","Mar","Abr","Mai","Jun","Jul","Ago","Set","Out","Nov","Dez","Total",null,"Jan","Fev","Mar","Abr","Mai","Jun","Jul","Ago","Set","Out","Nov","Dez","Total",null,"Jan","Fev","Mar","Abr","Mai","Jun","Jul","Ago","Set","Out","Nov","Dez","Total",null,"Jan","Fev","Mar","Abr","Mai","Jun","Jul","Ago","Set","Out","Nov","Dez","Total",null,"Jan","Fev","Mar","Abr","Mai","Jun","Jul","Ago","Set","Out","Nov","Dez","Total",null,"Jan","Fev","Mar","Abr","Mai","Jun","Jul","Ago","Set","Out","Nov","Dez","Total",null,"Jan","Fev","Mar","Abr","Mai","Jun","Jul","Ago","Set","Out","Nov","Dez","Total",null,null,null,null,null,null,null,null,2,2018,"R3C19"]
[{"$f":"C5&D5","v":"AP"},"Saídas de Caixa","A","P",0,0,0,0,0,0,0,0,0,0,0,0,{"$f":"SUM($E$5:$P$5)","v":0},null,0,0,0,0,0,0,0,0,0,0,0,0,{"$f":"SUM($S$5:$AD$5)","v":0},null,0,0,0,0,0,0,0,0,0,0,0,0,{"$f":"SUM($AG$5:$AR$5)","v":0},null,0,0,0,0,0,0,0,0,0,0,0,0,{"$f":"SUM($AU$5:$BF$5)","v":0},null,0,0,0,0,0,0,0,0,0,0,0,0,{"$f":"SUM($BI$5:$BT$5)","v":0},null,0,0,0,0,0,0,0,0,0,0,0,0,{"$f":"SUM($BW$5:$CH$5)","v":0},null,0,0,0,0,0,0,0,0,0,0,0,0,{"$f":"SUM($CK$5:$CV$5)","v":0},null,0,0,0,0,0,0,0,0,0,0,0,0,{"$f":"SUM($CY$5:$DJ$5)","v":0},null,0,0,0,0,0,0,0,0,0,0,0,0,{"$f":"SUM($DM$5:$DX$5)","v":0},null,0,0,0,0,0,0,0,0,0,0,0,0,{"$f":"SUM($EA$5:$EL$5)","v":0},null,0,0,0,0,0,0,0,0,0,0,0,0,{"$f":"SUM($EO$5:$EZ$5)","v":0},null,0,0,0,0,0,0,0,0,0,0,0,0,{"$f":"SUM($FC$5:$FN$5)","v":0},null,null,null,null,null,null,null,null,3,2019,"R3C33"]
[{"$f":"C5&D6","v":"AR"},null,null,"R",null,null,null,null,null,null,null,null,null,null,null,null,{"$f":"SUM($E$6:$P$6)","v":0},null,null,null,null,null,null,null,null,null,null,null,null,null,{"$f":"SUM($S$6:$AD$6)","v":0},null,null,null,null,null,null,null,null,null,null,null,null,null,{"$f":"SUM($AG$6:$AR$6)","v":0},null,null,null,null,null,null,null,null,null,null,null,null,null,{"$f":"SUM($AU$6:$BF$6)","v":0},null,null,null,null,null,null,null,null,null,null,null,null,null,{"$f":"SUM($BI$6:$BT$6)","v":0},null,null,null,null,null,null,null,null,null,null,null,null,null,{"$f":"SUM($BW$6:$CH$6)","v":0},null,null,null,null,null,null,null,null,null,null,null,null,null,{"$f":"SUM($CK$6:$CV$6)","v":0},null,null,null,null,null,null,null,null,null,null,null,null,null,{"$f":"SUM($CY$6:$DJ$6)","v":0},null,null,null,null,null,null,null,null,null,null,null,null,null,{"$f":"SUM($DM$6:$DX$6)","v":0},null,null,null,null,null,null,null,null,null,null,null,null,null,{"$f":"SUM($EA$6:$EL$6)","v":0},null,null,null,null,null,null,null,null,null,null,null,null,null,{"$f":"SUM($EO$6:$EZ$6)","v":0},null,null,null,null,null,null,null,null,null,null,null,null,null,{"$f":"SUM($FC$6:$FN$6)","v":0},null,null,null,null,null,null,null,null,4,2020,"R3C47"]
[{"$f":"C7&D7","v":"BP"},null,"B","P",0,0,0,0,0,0,0,0,0,0,0,0,{"$f":"SUM($E$7:$P$7)","v":0},null,0,0,0,0,0,0,0,0,0,0,0,0,{"$f":"SUM($S$7:$AD$7)","v":0},null,0,0,0,0,0,0,0,0,0,0,0,0,{"$f":"SUM($AG$7:$AR$7)","v":0},null,0,0,0,0,0,0,0,0,0,0,0,0,{"$f":"SUM($AU$7:$BF$7)","v":0},null,0,0,0,0,0,0,0,0,0,0,0,0,{"$f":"SUM($BI$7:$BT$7)","v":0},null,0,0,0,0,0,0,0,0,0,0,0,0,{"$f":"SUM($BW$7:$CH$7)","v":0},null,0,0,0,0,0,0,0,0,0,0,0,0,{"$f":"SUM($CK$7:$CV$7)","v":0},null,0,0,0,0,0,0,0,0,0,0,0,0,{"$f":"SUM($CY$7:$DJ$7)","v":0},null,0,0,0,0,0,0,0,0,0,0,0,0,{"$f":"SUM($DM$7:$DX$7)","v":0},null,0,0,0,0,0,0,0,0,0,0,0,0,{"$f":"SUM($EA$7:$EL$7)","v":0},null,0,0,0,0,0,0,0,0,0,0,0,0,{"$f":"SUM($EO$7:$EZ$7)","v":0},null,0,0,0,0,0,0,0,0,0,0,0,0,{"$f":"SUM($FC$7:$FN$7)","v":0},null,null,null,null,null,null,null,null,5,2021,"R3C61"]
[{"$f":"C7&D8","v":"BR"},null,null,"R",null,null,null,null,null,null,null,null,null,null,null,null,{"$f":"SUM($E$8:$P$8)","v":0},null,null,null,null,null,null,null,null,null,null,null,null,null,{"$f":"SUM($S$8:$AD$8)","v":0},null,null,null,null,null,null,null,null,null,null,null,null,null,{"$f":"SUM($AG$8:$AR$8)","v":0},null,null,null,null,null,null,null,null,null,null,null,null,null,{"$f":"SUM($AU$8:$BF$8)","v":0},null,null,null,null,null,null,null,null,null,null,null,null,null,{"$f":"SUM($BI$8:$BT$8)","v":0},null,null,null,null,null,null,null,null,null,null,null,null,null,{"$f":"SUM($BW$8:$CH$8)","v":0},null,null,null,null,null,null,null,null,null,null,null,null,null,{"$f":"SUM($CK$8:$CV$8)","v":0},null,null,null,null,null,null,null,null,null,null,null,null,null,{"$f":"SUM($CY$8:$DJ$8)","v":0},null,null,null,null,null,null,null,null,null,null,null,null,null,{"$f":"SUM($DM$8:$DX$8)","v":0},null,null,null,null,null,null,null,null,null,null,null,null,null,{"$f":"SUM($EA$8:$EL$8)","v":0},null,null,null,null,null,null,null,null,null,null,null,null,null,{"$f":"SUM($EO$8:$EZ$8)","v":0},null,null,null,null,null,null,null,null,null,null,null,null,null,{"$f":"SUM($FC$8:$FN$8)","v":0},null,null,null,null,null,null,null,null,6,2022,"R3C75"]
[{"$f":"C9&D9","v":"CP"},null,"C","P",0,0,0,0,0,0,0,0,0,0,0,0,{"$f":"SUM($E$9:$P$9)","v":0},null,0,0,0,0,0,0,0,0,0,0,0,0,{"$f":"SUM($S$9:$AD$9)","v":0},null,0,0,0,0,0,0,0,0,0,0,0,0,{"$f":"SUM($AG$9:$AR$9)","v":0},null,0,0,0,0,0,0,0,0,0,0,0,0,{"$f":"SUM($AU$9:$BF$9)","v":0},null,0,0,0,0,0,0,0,0,0,0,0,0,{"$f":"SUM($BI$9:$BT$9)","v":0},null,0,0,0,0,0,0,0,0,0,0,0,0,{"$f":"SUM($BW$9:$CH$9)","v":0},null,0,0,0,0,0,0,0,0,0,0,0,0,{"$f":"SUM($CK$9:$CV$9)","v":0},null,0,0,0,0,0,0,0,0,0,0,0,0,{"$f":"SUM($CY$9:$DJ$9)","v":0},null,0,0,0,0,0,0,0,0,0,0,0,0,{"$f":"SUM($DM$9:$DX$9)","v":0},null,0,0,0,0,0,0,0,0,0,0,0,0,{"$f":"SUM($EA$9:$EL$9)","v":0},null,0,0,0,0,0,0,0,0,0,0,0,0,{"$f":"SUM($EO$9:$EZ$9)","v":0},null,0,0,0,0,0,0,0,0,0,0,0,0,{"$f":"SUM($FC$9:$FN$9)","v":0},null,null,null,null,null,null,null,null,7,2023,"R3C89"]
[{"$f":"C9&D10","v":"CR"},null,null,"R",null,null,null,null,null,null,null,null,null,null,null,null,{"$f":"SUM($E$10:$P$10)","v":0},null,null,null,null,null,null,null,null,null,null,null,null,null,{"$f":"SUM($S$10:$AD$10)","v":0},null,null,null,null,null,null,null,null,null,null,null,null,null,{"$f":"SUM($AG$10:$AR$10)","v":0},null,null,null,null,null,null,null,null,null,null,null,null,null,{"$f":"SUM($AU$10:$BF$10)","v":0},null,null,null,null,null,null,null,null,null,null,null,null,null,{"$f":"SUM($BI$10:$BT$10)","v":0},null,null,null,null,null,null,null,null,null,null,null,null,null,{"$f":"SUM($BW$10:$CH$10)","v":0},null,null,null,null,null,null,null,null,null,null,null,null,null,{"$f":"SUM($CK$10:$CV$10)","v":0},null,null,null,null,null,null,null,null,null,null,null,null,null,{"$f":"SUM($CY$10:$DJ$10)","v":0},null,null,null,null,null,null,null,null,null,null,null,null,null,{"$f":"SUM($DM$10:$DX$10)","v":0},null,null,null,null,null,null,null,null,null,null,null,null,null,{"$f":"SUM($EA$10:$EL$10)","v":0},null,null,null,null,null,null,null,null,null,null,null,null,null,{"$f":"SUM($EO$10:$EZ$10)","v":0},null,null,null,null,null,null,null,null,null,null,null,null,null,{"$f":"SUM($FC$10:$FN$10)","v":0},null,null,null,null,null,null,null,null,8,2024,"R3C103"]
[{"$f":"C11&D11","v":"DP"},null,"D","P",0,0,0,0,0,0,0,0,0,0,0,0,{"$f":"SUM($E$11:$P$11)","v":0},null,0,0,0,0,0,0,0,0,0,0,0,0,{"$f":"SUM($S$11:$AD$11)","v":0},null,0,0,0,0,0,0,0,0,0,0,0,0,{"$f":"SUM($AG$11:$AR$11)","v":0},null,0,0,0,0,0,0,0,0,0,0,0,0,{"$f":"SUM($AU$11:$BF$11)","v":0},null,0,0,0,0,0,0,0,0,0,0,0,0,{"$f":"SUM($BI$11:$BT$11)","v":0},null,0,0,0,0,0,0,0,0,0,0,0,0,{"$f":"SUM($BW$11:$CH$11)","v":0},null,0,0,0,0,0,0,0,0,0,0,0,0,{"$f":"SUM($CK$11:$CV$11)","v":0},null,0,0,0,0,0,0,0,0,0,0,0,0,{"$f":"SUM($CY$11:$DJ$11)","v":0},null,0,0,0,0,0,0,0,0,0,0,0,0,{"$f":"SUM($DM$11:$DX$11)","v":0},null,0,0,0,0,0,0,0,0,0,0,0,0,{"$f":"SUM($EA$11:$EL$11)","v":0},null,0,0,0,0,0,0,0,0,0,0,0,0,{"$f":"SUM($EO$11:$EZ$11)","v":0},null,0,0,0,0,0,0,0,0,0,0,0,0,{"$f":"SUM($FC$11:$FN$11)","v":0},null,null,null,null,null,null,null,null,9,2025,"R3C117"]
[{"$f":"C11&D12","v":"DR"},null,null,"R",null,null,null,null,null,null,null,null,null,null,null,null,{"$f":"SUM($E$12:$P$12)","v":0},null,null,null,null,null,null,null,null,null,null,null,null,null,{"$f":"SUM($S$12:$AD$12)","v":0},null,null,null,null,null,null,null,null,null,null,null,null,null,{"$f":"SUM($AG$12:$AR$12)","v":0},null,null,null,null,null,null,null,null,null,null,null,null,null,{"$f":"SUM($AU$12:$BF$12)","v":0},null,null,null,null,null,null,null,null,null,null,null,null,null,{"$f":"SUM($BI$12:$BT$12)","v":0},null,null,null,null,null,null,null,null,null,null,null,null,null,{"$f":"SUM($BW$12:$CH$12)","v":0},null,null,null,null,null,null,null,null,null,null,null,null,null,{"$f":"SUM($CK$12:$CV$12)","v":0},null,null,null,null,null,null,null,null,null,null,null,null,null,{"$f":"SUM($CY$12:$DJ$12)","v":0},null,null,null,null,null,null,null,null,null,null,null,null,null,{"$f":"SUM($DM$12:$DX$12)","v":0},null,null,null,null,null,null,null,null,null,null,null,null,null,{"$f":"SUM($EA$12:$EL$12)","v":0},null,null,null,null,null,null,null,null,null,null,null,null,null,{"$f":"SUM($EO$12:$EZ$12)","v":0},null,null,null,null,null,null,null,null,null,null,null,null,null,{"$f":"SUM($FC$12:$FN$12)","v":0},null,null,null,null,null,null,null,null,10,2026,"R3C131"]
[{"$f":"C13&D13","v":"EP"},null,"E","P",0,0,0,0,0,0,0,0,0,0,0,0,{"$f":"SUM($E$13:$P$13)","v":0},null,0,0,0,0,0,0,0,0,0,0,0,0,{"$f":"SUM($S$13:$AD$13)","v":0},null,0,0,0,0,0,0,0,0,0,0,0,0,{"$f":"SUM($AG$13:$AR$13)","v":0},null,0,0,0,0,0,0,0,0,0,0,0,0,{"$f":"SUM($AU$13:$BF$13)","v":0},null,0,0,0,0,0,0,0,0,0,0,0,0,{"$f":"SUM($BI$13:$BT$13)","v":0},null,0,0,0,0,0,0,0,0,0,0,0,0,{"$f":"SUM($BW$13:$CH$13)","v":0},null,0,0,0,0,0,0,0,0,0,0,0,0,{"$f":"SUM($CK$13:$CV$13)","v":0},null,0,0,0,0,0,0,0,0,0,0,0,0,{"$f":"SUM($CY$13:$DJ$13)","v":0},null,0,0,0,0,0,0,0,0,0,0,0,0,{"$f":"SUM($DM$13:$DX$13)","v":0},null,0,0,0,0,0,0,0,0,0,0,0,0,{"$f":"SUM($EA$13:$EL$13)","v":0},null,0,0,0,0,0,0,0,0,0,0,0,0,{"$f":"SUM($EO$13:$EZ$13)","v":0},null,0,0,0,0,0,0,0,0,0,0,0,0,{"$f":"SUM($FC$13:$FN$13)","v":0},null,null,null,null,null,null,null,null,11,2027,"R3C145"]
[{"$f":"C13&D14","v":"ER"},null,null,"R",null,null,null,null,null,null,null,null,null,null,null,null,{"$f":"SUM($E$14:$P$14)","v":0},null,null,null,null,null,null,null,null,null,null,null,null,null,{"$f":"SUM($S$14:$AD$14)","v":0},null,null,null,null,null,null,null,null,null,null,null,null,null,{"$f":"SUM($AG$14:$AR$14)","v":0},null,null,null,null,null,null,null,null,null,null,null,null,null,{"$f":"SUM($AU$14:$BF$14)","v":0},null,null,null,null,null,null,null,null,null,null,null,null,null,{"$f":"SUM($BI$14:$BT$14)","v":0},null,null,null,null,null,null,null,null,null,null,null,null,null,{"$f":"SUM($BW$14:$CH$14)","v":0},null,null,null,null,null,null,null,null,null,null,null,null,null,{"$f":"SUM($CK$14:$CV$14)","v":0},null,null,null,null,null,null,null,null,null,null,null,null,null,{"$f":"SUM($CY$14:$DJ$14)","v":0},null,null,null,null,null,null,null,null,null,null,null,null,null,{"$f":"SUM($DM$14:$DX$14)","v":0},null,null,null,null,null,null,null,null,null,null,null,null,null,{"$f":"SUM($EA$14:$EL$14)","v":0},null,null,null,null,null,null,null,null,null,null,null,null,null,{"$f":"SUM($EO$14:$EZ$14)","v":0},null,null,null,null,null,null,null,null,null,null,null,null,null,{"$f":"SUM($FC$14:$FN$14)","v":0},null,null,null,null,null,null,null,null,12,2028,"R3C159"]
[{"$f":"C15&D15","v":"FP"},null,"F","P",0,0,0,0,0,0,0,0,0,0,0,0,{"$f":"SUM($E$15:$P$15)","v":0},null,0,0,0,0,0,0,0,0,0,0,0,0,{"$f":"SUM($S$15:$AD$15)","v":0},null,0,0,0,0,0,0,0,0,0,0,0,0,{"$f":"SUM($AG$15:$AR$15)","v":0},null,0,0,0,0,0,0,0,0,0,0,0,0,{"$f":"SUM($AU$15:$BF$15)","v":0},null,0,0,0,0,0,0,0,0,0,0,0,0,{"$f":"SUM($BI$15:$BT$15)","v":0},null,0,0,0,0,0,0,0,0,0,0,0,0,{"$f":"SUM($BW$15:$CH$15)","v":0},null,0,0,0,0,0,0,0,0,0,0,0,0,{"$f":"SUM($CK$15:$CV$15)","v":0},null,0,0,0,0,0,0,0,0,0,0,0,0,{"$f":"SUM($CY$15:$DJ$15)","v":0},null,0,0,0,0,0,0,0,0,0,0,0,0,{"$f":"SUM($DM$15:$DX$15)","v":0},null,0,0,0,0,0,0,0,0,0,0,0,0,{"$f":"SUM($EA$15:$EL$15)","v":0},null,0,0,0,0,0,0,0,0,0,0,0,0,{"$f":"SUM($EO$15:$EZ$15)","v":0},null,0,0,0,0,0,0,0,0,0,0,0,0,{"$f":"SUM($FC$15:$FN$15)","v":0}]
[{"$f":"C15&D16","v":"FR"},null,null,"R",null,null,null,null,null,null,null,null,null,null,null,null,{"$f":"SUM($E$16:$P$16)","v":0},null,null,null,null,null,null,null,null,null,null,null,null,null,{"$f":"SUM($S$16:$AD$16)","v":0},null,null,null,null,null,null,null,null,null,null,null,null,null,{"$f":"SUM($AG$16:$AR$16)","v":0},null,null,null,null,null,null,null,null,null,null,null,null,null,{"$f":"SUM($AU$16:$BF$16)","v":0},null,null,null,null,null,null,null,null,null,null,null,null,null,{"$f":"SUM($BI$16:$BT$16)","v":0},null,null,null,null,null,null,null,null,null,null,null,null,null,{"$f":"SUM($BW$16:$CH$16)","v":0},null,null,null,null,null,null,null,null,null,null,null,null,null,{"$f":"SUM($CK$16:$CV$16)","v":0},null,null,null,null,null,null,null,null,null,null,null,null,null,{"$f":"SUM($CY$16:$DJ$16)","v":0},null,null,null,null,null,null,null,null,null,null,null,null,null,{"$f":"SUM($DM$16:$DX$16)","v":0},null,null,null,null,null,null,null,null,null,null,null,null,null,{"$f":"SUM($EA$16:$EL$16)","v":0},null,null,null,null,null,null,null,null,null,null,null,null,null,{"$f":"SUM($EO$16:$EZ$16)","v":0},null,null,null,null,null,null,null,null,null,null,null,null,null,{"$f":"SUM($FC$16:$FN$16)","v":0}]
[{"$f":"C17&D17","v":"GP"},null,"G","P",0,0,0,0,0,0,0,0,0,0,0,0,{"$f":"SUM($E$17:$P$17)","v":0},null,0,0,0,0,0,0,0,0,0,0,0,0,{"$f":"SUM($S$17:$AD$17)","v":0},null,0,0,0,0,0,0,0,0,0,0,0,0,{"$f":"SUM($AG$17:$AR$17)","v":0},null,0,0,0,0,0,0,0,0,0,0,0,0,{"$f":"SUM($AU$17:$BF$17)","v":0},null,0,0,0,0,0,0,0,0,0,0,0,0,{"$f":"SUM($BI$17:$BT$17)","v":0},null,0,0,0,0,0,0,0,0,0,0,0,0,{"$f":"SUM($BW$17:$CH$17)","v":0},null,0,0,0,0,0,0,0,0,0,0,0,0,{"$f":"SUM($CK$17:$CV$17)","v":0},null,0,0,0,0,0,0,0,0,0,0,0,0,{"$f":"SUM($CY$17:$DJ$17)","v":0},null,0,0,0,0,0,0,0,0,0,0,0,0,{"$f":"SUM($DM$17:$DX$17)","v":0},null,0,0,0,0,0,0,0,0,0,0,0,0,{"$f":"SUM($EA$17:$EL$17)","v":0},null,0,0,0,0,0,0,0,0,0,0,0,0,{"$f":"SUM($EO$17:$EZ$17)","v":0},null,0,0,0,0,0,0,0,0,0,0,0,0,{"$f":"SUM($FC$17:$FN$17)","v":0}]
[{"$f":"C17&D18","v":"GR"},null,null,"R",null,null,null,null,null,null,null,null,null,null,null,null,{"$f":"SUM($E$18:$P$18)","v":0},null,null,null,null,null,null,null,null,null,null,null,null,null,{"$f":"SUM($S$18:$AD$18)","v":0},null,null,null,null,null,null,null,null,null,null,null,null,null,{"$f":"SUM($AG$18:$AR$18)","v":0},null,null,null,null,null,null,null,null,null,null,null,null,null,{"$f":"SUM($AU$18:$BF$18)","v":0},null,null,null,null,null,null,null,null,null,null,null,null,null,{"$f":"SUM($BI$18:$BT$18)","v":0},null,null,null,null,null,null,null,null,null,null,null,null,null,{"$f":"SUM($BW$18:$CH$18)","v":0},null,null,null,null,null,null,null,null,null,null,null,null,null,{"$f":"SUM($CK$18:$CV$18)","v":0},null,null,null,null,null,null,null,null,null,null,null,null,null,{"$f":"SUM($CY$18:$DJ$18)","v":0},null,null,null,null,null,null,null,null,null,null,null,null,null,{"$f":"SUM($DM$18:$DX$18)","v":0},null,null,null,null,null,null,null,null,null,null,null,null,null,{"$f":"SUM($EA$18:$EL$18)","v":0},null,null,null,null,null,null,null,null,null,null,null,null,null,{"$f":"SUM($EO$18:$EZ$18)","v":0},null,null,null,null,null,null,null,null,null,null,null,null,null,{"$f":"SUM($FC$18:$FN$18)","v":0}]
[{"$f":"C19&D19","v":"HP"},null,"H","P",0,0,0,0,0,0,0,0,0,0,0,0,{"$f":"SUM($E$19:$P$19)","v":0},null,0,0,0,0,0,0,0,0,0,0,0,0,{"$f":"SUM($S$19:$AD$19)","v":0},null,0,0,0,0,0,0,0,0,0,0,0,0,{"$f":"SUM($AG$19:$AR$19)","v":0},null,0,0,0,0,0,0,0,0,0,0,0,0,{"$f":"SUM($AU$19:$BF$19)","v":0},null,0,0,0,0,0,0,0,0,0,0,0,0,{"$f":"SUM($BI$19:$BT$19)","v":0},null,0,0,0,0,0,0,0,0,0,0,0,0,{"$f":"SUM($BW$19:$CH$19)","v":0},null,0,0,0,0,0,0,0,0,0,0,0,0,{"$f":"SUM($CK$19:$CV$19)","v":0},null,0,0,0,0,0,0,0,0,0,0,0,0,{"$f":"SUM($CY$19:$DJ$19)","v":0},null,0,0,0,0,0,0,0,0,0,0,0,0,{"$f":"SUM($DM$19:$DX$19)","v":0},null,0,0,0,0,0,0,0,0,0,0,0,0,{"$f":"SUM($EA$19:$EL$19)","v":0},null,0,0,0,0,0,0,0,0,0,0,0,0,{"$f":"SUM($EO$19:$EZ$19)","v":0},null,0,0,0,0,0,0,0,0,0,0,0,0,{"$f":"SUM($FC$19:$FN$19)","v":0}]
[{"$f":"C19&D20","v":"HR"},null,null,"R",null,null,null,null,null,null,null,null,null,null,null,null,{"$f":"SUM($E$20:$P$20)","v":0},null,null,null,null,null,null,null,null,null,null,null,null,null,{"$f":"SUM($S$20:$AD$20)","v":0},null,null,null,null,null,null,null,null,null,null,null,null,null,{"$f":"SUM($AG$20:$AR$20)","v":0},null,null,null,null,null,null,null,null,null,null,null,null,null,{"$f":"SUM($AU$20:$BF$20)","v":0},null,null,null,null,null,null,null,null,null,null,null,null,null,{"$f":"SUM($BI$20:$BT$20)","v":0},null,null,null,null,null,null,null,null,null,null,null,null,null,{"$f":"SUM($BW$20:$CH$20)","v":0},null,null,null,null,null,null,null,null,null,null,null,null,null,{"$f":"SUM($CK$20:$CV$20)","v":0},null,null,null,null,null,null,null,null,null,null,null,null,null,{"$f":"SUM($CY$20:$DJ$20)","v":0},null,null,null,null,null,null,null,null,null,null,null,null,null,{"$f":"SUM($DM$20:$DX$20)","v":0},null,null,null,null,null,null,null,null,null,null,null,null,null,{"$f":"SUM($EA$20:$EL$20)","v":0},null,null,null,null,null,null,null,null,null,null,null,null,null,{"$f":"SUM($EO$20:$EZ$20)","v":0},null,null,null,null,null,null,null,null,null,null,null,null,null,{"$f":"SUM($FC$20:$FN$20)","v":0}]
[{"$f":"C21&D21","v":"IP"},null,"I","P",0,0,0,0,0,0,0,0,0,0,0,0,{"$f":"SUM($E$21:$P$21)","v":0},null,0,0,0,0,0,0,0,0,0,0,0,0,{"$f":"SUM($S$21:$AD$21)","v":0},null,0,0,0,0,0,0,0,0,0,0,0,0,{"$f":"SUM($AG$21:$AR$21)","v":0},null,0,0,0,0,0,0,0,0,0,0,0,0,{"$f":"SUM($AU$21:$BF$21)","v":0},null,0,0,0,0,0,0,0,0,0,0,0,0,{"$f":"SUM($BI$21:$BT$21)","v":0},null,0,0,0,0,0,0,0,0,0,0,0,0,{"$f":"SUM($BW$21:$CH$21)","v":0},null,0,0,0,0,0,0,0,0,0,0,0,0,{"$f":"SUM($CK$21:$CV$21)","v":0},null,0,0,0,0,0,0,0,0,0,0,0,0,{"$f":"SUM($CY$21:$DJ$21)","v":0},null,0,0,0,0,0,0,0,0,0,0,0,0,{"$f":"SUM($DM$21:$DX$21)","v":0},null,0,0,0,0,0,0,0,0,0,0,0,0,{"$f":"SUM($EA$21:$EL$21)","v":0},null,0,0,0,0,0,0,0,0,0,0,0,0,{"$f":"SUM($EO$21:$EZ$21)","v":0},null,0,0,0,0,0,0,0,0,0,0,0,0,{"$f":"SUM($FC$21:$FN$21)","v":0}]
[{"$f":"C21&D22","v":"IR"},null,null,"R",null,null,null,null,null,null,null,null,null,null,null,null,{"$f":"SUM($E$22:$P$22)","v":0},null,null,null,null,null,null,null,null,null,null,null,null,null,{"$f":"SUM($S$22:$AD$22)","v":0},null,null,null,null,null,null,null,null,null,null,null,null,null,{"$f":"SUM($AG$22:$AR$22)","v":0},null,null,null,null,null,null,null,null,null,null,null,null,null,{"$f":"SUM($AU$22:$BF$22)","v":0},null,null,null,null,null,null,null,null,null,null,null,null,null,{"$f":"SUM($BI$22:$BT$22)","v":0},null,null,null,null,null,null,null,null,null,null,null,null,null,{"$f":"SUM($BW$22:$CH$22)","v":0},null,null,null,null,null,null,null,null,null,null,null,null,null,{"$f":"SUM($CK$22:$CV$22)","v":0},null,null,null,null,null,null,null,null,null,null,null,null,null,{"$f":"SUM($CY$22:$DJ$22)","v":0},null,null,null,null,null,null,null,null,null,null,null,null,null,{"$f":"SUM($DM$22:$DX$22)","v":0},null,null,null,null,null,null,null,null,null,null,null,null,null,{"$f":"SUM($EA$22:$EL$22)","v":0},null,null,null,null,null,null,null,null,null,null,null,null,null,{"$f":"SUM($EO$22:$EZ$22)","v":0},null,null,null,null,null,null,null,null,null,null,null,null,null,{"$f":"SUM($FC$22:$FN$22)","v":0}]
[{"$f":"C23&D23","v":"JP"},null,"J","P",0,0,0,0,0,0,0,0,0,0,0,0,{"$f":"SUM($E$23:$P$23)","v":0},null,0,0,0,0,0,0,0,0,0,0,0,0,{"$f":"SUM($S$23:$AD$23)","v":0},null,0,0,0,0,0,0,0,0,0,0,0,0,{"$f":"SUM($AG$23:$AR$23)","v":0},null,0,0,0,0,0,0,0,0,0,0,0,0,{"$f":"SUM($AU$23:$BF$23)","v":0},null,0,0,0,0,0,0,0,0,0,0,0,0,{"$f":"SUM($BI$23:$BT$23)","v":0},null,0,0,0,0,0,0,0,0,0,0,0,0,{"$f":"SUM($BW$23:$CH$23)","v":0},null,0,0,0,0,0,0,0,0,0,0,0,0,{"$f":"SUM($CK$23:$CV$23)","v":0},null,0,0,0,0,0,0,0,0,0,0,0,0,{"$f":"SUM($CY$23:$DJ$23)","v":0},null,0,0,0,0,0,0,0,0,0,0,0,0,{"$f":"SUM($DM$23:$DX$23)","v":0},null,0,0,0,0,0,0,0,0,0,0,0,0,{"$f":"SUM($EA$23:$EL$23)","v":0},null,0,0,0,0,0,0,0,0,0,0,0,0,{"$f":"SUM($EO$23:$EZ$23)","v":0},null,0,0,0,0,0,0,0,0,0,0,0,0,{"$f":"SUM($FC$23:$FN$23)","v":0}]
[{"$f":"C23&D24","v":"JR"},null,null,"R",null,null,null,null,null,null,null,null,null,null,null,null,{"$f":"SUM($E$24:$P$24)","v":0},null,null,null,null,null,null,null,null,null,null,null,null,null,{"$f":"SUM($S$24:$AD$24)","v":0},null,null,null,null,null,null,null,null,null,null,null,null,null,{"$f":"SUM($AG$24:$AR$24)","v":0},null,null,null,null,null,null,null,null,null,null,null,null,null,{"$f":"SUM($AU$24:$BF$24)","v":0},null,null,null,null,null,null,null,null,null,null,null,null,null,{"$f":"SUM($BI$24:$BT$24)","v":0},null,null,null,null,null,null,null,null,null,null,null,null,null,{"$f":"SUM($BW$24:$CH$24)","v":0},null,null,null,null,null,null,null,null,null,null,null,null,null,{"$f":"SUM($CK$24:$CV$24)","v":0},null,null,null,null,null,null,null,null,null,null,null,null,null,{"$f":"SUM($CY$24:$DJ$24)","v":0},null,null,null,null,null,null,null,null,null,null,null,null,null,{"$f":"SUM($DM$24:$DX$24)","v":0},null,null,null,null,null,null,null,null,null,null,null,null,null,{"$f":"SUM($EA$24:$EL$24)","v":0},null,null,null,null,null,null,null,null,null,null,null,null,null,{"$f":"SUM($EO$24:$EZ$24)","v":0},null,null,null,null,null,null,null,null,null,null,null,null,null,{"$f":"SUM($FC$24:$FN$24)","v":0}]
[{"$f":"C25&D25","v":"KP"},null,"K","P",0,0,0,0,0,0,0,0,0,0,0,0,{"$f":"SUM($E$25:$P$25)","v":0},null,0,0,0,0,0,0,0,0,0,0,0,0,{"$f":"SUM($S$25:$AD$25)","v":0},null,0,0,0,0,0,0,0,0,0,0,0,0,{"$f":"SUM($AG$25:$AR$25)","v":0},null,0,0,0,0,0,0,0,0,0,0,0,0,{"$f":"SUM($AU$25:$BF$25)","v":0},null,0,0,0,0,0,0,0,0,0,0,0,0,{"$f":"SUM($BI$25:$BT$25)","v":0},null,0,0,0,0,0,0,0,0,0,0,0,0,{"$f":"SUM($BW$25:$CH$25)","v":0},null,0,0,0,0,0,0,0,0,0,0,0,0,{"$f":"SUM($CK$25:$CV$25)","v":0},null,0,0,0,0,0,0,0,0,0,0,0,0,{"$f":"SUM($CY$25:$DJ$25)","v":0},null,0,0,0,0,0,0,0,0,0,0,0,0,{"$f":"SUM($DM$25:$DX$25)","v":0},null,0,0,0,0,0,0,0,0,0,0,0,0,{"$f":"SUM($EA$25:$EL$25)","v":0},null,0,0,0,0,0,0,0,0,0,0,0,0,{"$f":"SUM($EO$25:$EZ$25)","v":0},null,0,0,0,0,0,0,0,0,0,0,0,0,{"$f":"SUM($FC$25:$FN$25)","v":0}]
[{"$f":"C25&D26","v":"KR"},null,null,"R",null,null,null,null,null,null,null,null,null,null,null,null,{"$f":"SUM($E$26:$P$26)","v":0},null,null,null,null,null,null,null,null,null,null,null,null,null,{"$f":"SUM($S$26:$AD$26)","v":0},null,null,null,null,null,null,null,null,null,null,null,null,null,{"$f":"SUM($AG$26:$AR$26)","v":0},null,null,null,null,null,null,null,null,null,null,null,null,null,{"$f":"SUM($AU$26:$BF$26)","v":0},null,null,null,null,null,null,null,null,null,null,null,null,null,{"$f":"SUM($BI$26:$BT$26)","v":0},null,null,null,null,null,null,null,null,null,null,null,null,null,{"$f":"SUM($BW$26:$CH$26)","v":0},null,null,null,null,null,null,null,null,null,null,null,null,null,{"$f":"SUM($CK$26:$CV$26)","v":0},null,null,null,null,null,null,null,null,null,null,null,null,null,{"$f":"SUM($CY$26:$DJ$26)","v":0},null,null,null,null,null,null,null,null,null,null,null,null,null,{"$f":"SUM($DM$26:$DX$26)","v":0},null,null,null,null,null,null,null,null,null,null,null,null,null,{"$f":"SUM($EA$26:$EL$26)","v":0},null,null,null,null,null,null,null,null,null,null,null,null,null,{"$f":"SUM($EO$26:$EZ$26)","v":0},null,null,null,null,null,null,null,null,null,null,null,null,null,{"$f":"SUM($FC$26:$FN$26)","v":0}]
[{"$f":"C27&D27","v":"LP"},null,"L","P",0,0,0,0,0,0,0,0,0,0,0,0,{"$f":"SUM($E$27:$P$27)","v":0},null,0,0,0,0,0,0,0,0,0,0,0,0,{"$f":"SUM($S$27:$AD$27)","v":0},null,0,0,0,0,0,0,0,0,0,0,0,0,{"$f":"SUM($AG$27:$AR$27)","v":0},null,0,0,0,0,0,0,0,0,0,0,0,0,{"$f":"SUM($AU$27:$BF$27)","v":0},null,0,0,0,0,0,0,0,0,0,0,0,0,{"$f":"SUM($BI$27:$BT$27)","v":0},null,0,0,0,0,0,0,0,0,0,0,0,0,{"$f":"SUM($BW$27:$CH$27)","v":0},null,0,0,0,0,0,0,0,0,0,0,0,0,{"$f":"SUM($CK$27:$CV$27)","v":0},null,0,0,0,0,0,0,0,0,0,0,0,0,{"$f":"SUM($CY$27:$DJ$27)","v":0},null,0,0,0,0,0,0,0,0,0,0,0,0,{"$f":"SUM($DM$27:$DX$27)","v":0},null,0,0,0,0,0,0,0,0,0,0,0,0,{"$f":"SUM($EA$27:$EL$27)","v":0},null,0,0,0,0,0,0,0,0,0,0,0,0,{"$f":"SUM($EO$27:$EZ$27)","v":0},null,0,0,0,0,0,0,0,0,0,0,0,0,{"$f":"SUM($FC$27:$FN$27)","v":0}]
[{"$f":"C27&D28","v":"LR"},null,null,"R",null,null,null,null,null,null,null,null,null,null,null,null,{"$f":"SUM($E$28:$P$28)","v":0},null,null,null,null,null,null,null,null,null,null,null,null,null,{"$f":"SUM($S$28:$AD$28)","v":0},null,null,null,null,null,null,null,null,null,null,null,null,null,{"$f":"SUM($AG$28:$AR$28)","v":0},null,null,null,null,null,null,null,null,null,null,null,null,null,{"$f":"SUM($AU$28:$BF$28)","v":0},null,null,null,null,null,null,null,null,null,null,null,null,null,{"$f":"SUM($BI$28:$BT$28)","v":0},null,null,null,null,null,null,null,null,null,null,null,null,null,{"$f":"SUM($BW$28:$CH$28)","v":0},null,null,null,null,null,null,null,null,null,null,null,null,null,{"$f":"SUM($CK$28:$CV$28)","v":0},null,null,null,null,null,null,null,null,null,null,null,null,null,{"$f":"SUM($CY$28:$DJ$28)","v":0},null,null,null,null,null,null,null,null,null,null,null,null,null,{"$f":"SUM($DM$28:$DX$28)","v":0},null,null,null,null,null,null,null,null,null,null,null,null,null,{"$f":"SUM($EA$28:$EL$28)","v":0},null,null,null,null,null,null,null,null,null,null,null,null,null,{"$f":"SUM($EO$28:$EZ$28)","v":0},null,null,null,null,null,null,null,null,null,null,null,null,null,{"$f":"SUM($FC$28:$FN$28)","v":0}]
[{"$f":"C29&D29","v":"MP"},null,"M","P",0,0,0,0,0,0,0,0,0,0,0,0,{"$f":"SUM($E$29:$P$29)","v":0},null,0,0,0,0,0,0,0,0,0,0,0,0,{"$f":"SUM($S$29:$AD$29)","v":0},null,0,0,0,0,0,0,0,0,0,0,0,0,{"$f":"SUM($AG$29:$AR$29)","v":0},null,0,0,0,0,0,0,0,0,0,0,0,0,{"$f":"SUM($AU$29:$BF$29)","v":0},null,0,0,0,0,0,0,0,0,0,0,0,0,{"$f":"SUM($BI$29:$BT$29)","v":0},null,0,0,0,0,0,0,0,0,0,0,0,0,{"$f":"SUM($BW$29:$CH$29)","v":0},null,0,0,0,0,0,0,0,0,0,0,0,0,{"$f":"SUM($CK$29:$CV$29)","v":0},null,0,0,0,0,0,0,0,0,0,0,0,0,{"$f":"SUM($CY$29:$DJ$29)","v":0},null,0,0,0,0,0,0,0,0,0,0,0,0,{"$f":"SUM($DM$29:$DX$29)","v":0},null,0,0,0,0,0,0,0,0,0,0,0,0,{"$f":"SUM($EA$29:$EL$29)","v":0},null,0,0,0,0,0,0,0,0,0,0,0,0,{"$f":"SUM($EO$29:$EZ$29)","v":0},null,0,0,0,0,0,0,0,0,0,0,0,0,{"$f":"SUM($FC$29:$FN$29)","v":0}]
[{"$f":"C29&D30","v":"MR"},null,null,"R",null,null,null,null,null,null,null,null,null,null,null,null,{"$f":"SUM($E$30:$P$30)","v":0},null,null,null,null,null,null,null,null,null,null,null,null,null,{"$f":"SUM($S$30:$AD$30)","v":0},null,null,null,null,null,null,null,null,null,null,null,null,null,{"$f":"SUM($AG$30:$AR$30)","v":0},null,null,null,null,null,null,null,null,null,null,null,null,null,{"$f":"SUM($AU$30:$BF$30)","v":0},null,null,null,null,null,null,null,null,null,null,null,null,null,{"$f":"SUM($BI$30:$BT$30)","v":0},null,null,null,null,null,null,null,null,null,null,null,null,null,{"$f":"SUM($BW$30:$CH$30)","v":0},null,null,null,null,null,null,null,null,null,null,null,null,null,{"$f":"SUM($CK$30:$CV$30)","v":0},null,null,null,null,null,null,null,null,null,null,null,null,null,{"$f":"SUM($CY$30:$DJ$30)","v":0},null,null,null,null,null,null,null,null,null,null,null,null,null,{"$f":"SUM($DM$30:$DX$30)","v":0},null,null,null,null,null,null,null,null,null,null,null,null,null,{"$f":"SUM($EA$30:$EL$30)","v":0},null,null,null,null,null,null,null,null,null,null,null,null,null,{"$f":"SUM($EO$30:$EZ$30)","v":0},null,null,null,null,null,null,null,null,null,null,null,null,null,{"$f":"SUM($FC$30:$FN$30)","v":0}]
[{"$f":"C31&D31","v":"NP"},null,"N","P",0,0,0,0,0,0,0,0,0,0,0,0,{"$f":"SUM($E$31:$P$31)","v":0},null,0,0,0,0,0,0,0,0,0,0,0,0,{"$f":"SUM($S$31:$AD$31)","v":0},null,0,0,0,0,0,0,0,0,0,0,0,0,{"$f":"SUM($AG$31:$AR$31)","v":0},null,0,0,0,0,0,0,0,0,0,0,0,0,{"$f":"SUM($AU$31:$BF$31)","v":0},null,0,0,0,0,0,0,0,0,0,0,0,0,{"$f":"SUM($BI$31:$BT$31)","v":0},null,0,0,0,0,0,0,0,0,0,0,0,0,{"$f":"SUM($BW$31:$CH$31)","v":0},null,0,0,0,0,0,0,0,0,0,0,0,0,{"$f":"SUM($CK$31:$CV$31)","v":0},null,0,0,0,0,0,0,0,0,0,0,0,0,{"$f":"SUM($CY$31:$DJ$31)","v":0},null,0,0,0,0,0,0,0,0,0,0,0,0,{"$f":"SUM($DM$31:$DX$31)","v":0},null,0,0,0,0,0,0,0,0,0,0,0,0,{"$f":"SUM($EA$31:$EL$31)","v":0},null,0,0,0,0,0,0,0,0,0,0,0,0,{"$f":"SUM($EO$31:$EZ$31)","v":0},null,0,0,0,0,0,0,0,0,0,0,0,0,{"$f":"SUM($FC$31:$FN$31)","v":0}]
[{"$f":"C31&D32","v":"NR"},null,null,"R",null,null,null,null,null,null,null,null,null,null,null,null,{"$f":"SUM($E$32:$P$32)","v":0},null,null,null,null,null,null,null,null,null,null,null,null,null,{"$f":"SUM($S$32:$AD$32)","v":0},null,null,null,null,null,null,null,null,null,null,null,null,null,{"$f":"SUM($AG$32:$AR$32)","v":0},null,null,null,null,null,null,null,null,null,null,null,null,null,{"$f":"SUM($AU$32:$BF$32)","v":0},null,null,null,null,null,null,null,null,null,null,null,null,null,{"$f":"SUM($BI$32:$BT$32)","v":0},null,null,null,null,null,null,null,null,null,null,null,null,null,{"$f":"SUM($BW$32:$CH$32)","v":0},null,null,null,null,null,null,null,null,null,null,null,null,null,{"$f":"SUM($CK$32:$CV$32)","v":0},null,null,null,null,null,null,null,null,null,null,null,null,null,{"$f":"SUM($CY$32:$DJ$32)","v":0},null,null,null,null,null,null,null,null,null,null,null,null,null,{"$f":"SUM($DM$32:$DX$32)","v":0},null,null,null,null,null,null,null,null,null,null,null,null,null,{"$f":"SUM($EA$32:$EL$32)","v":0},null,null,null,null,null,null,null,null,null,null,null,null,null,{"$f":"SUM($EO$32:$EZ$32)","v":0},null,null,null,null,null,null,null,null,null,null,null,null,null,{"$f":"SUM($FC$32:$FN$32)","v":0}]
["OP",null,"O","P",0,0,0,0,0,0,0,0,0,0,0,0,{"$f":"SUM($E$33:$P$33)","v":0},null,0,0,0,0,0,0,0,0,0,0,0,0,{"$f":"SUM($S$33:$AD$33)","v":0},null,0,0,0,0,0,0,0,0,0,0,0,0,{"$f":"SUM($AG$33:$AR$33)","v":0},null,0,0,0,0,0,0,0,0,0,0,0,0,{"$f":"SUM($AU$33:$BF$33)","v":0},null,0,0,0,0,0,0,0,0,0,0,0,0,{"$f":"SUM($BI$33:$BT$33)","v":0},null,0,0,0,0,0,0,0,0,0,0,0,0,{"$f":"SUM($BW$33:$CH$33)","v":0},null,0,0,0,0,0,0,0,0,0,0,0,0,{"$f":"SUM($CK$33:$CV$33)","v":0},null,0,0,0,0,0,0,0,0,0,0,0,0,{"$f":"SUM($CY$33:$DJ$33)","v":0},null,0,0,0,0,0,0,0,0,0,0,0,0,{"$f":"SUM($DM$33:$DX$33)","v":0},null,0,0,0,0,0,0,0,0,0,0,0,0,{"$f":"SUM($EA$33:$EL$33)","v":0},null,0,0,0,0,0,0,0,0,0,0,0,0,{"$f":"SUM($EO$33:$EZ$33)","v":0},null,0,0,0,0,0,0,0,0,0,0,0,0,{"$f":"SUM($FC$33:$FN$33)","v":0}]
["OR",null,null,"R",null,null,null,null,null,null,null,null,null,null,null,null,{"$f":"SUM($E$34:$P$34)","v":0},null,null,null,null,null,null,null,null,null,null,null,null,null,{"$f":"SUM($S$34:$AD$34)","v":0},null,null,null,null,null,null,null,null,null,null,null,null,null,{"$f":"SUM($AG$34:$AR$34)","v":0},null,null,null,null,null,null,null,null,null,null,null,null,null,{"$f":"SUM($AU$34:$BF$34)","v":0},null,null,null,null,null,null,null,null,null,null,null,null,null,{"$f":"SUM($BI$34:$BT$34)","v":0},null,null,null,null,null,null,null,null,null,null,null,null,null,{"$f":"SUM($BW$34:$CH$34)","v":0},null,null,null,null,null,null,null,null,null,null,null,null,null,{"$f":"SUM($CK$34:$CV$34)","v":0},null,null,null,null,null,null,null,null,null,null,null,null,null,{"$f":"SUM($CY$34:$DJ$34)","v":0},null,null,null,null,null,null,null,null,null,null,null,null,null,{"$f":"SUM($DM$34:$DX$34)","v":0},null,null,null,null,null,null,null,null,null,null,null,null,null,{"$f":"SUM($EA$34:$EL$34)","v":0},null,null,null,null,null,null,null,null,null,null,null,null,null,{"$f":"SUM($EO$34:$EZ$34)","v":0},null,null,null,null,null,null,null,null,null,null,null,null,null,{"$f":"SUM($FC$34:$FN$34)","v":0}]
["PP",null,"P","P",0,0,0,0,0,0,0,0,0,0,0,0,{"$f":"SUM($E$35:$P$35)","v":0},null,0,0,0,0,0,0,0,0,0,0,0,0,{"$f":"SUM($S$35:$AD$35)","v":0},null,0,0,0,0,0,0,0,0,0,0,0,0,{"$f":"SUM($AG$35:$AR$35)","v":0},null,0,0,0,0,0,0,0,0,0,0,0,0,{"$f":"SUM($AU$35:$BF$35)","v":0},null,0,0,0,0,0,0,0,0,0,0,0,0,{"$f":"SUM($BI$35:$BT$35)","v":0},null,0,0,0,0,0,0,0,0,0,0,0,0,{"$f":"SUM($BW$35:$CH$35)","v":0},null,0,0,0,0,0,0,0,0,0,0,0,0,{"$f":"SUM($CK$35:$CV$35)","v":0},null,0,0,0,0,0,0,0,0,0,0,0,0,{"$f":"SUM($CY$35:$DJ$35)","v":0},null,0,0,0,0,0,0,0,0,0,0,0,0,{"$f":"SUM($DM$35:$DX$35)","v":0},null,0,0,0,0,0,0,0,0,0,0,0,0,{"$f":"SUM($EA$35:$EL$35)","v":0},null,0,0,0,0,0,0,0,0,0,0,0,0,{"$f":"SUM($EO$35:$EZ$35)","v":0},null,0,0,0,0,0,0,0,0,0,0,0,0,{"$f":"SUM($FC$35:$FN$35)","v":0}]
["PR",null,null,"R",null,null,null,null,null,null,null,null,null,null,null,null,{"$f":"SUM($E$36:$P$36)","v":0},null,null,null,null,null,null,null,null,null,null,null,null,null,{"$f":"SUM($S$36:$AD$36)","v":0},null,null,null,null,null,null,null,null,null,null,null,null,null,{"$f":"SUM($AG$36:$AR$36)","v":0},null,null,null,null,null,null,null,null,null,null,null,null,null,{"$f":"SUM($AU$36:$BF$36)","v":0},null,null,null,null,null,null,null,null,null,null,null,null,null,{"$f":"SUM($BI$36:$BT$36)","v":0},null,null,null,null,null,null,null,null,null,null,null,null,null,{"$f":"SUM($BW$36:$CH$36)","v":0},null,null,null,null,null,null,null,null,null,null,null,null,null,{"$f":"SUM($CK$36:$CV$36)","v":0},null,null,null,null,null,null,null,null,null,null,null,null,null,{"$f":"SUM($CY$36:$DJ$36)","v":0},null,null,null,null,null,null,null,null,null,null,null,null,null,{"$f":"SUM($DM$36:$DX$36)","v":0},null,null,null,null,null,null,null,null,null,null,null,null,null,{"$f":"SUM($EA$36:$EL$36)","v":0},null,null,null,null,null,null,null,null,null,null,null,null,null,{"$f":"SUM($EO$36:$EZ$36)","v":0},null,null,null,null,null,null,null,null,null,null,null,null,null,{"$f":"SUM($FC$36:$FN$36)","v":0}]
["QP",null,"Q","P",0,0,0,0,0,0,0,0,0,0,0,0,{"$f":"SUM($E$37:$P$37)","v":0},null,0,0,0,0,0,0,0,0,0,0,0,0,{"$f":"SUM($S$37:$AD$37)","v":0},null,0,0,0,0,0,0,0,0,0,0,0,0,{"$f":"SUM($AG$37:$AR$37)","v":0},null,0,0,0,0,0,0,0,0,0,0,0,0,{"$f":"SUM($AU$37:$BF$37)","v":0},null,0,0,0,0,0,0,0,0,0,0,0,0,{"$f":"SUM($BI$37:$BT$37)","v":0},null,0,0,0,0,0,0,0,0,0,0,0,0,{"$f":"SUM($BW$37:$CH$37)","v":0},null,0,0,0,0,0,0,0,0,0,0,0,0,{"$f":"SUM($CK$37:$CV$37)","v":0},null,0,0,0,0,0,0,0,0,0,0,0,0,{"$f":"SUM($CY$37:$DJ$37)","v":0},null,0,0,0,0,0,0,0,0,0,0,0,0,{"$f":"SUM($DM$37:$DX$37)","v":0},null,0,0,0,0,0,0,0,0,0,0,0,0,{"$f":"SUM($EA$37:$EL$37)","v":0},null,0,0,0,0,0,0,0,0,0,0,0,0,{"$f":"SUM($EO$37:$EZ$37)","v":0},null,0,0,0,0,0,0,0,0,0,0,0,0,{"$f":"SUM($FC$37:$FN$37)","v":0}]
["QR",null,null,"R",null,null,null,null,null,null,null,null,null,null,null,null,{"$f":"SUM($E$38:$P$38)","v":0},null,null,null,null,null,null,null,null,null,null,null,null,null,{"$f":"SUM($S$38:$AD$38)","v":0},null,null,null,null,null,null,null,null,null,null,null,null,null,{"$f":"SUM($AG$38:$AR$38)","v":0},null,null,null,null,null,null,null,null,null,null,null,null,null,{"$f":"SUM($AU$38:$BF$38)","v":0},null,null,null,null,null,null,null,null,null,null,null,null,null,{"$f":"SUM($BI$38:$BT$38)","v":0},null,null,null,null,null,null,null,null,null,null,null,null,null,{"$f":"SUM($BW$38:$CH$38)","v":0},null,null,null,null,null,null,null,null,null,null,null,null,null,{"$f":"SUM($CK$38:$CV$38)","v":0},null,null,null,null,null,null,null,null,null,null,null,null,null,{"$f":"SUM($CY$38:$DJ$38)","v":0},null,null,null,null,null,null,null,null,null,null,null,null,null,{"$f":"SUM($DM$38:$DX$38)","v":0},null,null,null,null,null,null,null,null,null,null,null,null,null,{"$f":"SUM($EA$38:$EL$38)","v":0},null,null,null,null,null,null,null,null,null,null,null,null,null,{"$f":"SUM($EO$38:$EZ$38)","v":0},null,null,null,null,null,null,null,null,null,null,null,null,null,{"$f":"SUM($FC$38:$FN$38)","v":0}]
["RP",null,"R","P",0,0,0,0,0,0,0,0,0,0,0,0,{"$f":"SUM($E$39:$P$39)","v":0},null,0,0,0,0,0,0,0,0,0,0,0,0,{"$f":"SUM($S$39:$AD$39)","v":0},null,0,0,0,0,0,0,0,0,0,0,0,0,{"$f":"SUM($AG$39:$AR$39)","v":0},null,0,0,0,0,0,0,0,0,0,0,0,0,{"$f":"SUM($AU$39:$BF$39)","v":0},null,0,0,0,0,0,0,0,0,0,0,0,0,{"$f":"SUM($BI$39:$BT$39)","v":0},null,0,0,0,0,0,0,0,0,0,0,0,0,{"$f":"SUM($BW$39:$CH$39)","v":0},null,0,0,0,0,0,0,0,0,0,0,0,0,{"$f":"SUM($CK$39:$CV$39)","v":0},null,0,0,0,0,0,0,0,0,0,0,0,0,{"$f":"SUM($CY$39:$DJ$39)","v":0},null,0,0,0,0,0,0,0,0,0,0,0,0,{"$f":"SUM($DM$39:$DX$39)","v":0},null,0,0,0,0,0,0,0,0,0,0,0,0,{"$f":"SUM($EA$39:$EL$39)","v":0},null,0,0,0,0,0,0,0,0,0,0,0,0,{"$f":"SUM($EO$39:$EZ$39)","v":0},null,0,0,0,0,0,0,0,0,0,0,0,0,{"$f":"SUM($FC$39:$FN$39)","v":0}]
["RR",null,null,"R",null,null,null,null,null,null,null,null,null,null,null,null,{"$f":"SUM($E$40:$P$40)","v":0},null,null,null,null,null,null,null,null,null,null,null,null,null,{"$f":"SUM($S$40:$AD$40)","v":0},null,null,null,null,null,null,null,null,null,null,null,null,null,{"$f":"SUM($AG$40:$AR$40)","v":0},null,null,null,null,null,null,null,null,null,null,null,null,null,{"$f":"SUM($AU$40:$BF$40)","v":0},null,null,null,null,null,null,null,null,null,null,null,null,null,{"$f":"SUM($BI$40:$BT$40)","v":0},null,null,null,null,null,null,null,null,null,null,null,null,null,{"$f":"SUM($BW$40:$CH$40)","v":0},null,null,null,null,null,null,null,null,null,null,null,null,null,{"$f":"SUM($CK$40:$CV$40)","v":0},null,null,null,null,null,null,null,null,null,null,null,null,null,{"$f":"SUM($CY$40:$DJ$40)","v":0},null,null,null,null,null,null,null,null,null,null,null,null,null,{"$f":"SUM($DM$40:$DX$40)","v":0},null,null,null,null,null,null,null,null,null,null,null,null,null,{"$f":"SUM($EA$40:$EL$40)","v":0},null,null,null,null,null,null,null,null,null,null,null,null,null,{"$f":"SUM($EO$40:$EZ$40)","v":0},null,null,null,null,null,null,null,null,null,null,null,null,null,{"$f":"SUM($FC$40:$FN$40)","v":0}]
["SP",null,"S","P",0,0,0,0,0,0,0,0,0,0,0,0,{"$f":"SUM($E$41:$P$41)","v":0},null,0,0,0,0,0,0,0,0,0,0,0,0,{"$f":"SUM($S$41:$AD$41)","v":0},null,0,0,0,0,0,0,0,0,0,0,0,0,{"$f":"SUM($AG$41:$AR$41)","v":0},null,0,0,0,0,0,0,0,0,0,0,0,0,{"$f":"SUM($AU$41:$BF$41)","v":0},null,0,0,0,0,0,0,0,0,0,0,0,0,{"$f":"SUM($BI$41:$BT$41)","v":0},null,0,0,0,0,0,0,0,0,0,0,0,0,{"$f":"SUM($BW$41:$CH$41)","v":0},null,0,0,0,0,0,0,0,0,0,0,0,0,{"$f":"SUM($CK$41:$CV$41)","v":0},null,0,0,0,0,0,0,0,0,0,0,0,0,{"$f":"SUM($CY$41:$DJ$41)","v":0},null,0,0,0,0,0,0,0,0,0,0,0,0,{"$f":"SUM($DM$41:$DX$41)","v":0},null,0,0,0,0,0,0,0,0,0,0,0,0,{"$f":"SUM($EA$41:$EL$41)","v":0},null,0,0,0,0,0,0,0,0,0,0,0,0,{"$f":"SUM($EO$41:$EZ$41)","v":0},null,0,0,0,0,0,0,0,0,0,0,0,0,{"$f":"SUM($FC$41:$FN$41)","v":0}]
["SR",null,null,"R",null,null,null,null,null,null,null,null,null,null,null,null,{"$f":"SUM($E$42:$P$42)","v":0},null,null,null,null,null,null,null,null,null,null,null,null,null,{"$f":"SUM($S$42:$AD$42)","v":0},null,null,null,null,null,null,null,null,null,null,null,null,null,{"$f":"SUM($AG$42:$AR$42)","v":0},null,null,null,null,null,null,null,null,null,null,null,null,null,{"$f":"SUM($AU$42:$BF$42)","v":0},null,null,null,null,null,null,null,null,null,null,null,null,null,{"$f":"SUM($BI$42:$BT$42)","v":0},null,null,null,null,null,null,null,null,null,null,null,null,null,{"$f":"SUM($BW$42:$CH$42)","v":0},null,null,null,null,null,null,null,null,null,null,null,null,null,{"$f":"SUM($CK$42:$CV$42)","v":0},null,null,null,null,null,null,null,null,null,null,null,null,null,{"$f":"SUM($CY$42:$DJ$42)","v":0},null,null,null,null,null,null,null,null,null,null,null,null,null,{"$f":"SUM($DM$42:$DX$42)","v":0},null,null,null,null,null,null,null,null,null,null,null,null,null,{"$f":"SUM($EA$42:$EL$42)","v":0},null,null,null,null,null,null,null,null,null,null,null,null,null,{"$f":"SUM($EO$42:$EZ$42)","v":0},null,null,null,null,null,null,null,null,null,null,null,null,null,{"$f":"SUM($FC$42:$FN$42)","v":0}]
[{"$f":"C43&D43","v":"Parcela Financiamento/ CusteioP"},null,"Parcela Financiamento/ Custeio","P",0,0,0,0,0,0,0,0,0,0,0,0,{"$f":"SUM($E$43:$P$43)","v":0},null,0,0,0,0,0,0,0,0,0,0,0,0,{"$f":"SUM($S$43:$AD$43)","v":0},null,0,0,0,0,0,0,0,0,0,0,0,0,{"$f":"SUM($AG$43:$AR$43)","v":0},null,0,0,0,0,0,0,0,0,0,0,0,0,{"$f":"SUM($AU$43:$BF$43)","v":0},null,0,0,0,0,0,0,0,0,0,0,0,0,{"$f":"SUM($BI$43:$BT$43)","v":0},null,0,0,0,0,0,0,0,0,0,0,0,0,{"$f":"SUM($BW$43:$CH$43)","v":0},null,0,0,0,0,0,0,0,0,0,0,0,0,{"$f":"SUM($CK$43:$CV$43)","v":0},null,0,0,0,0,0,0,0,0,0,0,0,0,{"$f":"SUM($CY$43:$DJ$43)","v":0},null,0,0,0,0,0,0,0,0,0,0,0,0,{"$f":"SUM($DM$43:$DX$43)","v":0},null,0,0,0,0,0,0,0,0,0,0,0,0,{"$f":"SUM($EA$43:$EL$43)","v":0},null,0,0,0,0,0,0,0,0,0,0,0,0,{"$f":"SUM($EO$43:$EZ$43)","v":0},null,0,0,0,0,0,0,0,0,0,0,0,0,{"$f":"SUM($FC$43:$FN$43)","v":0}]
[{"$f":"C43&D44","v":"Parcela Financiamento/ CusteioR"},null,null,"R",null,null,null,null,null,null,null,null,null,null,null,null,{"$f":"SUM($E$44:$P$44)","v":0},null,null,null,null,null,null,null,null,null,null,null,null,null,{"$f":"SUM($S$44:$AD$44)","v":0},null,null,null,null,null,null,null,null,null,null,null,null,null,{"$f":"SUM($AG$44:$AR$44)","v":0},null,null,null,null,null,null,null,null,null,null,null,null,null,{"$f":"SUM($AU$44:$BF$44)","v":0},null,null,null,null,null,null,null,null,null,null,null,null,null,{"$f":"SUM($BI$44:$BT$44)","v":0},null,null,null,null,null,null,null,null,null,null,null,null,null,{"$f":"SUM($BW$44:$CH$44)","v":0},null,null,null,null,null,null,null,null,null,null,null,null,null,{"$f":"SUM($CK$44:$CV$44)","v":0},null,null,null,null,null,null,null,null,null,null,null,null,null,{"$f":"SUM($CY$44:$DJ$44)","v":0},null,null,null,null,null,null,null,null,null,null,null,null,null,{"$f":"SUM($DM$44:$DX$44)","v":0},null,null,null,null,null,null,null,null,null,null,null,null,null,{"$f":"SUM($EA$44:$EL$44)","v":0},null,null,null,null,null,null,null,null,null,null,null,null,null,{"$f":"SUM($EO$44:$EZ$44)","v":0},null,null,null,null,null,null,null,null,null,null,null,null,null,{"$f":"SUM($FC$44:$FN$44)","v":0}]
[{"$f":"C45&D45","v":"Total SaídasP"},null,"Total Saídas","P",{"$f":"SUMIF($D$5:$D$44,$D45,E$5:E$44)","v":0},{"$f":"SUMIF($D$5:$D$44,$D45,F$5:F$44)","v":0},{"$f":"SUMIF($D$5:$D$44,$D45,G$5:G$44)","v":0},0,0,0,0,0,0,0,0,0,0,null,{"$f":"SUMIF($D$5:$D$44,$D45,S$5:S$44)","v":0},0,0,0,0,0,0,0,0,0,0,0,0,null,{"$f":"SUMIF($D$5:$D$44,$D45,AG$5:AG$44)","v":0},0,0,0,0,0,0,0,0,0,0,0,0,null,{"$f":"SUMIF($D$5:$D$44,$D45,AU$5:AU$44)","v":0},0,0,0,0,0,0,0,0,0,0,0,0,null,{"$f":"SUMIF($D$5:$D$44,$D45,BI$5:BI$44)","v":0},0,0,0,0,0,0,0,0,0,0,0,0,null,{"$f":"SUMIF($D$5:$D$44,$D45,BW$5:BW$44)","v":0},0,0,0,0,0,0,0,0,0,0,0,0,null,{"$f":"SUMIF($D$5:$D$44,$D45,CK$5:CK$44)","v":0},0,0,0,0,0,0,0,0,0,0,0,0,null,{"$f":"SUMIF($D$5:$D$44,$D45,CY$5:CY$44)","v":0},0,0,0,0,0,0,0,0,0,0,0,0,null,{"$f":"SUMIF($D$5:$D$44,$D45,DM$5:DM$44)","v":0},0,0,0,0,0,0,0,0,0,0,0,0,null,{"$f":"SUMIF($D$5:$D$44,$D45,EA$5:EA$44)","v":0},0,0,0,0,0,0,0,0,0,0,0,0,null,{"$f":"SUMIF($D$5:$D$44,$D45,EO$5:EO$44)","v":0},0,0,0,0,0,0,0,0,0,0,0,0,null,{"$f":"SUMIF($D$5:$D$44,$D45,FC$5:FC$44)","v":0},0,0,0,0,0,0,0,0,0,0,0,0]
[{"$f":"C45&D46","v":"Total SaídasR"},null,null,"R",{"$f":"SUMIF($D$5:$D$44,$D46,E$5:E$44)","v":0},0,0,0,0,0,0,0,0,0,0,0,0,null,0,0,0,0,0,0,0,0,0,0,0,0,0,null,0,0,0,0,0,0,0,0,0,0,0,0,0,null,0,0,0,0,0,0,0,0,0,0,0,0,0,null,0,0,0,0,0,0,0,0,0,0,0,0,0,null,0,0,0,0,0,0,0,0,0,0,0,0,0,null,0,0,0,0,0,0,0,0,0,0,0,0,0,null,0,0,0,0,0,0,0,0,0,0,0,0,0,null,0,0,0,0,0,0,0,0,0,0,0,0,0,null,0,0,0,0,0,0,0,0,0,0,0,0,0,null,0,0,0,0,0,0,0,0,0,0,0,0,0,null,0,0,0,0,0,0,0,0,0,0,0,0,0]
[{"$f":"C47&D47","v":""}]
[{"$f":"C47&D48","v":""}]
[{"$f":"C49&D49","v":"AP"},"Entrada de Caixa","A","P",0,0,0,0,0,0,0,0,0,0,0,0,{"$f":"SUM($E$49:$P$49)","v":0},null,0,0,0,0,0,0,0,0,0,0,0,0,{"$f":"SUM($S$49:$AD$49)","v":0},null,0,0,0,0,0,0,0,0,0,0,0,0,{"$f":"SUM($AG$49:$AR$49)","v":0},null,0,0,0,0,0,0,0,0,0,0,0,0,{"$f":"SUM($AU$49:$BF$49)","v":0},null,0,0,0,0,0,0,0,0,0,0,0,0,{"$f":"SUM($BI$49:$BT$49)","v":0},null,0,0,0,0,0,0,0,0,0,0,0,0,{"$f":"SUM($BW$49:$CH$49)","v":0},null,0,0,0,0,0,0,0,0,0,0,0,0,{"$f":"SUM($CK$49:$CV$49)","v":0},null,0,0,0,0,0,0,0,0,0,0,0,0,{"$f":"SUM($CY$49:$DJ$49)","v":0},null,0,0,0,0,0,0,0,0,0,0,0,0,{"$f":"SUM($DM$49:$DX$49)","v":0},null,0,0,0,0,0,0,0,0,0,0,0,0,{"$f":"SUM($EA$49:$EL$49)","v":0},null,0,0,0,0,0,0,0,0,0,0,0,0,{"$f":"SUM($EO$49:$EZ$49)","v":0},null,0,0,0,0,0,0,0,0,0,0,0,0,{"$f":"SUM($FC$49:$FN$49)","v":0}]
[{"$f":"C49&D50","v":"AR"},null,null,"R",null,null,null,null,null,null,null,null,null,null,null,null,{"$f":"SUM($E$50:$P$50)","v":0},null,null,null,null,null,null,null,null,null,null,null,null,null,{"$f":"SUM($S$50:$AD$50)","v":0},null,null,null,null,null,null,null,null,null,null,null,null,null,{"$f":"SUM($AG$50:$AR$50)","v":0},null,null,null,null,null,null,null,null,null,null,null,null,null,{"$f":"SUM($AU$50:$BF$50)","v":0},null,null,null,null,null,null,null,null,null,null,null,null,null,{"$f":"SUM($BI$50:$BT$50)","v":0},null,null,null,null,null,null,null,null,null,null,null,null,null,{"$f":"SUM($BW$50:$CH$50)","v":0},null,null,null,null,null,null,null,null,null,null,null,null,null,{"$f":"SUM($CK$50:$CV$50)","v":0},null,null,null,null,null,null,null,null,null,null,null,null,null,{"$f":"SUM($CY$50:$DJ$50)","v":0},null,null,null,null,null,null,null,null,null,null,null,null,null,{"$f":"SUM($DM$50:$DX$50)","v":0},null,null,null,null,null,null,null,null,null,null,null,null,null,{"$f":"SUM($EA$50:$EL$50)","v":0},null,null,null,null,null,null,null,null,null,null,null,null,null,{"$f":"SUM($EO$50:$EZ$50)","v":0},null,null,null,null,null,null,null,null,null,null,null,null,null,{"$f":"SUM($FC$50:$FN$50)","v":0}]
[{"$f":"C51&D51","v":"BP"},null,"B","P",0,0,0,0,0,0,0,0,0,0,0,0,{"$f":"SUM($E$51:$P$51)","v":0},null,0,0,0,0,0,0,0,0,0,0,0,0,{"$f":"SUM($S$51:$AD$51)","v":0},null,0,0,0,0,0,0,0,0,0,0,0,0,{"$f":"SUM($AG$51:$AR$51)","v":0},null,0,0,0,0,0,0,0,0,0,0,0,0,{"$f":"SUM($AU$51:$BF$51)","v":0},null,0,0,0,0,0,0,0,0,0,0,0,0,{"$f":"SUM($BI$51:$BT$51)","v":0},null,0,0,0,0,0,0,0,0,0,0,0,0,{"$f":"SUM($BW$51:$CH$51)","v":0},null,0,0,0,0,0,0,0,0,0,0,0,0,{"$f":"SUM($CK$51:$CV$51)","v":0},null,0,0,0,0,0,0,0,0,0,0,0,0,{"$f":"SUM($CY$51:$DJ$51)","v":0},null,0,0,0,0,0,0,0,0,0,0,0,0,{"$f":"SUM($DM$51:$DX$51)","v":0},null,0,0,0,0,0,0,0,0,0,0,0,0,{"$f":"SUM($EA$51:$EL$51)","v":0},null,0,0,0,0,0,0,0,0,0,0,0,0,{"$f":"SUM($EO$51:$EZ$51)","v":0},null,0,0,0,0,0,0,0,0,0,0,0,0,{"$f":"SUM($FC$51:$FN$51)","v":0}]
[{"$f":"C51&D52","v":"BR"},null,null,"R",null,null,null,null,null,null,null,null,null,null,null,null,{"$f":"SUM($E$52:$P$52)","v":0},null,null,null,null,null,null,null,null,null,null,null,null,null,{"$f":"SUM($S$52:$AD$52)","v":0},null,null,null,null,null,null,null,null,null,null,null,null,null,{"$f":"SUM($AG$52:$AR$52)","v":0},null,null,null,null,null,null,null,null,null,null,null,null,null,{"$f":"SUM($AU$52:$BF$52)","v":0},null,null,null,null,null,null,null,null,null,null,null,null,null,{"$f":"SUM($BI$52:$BT$52)","v":0},null,null,null,null,null,null,null,null,null,null,null,null,null,{"$f":"SUM($BW$52:$CH$52)","v":0},null,null,null,null,null,null,null,null,null,null,null,null,null,{"$f":"SUM($CK$52:$CV$52)","v":0},null,null,null,null,null,null,null,null,null,null,null,null,null,{"$f":"SUM($CY$52:$DJ$52)","v":0},null,null,null,null,null,null,null,null,null,null,null,null,null,{"$f":"SUM($DM$52:$DX$52)","v":0},null,null,null,null,null,null,null,null,null,null,null,null,null,{"$f":"SUM($EA$52:$EL$52)","v":0},null,null,null,null,null,null,null,null,null,null,null,null,null,{"$f":"SUM($EO$52:$EZ$52)","v":0},null,null,null,null,null,null,null,null,null,null,null,null,null,{"$f":"SUM($FC$52:$FN$52)","v":0}]
[{"$f":"C53&D53","v":"CP"},null,"C","P",0,0,0,0,0,0,0,0,0,0,0,0,{"$f":"SUM($E$53:$P$53)","v":0},null,0,0,0,0,0,0,0,0,0,0,0,0,{"$f":"SUM($S$53:$AD$53)","v":0},null,0,0,0,0,0,0,0,0,0,0,0,0,{"$f":"SUM($AG$53:$AR$53)","v":0},null,0,0,0,0,0,0,0,0,0,0,0,0,{"$f":"SUM($AU$53:$BF$53)","v":0},null,0,0,0,0,0,0,0,0,0,0,0,0,{"$f":"SUM($BI$53:$BT$53)","v":0},null,0,0,0,0,0,0,0,0,0,0,0,0,{"$f":"SUM($BW$53:$CH$53)","v":0},null,0,0,0,0,0,0,0,0,0,0,0,0,{"$f":"SUM($CK$53:$CV$53)","v":0},null,0,0,0,0,0,0,0,0,0,0,0,0,{"$f":"SUM($CY$53:$DJ$53)","v":0},null,0,0,0,0,0,0,0,0,0,0,0,0,{"$f":"SUM($DM$53:$DX$53)","v":0},null,0,0,0,0,0,0,0,0,0,0,0,0,{"$f":"SUM($EA$53:$EL$53)","v":0},null,0,0,0,0,0,0,0,0,0,0,0,0,{"$f":"SUM($EO$53:$EZ$53)","v":0},null,0,0,0,0,0,0,0,0,0,0,0,0,{"$f":"SUM($FC$53:$FN$53)","v":0}]
[{"$f":"C53&D54","v":"CR"},null,null,"R",null,null,null,null,null,null,null,null,null,null,null,null,{"$f":"SUM($E$54:$P$54)","v":0},null,null,null,null,null,null,null,null,null,null,null,null,null,{"$f":"SUM($S$54:$AD$54)","v":0},null,null,null,null,null,null,null,null,null,null,null,null,null,{"$f":"SUM($AG$54:$AR$54)","v":0},null,null,null,null,null,null,null,null,null,null,null,null,null,{"$f":"SUM($AU$54:$BF$54)","v":0},null,null,null,null,null,null,null,null,null,null,null,null,null,{"$f":"SUM($BI$54:$BT$54)","v":0},null,null,null,null,null,null,null,null,null,null,null,null,null,{"$f":"SUM($BW$54:$CH$54)","v":0},null,null,null,null,null,null,null,null,null,null,null,null,null,{"$f":"SUM($CK$54:$CV$54)","v":0},null,null,null,null,null,null,null,null,null,null,null,null,null,{"$f":"SUM($CY$54:$DJ$54)","v":0},null,null,null,null,null,null,null,null,null,null,null,null,null,{"$f":"SUM($DM$54:$DX$54)","v":0},null,null,null,null,null,null,null,null,null,null,null,null,null,{"$f":"SUM($EA$54:$EL$54)","v":0},null,null,null,null,null,null,null,null,null,null,null,null,null,{"$f":"SUM($EO$54:$EZ$54)","v":0},null,null,null,null,null,null,null,null,null,null,null,null,null,{"$f":"SUM($FC$54:$FN$54)","v":0}]
[{"$f":"C55&D55","v":"Entrada de Financiamento / CusteioP"},null,"Entrada de Financiamento / Custeio","P",0,0,0,0,0,0,0,0,0,0,0,0,{"$f":"SUM($E$55:$P$55)","v":0},null,0,0,0,0,0,0,0,0,0,0,0,0,{"$f":"SUM($S$55:$AD$55)","v":0},null,0,0,0,0,0,0,0,0,0,0,0,0,{"$f":"SUM($AG$55:$AR$55)","v":0},null,0,0,0,0,0,0,0,0,0,0,0,0,{"$f":"SUM($AU$55:$BF$55)","v":0},null,0,0,0,0,0,0,0,0,0,0,0,0,{"$f":"SUM($BI$55:$BT$55)","v":0},null,0,0,0,0,0,0,0,0,0,0,0,0,{"$f":"SUM($BW$55:$CH$55)","v":0},null,0,0,0,0,0,0,0,0,0,0,0,0,{"$f":"SUM($CK$55:$CV$55)","v":0},null,0,0,0,0,0,0,0,0,0,0,0,0,{"$f":"SUM($CY$55:$DJ$55)","v":0},null,0,0,0,0,0,0,0,0,0,0,0,0,{"$f":"SUM($DM$55:$DX$55)","v":0},null,0,0,0,0,0,0,0,0,0,0,0,0,{"$f":"SUM($EA$55:$EL$55)","v":0},null,0,0,0,0,0,0,0,0,0,0,0,0,{"$f":"SUM($EO$55:$EZ$55)","v":0},null,0,0,0,0,0,0,0,0,0,0,0,0,{"$f":"SUM($FC$55:$FN$55)","v":0}]
[{"$f":"C55&D56","v":"Entrada de Financiamento / CusteioR"},null,null,"R",null,null,null,null,null,null,null,null,null,null,null,null,{"$f":"SUM($E$56:$P$56)","v":0},null,null,null,null,null,null,null,null,null,null,null,null,null,{"$f":"SUM($S$56:$AD$56)","v":0},null,null,null,null,null,null,null,null,null,null,null,null,null,{"$f":"SUM($AG$56:$AR$56)","v":0},null,null,null,null,null,null,null,null,null,null,null,null,null,{"$f":"SUM($AU$56:$BF$56)","v":0},null,null,null,null,null,null,null,null,null,null,null,null,null,{"$f":"SUM($BI$56:$BT$56)","v":0},null,null,null,null,null,null,null,null,null,null,null,null,null,{"$f":"SUM($BW$56:$CH$56)","v":0},null,null,null,null,null,null,null,null,null,null,null,null,null,{"$f":"SUM($CK$56:$CV$56)","v":0},null,null,null,null,null,null,null,null,null,null,null,null,null,{"$f":"SUM($CY$56:$DJ$56)","v":0},null,null,null,null,null,null,null,null,null,null,null,null,null,{"$f":"SUM($DM$56:$DX$56)","v":0},null,null,null,null,null,null,null,null,null,null,null,null,null,{"$f":"SUM($EA$56:$EL$56)","v":0},null,null,null,null,null,null,null,null,null,null,null,null,null,{"$f":"SUM($EO$56:$EZ$56)","v":0},null,null,null,null,null,null,null,null,null,null,null,null,null,{"$f":"SUM($FC$56:$FN$56)","v":0}]
[{"$f":"C57&D57","v":"Total EntradasP"},null,"Total Entradas","P",{"$f":"SUMIF($D$49:$D$56,$D57,E49:E56)","v":0},{"$f":"SUMIF($D$49:$D$56,$D57,F49:F56)","v":0},{"$f":"SUMIF($D$49:$D$56,$D57,G49:G56)","v":0},0,0,0,0,0,0,0,0,0,0,null,{"$f":"SUMIF($D$49:$D$56,$D57,S49:S56)","v":0},{"$f":"SUMIF($D$49:$D$56,$D57,T49:T56)","v":0},{"$f":"SUMIF($D$49:$D$56,$D57,U49:U56)","v":0},0,0,0,0,0,0,0,0,0,0,null,{"$f":"SUMIF($D$49:$D$56,$D57,AG49:AG56)","v":0},{"$f":"SUMIF($D$49:$D$56,$D57,AH49:AH56)","v":0},{"$f":"SUMIF($D$49:$D$56,$D57,AI49:AI56)","v":0},0,0,0,0,0,0,0,0,0,0,null,{"$f":"SUMIF($D$49:$D$56,$D57,AU49:AU56)","v":0},{"$f":"SUMIF($D$49:$D$56,$D57,AV49:AV56)","v":0},{"$f":"SUMIF($D$49:$D$56,$D57,AW49:AW56)","v":0},0,0,0,0,0,0,0,0,0,0,null,{"$f":"SUMIF($D$49:$D$56,$D57,BI49:BI56)","v":0},{"$f":"SUMIF($D$49:$D$56,$D57,BJ49:BJ56)","v":0},{"$f":"SUMIF($D$49:$D$56,$D57,BK49:BK56)","v":0},0,0,0,0,0,0,0,0,0,0,null,{"$f":"SUMIF($D$49:$D$56,$D57,BW49:BW56)","v":0},{"$f":"SUMIF($D$49:$D$56,$D57,BX49:BX56)","v":0},{"$f":"SUMIF($D$49:$D$56,$D57,BY49:BY56)","v":0},0,0,0,0,0,0,0,0,0,0,null,{"$f":"SUMIF($D$49:$D$56,$D57,CK49:CK56)","v":0},{"$f":"SUMIF($D$49:$D$56,$D57,CL49:CL56)","v":0},{"$f":"SUMIF($D$49:$D$56,$D57,CM49:CM56)","v":0},0,0,0,0,0,0,0,0,0,0,null,{"$f":"SUMIF($D$49:$D$56,$D57,CY49:CY56)","v":0},{"$f":"SUMIF($D$49:$D$56,$D57,CZ49:CZ56)","v":0},{"$f":"SUMIF($D$49:$D$56,$D57,DA49:DA56)","v":0},0,0,0,0,0,0,0,0,0,0,null,{"$f":"SUMIF($D$49:$D$56,$D57,DM49:DM56)","v":0},{"$f":"SUMIF($D$49:$D$56,$D57,DN49:DN56)","v":0},{"$f":"SUMIF($D$49:$D$56,$D57,DO49:DO56)","v":0},0,0,0,0,0,0,0,0,0,0,null,{"$f":"SUMIF($D$49:$D$56,$D57,EA49:EA56)","v":0},{"$f":"SUMIF($D$49:$D$56,$D57,EB49:EB56)","v":0},{"$f":"SUMIF($D$49:$D$56,$D57,EC49:EC56)","v":0},0,0,0,0,0,0,0,0,0,0,null,{"$f":"SUMIF($D$49:$D$56,$D57,EO49:EO56)","v":0},{"$f":"SUMIF($D$49:$D$56,$D57,EP49:EP56)","v":0},{"$f":"SUMIF($D$49:$D$56,$D57,EQ49:EQ56)","v":0},0,0,0,0,0,0,0,0,0,0,null,{"$f":"SUMIF($D$49:$D$56,$D57,FC49:FC56)","v":0},{"$f":"SUMIF($D$49:$D$56,$D57,FD49:FD56)","v":0},{"$f":"SUMIF($D$49:$D$56,$D57,FE49:FE56)","v":0},0,0,0,0,0,0,0,0,0,0]
[{"$f":"C57&D58","v":"Total EntradasR"},null,null,"R",{"$f":"SUMIF($D$49:$D$56,$D58,E$49:E$56)","v":0},{"$f":"SUMIF($D$49:$D$56,$D58,F$49:F$56)","v":0},0,0,0,0,0,0,0,0,0,0,0,null,{"$f":"SUMIF($D$49:$D$56,$D58,S$49:S$56)","v":0},{"$f":"SUMIF($D$49:$D$56,$D58,T$49:T$56)","v":0},0,0,0,0,0,0,0,0,0,0,0,null,{"$f":"SUMIF($D$49:$D$56,$D58,AG$49:AG$56)","v":0},{"$f":"SUMIF($D$49:$D$56,$D58,AH$49:AH$56)","v":0},0,0,0,0,0,0,0,0,0,0,0,null,{"$f":"SUMIF($D$49:$D$56,$D58,AU$49:AU$56)","v":0},{"$f":"SUMIF($D$49:$D$56,$D58,AV$49:AV$56)","v":0},0,0,0,0,0,0,0,0,0,0,0,null,{"$f":"SUMIF($D$49:$D$56,$D58,BI$49:BI$56)","v":0},{"$f":"SUMIF($D$49:$D$56,$D58,BJ$49:BJ$56)","v":0},0,0,0,0,0,0,0,0,0,0,0,null,{"$f":"SUMIF($D$49:$D$56,$D58,BW$49:BW$56)","v":0},{"$f":"SUMIF($D$49:$D$56,$D58,BX$49:BX$56)","v":0},0,0,0,0,0,0,0,0,0,0,0,null,{"$f":"SUMIF($D$49:$D$56,$D58,CK$49:CK$56)","v":0},{"$f":"SUMIF($D$49:$D$56,$D58,CL$49:CL$56)","v":0},0,0,0,0,0,0,0,0,0,0,0,null,{"$f":"SUMIF($D$49:$D$56,$D58,CY$49:CY$56)","v":0},{"$f":"SUMIF($D$49:$D$56,$D58,CZ$49:CZ$56)","v":0},0,0,0,0,0,0,0,0,0,0,0,null,{"$f":"SUMIF($D$49:$D$56,$D58,DM$49:DM$56)","v":0},{"$f":"SUMIF($D$49:$D$56,$D58,DN$49:DN$56)","v":0},0,0,0,0,0,0,0,0,0,0,0,null,{"$f":"SUMIF($D$49:$D$56,$D58,EA$49:EA$56)","v":0},{"$f":"SUMIF($D$49:$D$56,$D58,EB$49:EB$56)","v":0},0,0,0,0,0,0,0,0,0,0,0,null,{"$f":"SUMIF($D$49:$D$56,$D58,EO$49:EO$56)","v":0},{"$f":"SUMIF($D$49:$D$56,$D58,EP$49:EP$56)","v":0},0,0,0,0,0,0,0,0,0,0,0,null,{"$f":"SUMIF($D$49:$D$56,$D58,FC$49:FC$56)","v":0},{"$f":"SUMIF($D$49:$D$56,$D58,FD$49:FD$56)","v":0},0,0,0,0,0,0,0,0,0,0,0]
[{"$f":"C59&D59","v":""}]
[{"$f":"C59&D60","v":""},"Saldo de Exercícios Anteriores"]
[{"$f":"B61&D61","v":"Saldo de Caixa MensalP"},"Saldo de Caixa Mensal",null,"P",{"$f":"E57-E45","v":0},0,0,0,0,0,0,0,0,0,0,0,0,null,{"$f":"S57-S45","v":0},0,0,0,0,0,0,0,0,0,0,0,0,null,{"$f":"AG57-AG45","v":0},0,0,0,0,0,0,0,0,0,0,0,0,null,{"$f":"AU57-AU45","v":0},0,0,0,0,0,0,0,0,0,0,0,0,null,{"$f":"BI57-BI45","v":0},0,0,0,0,0,0,0,0,0,0,0,0,null,{"$f":"BW57-BW45","v":0},0,0,0,0,0,0,0,0,0,0,0,0,null,{"$f":"CK57-CK45","v":0},0,0,0,0,0,0,0,0,0,0,0,0,null,{"$f":"CY57-CY45","v":0},0,0,0,0,0,0,0,0,0,0,0,0,null,{"$f":"DM57-DM45","v":0},0,0,0,0,0,0,0,0,0,0,0,0,null,{"$f":"EA57-EA45","v":0},0,0,0,0,0,0,0,0,0,0,0,0,null,{"$f":"EO57-EO45","v":0},0,0,0,0,0,0,0,0,0,0,0,0,null,{"$f":"FC57-FC45","v":0},0,0,0,0,0,0,0,0,0,0,0,0]
[{"$f":"B61&D62","v":"Saldo de Caixa MensalR"},null,null,"R",{"$f":"E58-E46","v":0},0,0,0,0,0,0,0,0,0,0,0,0,null,{"$f":"S58-S46","v":0},0,0,0,0,0,0,0,0,0,0,0,0,null,{"$f":"AG58-AG46","v":0},0,0,0,0,0,0,0,0,0,0,0,0,null,{"$f":"AU58-AU46","v":0},0,0,0,0,0,0,0,0,0,0,0,0,null,{"$f":"BI58-BI46","v":0},0,0,0,0,0,0,0,0,0,0,0,0,null,{"$f":"BW58-BW46","v":0},0,0,0,0,0,0,0,0,0,0,0,0,null,{"$f":"CK58-CK46","v":0},0,0,0,0,0,0,0,0,0,0,0,0,null,{"$f":"CY58-CY46","v":0},0,0,0,0,0,0,0,0,0,0,0,0,null,{"$f":"DM58-DM46","v":0},0,0,0,0,0,0,0,0,0,0,0,0,null,{"$f":"EA58-EA46","v":0},0,0,0,0,0,0,0,0,0,0,0,0,null,{"$f":"EO58-EO46","v":0},0,0,0,0,0,0,0,0,0,0,0,0,null,{"$f":"FC58-FC46","v":0},0,0,0,0,0,0,0,0,0,0,0,0]
[{"$f":"B63&D63","v":"Caixa AcumuladoP"},"Caixa Acumulado",null,"P",{"$f":"E61","v":0},{"$f":"F61+E63","v":0},{"$f":"G61+F63","v":0},0,0,0,{"$f":"K61+J63","v":0},0,0,0,0,0,null,null,{"$f":"S61+P63","v":0},{"$f":"T61+S63","v":0},{"$f":"U61+T63","v":0},0,0,0,0,0,0,0,0,{"$f":"AD61+AC63","v":0},null,null,{"$f":"AG61+AD63","v":0},{"$f":"AH61+AG63","v":0},{"$f":"AI61+AH63","v":0},0,0,0,0,0,0,0,0,{"$f":"AR61+AQ63","v":0},null,null,{"$f":"AU61+AR63","v":0},{"$f":"AV61+AU63","v":0},{"$f":"AW61+AV63","v":0},0,0,0,0,0,0,0,0,{"$f":"BF61+BE63","v":0},null,null,{"$f":"BI61+BF63","v":0},{"$f":"BJ61+BI63","v":0},{"$f":"BK61+BJ63","v":0},0,0,0,0,0,0,0,0,{"$f":"BT61+BS63","v":0},null,null,{"$f":"BW61+BT63","v":0},{"$f":"BX61+BW63","v":0},{"$f":"BY61+BX63","v":0},0,0,0,0,0,0,0,0,{"$f":"CH61+CG63","v":0},null,null,{"$f":"CK61+CH63","v":0},{"$f":"CL61+CK63","v":0},{"$f":"CM61+CL63","v":0},0,0,0,0,0,0,0,0,{"$f":"CV61+CU63","v":0},null,null,{"$f":"CY61+CV63","v":0},{"$f":"CZ61+CY63","v":0},{"$f":"DA61+CZ63","v":0},0,0,0,0,0,0,0,0,{"$f":"DJ61+DI63","v":0},null,null,{"$f":"DM61+DJ63","v":0},{"$f":"DN61+DM63","v":0},{"$f":"DO61+DN63","v":0},0,0,0,0,0,0,0,0,{"$f":"DX61+DW63","v":0},null,null,{"$f":"EA61+DX63","v":0},{"$f":"EB61+EA63","v":0},{"$f":"EC61+EB63","v":0},0,0,0,0,0,0,0,0,{"$f":"EL61+EK63","v":0},null,null,{"$f":"EO61+EL63","v":0},{"$f":"EP61+EO63","v":0},{"$f":"EQ61+EP63","v":0},0,0,0,0,0,0,0,0,{"$f":"EZ61+EY63","v":0},null,null,{"$f":"FC61+EZ63","v":0},{"$f":"FD61+FC63","v":0},{"$f":"FE61+FD63","v":0},0,0,0,0,0,0,0,0,{"$f":"FN61+FM63","v":0}]
[{"$f":"B63&D64","v":"Caixa AcumuladoR"},null,null,"R",{"$f":"E60+E62","v":0},{"$f":"E64+F62","v":0},{"$f":"F64+G62","v":0},0,0,0,0,0,0,0,0,0,null,null,{"$f":"S62+P64","v":0},{"$f":"T62+S64","v":0},0,0,0,0,0,0,0,0,0,0,null,null,{"$f":"AG62+AD64","v":0},{"$f":"AH62+AG64","v":0},0,0,0,0,0,0,0,0,0,0,null,null,{"$f":"AU62+AR64","v":0},{"$f":"AV62+AU64","v":0},0,0,0,0,0,0,0,0,0,0,null,null,{"$f":"BI62+BF64","v":0},{"$f":"BJ62+BI64","v":0},0,0,0,0,0,0,0,0,0,0,null,null,{"$f":"BW62+BT64","v":0},{"$f":"BX62+BW64","v":0},0,0,0,0,0,0,0,0,0,0,null,null,{"$f":"CK62+CH64","v":0},{"$f":"CL62+CK64","v":0},0,0,0,0,0,0,0,0,0,0,null,null,{"$f":"CY62+CV64","v":0},{"$f":"CZ62+CY64","v":0},0,0,0,0,0,0,0,0,0,0,null,null,{"$f":"DM62+DJ64","v":0},{"$f":"DN62+DM64","v":0},0,0,0,0,0,0,0,0,0,0,null,null,{"$f":"EA62+DX64","v":0},{"$f":"EB62+EA64","v":0},0,0,0,0,0,0,0,0,0,0,null,null,{"$f":"EO62+EL64","v":0},{"$f":"EP62+EO64","v":0},0,0,0,0,0,0,0,0,0,0,null,null,{"$f":"FC62+EZ64","v":0},{"$f":"FD62+FC64","v":0},0,0,0,0,0,0,0,0,0,0]

{"sheet":"Atividade 9","index":9,"n_rows":64,"n_cols":183,"rows_kept":64,"cut":false,"hidden":false,"merged":[[0,158,1,170],[2,130,2,142],[2,144,2,156],[2,158,2,170],[2,116,2,128],[0,116,1,128],[0,130,1,142],[0,144,1,156],[0,60,1,72],[0,74,1,86],[0,88,1,100],[0,102,1,114],[28,2,29,2],[2,60,2,72],[2,74,2,86],[2,88,2,100],[2,102,2,114],[2,4,2,16],[2,18,2,30],[2,32,2,44],[2,46,2,58],[0,4,1,16],[0,18,1,30],[0,32,1,44],[0,46,1,58],[4,1,45,1],[4,2,5,2],[6,2,7,2],[8,2,9,2],[10,2,11,2],[12,2,13,2],[14,2,15,2],[16,2,17,2],[18,2,19,2],[20,2,21,2],[22,2,23,2],[24,2,25,2],[26,2,27,2],[30,2,31,2],[42,2,43,2],[60,1,61,2],[62,1,63,2],[59,1,59,2],[44,2,45,2],[48,1,57,1],[48,2,49,2],[50,2,51,2],[54,2,55,2],[56,2,57,2],[52,2,53,2],[32,2,33,2],[34,2,35,2],[36,2,37,2],[38,2,39,2],[40,2,41,2]]}
[null,null,null,null,{"$f":"MENU!$C$33","v":"Atividade"},null,null,null,null,null,null,null,null,null,null,null,null,null,{"$f":"MENU!$C$33","v":"Atividade"},null,null,null,null,null,null,null,null,null,null,null,null,null,{"$f":"MENU!$C$33","v":"Atividade"},null,null,null,null,null,null,null,null,null,null,null,null,null,{"$f":"MENU!$C$33","v":"Atividade"},null,null,null,null,null,null,null,null,null,null,null,null,null,{"$f":"MENU!$C$33","v":"Atividade"},null,null,null,null,null,null,null,null,null,null,null,null,null,{"$f":"MENU!$C$33","v":"Atividade"},null,null,null,null,null,null,null,null,null,null,null,null,null,{"$f":"MENU!$C$33","v":"Atividade"},null,null,null,null,null,null,null,null,null,null,null,null,null,{"$f":"MENU!$C$33","v":"Atividade"},null,null,null,null,null,null,null,null,null,null,null,null,null,{"$f":"MENU!$C$33","v":"Atividade"},null,null,null,null,null,null,null,null,null,null,null,null,null,{"$f":"MENU!$C$33","v":"Atividade"},null,null,null,null,null,null,null,null,null,null,null,null,null,{"$f":"MENU!$C$33","v":"Atividade"},null,null,null,null,null,null,null,null,null,null,null,null,null,{"$f":"MENU!$C$33","v":"Atividade"}]
[null,null,null,null,null,null,null,null,null,null,null,null,null,null,null,null,null,null,null,null,null,null,null,null,null,null,null,null,null,null,null,null,null,null,null,null,null,null,null,null,null,null,null,null,null,null,null,null,null,null,null,null,null,null,null,null,null,null,null,null,null,null,null,null,null,null,null,null,null,null,null,null,null,null,null,null,null,null,null,null,null,null,null,null,null,null,null,null,null,null,null,null,null,null,null,null,null,null,null,null,null,null,null,null,null,null,null,null,null,null,null,null,null,null,null,null,null,null,null,null,null,null,null,null,null,null,null,null,null,null,null,null,null,null,null,null,null,null,null,null,null,null,null,null,null,null,null,null,null,null,null,null,null,null,null,null,null,null,null,null,null,null,null,null,null,null,null,null,null,null,null,null,null,null,null,null,null,null,6,1,{"$f":"VLOOKUP(FX2,FX3:FY14,2,0)","v":2017},{"$f":"VLOOKUP(FY2,$FY$3:$FZ$14,2,0)","v":"R3C5"},6]
[null,null,null,null,{"$f":"MENU!F6","v":0},null,null,null,null,null,null,null,null,null,null,null,null,null,{"$f":"E3+1","v":1},null,null,null,null,null,null,null,null,null,null,null,null,null,{"$f":"S3+1","v":2},null,null,null,null,null,null,null,null,null,null,null,null,null,{"$f":"AG3+1","v":3},null,null,null,null,null,null,null,null,null,null,null,null,null,{"$f":"AU3+1","v":4},null,null,null,null,null,null,null,null,null,null,null,null,null,{"$f":"BI3+1","v":5},null,null,null,null,null,null,null,null,null,null,null,null,null,{"$f":"BW3+1","v":6},null,null,null,null,null,null,null,null,null,null,null,null,null,{"$f":"CK3+1","v":7},null,null,null,null,null,null,null,null,null,null,null,null,null,{"$f":"CY3+1","v":8},null,null,null,null,null,null,null,null,null,null,null,null,null,{"$f":"DM3+1","v":9},null,null,null,null,null,null,null,null,null,null,null,null,null,{"$f":"EA3+1","v":10},null,null,null,null,null,null,null,null,null,null,null,null,null,{"$f":"EO3+1","v":11},null,null,null,null,null,null,null,null,null,null,null,null,null,null,null,null,null,null,null,null,1,2017,"R3C5"]
[null,null,"Descrição de Despesa",null,"Jan","Fev","Mar","Abr","Mai","Jun","Jul","Ago","Set","Out","Nov","Dez","Total",null,"Jan","Fev","Mar","Abr","Mai","Jun","Jul","Ago","Set","Out","Nov","Dez","Total",null,"Jan","Fev","Mar","Abr","Mai","Jun","Jul","Ago","Set","Out","Nov","Dez","Total",null,"Jan","Fev","Mar","Abr","Mai","Jun","Jul","Ago","Set","Out","Nov","Dez","Total",null,"Jan","Fev","Mar","Abr","Mai","Jun","Jul","Ago","Set","Out","Nov","Dez","Total",null,"Jan","Fev","Mar","Abr","Mai","Jun","Jul","Ago","Set","Out","Nov","Dez","Total",null,"Jan","Fev","Mar","Abr","Mai","Jun","Jul","Ago","Set","Out","Nov","Dez","Total",null,"Jan","Fev","Mar","Abr","Mai","Jun","Jul","Ago","Set","Out","Nov","Dez","Total",null,"Jan","Fev","Mar","Abr","Mai","Jun","Jul","Ago","Set","Out","Nov","Dez","Total",null,"Jan","Fev","Mar","Abr","Mai","Jun","Jul","Ago","Set","Out","Nov","Dez","Total",null,"Jan","Fev","Mar","Abr","Mai","Jun","Jul","Ago","Set","Out","Nov","Dez","Total",null,"Jan","Fev","Mar","Abr","Mai","Jun","Jul","Ago","Set","Out","Nov","Dez","Total",null,null,null,null,null,null,null,null,2,2018,"R3C19"]
[{"$f":"C5&D5","v":"AP"},"Saídas de Caixa","A","P",0,0,0,0,0,0,0,0,0,0,0,0,{"$f":"SUM($E$5:$P$5)","v":0},null,0,0,0,0,0,0,0,0,0,0,0,0,{"$f":"SUM($S$5:$AD$5)","v":0},null,0,0,0,0,0,0,0,0,0,0,0,0,{"$f":"SUM($AG$5:$AR$5)","v":0},null,0,0,0,0,0,0,0,0,0,0,0,0,{"$f":"SUM($AU$5:$BF$5)","v":0},null,0,0,0,0,0,0,0,0,0,0,0,0,{"$f":"SUM($BI$5:$BT$5)","v":0},null,0,0,0,0,0,0,0,0,0,0,0,0,{"$f":"SUM($BW$5:$CH$5)","v":0},null,0,0,0,0,0,0,0,0,0,0,0,0,{"$f":"SUM($CK$5:$CV$5)","v":0},null,0,0,0,0,0,0,0,0,0,0,0,0,{"$f":"SUM($CY$5:$DJ$5)","v":0},null,0,0,0,0,0,0,0,0,0,0,0,0,{"$f":"SUM($DM$5:$DX$5)","v":0},null,0,0,0,0,0,0,0,0,0,0,0,0,{"$f":"SUM($EA$5:$EL$5)","v":0},null,0,0,0,0,0,0,0,0,0,0,0,0,{"$f":"SUM($EO$5:$EZ$5)","v":0},null,0,0,0,0,0,0,0,0,0,0,0,0,{"$f":"SUM($FC$5:$FN$5)","v":0},null,null,null,null,null,null,null,null,3,2019,"R3C33"]
[{"$f":"C5&D6","v":"AR"},null,null,"R",null,null,null,null,null,null,null,null,null,null,null,null,{"$f":"SUM($E$6:$P$6)","v":0},null,null,null,null,null,null,null,null,null,null,null,null,null,{"$f":"SUM($S$6:$AD$6)","v":0},null,null,null,null,null,null,null,null,null,null,null,null,null,{"$f":"SUM($AG$6:$AR$6)","v":0},null,null,null,null,null,null,null,null,null,null,null,null,null,{"$f":"SUM($AU$6:$BF$6)","v":0},null,null,null,null,null,null,null,null,null,null,null,null,null,{"$f":"SUM($BI$6:$BT$6)","v":0},null,null,null,null,null,null,null,null,null,null,null,null,null,{"$f":"SUM($BW$6:$CH$6)","v":0},null,null,null,null,null,null,null,null,null,null,null,null,null,{"$f":"SUM($CK$6:$CV$6)","v":0},null,null,null,null,null,null,null,null,null,null,null,null,null,{"$f":"SUM($CY$6:$DJ$6)","v":0},null,null,null,null,null,null,null,null,null,null,null,null,null,{"$f":"SUM($DM$6:$DX$6)","v":0},null,null,null,null,null,null,null,null,null,null,null,null,null,{"$f":"SUM($EA$6:$EL$6)","v":0},null,null,null,null,null,null,null,null,null,null,null,null,null,{"$f":"SUM($EO$6:$EZ$6)","v":0},null,null,null,null,null,null,null,null,null,null,null,null,null,{"$f":"SUM($FC$6:$FN$6)","v":0},null,null,null,null,null,null,null,null,4,2020,"R3C47"]
[{"$f":"C7&D7","v":"BP"},null,"B","P",0,0,0,0,0,0,0,0,0,0,0,0,{"$f":"SUM($E$7:$P$7)","v":0},null,0,0,0,0,0,0,0,0,0,0,0,0,{"$f":"SUM($S$7:$AD$7)","v":0},null,0,0,0,0,0,0,0,0,0,0,0,0,{"$f":"SUM($AG$7:$AR$7)","v":0},null,0,0,0,0,0,0,0,0,0,0,0,0,{"$f":"SUM($AU$7:$BF$7)","v":0},null,0,0,0,0,0,0,0,0,0,0,0,0,{"$f":"SUM($BI$7:$BT$7)","v":0},null,0,0,0,0,0,0,0,0,0,0,0,0,{"$f":"SUM($BW$7:$CH$7)","v":0},null,0,0,0,0,0,0,0,0,0,0,0,0,{"$f":"SUM($CK$7:$CV$7)","v":0},null,0,0,0,0,0,0,0,0,0,0,0,0,{"$f":"SUM($CY$7:$DJ$7)","v":0},null,0,0,0,0,0,0,0,0,0,0,0,0,{"$f":"SUM($DM$7:$DX$7)","v":0},null,0,0,0,0,0,0,0,0,0,0,0,0,{"$f":"SUM($EA$7:$EL$7)","v":0},null,0,0,0,0,0,0,0,0,0,0,0,0,{"$f":"SUM($EO$7:$EZ$7)","v":0},null,0,0,0,0,0,0,0,0,0,0,0,0,{"$f":"SUM($FC$7:$FN$7)","v":0},null,null,null,null,null,null,null,null,5,2021,"R3C61"]
[{"$f":"C7&D8","v":"BR"},null,null,"R",null,null,null,null,null,null,null,null,null,null,null,null,{"$f":"SUM($E$8:$P$8)","v":0},null,null,null,null,null,null,null,null,null,null,null,null,null,{"$f":"SUM($S$8:$AD$8)","v":0},null,null,null,null,null,null,null,null,null,null,null,null,null,{"$f":"SUM($AG$8:$AR$8)","v":0},null,null,null,null,null,null,null,null,null,null,null,null,null,{"$f":"SUM($AU$8:$BF$8)","v":0},null,null,null,null,null,null,null,null,null,null,null,null,null,{"$f":"SUM($BI$8:$BT$8)","v":0},null,null,null,null,null,null,null,null,null,null,null,null,null,{"$f":"SUM($BW$8:$CH$8)","v":0},null,null,null,null,null,null,null,null,null,null,null,null,null,{"$f":"SUM($CK$8:$CV$8)","v":0},null,null,null,null,null,null,null,null,null,null,null,null,null,{"$f":"SUM($CY$8:$DJ$8)","v":0},null,null,null,null,null,null,null,null,null,null,null,null,null,{"$f":"SUM($DM$8:$DX$8)","v":0},null,null,null,null,null,null,null,null,null,null,null,null,null,{"$f":"SUM($EA$8:$EL$8)","v":0},null,null,null,null,null,null,null,null,null,null,null,null,null,{"$f":"SUM($EO$8:$EZ$8)","v":0},null,null,null,null,null,null,null,null,null,null,null,null,null,{"$f":"SUM($FC$8:$FN$8)","v":0},null,null,null,null,null,null,null,null,6,2022,"R3C75"]
[{"$f":"C9&D9","v":"CP"},null,"C","P",0,0,0,0,0,0,0,0,0,0,0,0,{"$f":"SUM($E$9:$P$9)","v":0},null,0,0,0,0,0,0,0,0,0,0,0,0,{"$f":"SUM($S$9:$AD$9)","v":0},null,0,0,0,0,0,0,0,0,0,0,0,0,{"$f":"SUM($AG$9:$AR$9)","v":0},null,0,0,0,0,0,0,0,0,0,0,0,0,{"$f":"SUM($AU$9:$BF$9)","v":0},null,0,0,0,0,0,0,0,0,0,0,0,0,{"$f":"SUM($BI$9:$BT$9)","v":0},null,0,0,0,0,0,0,0,0,0,0,0,0,{"$f":"SUM($BW$9:$CH$9)","v":0},null,0,0,0,0,0,0,0,0,0,0,0,0,{"$f":"SUM($CK$9:$CV$9)","v":0},null,0,0,0,0,0,0,0,0,0,0,0,0,{"$f":"SUM($CY$9:$DJ$9)","v":0},null,0,0,0,0,0,0,0,0,0,0,0,0,{"$f":"SUM($DM$9:$DX$9)","v":0},null,0,0,0,0,0,0,0,0,0,0,0,0,{"$f":"SUM($EA$9:$EL$9)","v":0},null,0,0,0,0,0,0,0,0,0,0,0,0,{"$f":"SUM($EO$9:$EZ$9)","v":0},null,0,0,0,0,0,0,0,0,0,0,0,0,{"$f":"SUM($FC$9:$FN$9)","v":0},null,null,null,null,null,null,null,null,7,2023,"R3C89"]
[{"$f":"C9&D10","v":"CR"},null,null,"R",null,null,null,null,null,null,null,null,null,null,null,null,{"$f":"SUM($E$10:$P$10)","v":0},null,null,null,null,null,null,null,null,null,null,null,null,null,{"$f":"SUM($S$10:$AD$10)","v":0},null,null,null,null,null,null,null,null,null,null,null,null,null,{"$f":"SUM($AG$10:$AR$10)","v":0},null,null,null,null,null,null,null,null,null,null,null,null,null,{"$f":"SUM($AU$10:$BF$10)","v":0},null,null,null,null,null,null,null,null,null,null,null,null,null,{"$f":"SUM($BI$10:$BT$10)","v":0},null,null,null,null,null,null,null,null,null,null,null,null,null,{"$f":"SUM($BW$10:$CH$10)","v":0},null,null,null,null,null,null,null,null,null,null,null,null,null,{"$f":"SUM($CK$10:$CV$10)","v":0},null,null,null,null,null,null,null,null,null,null,null,null,null,{"$f":"SUM($CY$10:$DJ$10)","v":0},null,null,null,null,null,null,null,null,null,null,null,null,null,{"$f":"SUM($DM$10:$DX$10)","v":0},null,null,null,null,null,null,null,null,null,null,null,null,null,{"$f":"SUM($EA$10:$EL$10)","v":0},null,null,null,null,null,null,null,null,null,null,null,null,null,{"$f":"SUM($EO$10:$EZ$10)","v":0},null,null,null,null,null,null,null,null,null,null,null,null,null,{"$f":"SUM($FC$10:$FN$10)","v":0},null,null,null,null,null,null,null,null,8,2024,"R3C103"]
[{"$f":"C11&D11","v":"DP"},null,"D","P",0,0,0,0,0,0,0,0,0,0,0,0,{"$f":"SUM($E$11:$P$11)","v":0},null,0,0,0,0,0,0,0,0,0,0,0,0,{"$f":"SUM($S$11:$AD$11)","v":0},null,0,0,0,0,0,0,0,0,0,0,0,0,{"$f":"SUM($AG$11:$AR$11)","v":0},null,0,0,0,0,0,0,0,0,0,0,0,0,{"$f":"SUM($AU$11:$BF$11)","v":0},null,0,0,0,0,0,0,0,0,0,0,0,0,{"$f":"SUM($BI$11:$BT$11)","v":0},null,0,0,0,0,0,0,0,0,0,0,0,0,{"$f":"SUM($BW$11:$CH$11)","v":0},null,0,0,0,0,0,0,0,0,0,0,0,0,{"$f":"SUM($CK$11:$CV$11)","v":0},null,0,0,0,0,0,0,0,0,0,0,0,0,{"$f":"SUM($CY$11:$DJ$11)","v":0},null,0,0,0,0,0,0,0,0,0,0,0,0,{"$f":"SUM($DM$11:$DX$11)","v":0},null,0,0,0,0,0,0,0,0,0,0,0,0,{"$f":"SUM($EA$11:$EL$11)","v":0},null,0,0,0,0,0,0,0,0,0,0,0,0,{"$f":"SUM($EO$11:$EZ$11)","v":0},null,0,0,0,0,0,0,0,0,0,0,0,0,{"$f":"SUM($FC$11:$FN$11)","v":0},null,null,null,null,null,null,null,null,9,2025,"R3C117"]
[{"$f":"C11&D12","v":"DR"},null,null,"R",null,null,null,null,null,null,null,null,null,null,null,null,{"$f":"SUM($E$12:$P$12)","v":0},null,null,null,null,null,null,null,null,null,null,null,null,null,{"$f":"SUM($S$12:$AD$12)","v":0},null,null,null,null,null,null,null,null,null,null,null,null,null,{"$f":"SUM($AG$12:$AR$12)","v":0},null,null,null,null,null,null,null,null,null,null,null,null,null,{"$f":"SUM($AU$12:$BF$12)","v":0},null,null,null,null,null,null,null,null,null,null,null,null,null,{"$f":"SUM($BI$12:$BT$12)","v":0},null,null,null,null,null,null,null,null,null,null,null,null,null,{"$f":"SUM($BW$12:$CH$12)","v":0},null,null,null,null,null,null,null,null,null,null,null,null,null,{"$f":"SUM($CK$12:$CV$12)","v":0},null,null,null,null,null,null,null,null,null,null,null,null,null,{"$f":"SUM($CY$12:$DJ$12)","v":0},null,null,null,null,null,null,null,null,null,null,null,null,null,{"$f":"SUM($DM$12:$DX$12)","v":0},null,null,null,null,null,null,null,null,null,null,null,null,null,{"$f":"SUM($EA$12:$EL$12)","v":0},null,null,null,null,null,null,null,null,null,null,null,null,null,{"$f":"SUM($EO$12:$EZ$12)","v":0},null,null,null,null,null,null,null,null,null,null,null,null,null,{"$f":"SUM($FC$12:$FN$12)","v":0},null,null,null,null,null,null,null,null,10,2026,"R3C131"]
[{"$f":"C13&D13","v":"EP"},null,"E","P",0,0,0,0,0,0,0,0,0,0,0,0,{"$f":"SUM($E$13:$P$13)","v":0},null,0,0,0,0,0,0,0,0,0,0,0,0,{"$f":"SUM($S$13:$AD$13)","v":0},null,0,0,0,0,0,0,0,0,0,0,0,0,{"$f":"SUM($AG$13:$AR$13)","v":0},null,0,0,0,0,0,0,0,0,0,0,0,0,{"$f":"SUM($AU$13:$BF$13)","v":0},null,0,0,0,0,0,0,0,0,0,0,0,0,{"$f":"SUM($BI$13:$BT$13)","v":0},null,0,0,0,0,0,0,0,0,0,0,0,0,{"$f":"SUM($BW$13:$CH$13)","v":0},null,0,0,0,0,0,0,0,0,0,0,0,0,{"$f":"SUM($CK$13:$CV$13)","v":0},null,0,0,0,0,0,0,0,0,0,0,0,0,{"$f":"SUM($CY$13:$DJ$13)","v":0},null,0,0,0,0,0,0,0,0,0,0,0,0,{"$f":"SUM($DM$13:$DX$13)","v":0},null,0,0,0,0,0,0,0,0,0,0,0,0,{"$f":"SUM($EA$13:$EL$13)","v":0},null,0,0,0,0,0,0,0,0,0,0,0,0,{"$f":"SUM($EO$13:$EZ$13)","v":0},null,0,0,0,0,0,0,0,0,0,0,0,0,{"$f":"SUM($FC$13:$FN$13)","v":0},null,null,null,null,null,null,null,null,11,2027,"R3C145"]
[{"$f":"C13&D14","v":"ER"},null,null,"R",null,null,null,null,null,null,null,null,null,null,null,null,{"$f":"SUM($E$14:$P$14)","v":0},null,null,null,null,null,null,null,null,null,null,null,null,null,{"$f":"SUM($S$14:$AD$14)","v":0},null,null,null,null,null,null,null,null,null,null,null,null,null,{"$f":"SUM($AG$14:$AR$14)","v":0},null,null,null,null,null,null,null,null,null,null,null,null,null,{"$f":"SUM($AU$14:$BF$14)","v":0},null,null,null,null,null,null,null,null,null,null,null,null,null,{"$f":"SUM($BI$14:$BT$14)","v":0},null,null,null,null,null,null,null,null,null,null,null,null,null,{"$f":"SUM($BW$14:$CH$14)","v":0},null,null,null,null,null,null,null,null,null,null,null,null,null,{"$f":"SUM($CK$14:$CV$14)","v":0},null,null,null,null,null,null,null,null,null,null,null,null,null,{"$f":"SUM($CY$14:$DJ$14)","v":0},null,null,null,null,null,null,null,null,null,null,null,null,null,{"$f":"SUM($DM$14:$DX$14)","v":0},null,null,null,null,null,null,null,null,null,null,null,null,null,{"$f":"SUM($EA$14:$EL$14)","v":0},null,null,null,null,null,null,null,null,null,null,null,null,null,{"$f":"SUM($EO$14:$EZ$14)","v":0},null,null,null,null,null,null,null,null,null,null,null,null,null,{"$f":"SUM($FC$14:$FN$14)","v":0},null,null,null,null,null,null,null,null,12,2028,"R3C159"]
[{"$f":"C15&D15","v":"FP"},null,"F","P",0,0,0,0,0,0,0,0,0,0,0,0,{"$f":"SUM($E$15:$P$15)","v":0},null,0,0,0,0,0,0,0,0,0,0,0,0,{"$f":"SUM($S$15:$AD$15)","v":0},null,0,0,0,0,0,0,0,0,0,0,0,0,{"$f":"SUM($AG$15:$AR$15)","v":0},null,0,0,0,0,0,0,0,0,0,0,0,0,{"$f":"SUM($AU$15:$BF$15)","v":0},null,0,0,0,0,0,0,0,0,0,0,0,0,{"$f":"SUM($BI$15:$BT$15)","v":0},null,0,0,0,0,0,0,0,0,0,0,0,0,{"$f":"SUM($BW$15:$CH$15)","v":0},null,0,0,0,0,0,0,0,0,0,0,0,0,{"$f":"SUM($CK$15:$CV$15)","v":0},null,0,0,0,0,0,0,0,0,0,0,0,0,{"$f":"SUM($CY$15:$DJ$15)","v":0},null,0,0,0,0,0,0,0,0,0,0,0,0,{"$f":"SUM($DM$15:$DX$15)","v":0},null,0,0,0,0,0,0,0,0,0,0,0,0,{"$f":"SUM($EA$15:$EL$15)","v":0},null,0,0,0,0,0,0,0,0,0,0,0,0,{"$f":"SUM($EO$15:$EZ$15)","v":0},null,0,0,0,0,0,0,0,0,0,0,0,0,{"$f":"SUM($FC$15:$FN$15)","v":0}]
[{"$f":"C15&D16","v":"FR"},null,null,"R",null,null,null,null,null,null,null,null,null,null,null,null,{"$f":"SUM($E$16:$P$16)","v":0},null,null,null,null,null,null,null,null,null,null,null,null,null,{"$f":"SUM($S$16:$AD$16)","v":0},null,null,null,null,null,null,null,null,null,null,null,null,null,{"$f":"SUM($AG$16:$AR$16)","v":0},null,null,null,null,null,null,null,null,null,null,null,null,null,{"$f":"SUM($AU$16:$BF$16)","v":0},null,null,null,null,null,null,null,null,null,null,null,null,null,{"$f":"SUM($BI$16:$BT$16)","v":0},null,null,null,null,null,null,null,null,null,null,null,null,null,{"$f":"SUM($BW$16:$CH$16)","v":0},null,null,null,null,null,null,null,null,null,null,null,null,null,{"$f":"SUM($CK$16:$CV$16)","v":0},null,null,null,null,null,null,null,null,null,null,null,null,null,{"$f":"SUM($CY$16:$DJ$16)","v":0},null,null,null,null,null,null,null,null,null,null,null,null,null,{"$f":"SUM($DM$16:$DX$16)","v":0},null,null,null,null,null,null,null,null,null,null,null,null,null,{"$f":"SUM($EA$16:$EL$16)","v":0},null,null,null,null,null,null,null,null,null,null,null,null,null,{"$f":"SUM($EO$16:$EZ$16)","v":0},null,null,null,null,null,null,null,null,null,null,null,null,null,{"$f":"SUM($FC$16:$FN$16)","v":0}]
[{"$f":"C17&D17","v":"GP"},null,"G","P",0,0,0,0,0,0,0,0,0,0,0,0,{"$f":"SUM($E$17:$P$17)","v":0},null,0,0,0,0,0,0,0,0,0,0,0,0,{"$f":"SUM($S$17:$AD$17)","v":0},null,0,0,0,0,0,0,0,0,0,0,0,0,{"$f":"SUM($AG$17:$AR$17)","v":0},null,0,0,0,0,0,0,0,0,0,0,0,0,{"$f":"SUM($AU$17:$BF$17)","v":0},null,0,0,0,0,0,0,0,0,0,0,0,0,{"$f":"SUM($BI$17:$BT$17)","v":0},null,0,0,0,0,0,0,0,0,0,0,0,0,{"$f":"SUM($BW$17:$CH$17)","v":0},null,0,0,0,0,0,0,0,0,0,0,0,0,{"$f":"SUM($CK$17:$CV$17)","v":0},null,0,0,0,0,0,0,0,0,0,0,0,0,{"$f":"SUM($CY$17:$DJ$17)","v":0},null,0,0,0,0,0,0,0,0,0,0,0,0,{"$f":"SUM($DM$17:$DX$17)","v":0},null,0,0,0,0,0,0,0,0,0,0,0,0,{"$f":"SUM($EA$17:$EL$17)","v":0},null,0,0,0,0,0,0,0,0,0,0,0,0,{"$f":"SUM($EO$17:$EZ$17)","v":0},null,0,0,0,0,0,0,0,0,0,0,0,0,{"$f":"SUM($FC$17:$FN$17)","v":0}]
[{"$f":"C17&D18","v":"GR"},null,null,"R",null,null,null,null,null,null,null,null,null,null,null,null,{"$f":"SUM($E$18:$P$18)","v":0},null,null,null,null,null,null,null,null,null,null,null,null,null,{"$f":"SUM($S$18:$AD$18)","v":0},null,null,null,null,null,null,null,null,null,null,null,null,null,{"$f":"SUM($AG$18:$AR$18)","v":0},null,null,null,null,null,null,null,null,null,null,null,null,null,{"$f":"SUM($AU$18:$BF$18)","v":0},null,null,null,null,null,null,null,null,null,null,null,null,null,{"$f":"SUM($BI$18:$BT$18)","v":0},null,null,null,null,null,null,null,null,null,null,null,null,null,{"$f":"SUM($BW$18:$CH$18)","v":0},null,null,null,null,null,null,null,null,null,null,null,null,null,{"$f":"SUM($CK$18:$CV$18)","v":0},null,null,null,null,null,null,null,null,null,null,null,null,null,{"$f":"SUM($CY$18:$DJ$18)","v":0},null,null,null,null,null,null,null,null,null,null,null,null,null,{"$f":"SUM($DM$18:$DX$18)","v":0},null,null,null,null,null,null,null,null,null,null,null,null,null,{"$f":"SUM($EA$18:$EL$18)","v":0},null,null,null,null,null,null,null,null,null,null,null,null,null,{"$f":"SUM($EO$18:$EZ$18)","v":0},null,null,null,null,null,null,null,null,null,null,null,null,null,{"$f":"SUM($FC$18:$FN$18)","v":0}]
[{"$f":"C19&D19","v":"HP"},null,"H","P",0,0,0,0,0,0,0,0,0,0,0,0,{"$f":"SUM($E$19:$P$19)","v":0},null,0,0,0,0,0,0,0,0,0,0,0,0,{"$f":"SUM($S$19:$AD$19)","v":0},null,0,0,0,0,0,0,0,0,0,0,0,0,{"$f":"SUM($AG$19:$AR$19)","v":0},null,0,0,0,0,0,0,0,0,0,0,0,0,{"$f":"SUM($AU$19:$BF$19)","v":0},null,0,0,0,0,0,0,0,0,0,0,0,0,{"$f":"SUM($BI$19:$BT$19)","v":0},null,0,0,0,0,0,0,0,0,0,0,0,0,{"$f":"SUM($BW$19:$CH$19)","v":0},null,0,0,0,0,0,0,0,0,0,0,0,0,{"$f":"SUM($CK$19:$CV$19)","v":0},null,0,0,0,0,0,0,0,0,0,0,0,0,{"$f":"SUM($CY$19:$DJ$19)","v":0},null,0,0,0,0,0,0,0,0,0,0,0,0,{"$f":"SUM($DM$19:$DX$19)","v":0},null,0,0,0,0,0,0,0,0,0,0,0,0,{"$f":"SUM($EA$19:$EL$19)","v":0},null,0,0,0,0,0,0,0,0,0,0,0,0,{"$f":"SUM($EO$19:$EZ$19)","v":0},null,0,0,0,0,0,0,0,0,0,0,0,0,{"$f":"SUM($FC$19:$FN$19)","v":0}]
[{"$f":"C19&D20","v":"HR"},null,null,"R",null,null,null,null,null,null,null,null,null,null,null,null,{"$f":"SUM($E$20:$P$20)","v":0},null,null,null,null,null,null,null,null,null,null,null,null,null,{"$f":"SUM($S$20:$AD$20)","v":0},null,null,null,null,null,null,null,null,null,null,null,null,null,{"$f":"SUM($AG$20:$AR$20)","v":0},null,null,null,null,null,null,null,null,null,null,null,null,null,{"$f":"SUM($AU$20:$BF$20)","v":0},null,null,null,null,null,null,null,null,null,null,null,null,null,{"$f":"SUM($BI$20:$BT$20)","v":0},null,null,null,null,null,null,null,null,null,null,null,null,null,{"$f":"SUM($BW$20:$CH$20)","v":0},null,null,null,null,null,null,null,null,null,null,null,null,null,{"$f":"SUM($CK$20:$CV$20)","v":0},null,null,null,null,null,null,null,null,null,null,null,null,null,{"$f":"SUM($CY$20:$DJ$20)","v":0},null,null,null,null,null,null,null,null,null,null,null,null,null,{"$f":"SUM($DM$20:$DX$20)","v":0},null,null,null,null,null,null,null,null,null,null,null,null,null,{"$f":"SUM($EA$20:$EL$20)","v":0},null,null,null,null,null,null,null,null,null,null,null,null,null,{"$f":"SUM($EO$20:$EZ$20)","v":0},null,null,null,null,null,null,null,null,null,null,null,null,null,{"$f":"SUM($FC$20:$FN$20)","v":0}]
[{"$f":"C21&D21","v":"IP"},null,"I","P",0,0,0,0,0,0,0,0,0,0,0,0,{"$f":"SUM($E$21:$P$21)","v":0},null,0,0,0,0,0,0,0,0,0,0,0,0,{"$f":"SUM($S$21:$AD$21)","v":0},null,0,0,0,0,0,0,0,0,0,0,0,0,{"$f":"SUM($AG$21:$AR$21)","v":0},null,0,0,0,0,0,0,0,0,0,0,0,0,{"$f":"SUM($AU$21:$BF$21)","v":0},null,0,0,0,0,0,0,0,0,0,0,0,0,{"$f":"SUM($BI$21:$BT$21)","v":0},null,0,0,0,0,0,0,0,0,0,0,0,0,{"$f":"SUM($BW$21:$CH$21)","v":0},null,0,0,0,0,0,0,0,0,0,0,0,0,{"$f":"SUM($CK$21:$CV$21)","v":0},null,0,0,0,0,0,0,0,0,0,0,0,0,{"$f":"SUM($CY$21:$DJ$21)","v":0},null,0,0,0,0,0,0,0,0,0,0,0,0,{"$f":"SUM($DM$21:$DX$21)","v":0},null,0,0,0,0,0,0,0,0,0,0,0,0,{"$f":"SUM($EA$21:$EL$21)","v":0},null,0,0,0,0,0,0,0,0,0,0,0,0,{"$f":"SUM($EO$21:$EZ$21)","v":0},null,0,0,0,0,0,0,0,0,0,0,0,0,{"$f":"SUM($FC$21:$FN$21)","v":0}]
[{"$f":"C21&D22","v":"IR"},null,null,"R",null,null,null,null,null,null,null,null,null,null,null,null,{"$f":"SUM($E$22:$P$22)","v":0},null,null,null,null,null,null,null,null,null,null,null,null,null,{"$f":"SUM($S$22:$AD$22)","v":0},null,null,null,null,null,null,null,null,null,null,null,null,null,{"$f":"SUM($AG$22:$AR$22)","v":0},null,null,null,null,null,null,null,null,null,null,null,null,null,{"$f":"SUM($AU$22:$BF$22)","v":0},null,null,null,null,null,null,null,null,null,null,null,null,null,{"$f":"SUM($BI$22:$BT$22)","v":0},null,null,null,null,null,null,null,null,null,null,null,null,null,{"$f":"SUM($BW$22:$CH$22)","v":0},null,null,null,null,null,null,null,null,null,null,null,null,null,{"$f":"SUM($CK$22:$CV$22)","v":0},null,null,null,null,null,null,null,null,null,null,null,null,null,{"$f":"SUM($CY$22:$DJ$22)","v":0},null,null,null,null,null,null,null,null,null,null,null,null,null,{"$f":"SUM($DM$22:$DX$22)","v":0},null,null,null,null,null,null,null,null,null,null,null,null,null,{"$f":"SUM($EA$22:$EL$22)","v":0},null,null,null,null,null,null,null,null,null,null,null,null,null,{"$f":"SUM($EO$22:$EZ$22)","v":0},null,null,null,null,null,null,null,null,null,null,null,null,null,{"$f":"SUM($FC$22:$FN$22)","v":0}]
[{"$f":"C23&D23","v":"JP"},null,"J","P",0,0,0,0,0,0,0,0,0,0,0,0,{"$f":"SUM($E$23:$P$23)","v":0},null,0,0,0,0,0,0,0,0,0,0,0,0,{"$f":"SUM($S$23:$AD$23)","v":0},null,0,0,0,0,0,0,0,0,0,0,0,0,{"$f":"SUM($AG$23:$AR$23)","v":0},null,0,0,0,0,0,0,0,0,0,0,0,0,{"$f":"SUM($AU$23:$BF$23)","v":0},null,0,0,0,0,0,0,0,0,0,0,0,0,{"$f":"SUM($BI$23:$BT$23)","v":0},null,0,0,0,0,0,0,0,0,0,0,0,0,{"$f":"SUM($BW$23:$CH$23)","v":0},null,0,0,0,0,0,0,0,0,0,0,0,0,{"$f":"SUM($CK$23:$CV$23)","v":0},null,0,0,0,0,0,0,0,0,0,0,0,0,{"$f":"SUM($CY$23:$DJ$23)","v":0},null,0,0,0,0,0,0,0,0,0,0,0,0,{"$f":"SUM($DM$23:$DX$23)","v":0},null,0,0,0,0,0,0,0,0,0,0,0,0,{"$f":"SUM($EA$23:$EL$23)","v":0},null,0,0,0,0,0,0,0,0,0,0,0,0,{"$f":"SUM($EO$23:$EZ$23)","v":0},null,0,0,0,0,0,0,0,0,0,0,0,0,{"$f":"SUM($FC$23:$FN$23)","v":0}]
[{"$f":"C23&D24","v":"JR"},null,null,"R",null,null,null,null,null,null,null,null,null,null,null,null,{"$f":"SUM($E$24:$P$24)","v":0},null,null,null,null,null,null,null,null,null,null,null,null,null,{"$f":"SUM($S$24:$AD$24)","v":0},null,null,null,null,null,null,null,null,null,null,null,null,null,{"$f":"SUM($AG$24:$AR$24)","v":0},null,null,null,null,null,null,null,null,null,null,null,null,null,{"$f":"SUM($AU$24:$BF$24)","v":0},null,null,null,null,null,null,null,null,null,null,null,null,null,{"$f":"SUM($BI$24:$BT$24)","v":0},null,null,null,null,null,null,null,null,null,null,null,null,null,{"$f":"SUM($BW$24:$CH$24)","v":0},null,null,null,null,null,null,null,null,null,null,null,null,null,{"$f":"SUM($CK$24:$CV$24)","v":0},null,null,null,null,null,null,null,null,null,null,null,null,null,{"$f":"SUM($CY$24:$DJ$24)","v":0},null,null,null,null,null,null,null,null,null,null,null,null,null,{"$f":"SUM($DM$24:$DX$24)","v":0},null,null,null,null,null,null,null,null,null,null,null,null,null,{"$f":"SUM($EA$24:$EL$24)","v":0},null,null,null,null,null,null,null,null,null,null,null,null,null,{"$f":"SUM($EO$24:$EZ$24)","v":0},null,null,null,null,null,null,null,null,null,null,null,null,null,{"$f":"SUM($FC$24:$FN$24)","v":0}]
[{"$f":"C25&D25","v":"KP"},null,"K","P",0,0,0,0,0,0,0,0,0,0,0,0,{"$f":"SUM($E$25:$P$25)","v":0},null,0,0,0,0,0,0,0,0,0,0,0,0,{"$f":"SUM($S$25:$AD$25)","v":0},null,0,0,0,0,0,0,0,0,0,0,0,0,{"$f":"SUM($AG$25:$AR$25)","v":0},null,0,0,0,0,0,0,0,0,0,0,0,0,{"$f":"SUM($AU$25:$BF$25)","v":0},null,0,0,0,0,0,0,0,0,0,0,0,0,{"$f":"SUM($BI$25:$BT$25)","v":0},null,0,0,0,0,0,0,0,0,0,0,0,0,{"$f":"SUM($BW$25:$CH$25)","v":0},null,0,0,0,0,0,0,0,0,0,0,0,0,{"$f":"SUM($CK$25:$CV$25)","v":0},null,0,0,0,0,0,0,0,0,0,0,0,0,{"$f":"SUM($CY$25:$DJ$25)","v":0},null,0,0,0,0,0,0,0,0,0,0,0,0,{"$f":"SUM($DM$25:$DX$25)","v":0},null,0,0,0,0,0,0,0,0,0,0,0,0,{"$f":"SUM($EA$25:$EL$25)","v":0},null,0,0,0,0,0,0,0,0,0,0,0,0,{"$f":"SUM($EO$25:$EZ$25)","v":0},null,0,0,0,0,0,0,0,0,0,0,0,0,{"$f":"SUM($FC$25:$FN$25)","v":0}]
[{"$f":"C25&D26","v":"KR"},null,null,"R",null,null,null,null,null,null,null,null,null,null,null,null,{"$f":"SUM($E$26:$P$26)","v":0},null,null,null,null,null,null,null,null,null,null,null,null,null,{"$f":"SUM($S$26:$AD$26)","v":0},null,null,null,null,null,null,null,null,null,null,null,null,null,{"$f":"SUM($AG$26:$AR$26)","v":0},null,null,null,null,null,null,null,null,null,null,null,null,null,{"$f":"SUM($AU$26:$BF$26)","v":0},null,null,null,null,null,null,null,null,null,null,null,null,null,{"$f":"SUM($BI$26:$BT$26)","v":0},null,null,null,null,null,null,null,null,null,null,null,null,null,{"$f":"SUM($BW$26:$CH$26)","v":0},null,null,null,null,null,null,null,null,null,null,null,null,null,{"$f":"SUM($CK$26:$CV$26)","v":0},null,null,null,null,null,null,null,null,null,null,null,null,null,{"$f":"SUM($CY$26:$DJ$26)","v":0},null,null,null,null,null,null,null,null,null,null,null,null,null,{"$f":"SUM($DM$26:$DX$26)","v":0},null,null,null,null,null,null,null,null,null,null,null,null,null,{"$f":"SUM($EA$26:$EL$26)","v":0},null,null,null,null,null,null,null,null,null,null,null,null,null,{"$f":"SUM($EO$26:$EZ$26)","v":0},null,null,null,null,null,null,null,null,null,null,null,null,null,{"$f":"SUM($FC$26:$FN$26)","v":0}]
[{"$f":"C27&D27","v":"LP"},null,"L","P",0,0,0,0,0,0,0,0,0,0,0,0,{"$f":"SUM($E$27:$P$27)","v":0},null,0,0,0,0,0,0,0,0,0,0,0,0,{"$f":"SUM($S$27:$AD$27)","v":0},null,0,0,0,0,0,0,0,0,0,0,0,0,{"$f":"SUM($AG$27:$AR$27)","v":0},null,0,0,0,0,0,0,0,0,0,0,0,0,{"$f":"SUM($AU$27:$BF$27)","v":0},null,0,0,0,0,0,0,0,0,0,0,0,0,{"$f":"SUM($BI$27:$BT$27)","v":0},null,0,0,0,0,0,0,0,0,0,0,0,0,{"$f":"SUM($BW$27:$CH$27)","v":0},null,0,0,0,0,0,0,0,0,0,0,0,0,{"$f":"SUM($CK$27:$CV$27)","v":0},null,0,0,0,0,0,0,0,0,0,0,0,0,{"$f":"SUM($CY$27:$DJ$27)","v":0},null,0,0,0,0,0,0,0,0,0,0,0,0,{"$f":"SUM($DM$27:$DX$27)","v":0},null,0,0,0,0,0,0,0,0,0,0,0,0,{"$f":"SUM($EA$27:$EL$27)","v":0},null,0,0,0,0,0,0,0,0,0,0,0,0,{"$f":"SUM($EO$27:$EZ$27)","v":0},null,0,0,0,0,0,0,0,0,0,0,0,0,{"$f":"SUM($FC$27:$FN$27)","v":0}]
[{"$f":"C27&D28","v":"LR"},null,null,"R",null,null,null,null,null,null,null,null,null,null,null,null,{"$f":"SUM($E$28:$P$28)","v":0},null,null,null,null,null,null,null,null,null,null,null,null,null,{"$f":"SUM($S$28:$AD$28)","v":0},null,null,null,null,null,null,null,null,null,null,null,null,null,{"$f":"SUM($AG$28:$AR$28)","v":0},null,null,null,null,null,null,null,null,null,null,null,null,null,{"$f":"SUM($AU$28:$BF$28)","v":0},null,null,null,null,null,null,null,null,null,null,null,null,null,{"$f":"SUM($BI$28:$BT$28)","v":0},null,null,null,null,null,null,null,null,null,null,null,null,null,{"$f":"SUM($BW$28:$CH$28)","v":0},null,null,null,null,null,null,null,null,null,null,null,null,null,{"$f":"SUM($CK$28:$CV$28)","v":0},null,null,null,null,null,null,null,null,null,null,null,null,null,{"$f":"SUM($CY$28:$DJ$28)","v":0},null,null,null,null,null,null,null,null,null,null,null,null,null,{"$f":"SUM($DM$28:$DX$28)","v":0},null,null,null,null,null,null,null,null,null,null,null,null,null,{"$f":"SUM($EA$28:$EL$28)","v":0},null,null,null,null,null,null,null,null,null,null,null,null,null,{"$f":"SUM($EO$28:$EZ$28)","v":0},null,null,null,null,null,null,null,null,null,null,null,null,null,{"$f":"SUM($FC$28:$FN$28)","v":0}]
[{"$f":"C29&D29","v":"MP"},null,"M","P",0,0,0,0,0,0,0,0,0,0,0,0,{"$f":"SUM($E$29:$P$29)","v":0},null,0,0,0,0,0,0,0,0,0,0,0,0,{"$f":"SUM($S$29:$AD$29)","v":0},null,0,0,0,0,0,0,0,0,0,0,0,0,{"$f":"SUM($AG$29:$AR$29)","v":0},null,0,0,0,0,0,0,0,0,0,0,0,0,{"$f":"SUM($AU$29:$BF$29)","v":0},null,0,0,0,0,0,0,0,0,0,0,0,0,{"$f":"SUM($BI$29:$BT$29)","v":0},null,0,0,0,0,0,0,0,0,0,0,0,0,{"$f":"SUM($BW$29:$CH$29)","v":0},null,0,0,0,0,0,0,0,0,0,0,0,0,{"$f":"SUM($CK$29:$CV$29)","v":0},null,0,0,0,0,0,0,0,0,0,0,0,0,{"$f":"SUM($CY$29:$DJ$29)","v":0},null,0,0,0,0,0,0,0,0,0,0,0,0,{"$f":"SUM($DM$29:$DX$29)","v":0},null,0,0,0,0,0,0,0,0,0,0,0,0,{"$f":"SUM($EA$29:$EL$29)","v":0},null,0,0,0,0,0,0,0,0,0,0,0,0,{"$f":"SUM($EO$29:$EZ$29)","v":0},null,0,0,0,0,0,0,0,0,0,0,0,0,{"$f":"SUM($FC$29:$FN$29)","v":0}]
[{"$f":"C29&D30","v":"MR"},null,null,"R",null,null,null,null,null,null,null,null,null,null,null,null,{"$f":"SUM($E$30:$P$30)","v":0},null,null,null,null,null,null,null,null,null,null,null,null,null,{"$f":"SUM($S$30:$AD$30)","v":0},null,null,null,null,null,null,null,null,null,null,null,null,null,{"$f":"SUM($AG$30:$AR$30)","v":0},null,null,null,null,null,null,null,null,null,null,null,null,null,{"$f":"SUM($AU$30:$BF$30)","v":0},null,null,null,null,null,null,null,null,null,null,null,null,null,{"$f":"SUM($BI$30:$BT$30)","v":0},null,null,null,null,null,null,null,null,null,null,null,null,null,{"$f":"SUM($BW$30:$CH$30)","v":0},null,null,null,null,null,null,null,null,null,null,null,null,null,{"$f":"SUM($CK$30:$CV$30)","v":0},null,null,null,null,null,null,null,null,null,null,null,null,null,{"$f":"SUM($CY$30:$DJ$30)","v":0},null,null,null,null,null,null,null,null,null,null,null,null,null,{"$f":"SUM($DM$30:$DX$30)","v":0},null,null,null,null,null,null,null,null,null,null,null,null,null,{"$f":"SUM($EA$30:$EL$30)","v":0},null,null,null,null,null,null,null,null,null,null,null,null,null,{"$f":"SUM($EO$30:$EZ$30)","v":0},null,null,null,null,null,null,null,null,null,null,null,null,null,{"$f":"SUM($FC$30:$FN$30)","v":0}]
[{"$f":"C31&D31","v":"NP"},null,"N","P",0,0,0,0,0,0,0,0,0,0,0,0,{"$f":"SUM($E$31:$P$31)","v":0},null,0,0,0,0,0,0,0,0,0,0,0,0,{"$f":"SUM($S$31:$AD$31)","v":0},null,0,0,0,0,0,0,0,0,0,0,0,0,{"$f":"SUM($AG$31:$AR$31)","v":0},null,0,0,0,0,0,0,0,0,0,0,0,0,{"$f":"SUM($AU$31:$BF$31)","v":0},null,0,0,0,0,0,0,0,0,0,0,0,0,{"$f":"SUM($BI$31:$BT$31)","v":0},null,0,0,0,0,0,0,0,0,0,0,0,0,{"$f":"SUM($BW$31:$CH$31)","v":0},null,0,0,0,0,0,0,0,0,0,0,0,0,{"$f":"SUM($CK$31:$CV$31)","v":0},null,0,0,0,0,0,0,0,0,0,0,0,0,{"$f":"SUM($CY$31:$DJ$31)","v":0},null,0,0,0,0,0,0,0,0,0,0,0,0,{"$f":"SUM($DM$31:$DX$31)","v":0},null,0,0,0,0,0,0,0,0,0,0,0,0,{"$f":"SUM($EA$31:$EL$31)","v":0},null,0,0,0,0,0,0,0,0,0,0,0,0,{"$f":"SUM($EO$31:$EZ$31)","v":0},null,0,0,0,0,0,0,0,0,0,0,0,0,{"$f":"SUM($FC$31:$FN$31)","v":0}]
[{"$f":"C31&D32","v":"NR"},null,null,"R",null,null,null,null,null,null,null,null,null,null,null,null,{"$f":"SUM($E$32:$P$32)","v":0},null,null,null,null,null,null,null,null,null,null,null,null,null,{"$f":"SUM($S$32:$AD$32)","v":0},null,null,null,null,null,null,null,null,null,null,null,null,null,{"$f":"SUM($AG$32:$AR$32)","v":0},null,null,null,null,null,null,null,null,null,null,null,null,null,{"$f":"SUM($AU$32:$BF$32)","v":0},null,null,null,null,null,null,null,null,null,null,null,null,null,{"$f":"SUM($BI$32:$BT$32)","v":0},null,null,null,null,null,null,null,null,null,null,null,null,null,{"$f":"SUM($BW$32:$CH$32)","v":0},null,null,null,null,null,null,null,null,null,null,null,null,null,{"$f":"SUM($CK$32:$CV$32)","v":0},null,null,null,null,null,null,null,null,null,null,null,null,null,{"$f":"SUM($CY$32:$DJ$32)","v":0},null,null,null,null,null,null,null,null,null,null,null,null,null,{"$f":"SUM($DM$32:$DX$32)","v":0},null,null,null,null,null,null,null,null,null,null,null,null,null,{"$f":"SUM($EA$32:$EL$32)","v":0},null,null,null,null,null,null,null,null,null,null,null,null,null,{"$f":"SUM($EO$32:$EZ$32)","v":0},null,null,null,null,null,null,null,null,null,null,null,null,null,{"$f":"SUM($FC$32:$FN$32)","v":0}]
["OP",null,"O","P",0,0,0,0,0,0,0,0,0,0,0,0,{"$f":"SUM($E$33:$P$33)","v":0},null,0,0,0,0,0,0,0,0,0,0,0,0,{"$f":"SUM($S$33:$AD$33)","v":0},null,0,0,0,0,0,0,0,0,0,0,0,0,{"$f":"SUM($AG$33:$AR$33)","v":0},null,0,0,0,0,0,0,0,0,0,0,0,0,{"$f":"SUM($AU$33:$BF$33)","v":0},null,0,0,0,0,0,0,0,0,0,0,0,0,{"$f":"SUM($BI$33:$BT$33)","v":0},null,0,0,0,0,0,0,0,0,0,0,0,0,{"$f":"SUM($BW$33:$CH$33)","v":0},null,0,0,0,0,0,0,0,0,0,0,0,0,{"$f":"SUM($CK$33:$CV$33)","v":0},null,0,0,0,0,0,0,0,0,0,0,0,0,{"$f":"SUM($CY$33:$DJ$33)","v":0},null,0,0,0,0,0,0,0,0,0,0,0,0,{"$f":"SUM($DM$33:$DX$33)","v":0},null,0,0,0,0,0,0,0,0,0,0,0,0,{"$f":"SUM($EA$33:$EL$33)","v":0},null,0,0,0,0,0,0,0,0,0,0,0,0,{"$f":"SUM($EO$33:$EZ$33)","v":0},null,0,0,0,0,0,0,0,0,0,0,0,0,{"$f":"SUM($FC$33:$FN$33)","v":0}]
["OR",null,null,"R",null,null,null,null,null,null,null,null,null,null,null,null,{"$f":"SUM($E$34:$P$34)","v":0},null,null,null,null,null,null,null,null,null,null,null,null,null,{"$f":"SUM($S$34:$AD$34)","v":0},null,null,null,null,null,null,null,null,null,null,null,null,null,{"$f":"SUM($AG$34:$AR$34)","v":0},null,null,null,null,null,null,null,null,null,null,null,null,null,{"$f":"SUM($AU$34:$BF$34)","v":0},null,null,null,null,null,null,null,null,null,null,null,null,null,{"$f":"SUM($BI$34:$BT$34)","v":0},null,null,null,null,null,null,null,null,null,null,null,null,null,{"$f":"SUM($BW$34:$CH$34)","v":0},null,null,null,null,null,null,null,null,null,null,null,null,null,{"$f":"SUM($CK$34:$CV$34)","v":0},null,null,null,null,null,null,null,null,null,null,null,null,null,{"$f":"SUM($CY$34:$DJ$34)","v":0},null,null,null,null,null,null,null,null,null,null,null,null,null,{"$f":"SUM($DM$34:$DX$34)","v":0},null,null,null,null,null,null,null,null,null,null,null,null,null,{"$f":"SUM($EA$34:$EL$34)","v":0},null,null,null,null,null,null,null,null,null,null,null,null,null,{"$f":"SUM($EO$34:$EZ$34)","v":0},null,null,null,null,null,null,null,null,null,null,null,null,null,{"$f":"SUM($FC$34:$FN$34)","v":0}]
["PP",null,"P","P",0,0,0,0,0,0,0,0,0,0,0,0,{"$f":"SUM($E$35:$P$35)","v":0},null,0,0,0,0,0,0,0,0,0,0,0,0,{"$f":"SUM($S$35:$AD$35)","v":0},null,0,0,0,0,0,0,0,0,0,0,0,0,{"$f":"SUM($AG$35:$AR$35)","v":0},null,0,0,0,0,0,0,0,0,0,0,0,0,{"$f":"SUM($AU$35:$BF$35)","v":0},null,0,0,0,0,0,0,0,0,0,0,0,0,{"$f":"SUM($BI$35:$BT$35)","v":0},null,0,0,0,0,0,0,0,0,0,0,0,0,{"$f":"SUM($BW$35:$CH$35)","v":0},null,0,0,0,0,0,0,0,0,0,0,0,0,{"$f":"SUM($CK$35:$CV$35)","v":0},null,0,0,0,0,0,0,0,0,0,0,0,0,{"$f":"SUM($CY$35:$DJ$35)","v":0},null,0,0,0,0,0,0,0,0,0,0,0,0,{"$f":"SUM($DM$35:$DX$35)","v":0},null,0,0,0,0,0,0,0,0,0,0,0,0,{"$f":"SUM($EA$35:$EL$35)","v":0},null,0,0,0,0,0,0,0,0,0,0,0,0,{"$f":"SUM($EO$35:$EZ$35)","v":0},null,0,0,0,0,0,0,0,0,0,0,0,0,{"$f":"SUM($FC$35:$FN$35)","v":0}]
["PR",null,null,"R",null,null,null,null,null,null,null,null,null,null,null,null,{"$f":"SUM($E$36:$P$36)","v":0},null,null,null,null,null,null,null,null,null,null,null,null,null,{"$f":"SUM($S$36:$AD$36)","v":0},null,null,null,null,null,null,null,null,null,null,null,null,null,{"$f":"SUM($AG$36:$AR$36)","v":0},null,null,null,null,null,null,null,null,null,null,null,null,null,{"$f":"SUM($AU$36:$BF$36)","v":0},null,null,null,null,null,null,null,null,null,null,null,null,null,{"$f":"SUM($BI$36:$BT$36)","v":0},null,null,null,null,null,null,null,null,null,null,null,null,null,{"$f":"SUM($BW$36:$CH$36)","v":0},null,null,null,null,null,null,null,null,null,null,null,null,null,{"$f":"SUM($CK$36:$CV$36)","v":0},null,null,null,null,null,null,null,null,null,null,null,null,null,{"$f":"SUM($CY$36:$DJ$36)","v":0},null,null,null,null,null,null,null,null,null,null,null,null,null,{"$f":"SUM($DM$36:$DX$36)","v":0},null,null,null,null,null,null,null,null,null,null,null,null,null,{"$f":"SUM($EA$36:$EL$36)","v":0},null,null,null,null,null,null,null,null,null,null,null,null,null,{"$f":"SUM($EO$36:$EZ$36)","v":0},null,null,null,null,null,null,null,null,null,null,null,null,null,{"$f":"SUM($FC$36:$FN$36)","v":0}]
["QP",null,"Q","P",0,0,0,0,0,0,0,0,0,0,0,0,{"$f":"SUM($E$37:$P$37)","v":0},null,0,0,0,0,0,0,0,0,0,0,0,0,{"$f":"SUM($S$37:$AD$37)","v":0},null,0,0,0,0,0,0,0,0,0,0,0,0,{"$f":"SUM($AG$37:$AR$37)","v":0},null,0,0,0,0,0,0,0,0,0,0,0,0,{"$f":"SUM($AU$37:$BF$37)","v":0},null,0,0,0,0,0,0,0,0,0,0,0,0,{"$f":"SUM($BI$37:$BT$37)","v":0},null,0,0,0,0,0,0,0,0,0,0,0,0,{"$f":"SUM($BW$37:$CH$37)","v":0},null,0,0,0,0,0,0,0,0,0,0,0,0,{"$f":"SUM($CK$37:$CV$37)","v":0},null,0,0,0,0,0,0,0,0,0,0,0,0,{"$f":"SUM($CY$37:$DJ$37)","v":0},null,0,0,0,0,0,0,0,0,0,0,0,0,{"$f":"SUM($DM$37:$DX$37)","v":0},null,0,0,0,0,0,0,0,0,0,0,0,0,{"$f":"SUM($EA$37:$EL$37)","v":0},null,0,0,0,0,0,0,0,0,0,0,0,0,{"$f":"SUM($EO$37:$EZ$37)","v":0},null,0,0,0,0,0,0,0,0,0,0,0,0,{"$f":"SUM($FC$37:$FN$37)","v":0}]
["QR",null,null,"R",null,null,null,null,null,null,null,null,null,null,null,null,{"$f":"SUM($E$38:$P$38)","v":0},null,null,null,null,null,null,null,null,null,null,null,null,null,{"$f":"SUM($S$38:$AD$38)","v":0},null,null,null,null,null,null,null,null,null,null,null,null,null,{"$f":"SUM($AG$38:$AR$38)","v":0},null,null,null,null,null,null,null,null,null,null,null,null,null,{"$f":"SUM($AU$38:$BF$38)","v":0},null,null,null,null,null,null,null,null,null,null,null,null,null,{"$f":"SUM($BI$38:$BT$38)","v":0},null,null,null,null,null,null,null,null,null,null,null,null,null,{"$f":"SUM($BW$38:$CH$38)","v":0},null,null,null,null,null,null,null,null,null,null,null,null,null,{"$f":"SUM($CK$38:$CV$38)","v":0},null,null,null,null,null,null,null,null,null,null,null,null,null,{"$f":"SUM($CY$38:$DJ$38)","v":0},null,null,null,null,null,null,null,null,null,null,null,null,null,{"$f":"SUM($DM$38:$DX$38)","v":0},null,null,null,null,null,null,null,null,null,null,null,null,null,{"$f":"SUM($EA$38:$EL$38)","v":0},null,null,null,null,null,null,null,null,null,null,null,null,null,{"$f":"SUM($EO$38:$EZ$38)","v":0},null,null,null,null,null,null,null,null,null,null,null,null,null,{"$f":"SUM($FC$38:$FN$38)","v":0}]
["RP",null,"R","P",0,0,0,0,0,0,0,0,0,0,0,0,{"$f":"SUM($E$39:$P$39)","v":0},null,0,0,0,0,0,0,0,0,0,0,0,0,{"$f":"SUM($S$39:$AD$39)","v":0},null,0,0,0,0,0,0,0,0,0,0,0,0,{"$f":"SUM($AG$39:$AR$39)","v":0},null,0,0,0,0,0,0,0,0,0,0,0,0,{"$f":"SUM($AU$39:$BF$39)","v":0},null,0,0,0,0,0,0,0,0,0,0,0,0,{"$f":"SUM($BI$39:$BT$39)","v":0},null,0,0,0,0,0,0,0,0,0,0,0,0,{"$f":"SUM($BW$39:$CH$39)","v":0},null,0,0,0,0,0,0,0,0,0,0,0,0,{"$f":"SUM($CK$39:$CV$39)","v":0},null,0,0,0,0,0,0,0,0,0,0,0,0,{"$f":"SUM($CY$39:$DJ$39)","v":0},null,0,0,0,0,0,0,0,0,0,0,0,0,{"$f":"SUM($DM$39:$DX$39)","v":0},null,0,0,0,0,0,0,0,0,0,0,0,0,{"$f":"SUM($EA$39:$EL$39)","v":0},null,0,0,0,0,0,0,0,0,0,0,0,0,{"$f":"SUM($EO$39:$EZ$39)","v":0},null,0,0,0,0,0,0,0,0,0,0,0,0,{"$f":"SUM($FC$39:$FN$39)","v":0}]
["RR",null,null,"R",null,null,null,null,null,null,null,null,null,null,null,null,{"$f":"SUM($E$40:$P$40)","v":0},null,null,null,null,null,null,null,null,null,null,null,null,null,{"$f":"SUM($S$40:$AD$40)","v":0},null,null,null,null,null,null,null,null,null,null,null,null,null,{"$f":"SUM($AG$40:$AR$40)","v":0},null,null,null,null,null,null,null,null,null,null,null,null,null,{"$f":"SUM($AU$40:$BF$40)","v":0},null,null,null,null,null,null,null,null,null,null,null,null,null,{"$f":"SUM($BI$40:$BT$40)","v":0},null,null,null,null,null,null,null,null,null,null,null,null,null,{"$f":"SUM($BW$40:$CH$40)","v":0},null,null,null,null,null,null,null,null,null,null,null,null,null,{"$f":"SUM($CK$40:$CV$40)","v":0},null,null,null,null,null,null,null,null,null,null,null,null,null,{"$f":"SUM($CY$40:$DJ$40)","v":0},null,null,null,null,null,null,null,null,null,null,null,null,null,{"$f":"SUM($DM$40:$DX$40)","v":0},null,null,null,null,null,null,null,null,null,null,null,null,null,{"$f":"SUM($EA$40:$EL$40)","v":0},null,null,null,null,null,null,null,null,null,null,null,null,null,{"$f":"SUM($EO$40:$EZ$40)","v":0},null,null,null,null,null,null,null,null,null,null,null,null,null,{"$f":"SUM($FC$40:$FN$40)","v":0}]
["SP",null,"S","P",0,0,0,0,0,0,0,0,0,0,0,0,{"$f":"SUM($E$41:$P$41)","v":0},null,0,0,0,0,0,0,0,0,0,0,0,0,{"$f":"SUM($S$41:$AD$41)","v":0},null,0,0,0,0,0,0,0,0,0,0,0,0,{"$f":"SUM($AG$41:$AR$41)","v":0},null,0,0,0,0,0,0,0,0,0,0,0,0,{"$f":"SUM($AU$41:$BF$41)","v":0},null,0,0,0,0,0,0,0,0,0,0,0,0,{"$f":"SUM($BI$41:$BT$41)","v":0},null,0,0,0,0,0,0,0,0,0,0,0,0,{"$f":"SUM($BW$41:$CH$41)","v":0},null,0,0,0,0,0,0,0,0,0,0,0,0,{"$f":"SUM($CK$41:$CV$41)","v":0},null,0,0,0,0,0,0,0,0,0,0,0,0,{"$f":"SUM($CY$41:$DJ$41)","v":0},null,0,0,0,0,0,0,0,0,0,0,0,0,{"$f":"SUM($DM$41:$DX$41)","v":0},null,0,0,0,0,0,0,0,0,0,0,0,0,{"$f":"SUM($EA$41:$EL$41)","v":0},null,0,0,0,0,0,0,0,0,0,0,0,0,{"$f":"SUM($EO$41:$EZ$41)","v":0},null,0,0,0,0,0,0,0,0,0,0,0,0,{"$f":"SUM($FC$41:$FN$41)","v":0}]
["SR",null,null,"R",null,null,null,null,null,null,null,null,null,null,null,null,{"$f":"SUM($E$42:$P$42)","v":0},null,null,null,null,null,null,null,null,null,null,null,null,null,{"$f":"SUM($S$42:$AD$42)","v":0},null,null,null,null,null,null,null,null,null,null,null,null,null,{"$f":"SUM($AG$42:$AR$42)","v":0},null,null,null,null,null,null,null,null,null,null,null,null,null,{"$f":"SUM($AU$42:$BF$42)","v":0},null,null,null,null,null,null,null,null,null,null,null,null,null,{"$f":"SUM($BI$42:$BT$42)","v":0},null,null,null,null,null,null,null,null,null,null,null,null,null,{"$f":"SUM($BW$42:$CH$42)","v":0},null,null,null,null,null,null,null,null,null,null,null,null,null,{"$f":"SUM($CK$42:$CV$42)","v":0},null,null,null,null,null,null,null,null,null,null,null,null,null,{"$f":"SUM($CY$42:$DJ$42)","v":0},null,null,null,null,null,null,null,null,null,null,null,null,null,{"$f":"SUM($DM$42:$DX$42)","v":0},null,null,null,null,null,null,null,null,null,null,null,null,null,{"$f":"SUM($EA$42:$EL$42)","v":0},null,null,null,null,null,null,null,null,null,null,null,null,null,{"$f":"SUM($EO$42:$EZ$42)","v":0},null,null,null,null,null,null,null,null,null,null,null,null,null,{"$f":"SUM($FC$42:$FN$42)","v":0}]
[{"$f":"C43&D43","v":"Parcela Financiamento/ CusteioP"},null,"Parcela Financiamento/ Custeio","P",0,0,0,0,0,0,0,0,0,0,0,0,{"$f":"SUM($E$43:$P$43)","v":0},null,0,0,0,0,0,0,0,0,0,0,0,0,{"$f":"SUM($S$43:$AD$43)","v":0},null,0,0,0,0,0,0,0,0,0,0,0,0,{"$f":"SUM($AG$43:$AR$43)","v":0},null,0,0,0,0,0,0,0,0,0,0,0,0,{"$f":"SUM($AU$43:$BF$43)","v":0},null,0,0,0,0,0,0,0,0,0,0,0,0,{"$f":"SUM($BI$43:$BT$43)","v":0},null,0,0,0,0,0,0,0,0,0,0,0,0,{"$f":"SUM($BW$43:$CH$43)","v":0},null,0,0,0,0,0,0,0,0,0,0,0,0,{"$f":"SUM($CK$43:$CV$43)","v":0},null,0,0,0,0,0,0,0,0,0,0,0,0,{"$f":"SUM($CY$43:$DJ$43)","v":0},null,0,0,0,0,0,0,0,0,0,0,0,0,{"$f":"SUM($DM$43:$DX$43)","v":0},null,0,0,0,0,0,0,0,0,0,0,0,0,{"$f":"SUM($EA$43:$EL$43)","v":0},null,0,0,0,0,0,0,0,0,0,0,0,0,{"$f":"SUM($EO$43:$EZ$43)","v":0},null,0,0,0,0,0,0,0,0,0,0,0,0,{"$f":"SUM($FC$43:$FN$43)","v":0}]
[{"$f":"C43&D44","v":"Parcela Financiamento/ CusteioR"},null,null,"R",null,null,null,null,null,null,null,null,null,null,null,null,{"$f":"SUM($E$44:$P$44)","v":0},null,null,null,null,null,null,null,null,null,null,null,null,null,{"$f":"SUM($S$44:$AD$44)","v":0},null,null,null,null,null,null,null,null,null,null,null,null,null,{"$f":"SUM($AG$44:$AR$44)","v":0},null,null,null,null,null,null,null,null,null,null,null,null,null,{"$f":"SUM($AU$44:$BF$44)","v":0},null,null,null,null,null,null,null,null,null,null,null,null,null,{"$f":"SUM($BI$44:$BT$44)","v":0},null,null,null,null,null,null,null,null,null,null,null,null,null,{"$f":"SUM($BW$44:$CH$44)","v":0},null,null,null,null,null,null,null,null,null,null,null,null,null,{"$f":"SUM($CK$44:$CV$44)","v":0},null,null,null,null,null,null,null,null,null,null,null,null,null,{"$f":"SUM($CY$44:$DJ$44)","v":0},null,null,null,null,null,null,null,null,null,null,null,null,null,{"$f":"SUM($DM$44:$DX$44)","v":0},null,null,null,null,null,null,null,null,null,null,null,null,null,{"$f":"SUM($EA$44:$EL$44)","v":0},null,null,null,null,null,null,null,null,null,null,null,null,null,{"$f":"SUM($EO$44:$EZ$44)","v":0},null,null,null,null,null,null,null,null,null,null,null,null,null,{"$f":"SUM($FC$44:$FN$44)","v":0}]
[{"$f":"C45&D45","v":"Total SaídasP"},null,"Total Saídas","P",{"$f":"SUMIF($D$5:$D$44,$D45,E$5:E$44)","v":0},{"$f":"SUMIF($D$5:$D$44,$D45,F$5:F$44)","v":0},{"$f":"SUMIF($D$5:$D$44,$D45,G$5:G$44)","v":0},0,0,0,0,0,0,0,0,0,0,null,{"$f":"SUMIF($D$5:$D$44,$D45,S$5:S$44)","v":0},0,0,0,0,0,0,0,0,0,0,0,0,null,{"$f":"SUMIF($D$5:$D$44,$D45,AG$5:AG$44)","v":0},0,0,0,0,0,0,0,0,0,0,0,0,null,{"$f":"SUMIF($D$5:$D$44,$D45,AU$5:AU$44)","v":0},0,0,0,0,0,0,0,0,0,0,0,0,null,{"$f":"SUMIF($D$5:$D$44,$D45,BI$5:BI$44)","v":0},0,0,0,0,0,0,0,0,0,0,0,0,null,{"$f":"SUMIF($D$5:$D$44,$D45,BW$5:BW$44)","v":0},0,0,0,0,0,0,0,0,0,0,0,0,null,{"$f":"SUMIF($D$5:$D$44,$D45,CK$5:CK$44)","v":0},0,0,0,0,0,0,0,0,0,0,0,0,null,{"$f":"SUMIF($D$5:$D$44,$D45,CY$5:CY$44)","v":0},0,0,0,0,0,0,0,0,0,0,0,0,null,{"$f":"SUMIF($D$5:$D$44,$D45,DM$5:DM$44)","v":0},0,0,0,0,0,0,0,0,0,0,0,0,null,{"$f":"SUMIF($D$5:$D$44,$D45,EA$5:EA$44)","v":0},0,0,0,0,0,0,0,0,0,0,0,0,null,{"$f":"SUMIF($D$5:$D$44,$D45,EO$5:EO$44)","v":0},0,0,0,0,0,0,0,0,0,0,0,0,null,{"$f":"SUMIF($D$5:$D$44,$D45,FC$5:FC$44)","v":0},0,0,0,0,0,0,0,0,0,0,0,0]
[{"$f":"C45&D46","v":"Total SaídasR"},null,null,"R",0,0,0,0,0,0,0,0,0,0,0,0,0,null,0,0,0,0,0,0,0,0,0,0,0,0,0,null,0,0,0,0,0,0,0,0,0,0,0,0,0,null,0,0,0,0,0,0,0,0,0,0,0,0,0,null,0,0,0,0,0,0,0,0,0,0,0,0,0,null,0,0,0,0,0,0,0,0,0,0,0,0,0,null,0,0,0,0,0,0,0,0,0,0,0,0,0,null,0,0,0,0,0,0,0,0,0,0,0,0,0,null,0,0,0,0,0,0,0,0,0,0,0,0,0,null,0,0,0,0,0,0,0,0,0,0,0,0,0,null,0,0,0,0,0,0,0,0,0,0,0,0,0,null,0,0,0,0,0,0,0,0,0,0,0,0,0]
[{"$f":"C47&D47","v":""}]
[{"$f":"C47&D48","v":""}]
[{"$f":"C49&D49","v":"AP"},"Entrada de Caixa","A","P",0,0,0,0,0,0,0,0,0,0,0,0,{"$f":"SUM($E$49:$P$49)","v":0},null,0,0,0,0,0,0,0,0,0,0,0,0,{"$f":"SUM($S$49:$AD$49)","v":0},null,0,0,0,0,0,0,0,0,0,0,0,0,{"$f":"SUM($AG$49:$AR$49)","v":0},null,0,0,0,0,0,0,0,0,0,0,0,0,{"$f":"SUM($AU$49:$BF$49)","v":0},null,0,0,0,0,0,0,0,0,0,0,0,0,{"$f":"SUM($BI$49:$BT$49)","v":0},null,0,0,0,0,0,0,0,0,0,0,0,0,{"$f":"SUM($BW$49:$CH$49)","v":0},null,0,0,0,0,0,0,0,0,0,0,0,0,{"$f":"SUM($CK$49:$CV$49)","v":0},null,0,0,0,0,0,0,0,0,0,0,0,0,{"$f":"SUM($CY$49:$DJ$49)","v":0},null,0,0,0,0,0,0,0,0,0,0,0,0,{"$f":"SUM($DM$49:$DX$49)","v":0},null,0,0,0,0,0,0,0,0,0,0,0,0,{"$f":"SUM($EA$49:$EL$49)","v":0},null,0,0,0,0,0,0,0,0,0,0,0,0,{"$f":"SUM($EO$49:$EZ$49)","v":0},null,0,0,0,0,0,0,0,0,0,0,0,0,{"$f":"SUM($FC$49:$FN$49)","v":0}]
[{"$f":"C49&D50","v":"AR"},null,null,"R",null,null,null,null,null,null,null,null,null,null,null,null,{"$f":"SUM($E$50:$P$50)","v":0},null,null,null,null,null,null,null,null,null,null,null,null,null,{"$f":"SUM($S$50:$AD$50)","v":0},null,null,null,null,null,null,null,null,null,null,null,null,null,{"$f":"SUM($AG$50:$AR$50)","v":0},null,null,null,null,null,null,null,null,null,null,null,null,null,{"$f":"SUM($AU$50:$BF$50)","v":0},null,null,null,null,null,null,null,null,null,null,null,null,null,{"$f":"SUM($BI$50:$BT$50)","v":0},null,null,null,null,null,null,null,null,null,null,null,null,null,{"$f":"SUM($BW$50:$CH$50)","v":0},null,null,null,null,null,null,null,null,null,null,null,null,null,{"$f":"SUM($CK$50:$CV$50)","v":0},null,null,null,null,null,null,null,null,null,null,null,null,null,{"$f":"SUM($CY$50:$DJ$50)","v":0},null,null,null,null,null,null,null,null,null,null,null,null,null,{"$f":"SUM($DM$50:$DX$50)","v":0},null,null,null,null,null,null,null,null,null,null,null,null,null,{"$f":"SUM($EA$50:$EL$50)","v":0},null,null,null,null,null,null,null,null,null,null,null,null,null,{"$f":"SUM($EO$50:$EZ$50)","v":0},null,null,null,null,null,null,null,null,null,null,null,null,null,{"$f":"SUM($FC$50:$FN$50)","v":0}]
[{"$f":"C51&D51","v":"BP"},null,"B","P",0,0,0,0,0,0,0,0,0,0,0,0,{"$f":"SUM($E$51:$P$51)","v":0},null,0,0,0,0,0,0,0,0,0,0,0,0,{"$f":"SUM($S$51:$AD$51)","v":0},null,0,0,0,0,0,0,0,0,0,0,0,0,{"$f":"SUM($AG$51:$AR$51)","v":0},null,0,0,0,0,0,0,0,0,0,0,0,0,{"$f":"SUM($AU$51:$BF$51)","v":0},null,0,0,0,0,0,0,0,0,0,0,0,0,{"$f":"SUM($BI$51:$BT$51)","v":0},null,0,0,0,0,0,0,0,0,0,0,0,0,{"$f":"SUM($BW$51:$CH$51)","v":0},null,0,0,0,0,0,0,0,0,0,0,0,0,{"$f":"SUM($CK$51:$CV$51)","v":0},null,0,0,0,0,0,0,0,0,0,0,0,0,{"$f":"SUM($CY$51:$DJ$51)","v":0},null,0,0,0,0,0,0,0,0,0,0,0,0,{"$f":"SUM($DM$51:$DX$51)","v":0},null,0,0,0,0,0,0,0,0,0,0,0,0,{"$f":"SUM($EA$51:$EL$51)","v":0},null,0,0,0,0,0,0,0,0,0,0,0,0,{"$f":"SUM($EO$51:$EZ$51)","v":0},null,0,0,0,0,0,0,0,0,0,0,0,0,{"$f":"SUM($FC$51:$FN$51)","v":0}]
[{"$f":"C51&D52","v":"BR"},null,null,"R",null,null,null,null,null,null,null,null,null,null,null,null,{"$f":"SUM($E$52:$P$52)","v":0},null,null,null,null,null,null,null,null,null,null,null,null,null,{"$f":"SUM($S$52:$AD$52)","v":0},null,null,null,null,null,null,null,null,null,null,null,null,null,{"$f":"SUM($AG$52:$AR$52)","v":0},null,null,null,null,null,null,null,null,null,null,null,null,null,{"$f":"SUM($AU$52:$BF$52)","v":0},null,null,null,null,null,null,null,null,null,null,null,null,null,{"$f":"SUM($BI$52:$BT$52)","v":0},null,null,null,null,null,null,null,null,null,null,null,null,null,{"$f":"SUM($BW$52:$CH$52)","v":0},null,null,null,null,null,null,null,null,null,null,null,null,null,{"$f":"SUM($CK$52:$CV$52)","v":0},null,null,null,null,null,null,null,null,null,null,null,null,null,{"$f":"SUM($CY$52:$DJ$52)","v":0},null,null,null,null,null,null,null,null,null,null,null,null,null,{"$f":"SUM($DM$52:$DX$52)","v":0},null,null,null,null,null,null,null,null,null,null,null,null,null,{"$f":"SUM($EA$52:$EL$52)","v":0},null,null,null,null,null,null,null,null,null,null,null,null,null,{"$f":"SUM($EO$52:$EZ$52)","v":0},null,null,null,null,null,null,null,null,null,null,null,null,null,{"$f":"SUM($FC$52:$FN$52)","v":0}]
[{"$f":"C53&D53","v":"CP"},null,"C","P",0,0,0,0,0,0,0,0,0,0,0,0,{"$f":"SUM($E$53:$P$53)","v":0},null,0,0,0,0,0,0,0,0,0,0,0,0,{"$f":"SUM($S$53:$AD$53)","v":0},null,0,0,0,0,0,0,0,0,0,0,0,0,{"$f":"SUM($AG$53:$AR$53)","v":0},null,0,0,0,0,0,0,0,0,0,0,0,0,{"$f":"SUM($AU$53:$BF$53)","v":0},null,0,0,0,0,0,0,0,0,0,0,0,0,{"$f":"SUM($BI$53:$BT$53)","v":0},null,0,0,0,0,0,0,0,0,0,0,0,0,{"$f":"SUM($BW$53:$CH$53)","v":0},null,0,0,0,0,0,0,0,0,0,0,0,0,{"$f":"SUM($CK$53:$CV$53)","v":0},null,0,0,0,0,0,0,0,0,0,0,0,0,{"$f":"SUM($CY$53:$DJ$53)","v":0},null,0,0,0,0,0,0,0,0,0,0,0,0,{"$f":"SUM($DM$53:$DX$53)","v":0},null,0,0,0,0,0,0,0,0,0,0,0,0,{"$f":"SUM($EA$53:$EL$53)","v":0},null,0,0,0,0,0,0,0,0,0,0,0,0,{"$f":"SUM($EO$53:$EZ$53)","v":0},null,0,0,0,0,0,0,0,0,0,0,0,0,{"$f":"SUM($FC$53:$FN$53)","v":0}]
[{"$f":"C53&D54","v":"CR"},null,null,"R",null,null,null,null,null,null,null,null,null,null,null,null,{"$f":"SUM($E$54:$P$54)","v":0},null,null,null,null,null,null,null,null,null,null,null,null,null,{"$f":"SUM($S$54:$AD$54)","v":0},null,null,null,null,null,null,null,null,null,null,null,null,null,{"$f":"SUM($AG$54:$AR$54)","v":0},null,null,null,null,null,null,null,null,null,null,null,null,null,{"$f":"SUM($AU$54:$BF$54)","v":0},null,null,null,null,null,null,null,null,null,null,null,null,null,{"$f":"SUM($BI$54:$BT$54)","v":0},null,null,null,null,null,null,null,null,null,null,null,null,null,{"$f":"SUM($BW$54:$CH$54)","v":0},null,null,null,null,null,null,null,null,null,null,null,null,null,{"$f":"SUM($CK$54:$CV$54)","v":0},null,null,null,null,null,null,null,null,null,null,null,null,null,{"$f":"SUM($CY$54:$DJ$54)","v":0},null,null,null,null,null,null,null,null,null,null,null,null,null,{"$f":"SUM($DM$54:$DX$54)","v":0},null,null,null,null,null,null,null,null,null,null,null,null,null,{"$f":"SUM($EA$54:$EL$54)","v":0},null,null,null,null,null,null,null,null,null,null,null,null,null,{"$f":"SUM($EO$54:$EZ$54)","v":0},null,null,null,null,null,null,null,null,null,null,null,null,null,{"$f":"SUM($FC$54:$FN$54)","v":0}]
[{"$f":"C55&D55","v":"Entrada de Financiamento / CusteioP"},null,"Entrada de Financiamento / Custeio","P",0,0,0,0,0,0,0,0,0,0,0,0,{"$f":"SUM($E$55:$P$55)","v":0},null,0,0,0,0,0,0,0,0,0,0,0,0,{"$f":"SUM($S$55:$AD$55)","v":0},null,0,0,0,0,0,0,0,0,0,0,0,0,{"$f":"SUM($AG$55:$AR$55)","v":0},null,0,0,0,0,0,0,0,0,0,0,0,0,{"$f":"SUM($AU$55:$BF$55)","v":0},null,0,0,0,0,0,0,0,0,0,0,0,0,{"$f":"SUM($BI$55:$BT$55)","v":0},null,0,0,0,0,0,0,0,0,0,0,0,0,{"$f":"SUM($BW$55:$CH$55)","v":0},null,0,0,0,0,0,0,0,0,0,0,0,0,{"$f":"SUM($CK$55:$CV$55)","v":0},null,0,0,0,0,0,0,0,0,0,0,0,0,{"$f":"SUM($CY$55:$DJ$55)","v":0},null,0,0,0,0,0,0,0,0,0,0,0,0,{"$f":"SUM($DM$55:$DX$55)","v":0},null,0,0,0,0,0,0,0,0,0,0,0,0,{"$f":"SUM($EA$55:$EL$55)","v":0},null,0,0,0,0,0,0,0,0,0,0,0,0,{"$f":"SUM($EO$55:$EZ$55)","v":0},null,0,0,0,0,0,0,0,0,0,0,0,0,{"$f":"SUM($FC$55:$FN$55)","v":0}]
[{"$f":"C55&D56","v":"Entrada de Financiamento / CusteioR"},null,null,"R",null,null,null,null,null,null,null,null,null,null,null,null,{"$f":"SUM($E$56:$P$56)","v":0},null,null,null,null,null,null,null,null,null,null,null,null,null,{"$f":"SUM($S$56:$AD$56)","v":0},null,null,null,null,null,null,null,null,null,null,null,null,null,{"$f":"SUM($AG$56:$AR$56)","v":0},null,null,null,null,null,null,null,null,null,null,null,null,null,{"$f":"SUM($AU$56:$BF$56)","v":0},null,null,null,null,null,null,null,null,null,null,null,null,null,{"$f":"SUM($BI$56:$BT$56)","v":0},null,null,null,null,null,null,null,null,null,null,null,null,null,{"$f":"SUM($BW$56:$CH$56)","v":0},null,null,null,null,null,null,null,null,null,null,null,null,null,{"$f":"SUM($CK$56:$CV$56)","v":0},null,null,null,null,null,null,null,null,null,null,null,null,null,{"$f":"SUM($CY$56:$DJ$56)","v":0},null,null,null,null,null,null,null,null,null,null,null,null,null,{"$f":"SUM($DM$56:$DX$56)","v":0},null,null,null,null,null,null,null,null,null,null,null,null,null,{"$f":"SUM($EA$56:$EL$56)","v":0},null,null,null,null,null,null,null,null,null,null,null,null,null,{"$f":"SUM($EO$56:$EZ$56)","v":0},null,null,null,null,null,null,null,null,null,null,null,null,null,{"$f":"SUM($FC$56:$FN$56)","v":0}]
[{"$f":"C57&D57","v":"Total EntradasP"},null,"Total Entradas","P",{"$f":"SUMIF($D$49:$D$56,$D57,E49:E56)","v":0},{"$f":"SUMIF($D$49:$D$56,$D57,F49:F56)","v":0},{"$f":"SUMIF($D$49:$D$56,$D57,G49:G56)","v":0},0,0,0,0,0,0,0,0,0,0,null,{"$f":"SUMIF($D$49:$D$56,$D57,S49:S56)","v":0},{"$f":"SUMIF($D$49:$D$56,$D57,T49:T56)","v":0},{"$f":"SUMIF($D$49:$D$56,$D57,U49:U56)","v":0},0,0,0,0,0,0,0,0,0,0,null,{"$f":"SUMIF($D$49:$D$56,$D57,AG49:AG56)","v":0},{"$f":"SUMIF($D$49:$D$56,$D57,AH49:AH56)","v":0},{"$f":"SUMIF($D$49:$D$56,$D57,AI49:AI56)","v":0},0,0,0,0,0,0,0,0,0,0,null,{"$f":"SUMIF($D$49:$D$56,$D57,AU49:AU56)","v":0},{"$f":"SUMIF($D$49:$D$56,$D57,AV49:AV56)","v":0},{"$f":"SUMIF($D$49:$D$56,$D57,AW49:AW56)","v":0},0,0,0,0,0,0,0,0,0,0,null,{"$f":"SUMIF($D$49:$D$56,$D57,BI49:BI56)","v":0},{"$f":"SUMIF($D$49:$D$56,$D57,BJ49:BJ56)","v":0},{"$f":"SUMIF($D$49:$D$56,$D57,BK49:BK56)","v":0},0,0,0,0,0,0,0,0,0,0,null,{"$f":"SUMIF($D$49:$D$56,$D57,BW49:BW56)","v":0},{"$f":"SUMIF($D$49:$D$56,$D57,BX49:BX56)","v":0},{"$f":"SUMIF($D$49:$D$56,$D57,BY49:BY56)","v":0},0,0,0,0,0,0,0,0,0,0,null,{"$f":"SUMIF($D$49:$D$56,$D57,CK49:CK56)","v":0},{"$f":"SUMIF($D$49:$D$56,$D57,CL49:CL56)","v":0},{"$f":"SUMIF($D$49:$D$56,$D57,CM49:CM56)","v":0},0,0,0,0,0,0,0,0,0,0,null,{"$f":"SUMIF($D$49:$D$56,$D57,CY49:CY56)","v":0},{"$f":"SUMIF($D$49:$D$56,$D57,CZ49:CZ56)","v":0},{"$f":"SUMIF($D$49:$D$56,$D57,DA49:DA56)","v":0},0,0,0,0,0,0,0,0,0,0,null,{"$f":"SUMIF($D$49:$D$56,$D57,DM49:DM56)","v":0},{"$f":"SUMIF($D$49:$D$56,$D57,DN49:DN56)","v":0},{"$f":"SUMIF($D$49:$D$56,$D57,DO49:DO56)","v":0},0,0,0,0,0,0,0,0,0,0,null,{"$f":"SUMIF($D$49:$D$56,$D57,EA49:EA56)","v":0},{"$f":"SUMIF($D$49:$D$56,$D57,EB49:EB56)","v":0},{"$f":"SUMIF($D$49:$D$56,$D57,EC49:EC56)","v":0},0,0,0,0,0,0,0,0,0,0,null,{"$f":"SUMIF($D$49:$D$56,$D57,EO49:EO56)","v":0},{"$f":"SUMIF($D$49:$D$56,$D57,EP49:EP56)","v":0},{"$f":"SUMIF($D$49:$D$56,$D57,EQ49:EQ56)","v":0},0,0,0,0,0,0,0,0,0,0,null,{"$f":"SUMIF($D$49:$D$56,$D57,FC49:FC56)","v":0},{"$f":"SUMIF($D$49:$D$56,$D57,FD49:FD56)","v":0},{"$f":"SUMIF($D$49:$D$56,$D57,FE49:FE56)","v":0},0,0,0,0,0,0,0,0,0,0]
[{"$f":"C57&D58","v":"Total EntradasR"},null,null,"R",{"$f":"SUMIF($D$49:$D$56,$D58,E$49:E$56)","v":0},{"$f":"SUMIF($D$49:$D$56,$D58,F$49:F$56)","v":0},0,0,0,0,0,0,0,0,0,0,0,null,{"$f":"SUMIF($D$49:$D$56,$D58,S$49:S$56)","v":0},{"$f":"SUMIF($D$49:$D$56,$D58,T$49:T$56)","v":0},0,0,0,0,0,0,0,0,0,0,0,null,{"$f":"SUMIF($D$49:$D$56,$D58,AG$49:AG$56)","v":0},{"$f":"SUMIF($D$49:$D$56,$D58,AH$49:AH$56)","v":0},0,0,0,0,0,0,0,0,0,0,0,null,{"$f":"SUMIF($D$49:$D$56,$D58,AU$49:AU$56)","v":0},{"$f":"SUMIF($D$49:$D$56,$D58,AV$49:AV$56)","v":0},0,0,0,0,0,0,0,0,0,0,0,null,{"$f":"SUMIF($D$49:$D$56,$D58,BI$49:BI$56)","v":0},{"$f":"SUMIF($D$49:$D$56,$D58,BJ$49:BJ$56)","v":0},0,0,0,0,0,0,0,0,0,0,0,null,{"$f":"SUMIF($D$49:$D$56,$D58,BW$49:BW$56)","v":0},{"$f":"SUMIF($D$49:$D$56,$D58,BX$49:BX$56)","v":0},0,0,0,0,0,0,0,0,0,0,0,null,{"$f":"SUMIF($D$49:$D$56,$D58,CK$49:CK$56)","v":0},{"$f":"SUMIF($D$49:$D$56,$D58,CL$49:CL$56)","v":0},0,0,0,0,0,0,0,0,0,0,0,null,{"$f":"SUMIF($D$49:$D$56,$D58,CY$49:CY$56)","v":0},{"$f":"SUMIF($D$49:$D$56,$D58,CZ$49:CZ$56)","v":0},0,0,0,0,0,0,0,0,0,0,0,null,{"$f":"SUMIF($D$49:$D$56,$D58,DM$49:DM$56)","v":0},{"$f":"SUMIF($D$49:$D$56,$D58,DN$49:DN$56)","v":0},0,0,0,0,0,0,0,0,0,0,0,null,{"$f":"SUMIF($D$49:$D$56,$D58,EA$49:EA$56)","v":0},{"$f":"SUMIF($D$49:$D$56,$D58,EB$49:EB$56)","v":0},0,0,0,0,0,0,0,0,0,0,0,null,{"$f":"SUMIF($D$49:$D$56,$D58,EO$49:EO$56)","v":0},{"$f":"SUMIF($D$49:$D$56,$D58,EP$49:EP$56)","v":0},0,0,0,0,0,0,0,0,0,0,0,null,{"$f":"SUMIF($D$49:$D$56,$D58,FC$49:FC$56)","v":0},{"$f":"SUMIF($D$49:$D$56,$D58,FD$49:FD$56)","v":0},0,0,0,0,0,0,0,0,0,0,0]
[{"$f":"C59&D59","v":""}]
[{"$f":"C59&D60","v":""},"Saldo de Exercícios Anteriores"]
[{"$f":"B61&D61","v":"Saldo de Caixa MensalP"},"Saldo de Caixa Mensal",null,"P",{"$f":"E57-E45","v":0},0,0,0,0,0,0,0,0,0,0,0,0,null,{"$f":"S57-S45","v":0},0,0,0,0,0,0,0,0,0,0,0,0,null,{"$f":"AG57-AG45","v":0},0,0,0,0,0,0,0,0,0,0,0,0,null,{"$f":"AU57-AU45","v":0},0,0,0,0,0,0,0,0,0,0,0,0,null,{"$f":"BI57-BI45","v":0},0,0,0,0,0,0,0,0,0,0,0,0,null,{"$f":"BW57-BW45","v":0},0,0,0,0,0,0,0,0,0,0,0,0,null,{"$f":"CK57-CK45","v":0},0,0,0,0,0,0,0,0,0,0,0,0,null,{"$f":"CY57-CY45","v":0},0,0,0,0,0,0,0,0,0,0,0,0,null,{"$f":"DM57-DM45","v":0},0,0,0,0,0,0,0,0,0,0,0,0,null,{"$f":"EA57-EA45","v":0},0,0,0,0,0,0,0,0,0,0,0,0,null,{"$f":"EO57-EO45","v":0},0,0,0,0,0,0,0,0,0,0,0,0,null,{"$f":"FC57-FC45","v":0},0,0,0,0,0,0,0,0,0,0,0,0]
[{"$f":"B61&D62","v":"Saldo de Caixa MensalR"},null,null,"R",{"$f":"E58-E46","v":0},0,0,0,0,0,0,0,0,0,0,0,0,null,{"$f":"S58-S46","v":0},0,0,0,0,0,0,0,0,0,0,0,0,null,{"$f":"AG58-AG46","v":0},0,0,0,0,0,0,0,0,0,0,0,0,null,{"$f":"AU58-AU46","v":0},0,0,0,0,0,0,0,0,0,0,0,0,null,{"$f":"BI58-BI46","v":0},0,0,0,0,0,0,0,0,0,0,0,0,null,{"$f":"BW58-BW46","v":0},0,0,0,0,0,0,0,0,0,0,0,0,null,{"$f":"CK58-CK46","v":0},0,0,0,0,0,0,0,0,0,0,0,0,null,{"$f":"CY58-CY46","v":0},0,0,0,0,0,0,0,0,0,0,0,0,null,{"$f":"DM58-DM46","v":0},0,0,0,0,0,0,0,0,0,0,0,0,null,{"$f":"EA58-EA46","v":0},0,0,0,0,0,0,0,0,0,0,0,0,null,{"$f":"EO58-EO46","v":0},0,0,0,0,0,0,0,0,0,0,0,0,null,{"$f":"FC58-FC46","v":0},0,0,0,0,0,0,0,0,0,0,0,0]
[{"$f":"B63&D63","v":"Caixa AcumuladoP"},"Caixa Acumulado",null,"P",{"$f":"E61","v":0},{"$f":"F61+E63","v":0},{"$f":"G61+F63","v":0},0,0,0,{"$f":"K61+J63","v":0},0,0,0,0,0,null,null,{"$f":"S61+P63","v":0},{"$f":"T61+S63","v":0},{"$f":"U61+T63","v":0},0,0,0,0,0,0,0,0,{"$f":"AD61+AC63","v":0},null,null,{"$f":"AG61+AD63","v":0},{"$f":"AH61+AG63","v":0},{"$f":"AI61+AH63","v":0},0,0,0,0,0,0,0,0,{"$f":"AR61+AQ63","v":0},null,null,{"$f":"AU61+AR63","v":0},{"$f":"AV61+AU63","v":0},{"$f":"AW61+AV63","v":0},0,0,0,0,0,0,0,0,{"$f":"BF61+BE63","v":0},null,null,{"$f":"BI61+BF63","v":0},{"$f":"BJ61+BI63","v":0},{"$f":"BK61+BJ63","v":0},0,0,0,0,0,0,0,0,{"$f":"BT61+BS63","v":0},null,null,{"$f":"BW61+BT63","v":0},{"$f":"BX61+BW63","v":0},{"$f":"BY61+BX63","v":0},0,0,0,0,0,0,0,0,{"$f":"CH61+CG63","v":0},null,null,{"$f":"CK61+CH63","v":0},{"$f":"CL61+CK63","v":0},{"$f":"CM61+CL63","v":0},0,0,0,0,0,0,0,0,{"$f":"CV61+CU63","v":0},null,null,{"$f":"CY61+CV63","v":0},{"$f":"CZ61+CY63","v":0},{"$f":"DA61+CZ63","v":0},0,0,0,0,0,0,0,0,{"$f":"DJ61+DI63","v":0},null,null,{"$f":"DM61+DJ63","v":0},{"$f":"DN61+DM63","v":0},{"$f":"DO61+DN63","v":0},0,0,0,0,0,0,0,0,{"$f":"DX61+DW63","v":0},null,null,{"$f":"EA61+DX63","v":0},{"$f":"EB61+EA63","v":0},{"$f":"EC61+EB63","v":0},0,0,0,0,0,0,0,0,{"$f":"EL61+EK63","v":0},null,null,{"$f":"EO61+EL63","v":0},{"$f":"EP61+EO63","v":0},{"$f":"EQ61+EP63","v":0},0,0,0,0,0,0,0,0,{"$f":"EZ61+EY63","v":0},null,null,{"$f":"FC61+EZ63","v":0},{"$f":"FD61+FC63","v":0},{"$f":"FE61+FD63","v":0},0,0,0,0,0,0,0,0,{"$f":"FN61+FM63","v":0}]
[{"$f":"B63&D64","v":"Caixa AcumuladoR"},null,null,"R",{"$f":"E60+E62","v":0},{"$f":"E64+F62","v":0},{"$f":"F64+G62","v":0},0,0,0,0,0,0,0,0,0,null,null,{"$f":"S62+P64","v":0},{"$f":"T62+S64","v":0},0,0,0,0,0,0,0,0,0,0,null,null,{"$f":"AG62+AD64","v":0},{"$f":"AH62+AG64","v":0},0,0,0,0,0,0,0,0,0,0,null,null,{"$f":"AU62+AR64","v":0},{"$f":"AV62+AU64","v":0},0,0,0,0,0,0,0,0,0,0,null,null,{"$f":"BI62+BF64","v":0},{"$f":"BJ62+BI64","v":0},0,0,0,0,0,0,0,0,0,0,null,null,{"$f":"BW62+BT64","v":0},{"$f":"BX62+BW64","v":0},0,0,0,0,0,0,0,0,0,0,null,null,{"$f":"CK62+CH64","v":0},{"$f":"CL62+CK64","v":0},0,0,0,0,0,0,0,0,0,0,null,null,{"$f":"CY62+CV64","v":0},{"$f":"CZ62+CY64","v":0},0,0,0,0,0,0,0,0,0,0,null,null,{"$f":"DM62+DJ64","v":0},{"$f":"DN62+DM64","v":0},0,0,0,0,0,0,0,0,0,0,null,null,{"$f":"EA62+DX64","v":0},{"$f":"EB62+EA64","v":0},0,0,0,0,0,0,0,0,0,0,null,null,{"$f":"EO62+EL64","v":0},{"$f":"EP62+EO64","v":0},0,0,0,0,0,0,0,0,0,0,null,null,{"$f":"FC62+EZ64","v":0},{"$f":"FD62+FC64","v":0},0,0,0,0,0,0,0,0,0,0]

{"sheet":"Geral Propriedade","index":10,"n_rows":74,"n_cols":182,"rows_kept":74,"cut":false,"hidden":false,"merged":[[0,129,1,141],[0,143,1,155],[0,157,1,169],[0,59,1,71],[0,73,1,85],[0,87,1,99],[0,101,1,113],[0,115,1,127],[2,45,2,57],[2,3,2,15],[2,17,2,29],[2,31,2,43],[0,3,1,15],[0,17,1,29],[0,31,1,43],[0,45,1,57],[2,143,2,155],[2,157,2,169],[4,0,23,0],[4,1,5,1],[6,1,7,1],[8,1,9,1],[10,1,11,1],[12,1,13,1],[14,1,15,1],[16,1,17,1],[2,59,2,71],[2,73,2,85],[2,87,2,99],[2,101,2,113],[2,115,2,127],[2,129,2,141],[22,1,23,1],[26,1,27,1],[28,1,29,1],[18,1,19,1],[20,1,21,1],[26,0,45,0],[34,1,35,1],[36,1,37,1],[38,1,39,1],[40,1,41,1],[42,1,43,1],[44,1,45,1],[30,1,31,1],[32,1,33,1],[47,0,47,1],[73,0,78,2],[58,1,59,1],[60,1,61,1],[53,0,56,0],[58,0,61,0],[69,0,72,0],[69,1,70,1],[71,1,72,1],[64,0,65,1],[66,0,67,1],[63,0,63,1],[53,1,54,1],[55,1,56,1],[50,0,51,1],[48,0,49,1]]}
[null,null,null,"Resumo Propriedade",null,null,null,null,null,null,null,null,null,null,null,null,null,"Resumo Propriedade",null,null,null,null,null,null,null,null,null,null,null,null,null,"Resumo Propriedade",null,null,null,null,null,null,null,null,null,null,null,null,null,"Resumo Propriedade",null,null,null,null,null,null,null,null,null,null,null,null,null,"Resumo Propriedade",null,null,null,null,null,null,null,null,null,null,null,null,null,"Resumo Propriedade",null,null,null,null,null,null,null,null,null,null,null,null,null,"Resumo Propriedade",null,null,null,null,null,null,null,null,null,null,null,null,null,"Resumo Propriedade",null,null,null,null,null,null,null,null,null,null,null,null,null,"Resumo Propriedade",null,null,null,null,null,null,null,null,null,null,null,null,null,"Resumo Propriedade",null,null,null,null,null,null,null,null,null,null,null,null,null,"Resumo Propriedade",null,null,null,null,null,null,null,null,null,null,null,null,null,"Resumo Propriedade"]
[null,null,null,null,null,null,null,null,null,null,null,null,null,null,null,null,null,null,null,null,null,null,null,null,null,null,null,null,null,null,null,null,null,null,null,null,null,null,null,null,null,null,null,null,null,null,null,null,null,null,null,null,null,null,null,null,null,null,null,null,null,null,null,null,null,null,null,null,null,null,null,null,null,null,null,null,null,null,null,null,null,null,null,null,null,null,null,null,null,null,null,null,null,null,null,null,null,null,null,null,null,null,null,null,null,null,null,null,null,null,null,null,null,null,null,null,null,null,null,null,null,null,null,null,null,null,null,null,null,null,null,null,null,null,null,null,null,null,null,null,null,null,null,null,null,null,null,null,null,null,null,null,null,null,null,null,null,null,null,null,null,null,null,null,null,null,null,null,null,null,null,null,null,null,null,null,null,null,null,1,{"$f":"VLOOKUP(FX2,FX3:FY14,2,0)","v":2017},{"$f":"VLOOKUP(FY2,$FY$3:$FZ$14,2,0)","v":"R3C5"}]
[null,null,null,{"$f":"MENU!F6","v":0},null,null,null,null,null,null,null,null,null,null,null,null,null,{"$f":"D3+1","v":1},null,null,null,null,null,null,null,null,null,null,null,null,null,{"$f":"R3+1","v":2},null,null,null,null,null,null,null,null,null,null,null,null,null,{"$f":"AF3+1","v":3},null,null,null,null,null,null,null,null,null,null,null,null,null,{"$f":"AT3+1","v":4},null,null,null,null,null,null,null,null,null,null,null,null,null,{"$f":"BH3+1","v":5},null,null,null,null,null,null,null,null,null,null,null,null,null,{"$f":"BV3+1","v":6},null,null,null,null,null,null,null,null,null,null,null,null,null,{"$f":"CJ3+1","v":7},null,null,null,null,null,null,null,null,null,null,null,null,null,{"$f":"CX3+1","v":8},null,null,null,null,null,null,null,null,null,null,null,null,null,{"$f":"DL3+1","v":9},null,null,null,null,null,null,null,null,null,null,null,null,null,{"$f":"DZ3+1","v":10},null,null,null,null,null,null,null,null,null,null,null,null,null,{"$f":"EN3+1","v":11},null,null,null,null,null,null,null,null,null,null,null,null,null,null,null,null,null,null,null,null,null,1,2017,"R3C5"]
[null,"Atividade",null,"Jan","Fev","Mar","Abr","Mai","Jun","Jul","Ago","Set","Out","Nov","Dez","Total",null,"Jan","Fev","Mar","Abr","Mai","Jun","Jul","Ago","Set","Out","Nov","Dez","Total",null,"Jan","Fev","Mar","Abr","Mai","Jun","Jul","Ago","Set","Out","Nov","Dez","Total",null,"Jan","Fev","Mar","Abr","Mai","Jun","Jul","Ago","Set","Out","Nov","Dez","Total",null,"Jan","Fev","Mar","Abr","Mai","Jun","Jul","Ago","Set","Out","Nov","Dez","Total",null,"Jan","Fev","Mar","Abr","Mai","Jun","Jul","Ago","Set","Out","Nov","Dez","Total",null,"Jan","Fev","Mar","Abr","Mai","Jun","Jul","Ago","Set","Out","Nov","Dez","Total",null,"Jan","Fev","Mar","Abr","Mai","Jun","Jul","Ago","Set","Out","Nov","Dez","Total",null,"Jan","Fev","Mar","Abr","Mai","Jun","Jul","Ago","Set","Out","Nov","Dez","Total",null,"Jan","Fev","Mar","Abr","Mai","Jun","Jul","Ago","Set","Out","Nov","Dez","Total",null,"Jan","Fev","Mar","Abr","Mai","Jun","Jul","Ago","Set","Out","Nov","Dez","Total",null,"Jan","Fev","Mar","Abr","Mai","Jun","Jul","Ago","Set","Out","Nov","Dez","Total",null,null,null,null,null,null,null,null,null,2,2018,"R3C19"]
["Saídas de Caixa",{"$f":"MENU!C25","v":"Avicultura"},"P",{"$f":"'Atividade 1'!E45","v":0},{"$f":"'Atividade 1'!F45","v":0},{"$f":"'Atividade 1'!G45","v":0},{"$f":"'Atividade 1'!H45","v":0},{"$f":"'Atividade 1'!I45","v":0},{"$f":"'Atividade 1'!J45","v":0},{"$f":"'Atividade 1'!K45","v":0},{"$f":"'Atividade 1'!L45","v":0},{"$f":"'Atividade 1'!M45","v":0},{"$f":"'Atividade 1'!N45","v":0},{"$f":"'Atividade 1'!O45","v":0},{"$f":"'Atividade 1'!P45","v":0},{"$f":"SUM(D5:O5)","v":0},null,{"$f":"'Atividade 1'!S45","v":0},{"$f":"'Atividade 1'!T45","v":0},{"$f":"'Atividade 1'!U45","v":0},{"$f":"'Atividade 1'!V45","v":0},{"$f":"'Atividade 1'!W45","v":0},{"$f":"'Atividade 1'!X45","v":0},{"$f":"'Atividade 1'!Y45","v":0},{"$f":"'Atividade 1'!Z45","v":0},{"$f":"'Atividade 1'!AA45","v":0},{"$f":"'Atividade 1'!AB45","v":0},{"$f":"'Atividade 1'!AC45","v":0},{"$f":"'Atividade 1'!AD45","v":0},{"$f":"SUM(R5:AC5)","v":0},null,{"$f":"'Atividade 1'!AG45","v":0},{"$f":"'Atividade 1'!AH45","v":0},{"$f":"'Atividade 1'!AI45","v":0},{"$f":"'Atividade 1'!AJ45","v":0},{"$f":"'Atividade 1'!AK45","v":0},{"$f":"'Atividade 1'!AL45","v":0},{"$f":"'Atividade 1'!AM45","v":0},{"$f":"'Atividade 1'!AN45","v":0},{"$f":"'Atividade 1'!AO45","v":0},{"$f":"'Atividade 1'!AP45","v":0},{"$f":"'Atividade 1'!AQ45","v":0},{"$f":"'Atividade 1'!AR45","v":0},{"$f":"SUM(AF5:AQ5)","v":0},null,{"$f":"'Atividade 1'!AU45","v":0},{"$f":"'Atividade 1'!AV45","v":0},{"$f":"'Atividade 1'!AW45","v":0},{"$f":"'Atividade 1'!AX45","v":0},{"$f":"'Atividade 1'!AY45","v":0},{"$f":"'Atividade 1'!AZ45","v":0},{"$f":"'Atividade 1'!BA45","v":0},{"$f":"'Atividade 1'!BB45","v":0},{"$f":"'Atividade 1'!BC45","v":0},{"$f":"'Atividade 1'!BD45","v":0},{"$f":"'Atividade 1'!BE45","v":0},{"$f":"'Atividade 1'!BF45","v":0},{"$f":"SUM(AT5:BE5)","v":0},null,{"$f":"'Atividade 1'!BI45","v":0},{"$f":"'Atividade 1'!BJ45","v":0},{"$f":"'Atividade 1'!BK45","v":0},{"$f":"'Atividade 1'!BL45","v":0},{"$f":"'Atividade 1'!BM45","v":0},{"$f":"'Atividade 1'!BN45","v":0},{"$f":"'Atividade 1'!BO45","v":0},{"$f":"'Atividade 1'!BP45","v":0},{"$f":"'Atividade 1'!BQ45","v":0},{"$f":"'Atividade 1'!BR45","v":0},{"$f":"'Atividade 1'!BS45","v":0},{"$f":"'Atividade 1'!BT45","v":0},{"$f":"SUM(BH5:BS5)","v":0},null,{"$f":"'Atividade 1'!BW45","v":0},{"$f":"'Atividade 1'!BX45","v":0},{"$f":"'Atividade 1'!BY45","v":0},{"$f":"'Atividade 1'!BZ45","v":0},{"$f":"'Atividade 1'!CA45","v":0},{"$f":"'Atividade 1'!CB45","v":0},{"$f":"'Atividade 1'!CC45","v":0},{"$f":"'Atividade 1'!CD45","v":0},{"$f":"'Atividade 1'!CE45","v":0},{"$f":"'Atividade 1'!CF45","v":0},{"$f":"'Atividade 1'!CG45","v":0},{"$f":"'Atividade 1'!CH45","v":0},{"$f":"SUM(BV5:CG5)","v":0},null,{"$f":"'Atividade 1'!CK45","v":0},{"$f":"'Atividade 1'!CL45","v":0},{"$f":"'Atividade 1'!CM45","v":0},{"$f":"'Atividade 1'!CN45","v":0},{"$f":"'Atividade 1'!CO45","v":0},{"$f":"'Atividade 1'!CP45","v":0},{"$f":"'Atividade 1'!CQ45","v":0},{"$f":"'Atividade 1'!CR45","v":0},{"$f":"'Atividade 1'!CS45","v":0},{"$f":"'Atividade 1'!CT45","v":0},{"$f":"'Atividade 1'!CU45","v":0},{"$f":"'Atividade 1'!CV45","v":0},{"$f":"SUM(CJ5:CU5)","v":0},null,{"$f":"'Atividade 1'!CY45","v":0},{"$f":"'Atividade 1'!CZ45","v":0},{"$f":"'Atividade 1'!DA45","v":0},{"$f":"'Atividade 1'!DB45","v":0},{"$f":"'Atividade 1'!DC45","v":0},{"$f":"'Atividade 1'!DD45","v":0},{"$f":"'Atividade 1'!DE45","v":0},{"$f":"'Atividade 1'!DF45","v":0},{"$f":"'Atividade 1'!DG45","v":0},{"$f":"'Atividade 1'!DH45","v":0},{"$f":"'Atividade 1'!DI45","v":0},{"$f":"'Atividade 1'!DJ45","v":0},{"$f":"SUM(CX5:DI5)","v":0},null,{"$f":"'Atividade 1'!DM45","v":0},{"$f":"'Atividade 1'!DN45","v":0},{"$f":"'Atividade 1'!DO45","v":0},{"$f":"'Atividade 1'!DP45","v":0},{"$f":"'Atividade 1'!DQ45","v":0},{"$f":"'Atividade 1'!DR45","v":0},{"$f":"'Atividade 1'!DS45","v":0},{"$f":"'Atividade 1'!DT45","v":0},{"$f":"'Atividade 1'!DU45","v":0},{"$f":"'Atividade 1'!DV45","v":0},{"$f":"'Atividade 1'!DW45","v":0},{"$f":"'Atividade 1'!DX45","v":0},{"$f":"SUM(DL5:DW5)","v":0},null,{"$f":"'Atividade 1'!EA45","v":0},{"$f":"'Atividade 1'!EB45","v":0},{"$f":"'Atividade 1'!EC45","v":0},{"$f":"'Atividade 1'!ED45","v":0},{"$f":"'Atividade 1'!EE45","v":0},{"$f":"'Atividade 1'!EF45","v":0},{"$f":"'Atividade 1'!EG45","v":0},{"$f":"'Atividade 1'!EH45","v":0},{"$f":"'Atividade 1'!EI45","v":0},{"$f":"'Atividade 1'!EJ45","v":0},{"$f":"'Atividade 1'!EK45","v":0},{"$f":"'Atividade 1'!EL45","v":0},{"$f":"SUM(DZ5:EK5)","v":0},null,{"$f":"'Atividade 1'!EO45","v":0},{"$f":"'Atividade 1'!EP45","v":0},{"$f":"'Atividade 1'!EQ45","v":0},{"$f":"'Atividade 1'!ER45","v":0},{"$f":"'Atividade 1'!ES45","v":0},{"$f":"'Atividade 1'!ET45","v":0},{"$f":"'Atividade 1'!EU45","v":0},{"$f":"'Atividade 1'!EV45","v":0},{"$f":"'Atividade 1'!EW45","v":0},{"$f":"'Atividade 1'!EX45","v":0},{"$f":"'Atividade 1'!EY45","v":0},{"$f":"'Atividade 1'!EZ45","v":0},{"$f":"SUM(EN5:EY5)","v":0},null,{"$f":"'Atividade 1'!FC45","v":0},{"$f":"'Atividade 1'!FD45","v":0},{"$f":"'Atividade 1'!FE45","v":0},{"$f":"'Atividade 1'!FF45","v":0},{"$f":"'Atividade 1'!FG45","v":0},{"$f":"'Atividade 1'!FH45","v":0},{"$f":"'Atividade 1'!FI45","v":0},{"$f":"'Atividade 1'!FJ45","v":0},{"$f":"'Atividade 1'!FK45","v":0},{"$f":"'Atividade 1'!FL45","v":0},{"$f":"'Atividade 1'!FM45","v":0},{"$f":"'Atividade 1'!FN45","v":0},{"$f":"SUM(FB5:FM5)","v":0},null,null,null,null,null,null,null,null,null,3,2019,"R3C33"]
[null,null,"R",{"$f":"'Atividade 1'!E46","v":0},{"$f":"'Atividade 1'!F46","v":0},{"$f":"'Atividade 1'!G46","v":0},{"$f":"'Atividade 1'!H46","v":0},{"$f":"'Atividade 1'!I46","v":0},{"$f":"'Atividade 1'!J46","v":0},{"$f":"'Atividade 1'!K46","v":0},{"$f":"'Atividade 1'!L46","v":0},{"$f":"'Atividade 1'!M46","v":0},{"$f":"'Atividade 1'!N46","v":0},{"$f":"'Atividade 1'!O46","v":0},{"$f":"'Atividade 1'!P46","v":0},{"$f":"SUM(D6:O6)","v":0},null,{"$f":"'Atividade 1'!S46","v":0},{"$f":"'Atividade 1'!T46","v":0},{"$f":"'Atividade 1'!U46","v":0},{"$f":"'Atividade 1'!V46","v":0},{"$f":"'Atividade 1'!W46","v":0},{"$f":"'Atividade 1'!X46","v":0},{"$f":"'Atividade 1'!Y46","v":0},{"$f":"'Atividade 1'!Z46","v":0},{"$f":"'Atividade 1'!AA46","v":0},{"$f":"'Atividade 1'!AB46","v":0},{"$f":"'Atividade 1'!AC46","v":0},{"$f":"'Atividade 1'!AD46","v":0},{"$f":"SUM(R6:AC6)","v":0},null,{"$f":"'Atividade 1'!AG46","v":0},{"$f":"'Atividade 1'!AH46","v":0},{"$f":"'Atividade 1'!AI46","v":0},{"$f":"'Atividade 1'!AJ46","v":0},{"$f":"'Atividade 1'!AK46","v":0},{"$f":"'Atividade 1'!AL46","v":0},{"$f":"'Atividade 1'!AM46","v":0},{"$f":"'Atividade 1'!AN46","v":0},{"$f":"'Atividade 1'!AO46","v":0},{"$f":"'Atividade 1'!AP46","v":0},{"$f":"'Atividade 1'!AQ46","v":0},{"$f":"'Atividade 1'!AR46","v":0},{"$f":"SUM(AF6:AQ6)","v":0},null,{"$f":"'Atividade 1'!AU46","v":0},{"$f":"'Atividade 1'!AV46","v":0},{"$f":"'Atividade 1'!AW46","v":0},{"$f":"'Atividade 1'!AX46","v":0},{"$f":"'Atividade 1'!AY46","v":0},{"$f":"'Atividade 1'!AZ46","v":0},{"$f":"'Atividade 1'!BA46","v":0},{"$f":"'Atividade 1'!BB46","v":0},{"$f":"'Atividade 1'!BC46","v":0},{"$f":"'Atividade 1'!BD46","v":0},{"$f":"'Atividade 1'!BE46","v":0},{"$f":"'Atividade 1'!BF46","v":0},{"$f":"SUM(AT6:BE6)","v":0},null,{"$f":"'Atividade 1'!BI46","v":0},{"$f":"'Atividade 1'!BJ46","v":0},{"$f":"'Atividade 1'!BK46","v":0},{"$f":"'Atividade 1'!BL46","v":0},{"$f":"'Atividade 1'!BM46","v":0},{"$f":"'Atividade 1'!BN46","v":0},{"$f":"'Atividade 1'!BO46","v":0},{"$f":"'Atividade 1'!BP46","v":0},{"$f":"'Atividade 1'!BQ46","v":0},{"$f":"'Atividade 1'!BR46","v":0},{"$f":"'Atividade 1'!BS46","v":0},{"$f":"'Atividade 1'!BT46","v":0},{"$f":"SUM(BH6:BS6)","v":0},null,{"$f":"'Atividade 1'!BW46","v":0},{"$f":"'Atividade 1'!BX46","v":0},{"$f":"'Atividade 1'!BY46","v":0},{"$f":"'Atividade 1'!BZ46","v":0},{"$f":"'Atividade 1'!CA46","v":0},{"$f":"'Atividade 1'!CB46","v":0},{"$f":"'Atividade 1'!CC46","v":0},{"$f":"'Atividade 1'!CD46","v":0},{"$f":"'Atividade 1'!CE46","v":0},{"$f":"'Atividade 1'!CF46","v":0},{"$f":"'Atividade 1'!CG46","v":0},{"$f":"'Atividade 1'!CH46","v":0},{"$f":"SUM(BV6:CG6)","v":0},null,{"$f":"'Atividade 1'!CK46","v":0},{"$f":"'Atividade 1'!CL46","v":0},{"$f":"'Atividade 1'!CM46","v":0},{"$f":"'Atividade 1'!CN46","v":0},{"$f":"'Atividade 1'!CO46","v":0},{"$f":"'Atividade 1'!CP46","v":0},{"$f":"'Atividade 1'!CQ46","v":0},{"$f":"'Atividade 1'!CR46","v":0},{"$f":"'Atividade 1'!CS46","v":0},{"$f":"'Atividade 1'!CT46","v":0},{"$f":"'Atividade 1'!CU46","v":0},{"$f":"'Atividade 1'!CV46","v":0},{"$f":"SUM(CJ6:CU6)","v":0},null,{"$f":"'Atividade 1'!CY46","v":0},{"$f":"'Atividade 1'!CZ46","v":0},{"$f":"'Atividade 1'!DA46","v":0},{"$f":"'Atividade 1'!DB46","v":0},{"$f":"'Atividade 1'!DC46","v":0},{"$f":"'Atividade 1'!DD46","v":0},{"$f":"'Atividade 1'!DE46","v":0},{"$f":"'Atividade 1'!DF46","v":0},{"$f":"'Atividade 1'!DG46","v":0},{"$f":"'Atividade 1'!DH46","v":0},{"$f":"'Atividade 1'!DI46","v":0},{"$f":"'Atividade 1'!DJ46","v":0},{"$f":"SUM(CX6:DI6)","v":0},null,{"$f":"'Atividade 1'!DM46","v":0},{"$f":"'Atividade 1'!DN46","v":0},{"$f":"'Atividade 1'!DO46","v":0},{"$f":"'Atividade 1'!DP46","v":0},{"$f":"'Atividade 1'!DQ46","v":0},{"$f":"'Atividade 1'!DR46","v":0},{"$f":"'Atividade 1'!DS46","v":0},{"$f":"'Atividade 1'!DT46","v":0},{"$f":"'Atividade 1'!DU46","v":0},{"$f":"'Atividade 1'!DV46","v":0},{"$f":"'Atividade 1'!DW46","v":0},{"$f":"'Atividade 1'!DX46","v":0},{"$f":"SUM(DL6:DW6)","v":0},null,{"$f":"'Atividade 1'!EA46","v":0},{"$f":"'Atividade 1'!EB46","v":0},{"$f":"'Atividade 1'!EC46","v":0},{"$f":"'Atividade 1'!ED46","v":0},{"$f":"'Atividade 1'!EE46","v":0},{"$f":"'Atividade 1'!EF46","v":0},{"$f":"'Atividade 1'!EG46","v":0},{"$f":"'Atividade 1'!EH46","v":0},{"$f":"'Atividade 1'!EI46","v":0},{"$f":"'Atividade 1'!EJ46","v":0},{"$f":"'Atividade 1'!EK46","v":0},{"$f":"'Atividade 1'!EL46","v":0},{"$f":"SUM(DZ6:EK6)","v":0},null,{"$f":"'Atividade 1'!EO46","v":0},{"$f":"'Atividade 1'!EP46","v":0},{"$f":"'Atividade 1'!EQ46","v":0},{"$f":"'Atividade 1'!ER46","v":0},{"$f":"'Atividade 1'!ES46","v":0},{"$f":"'Atividade 1'!ET46","v":0},{"$f":"'Atividade 1'!EU46","v":0},{"$f":"'Atividade 1'!EV46","v":0},{"$f":"'Atividade 1'!EW46","v":0},{"$f":"'Atividade 1'!EX46","v":0},{"$f":"'Atividade 1'!EY46","v":0},{"$f":"'Atividade 1'!EZ46","v":0},{"$f":"SUM(EN6:EY6)","v":0},null,{"$f":"'Atividade 1'!FC46","v":0},{"$f":"'Atividade 1'!FD46","v":0},{"$f":"'Atividade 1'!FE46","v":0},{"$f":"'Atividade 1'!FF46","v":0},{"$f":"'Atividade 1'!FG46","v":0},{"$f":"'Atividade 1'!FH46","v":0},{"$f":"'Atividade 1'!FI46","v":0},{"$f":"'Atividade 1'!FJ46","v":0},{"$f":"'Atividade 1'!FK46","v":0},{"$f":"'Atividade 1'!FL46","v":0},{"$f":"'Atividade 1'!FM46","v":0},{"$f":"'Atividade 1'!FN46","v":0},{"$f":"SUM(FB6:FM6)","v":0},null,null,null,null,null,null,null,null,null,4,2020,"R3C47"]
[null,{"$f":"MENU!C26","v":"Suinocultura"},"P",{"$f":"'Atividade 2'!E45","v":0},{"$f":"'Atividade 2'!F45","v":0},{"$f":"'Atividade 2'!G45","v":0},{"$f":"'Atividade 2'!H45","v":0},{"$f":"'Atividade 2'!I45","v":0},{"$f":"'Atividade 2'!J45","v":0},{"$f":"'Atividade 2'!K45","v":0},{"$f":"'Atividade 2'!L45","v":0},{"$f":"'Atividade 2'!M45","v":0},{"$f":"'Atividade 2'!N45","v":0},{"$f":"'Atividade 2'!O45","v":0},{"$f":"'Atividade 2'!P45","v":0},0,null,{"$f":"'Atividade 2'!S45","v":0},{"$f":"'Atividade 2'!T45","v":0},{"$f":"'Atividade 2'!U45","v":0},{"$f":"'Atividade 2'!V45","v":0},{"$f":"'Atividade 2'!W45","v":0},{"$f":"'Atividade 2'!X45","v":0},{"$f":"'Atividade 2'!Y45","v":0},{"$f":"'Atividade 2'!Z45","v":0},{"$f":"'Atividade 2'!AA45","v":0},{"$f":"'Atividade 2'!AB45","v":0},{"$f":"'Atividade 2'!AC45","v":0},{"$f":"'Atividade 2'!AD45","v":0},0,null,{"$f":"'Atividade 2'!AG45","v":0},{"$f":"'Atividade 2'!AH45","v":0},{"$f":"'Atividade 2'!AI45","v":0},{"$f":"'Atividade 2'!AJ45","v":0},{"$f":"'Atividade 2'!AK45","v":0},{"$f":"'Atividade 2'!AL45","v":0},{"$f":"'Atividade 2'!AM45","v":0},{"$f":"'Atividade 2'!AN45","v":0},{"$f":"'Atividade 2'!AO45","v":0},{"$f":"'Atividade 2'!AP45","v":0},{"$f":"'Atividade 2'!AQ45","v":0},{"$f":"'Atividade 2'!AR45","v":0},0,null,{"$f":"'Atividade 2'!AU45","v":0},{"$f":"'Atividade 2'!AV45","v":0},{"$f":"'Atividade 2'!AW45","v":0},{"$f":"'Atividade 2'!AX45","v":0},{"$f":"'Atividade 2'!AY45","v":0},{"$f":"'Atividade 2'!AZ45","v":0},{"$f":"'Atividade 2'!BA45","v":0},{"$f":"'Atividade 2'!BB45","v":0},{"$f":"'Atividade 2'!BC45","v":0},{"$f":"'Atividade 2'!BD45","v":0},{"$f":"'Atividade 2'!BE45","v":0},{"$f":"'Atividade 2'!BF45","v":0},0,null,{"$f":"'Atividade 2'!BI45","v":0},{"$f":"'Atividade 2'!BJ45","v":0},{"$f":"'Atividade 2'!BK45","v":0},{"$f":"'Atividade 2'!BL45","v":0},{"$f":"'Atividade 2'!BM45","v":0},{"$f":"'Atividade 2'!BN45","v":0},{"$f":"'Atividade 2'!BO45","v":0},{"$f":"'Atividade 2'!BP45","v":0},{"$f":"'Atividade 2'!BQ45","v":0},{"$f":"'Atividade 2'!BR45","v":0},{"$f":"'Atividade 2'!BS45","v":0},{"$f":"'Atividade 2'!BT45","v":0},0,null,{"$f":"'Atividade 2'!BW45","v":0},{"$f":"'Atividade 2'!BX45","v":0},{"$f":"'Atividade 2'!BY45","v":0},{"$f":"'Atividade 2'!BZ45","v":0},{"$f":"'Atividade 2'!CA45","v":0},{"$f":"'Atividade 2'!CB45","v":0},{"$f":"'Atividade 2'!CC45","v":0},{"$f":"'Atividade 2'!CD45","v":0},{"$f":"'Atividade 2'!CE45","v":0},{"$f":"'Atividade 2'!CF45","v":0},{"$f":"'Atividade 2'!CG45","v":0},{"$f":"'Atividade 2'!CH45","v":0},0,null,{"$f":"'Atividade 2'!CK45","v":0},{"$f":"'Atividade 2'!CL45","v":0},{"$f":"'Atividade 2'!CM45","v":0},{"$f":"'Atividade 2'!CN45","v":0},{"$f":"'Atividade 2'!CO45","v":0},{"$f":"'Atividade 2'!CP45","v":0},{"$f":"'Atividade 2'!CQ45","v":0},{"$f":"'Atividade 2'!CR45","v":0},{"$f":"'Atividade 2'!CS45","v":0},{"$f":"'Atividade 2'!CT45","v":0},{"$f":"'Atividade 2'!CU45","v":0},{"$f":"'Atividade 2'!CV45","v":0},0,null,{"$f":"'Atividade 2'!CY45","v":0},{"$f":"'Atividade 2'!CZ45","v":0},{"$f":"'Atividade 2'!DA45","v":0},{"$f":"'Atividade 2'!DB45","v":0},{"$f":"'Atividade 2'!DC45","v":0},{"$f":"'Atividade 2'!DD45","v":0},{"$f":"'Atividade 2'!DE45","v":0},{"$f":"'Atividade 2'!DF45","v":0},{"$f":"'Atividade 2'!DG45","v":0},{"$f":"'Atividade 2'!DH45","v":0},{"$f":"'Atividade 2'!DI45","v":0},{"$f":"'Atividade 2'!DJ45","v":0},0,null,{"$f":"'Atividade 2'!DM45","v":0},{"$f":"'Atividade 2'!DN45","v":0},{"$f":"'Atividade 2'!DO45","v":0},{"$f":"'Atividade 2'!DP45","v":0},{"$f":"'Atividade 2'!DQ45","v":0},{"$f":"'Atividade 2'!DR45","v":0},{"$f":"'Atividade 2'!DS45","v":0},{"$f":"'Atividade 2'!DT45","v":0},{"$f":"'Atividade 2'!DU45","v":0},{"$f":"'Atividade 2'!DV45","v":0},{"$f":"'Atividade 2'!DW45","v":0},{"$f":"'Atividade 2'!DX45","v":0},0,null,{"$f":"'Atividade 2'!EA45","v":0},{"$f":"'Atividade 2'!EB45","v":0},{"$f":"'Atividade 2'!EC45","v":0},{"$f":"'Atividade 2'!ED45","v":0},{"$f":"'Atividade 2'!EE45","v":0},{"$f":"'Atividade 2'!EF45","v":0},{"$f":"'Atividade 2'!EG45","v":0},{"$f":"'Atividade 2'!EH45","v":0},{"$f":"'Atividade 2'!EI45","v":0},{"$f":"'Atividade 2'!EJ45","v":0},{"$f":"'Atividade 2'!EK45","v":0},{"$f":"'Atividade 2'!EL45","v":0},0,null,{"$f":"'Atividade 2'!EO45","v":0},{"$f":"'Atividade 2'!EP45","v":0},{"$f":"'Atividade 2'!EQ45","v":0},{"$f":"'Atividade 2'!ER45","v":0},{"$f":"'Atividade 2'!ES45","v":0},{"$f":"'Atividade 2'!ET45","v":0},{"$f":"'Atividade 2'!EU45","v":0},{"$f":"'Atividade 2'!EV45","v":0},{"$f":"'Atividade 2'!EW45","v":0},{"$f":"'Atividade 2'!EX45","v":0},{"$f":"'Atividade 2'!EY45","v":0},{"$f":"'Atividade 2'!EZ45","v":0},0,null,{"$f":"'Atividade 2'!FC45","v":0},{"$f":"'Atividade 2'!FD45","v":0},{"$f":"'Atividade 2'!FE45","v":0},{"$f":"'Atividade 2'!FF45","v":0},{"$f":"'Atividade 2'!FG45","v":0},{"$f":"'Atividade 2'!FH45","v":0},{"$f":"'Atividade 2'!FI45","v":0},{"$f":"'Atividade 2'!FJ45","v":0},{"$f":"'Atividade 2'!FK45","v":0},{"$f":"'Atividade 2'!FL45","v":0},{"$f":"'Atividade 2'!FM45","v":0},{"$f":"'Atividade 2'!FN45","v":0},0,null,null,null,null,null,null,null,null,null,5,2021,"R3C61"]
[null,null,"R",{"$f":"'Atividade 2'!E46","v":0},{"$f":"'Atividade 2'!F46","v":0},{"$f":"'Atividade 2'!G46","v":0},{"$f":"'Atividade 2'!H46","v":0},{"$f":"'Atividade 2'!I46","v":0},{"$f":"'Atividade 2'!J46","v":0},{"$f":"'Atividade 2'!K46","v":0},{"$f":"'Atividade 2'!L46","v":0},{"$f":"'Atividade 2'!M46","v":0},{"$f":"'Atividade 2'!N46","v":0},{"$f":"'Atividade 2'!O46","v":0},{"$f":"'Atividade 2'!P46","v":0},0,null,{"$f":"'Atividade 2'!S46","v":0},{"$f":"'Atividade 2'!T46","v":0},{"$f":"'Atividade 2'!U46","v":0},{"$f":"'Atividade 2'!V46","v":0},{"$f":"'Atividade 2'!W46","v":0},{"$f":"'Atividade 2'!X46","v":0},{"$f":"'Atividade 2'!Y46","v":0},{"$f":"'Atividade 2'!Z46","v":0},{"$f":"'Atividade 2'!AA46","v":0},{"$f":"'Atividade 2'!AB46","v":0},{"$f":"'Atividade 2'!AC46","v":0},{"$f":"'Atividade 2'!AD46","v":0},0,null,{"$f":"'Atividade 2'!AG46","v":0},{"$f":"'Atividade 2'!AH46","v":0},{"$f":"'Atividade 2'!AI46","v":0},{"$f":"'Atividade 2'!AJ46","v":0},{"$f":"'Atividade 2'!AK46","v":0},{"$f":"'Atividade 2'!AL46","v":0},{"$f":"'Atividade 2'!AM46","v":0},{"$f":"'Atividade 2'!AN46","v":0},{"$f":"'Atividade 2'!AO46","v":0},{"$f":"'Atividade 2'!AP46","v":0},{"$f":"'Atividade 2'!AQ46","v":0},{"$f":"'Atividade 2'!AR46","v":0},0,null,{"$f":"'Atividade 2'!AU46","v":0},{"$f":"'Atividade 2'!AV46","v":0},{"$f":"'Atividade 2'!AW46","v":0},{"$f":"'Atividade 2'!AX46","v":0},{"$f":"'Atividade 2'!AY46","v":0},{"$f":"'Atividade 2'!AZ46","v":0},{"$f":"'Atividade 2'!BA46","v":0},{"$f":"'Atividade 2'!BB46","v":0},{"$f":"'Atividade 2'!BC46","v":0},{"$f":"'Atividade 2'!BD46","v":0},{"$f":"'Atividade 2'!BE46","v":0},{"$f":"'Atividade 2'!BF46","v":0},0,null,{"$f":"'Atividade 2'!BI46","v":0},{"$f":"'Atividade 2'!BJ46","v":0},{"$f":"'Atividade 2'!BK46","v":0},{"$f":"'Atividade 2'!BL46","v":0},{"$f":"'Atividade 2'!BM46","v":0},{"$f":"'Atividade 2'!BN46","v":0},{"$f":"'Atividade 2'!BO46","v":0},{"$f":"'Atividade 2'!BP46","v":0},{"$f":"'Atividade 2'!BQ46","v":0},{"$f":"'Atividade 2'!BR46","v":0},{"$f":"'Atividade 2'!BS46","v":0},{"$f":"'Atividade 2'!BT46","v":0},0,null,{"$f":"'Atividade 2'!BW46","v":0},{"$f":"'Atividade 2'!BX46","v":0},{"$f":"'Atividade 2'!BY46","v":0},{"$f":"'Atividade 2'!BZ46","v":0},{"$f":"'Atividade 2'!CA46","v":0},{"$f":"'Atividade 2'!CB46","v":0},{"$f":"'Atividade 2'!CC46","v":0},{"$f":"'Atividade 2'!CD46","v":0},{"$f":"'Atividade 2'!CE46","v":0},{"$f":"'Atividade 2'!CF46","v":0},{"$f":"'Atividade 2'!CG46","v":0},{"$f":"'Atividade 2'!CH46","v":0},0,null,{"$f":"'Atividade 2'!CK46","v":0},{"$f":"'Atividade 2'!CL46","v":0},{"$f":"'Atividade 2'!CM46","v":0},{"$f":"'Atividade 2'!CN46","v":0},{"$f":"'Atividade 2'!CO46","v":0},{"$f":"'Atividade 2'!CP46","v":0},{"$f":"'Atividade 2'!CQ46","v":0},{"$f":"'Atividade 2'!CR46","v":0},{"$f":"'Atividade 2'!CS46","v":0},{"$f":"'Atividade 2'!CT46","v":0},{"$f":"'Atividade 2'!CU46","v":0},{"$f":"'Atividade 2'!CV46","v":0},0,null,{"$f":"'Atividade 2'!CY46","v":0},{"$f":"'Atividade 2'!CZ46","v":0},{"$f":"'Atividade 2'!DA46","v":0},{"$f":"'Atividade 2'!DB46","v":0},{"$f":"'Atividade 2'!DC46","v":0},{"$f":"'Atividade 2'!DD46","v":0},{"$f":"'Atividade 2'!DE46","v":0},{"$f":"'Atividade 2'!DF46","v":0},{"$f":"'Atividade 2'!DG46","v":0},{"$f":"'Atividade 2'!DH46","v":0},{"$f":"'Atividade 2'!DI46","v":0},{"$f":"'Atividade 2'!DJ46","v":0},0,null,{"$f":"'Atividade 2'!DM46","v":0},{"$f":"'Atividade 2'!DN46","v":0},{"$f":"'Atividade 2'!DO46","v":0},{"$f":"'Atividade 2'!DP46","v":0},{"$f":"'Atividade 2'!DQ46","v":0},{"$f":"'Atividade 2'!DR46","v":0},{"$f":"'Atividade 2'!DS46","v":0},{"$f":"'Atividade 2'!DT46","v":0},{"$f":"'Atividade 2'!DU46","v":0},{"$f":"'Atividade 2'!DV46","v":0},{"$f":"'Atividade 2'!DW46","v":0},{"$f":"'Atividade 2'!DX46","v":0},0,null,{"$f":"'Atividade 2'!EA46","v":0},{"$f":"'Atividade 2'!EB46","v":0},{"$f":"'Atividade 2'!EC46","v":0},{"$f":"'Atividade 2'!ED46","v":0},{"$f":"'Atividade 2'!EE46","v":0},{"$f":"'Atividade 2'!EF46","v":0},{"$f":"'Atividade 2'!EG46","v":0},{"$f":"'Atividade 2'!EH46","v":0},{"$f":"'Atividade 2'!EI46","v":0},{"$f":"'Atividade 2'!EJ46","v":0},{"$f":"'Atividade 2'!EK46","v":0},{"$f":"'Atividade 2'!EL46","v":0},0,null,{"$f":"'Atividade 2'!EO46","v":0},{"$f":"'Atividade 2'!EP46","v":0},{"$f":"'Atividade 2'!EQ46","v":0},{"$f":"'Atividade 2'!ER46","v":0},{"$f":"'Atividade 2'!ES46","v":0},{"$f":"'Atividade 2'!ET46","v":0},{"$f":"'Atividade 2'!EU46","v":0},{"$f":"'Atividade 2'!EV46","v":0},{"$f":"'Atividade 2'!EW46","v":0},{"$f":"'Atividade 2'!EX46","v":0},{"$f":"'Atividade 2'!EY46","v":0},{"$f":"'Atividade 2'!EZ46","v":0},0,null,{"$f":"'Atividade 2'!FC46","v":0},{"$f":"'Atividade 2'!FD46","v":0},{"$f":"'Atividade 2'!FE46","v":0},{"$f":"'Atividade 2'!FF46","v":0},{"$f":"'Atividade 2'!FG46","v":0},{"$f":"'Atividade 2'!FH46","v":0},{"$f":"'Atividade 2'!FI46","v":0},{"$f":"'Atividade 2'!FJ46","v":0},{"$f":"'Atividade 2'!FK46","v":0},{"$f":"'Atividade 2'!FL46","v":0},{"$f":"'Atividade 2'!FM46","v":0},{"$f":"'Atividade 2'!FN46","v":0},0,null,null,null,null,null,null,null,null,null,6,2022,"R3C75"]
[null,{"$f":"MENU!C27","v":"Lavoura de Soja"},"P",{"$f":"'Atividade 3'!E45","v":0},{"$f":"'Atividade 3'!F45","v":0},{"$f":"'Atividade 3'!G45","v":0},{"$f":"'Atividade 3'!H45","v":0},{"$f":"'Atividade 3'!I45","v":0},{"$f":"'Atividade 3'!J45","v":0},{"$f":"'Atividade 3'!K45","v":0},{"$f":"'Atividade 3'!L45","v":0},{"$f":"'Atividade 3'!M45","v":0},{"$f":"'Atividade 3'!N45","v":0},{"$f":"'Atividade 3'!O45","v":0},{"$f":"'Atividade 3'!P45","v":0},0,null,{"$f":"'Atividade 3'!S45","v":0},{"$f":"'Atividade 3'!T45","v":0},{"$f":"'Atividade 3'!U45","v":0},{"$f":"'Atividade 3'!V45","v":0},{"$f":"'Atividade 3'!W45","v":0},{"$f":"'Atividade 3'!X45","v":0},{"$f":"'Atividade 3'!Y45","v":0},{"$f":"'Atividade 3'!Z45","v":0},{"$f":"'Atividade 3'!AA45","v":0},{"$f":"'Atividade 3'!AB45","v":0},{"$f":"'Atividade 3'!AC45","v":0},{"$f":"'Atividade 3'!AD45","v":0},0,null,{"$f":"'Atividade 3'!AG45","v":0},{"$f":"'Atividade 3'!AH45","v":0},{"$f":"'Atividade 3'!AI45","v":0},{"$f":"'Atividade 3'!AJ45","v":0},{"$f":"'Atividade 3'!AK45","v":0},{"$f":"'Atividade 3'!AL45","v":0},{"$f":"'Atividade 3'!AM45","v":0},{"$f":"'Atividade 3'!AN45","v":0},{"$f":"'Atividade 3'!AO45","v":0},{"$f":"'Atividade 3'!AP45","v":0},{"$f":"'Atividade 3'!AQ45","v":0},{"$f":"'Atividade 3'!AR45","v":0},0,null,{"$f":"'Atividade 3'!AU45","v":0},{"$f":"'Atividade 3'!AV45","v":0},{"$f":"'Atividade 3'!AW45","v":0},{"$f":"'Atividade 3'!AX45","v":0},{"$f":"'Atividade 3'!AY45","v":0},{"$f":"'Atividade 3'!AZ45","v":0},{"$f":"'Atividade 3'!BA45","v":0},{"$f":"'Atividade 3'!BB45","v":0},{"$f":"'Atividade 3'!BC45","v":0},{"$f":"'Atividade 3'!BD45","v":0},{"$f":"'Atividade 3'!BE45","v":0},{"$f":"'Atividade 3'!BF45","v":0},0,null,{"$f":"'Atividade 3'!BI45","v":0},{"$f":"'Atividade 3'!BJ45","v":0},{"$f":"'Atividade 3'!BK45","v":0},{"$f":"'Atividade 3'!BL45","v":0},{"$f":"'Atividade 3'!BM45","v":0},{"$f":"'Atividade 3'!BN45","v":0},{"$f":"'Atividade 3'!BO45","v":0},{"$f":"'Atividade 3'!BP45","v":0},{"$f":"'Atividade 3'!BQ45","v":0},{"$f":"'Atividade 3'!BR45","v":0},{"$f":"'Atividade 3'!BS45","v":0},{"$f":"'Atividade 3'!BT45","v":0},0,null,{"$f":"'Atividade 3'!BW45","v":0},{"$f":"'Atividade 3'!BX45","v":0},{"$f":"'Atividade 3'!BY45","v":0},{"$f":"'Atividade 3'!BZ45","v":0},{"$f":"'Atividade 3'!CA45","v":0},{"$f":"'Atividade 3'!CB45","v":0},{"$f":"'Atividade 3'!CC45","v":0},{"$f":"'Atividade 3'!CD45","v":0},{"$f":"'Atividade 3'!CE45","v":0},{"$f":"'Atividade 3'!CF45","v":0},{"$f":"'Atividade 3'!CG45","v":0},{"$f":"'Atividade 3'!CH45","v":0},0,null,{"$f":"'Atividade 3'!CK45","v":0},{"$f":"'Atividade 3'!CL45","v":0},{"$f":"'Atividade 3'!CM45","v":0},{"$f":"'Atividade 3'!CN45","v":0},{"$f":"'Atividade 3'!CO45","v":0},{"$f":"'Atividade 3'!CP45","v":0},{"$f":"'Atividade 3'!CQ45","v":0},{"$f":"'Atividade 3'!CR45","v":0},{"$f":"'Atividade 3'!CS45","v":0},{"$f":"'Atividade 3'!CT45","v":0},{"$f":"'Atividade 3'!CU45","v":0},{"$f":"'Atividade 3'!CV45","v":0},0,null,{"$f":"'Atividade 3'!CY45","v":0},{"$f":"'Atividade 3'!CZ45","v":0},{"$f":"'Atividade 3'!DA45","v":0},{"$f":"'Atividade 3'!DB45","v":0},{"$f":"'Atividade 3'!DC45","v":0},{"$f":"'Atividade 3'!DD45","v":0},{"$f":"'Atividade 3'!DE45","v":0},{"$f":"'Atividade 3'!DF45","v":0},{"$f":"'Atividade 3'!DG45","v":0},{"$f":"'Atividade 3'!DH45","v":0},{"$f":"'Atividade 3'!DI45","v":0},{"$f":"'Atividade 3'!DJ45","v":0},0,null,{"$f":"'Atividade 3'!DM45","v":0},{"$f":"'Atividade 3'!DN45","v":0},{"$f":"'Atividade 3'!DO45","v":0},{"$f":"'Atividade 3'!DP45","v":0},{"$f":"'Atividade 3'!DQ45","v":0},{"$f":"'Atividade 3'!DR45","v":0},{"$f":"'Atividade 3'!DS45","v":0},{"$f":"'Atividade 3'!DT45","v":0},{"$f":"'Atividade 3'!DU45","v":0},{"$f":"'Atividade 3'!DV45","v":0},{"$f":"'Atividade 3'!DW45","v":0},{"$f":"'Atividade 3'!DX45","v":0},0,null,{"$f":"'Atividade 3'!EA45","v":0},{"$f":"'Atividade 3'!EB45","v":0},{"$f":"'Atividade 3'!EC45","v":0},{"$f":"'Atividade 3'!ED45","v":0},{"$f":"'Atividade 3'!EE45","v":0},{"$f":"'Atividade 3'!EF45","v":0},{"$f":"'Atividade 3'!EG45","v":0},{"$f":"'Atividade 3'!EH45","v":0},{"$f":"'Atividade 3'!EI45","v":0},{"$f":"'Atividade 3'!EJ45","v":0},{"$f":"'Atividade 3'!EK45","v":0},{"$f":"'Atividade 3'!EL45","v":0},0,null,{"$f":"'Atividade 3'!EO45","v":0},{"$f":"'Atividade 3'!EP45","v":0},{"$f":"'Atividade 3'!EQ45","v":0},{"$f":"'Atividade 3'!ER45","v":0},{"$f":"'Atividade 3'!ES45","v":0},{"$f":"'Atividade 3'!ET45","v":0},{"$f":"'Atividade 3'!EU45","v":0},{"$f":"'Atividade 3'!EV45","v":0},{"$f":"'Atividade 3'!EW45","v":0},{"$f":"'Atividade 3'!EX45","v":0},{"$f":"'Atividade 3'!EY45","v":0},{"$f":"'Atividade 3'!EZ45","v":0},0,null,{"$f":"'Atividade 3'!FC45","v":0},{"$f":"'Atividade 3'!FD45","v":0},{"$f":"'Atividade 3'!FE45","v":0},{"$f":"'Atividade 3'!FF45","v":0},{"$f":"'Atividade 3'!FG45","v":0},{"$f":"'Atividade 3'!FH45","v":0},{"$f":"'Atividade 3'!FI45","v":0},{"$f":"'Atividade 3'!FJ45","v":0},{"$f":"'Atividade 3'!FK45","v":0},{"$f":"'Atividade 3'!FL45","v":0},{"$f":"'Atividade 3'!FM45","v":0},{"$f":"'Atividade 3'!FN45","v":0},0,null,null,null,null,null,null,null,null,null,7,2023,"R3C89"]
[null,null,"R",{"$f":"'Atividade 3'!E46","v":0},{"$f":"'Atividade 3'!F46","v":0},{"$f":"'Atividade 3'!G46","v":0},{"$f":"'Atividade 3'!H46","v":0},{"$f":"'Atividade 3'!I46","v":0},{"$f":"'Atividade 3'!J46","v":0},{"$f":"'Atividade 3'!K46","v":0},{"$f":"'Atividade 3'!L46","v":0},{"$f":"'Atividade 3'!M46","v":0},{"$f":"'Atividade 3'!N46","v":0},{"$f":"'Atividade 3'!O46","v":0},{"$f":"'Atividade 3'!P46","v":0},0,null,{"$f":"'Atividade 3'!S46","v":0},{"$f":"'Atividade 3'!T46","v":0},{"$f":"'Atividade 3'!U46","v":0},{"$f":"'Atividade 3'!V46","v":0},{"$f":"'Atividade 3'!W46","v":0},{"$f":"'Atividade 3'!X46","v":0},{"$f":"'Atividade 3'!Y46","v":0},{"$f":"'Atividade 3'!Z46","v":0},{"$f":"'Atividade 3'!AA46","v":0},{"$f":"'Atividade 3'!AB46","v":0},{"$f":"'Atividade 3'!AC46","v":0},{"$f":"'Atividade 3'!AD46","v":0},0,null,{"$f":"'Atividade 3'!AG46","v":0},{"$f":"'Atividade 3'!AH46","v":0},{"$f":"'Atividade 3'!AI46","v":0},{"$f":"'Atividade 3'!AJ46","v":0},{"$f":"'Atividade 3'!AK46","v":0},{"$f":"'Atividade 3'!AL46","v":0},{"$f":"'Atividade 3'!AM46","v":0},{"$f":"'Atividade 3'!AN46","v":0},{"$f":"'Atividade 3'!AO46","v":0},{"$f":"'Atividade 3'!AP46","v":0},{"$f":"'Atividade 3'!AQ46","v":0},{"$f":"'Atividade 3'!AR46","v":0},0,null,{"$f":"'Atividade 3'!AU46","v":0},{"$f":"'Atividade 3'!AV46","v":0},{"$f":"'Atividade 3'!AW46","v":0},{"$f":"'Atividade 3'!AX46","v":0},{"$f":"'Atividade 3'!AY46","v":0},{"$f":"'Atividade 3'!AZ46","v":0},{"$f":"'Atividade 3'!BA46","v":0},{"$f":"'Atividade 3'!BB46","v":0},{"$f":"'Atividade 3'!BC46","v":0},{"$f":"'Atividade 3'!BD46","v":0},{"$f":"'Atividade 3'!BE46","v":0},{"$f":"'Atividade 3'!BF46","v":0},0,null,{"$f":"'Atividade 3'!BI46","v":0},{"$f":"'Atividade 3'!BJ46","v":0},{"$f":"'Atividade 3'!BK46","v":0},{"$f":"'Atividade 3'!BL46","v":0},{"$f":"'Atividade 3'!BM46","v":0},{"$f":"'Atividade 3'!BN46","v":0},{"$f":"'Atividade 3'!BO46","v":0},{"$f":"'Atividade 3'!BP46","v":0},{"$f":"'Atividade 3'!BQ46","v":0},{"$f":"'Atividade 3'!BR46","v":0},{"$f":"'Atividade 3'!BS46","v":0},{"$f":"'Atividade 3'!BT46","v":0},0,null,{"$f":"'Atividade 3'!BW46","v":0},{"$f":"'Atividade 3'!BX46","v":0},{"$f":"'Atividade 3'!BY46","v":0},{"$f":"'Atividade 3'!BZ46","v":0},{"$f":"'Atividade 3'!CA46","v":0},{"$f":"'Atividade 3'!CB46","v":0},{"$f":"'Atividade 3'!CC46","v":0},{"$f":"'Atividade 3'!CD46","v":0},{"$f":"'Atividade 3'!CE46","v":0},{"$f":"'Atividade 3'!CF46","v":0},{"$f":"'Atividade 3'!CG46","v":0},{"$f":"'Atividade 3'!CH46","v":0},0,null,{"$f":"'Atividade 3'!CK46","v":0},{"$f":"'Atividade 3'!CL46","v":0},{"$f":"'Atividade 3'!CM46","v":0},{"$f":"'Atividade 3'!CN46","v":0},{"$f":"'Atividade 3'!CO46","v":0},{"$f":"'Atividade 3'!CP46","v":0},{"$f":"'Atividade 3'!CQ46","v":0},{"$f":"'Atividade 3'!CR46","v":0},{"$f":"'Atividade 3'!CS46","v":0},{"$f":"'Atividade 3'!CT46","v":0},{"$f":"'Atividade 3'!CU46","v":0},{"$f":"'Atividade 3'!CV46","v":0},0,null,{"$f":"'Atividade 3'!CY46","v":0},{"$f":"'Atividade 3'!CZ46","v":0},{"$f":"'Atividade 3'!DA46","v":0},{"$f":"'Atividade 3'!DB46","v":0},{"$f":"'Atividade 3'!DC46","v":0},{"$f":"'Atividade 3'!DD46","v":0},{"$f":"'Atividade 3'!DE46","v":0},{"$f":"'Atividade 3'!DF46","v":0},{"$f":"'Atividade 3'!DG46","v":0},{"$f":"'Atividade 3'!DH46","v":0},{"$f":"'Atividade 3'!DI46","v":0},{"$f":"'Atividade 3'!DJ46","v":0},0,null,{"$f":"'Atividade 3'!DM46","v":0},{"$f":"'Atividade 3'!DN46","v":0},{"$f":"'Atividade 3'!DO46","v":0},{"$f":"'Atividade 3'!DP46","v":0},{"$f":"'Atividade 3'!DQ46","v":0},{"$f":"'Atividade 3'!DR46","v":0},{"$f":"'Atividade 3'!DS46","v":0},{"$f":"'Atividade 3'!DT46","v":0},{"$f":"'Atividade 3'!DU46","v":0},{"$f":"'Atividade 3'!DV46","v":0},{"$f":"'Atividade 3'!DW46","v":0},{"$f":"'Atividade 3'!DX46","v":0},0,null,{"$f":"'Atividade 3'!EA46","v":0},{"$f":"'Atividade 3'!EB46","v":0},{"$f":"'Atividade 3'!EC46","v":0},{"$f":"'Atividade 3'!ED46","v":0},{"$f":"'Atividade 3'!EE46","v":0},{"$f":"'Atividade 3'!EF46","v":0},{"$f":"'Atividade 3'!EG46","v":0},{"$f":"'Atividade 3'!EH46","v":0},{"$f":"'Atividade 3'!EI46","v":0},{"$f":"'Atividade 3'!EJ46","v":0},{"$f":"'Atividade 3'!EK46","v":0},{"$f":"'Atividade 3'!EL46","v":0},0,null,{"$f":"'Atividade 3'!EO46","v":0},{"$f":"'Atividade 3'!EP46","v":0},{"$f":"'Atividade 3'!EQ46","v":0},{"$f":"'Atividade 3'!ER46","v":0},{"$f":"'Atividade 3'!ES46","v":0},{"$f":"'Atividade 3'!ET46","v":0},{"$f":"'Atividade 3'!EU46","v":0},{"$f":"'Atividade 3'!EV46","v":0},{"$f":"'Atividade 3'!EW46","v":0},{"$f":"'Atividade 3'!EX46","v":0},{"$f":"'Atividade 3'!EY46","v":0},{"$f":"'Atividade 3'!EZ46","v":0},0,null,{"$f":"'Atividade 3'!FC46","v":0},{"$f":"'Atividade 3'!FD46","v":0},{"$f":"'Atividade 3'!FE46","v":0},{"$f":"'Atividade 3'!FF46","v":0},{"$f":"'Atividade 3'!FG46","v":0},{"$f":"'Atividade 3'!FH46","v":0},{"$f":"'Atividade 3'!FI46","v":0},{"$f":"'Atividade 3'!FJ46","v":0},{"$f":"'Atividade 3'!FK46","v":0},{"$f":"'Atividade 3'!FL46","v":0},{"$f":"'Atividade 3'!FM46","v":0},{"$f":"'Atividade 3'!FN46","v":0},0,null,null,null,null,null,null,null,null,null,8,2024,"R3C103"]
[null,{"$f":"MENU!C28","v":"Lavoura de Milho"},"P",{"$f":"'Atividade 4'!E45","v":0},{"$f":"'Atividade 4'!F45","v":0},{"$f":"'Atividade 4'!G45","v":0},{"$f":"'Atividade 4'!H45","v":0},{"$f":"'Atividade 4'!I45","v":0},{"$f":"'Atividade 4'!J45","v":0},{"$f":"'Atividade 4'!K45","v":0},{"$f":"'Atividade 4'!L45","v":0},{"$f":"'Atividade 4'!M45","v":0},{"$f":"'Atividade 4'!N45","v":0},{"$f":"'Atividade 4'!O45","v":0},{"$f":"'Atividade 4'!P45","v":0},0,null,{"$f":"'Atividade 4'!S45","v":0},{"$f":"'Atividade 4'!T45","v":0},{"$f":"'Atividade 4'!U45","v":0},{"$f":"'Atividade 4'!V45","v":0},{"$f":"'Atividade 4'!W45","v":0},{"$f":"'Atividade 4'!X45","v":0},{"$f":"'Atividade 4'!Y45","v":0},{"$f":"'Atividade 4'!Z45","v":0},{"$f":"'Atividade 4'!AA45","v":0},{"$f":"'Atividade 4'!AB45","v":0},{"$f":"'Atividade 4'!AC45","v":0},{"$f":"'Atividade 4'!AD45","v":0},0,null,{"$f":"'Atividade 4'!AG45","v":0},{"$f":"'Atividade 4'!AH45","v":0},{"$f":"'Atividade 4'!AI45","v":0},{"$f":"'Atividade 4'!AJ45","v":0},{"$f":"'Atividade 4'!AK45","v":0},{"$f":"'Atividade 4'!AL45","v":0},{"$f":"'Atividade 4'!AM45","v":0},{"$f":"'Atividade 4'!AN45","v":0},{"$f":"'Atividade 4'!AO45","v":0},{"$f":"'Atividade 4'!AP45","v":0},{"$f":"'Atividade 4'!AQ45","v":0},{"$f":"'Atividade 4'!AR45","v":0},0,null,{"$f":"'Atividade 4'!AU45","v":0},{"$f":"'Atividade 4'!AV45","v":0},{"$f":"'Atividade 4'!AW45","v":0},{"$f":"'Atividade 4'!AX45","v":0},{"$f":"'Atividade 4'!AY45","v":0},{"$f":"'Atividade 4'!AZ45","v":0},{"$f":"'Atividade 4'!BA45","v":0},{"$f":"'Atividade 4'!BB45","v":0},{"$f":"'Atividade 4'!BC45","v":0},{"$f":"'Atividade 4'!BD45","v":0},{"$f":"'Atividade 4'!BE45","v":0},{"$f":"'Atividade 4'!BF45","v":0},0,null,{"$f":"'Atividade 4'!BI45","v":0},{"$f":"'Atividade 4'!BJ45","v":0},{"$f":"'Atividade 4'!BK45","v":0},{"$f":"'Atividade 4'!BL45","v":0},{"$f":"'Atividade 4'!BM45","v":0},{"$f":"'Atividade 4'!BN45","v":0},{"$f":"'Atividade 4'!BO45","v":0},{"$f":"'Atividade 4'!BP45","v":0},{"$f":"'Atividade 4'!BQ45","v":0},{"$f":"'Atividade 4'!BR45","v":0},{"$f":"'Atividade 4'!BS45","v":0},{"$f":"'Atividade 4'!BT45","v":0},0,null,{"$f":"'Atividade 4'!BW45","v":0},{"$f":"'Atividade 4'!BX45","v":0},{"$f":"'Atividade 4'!BY45","v":0},{"$f":"'Atividade 4'!BZ45","v":0},{"$f":"'Atividade 4'!CA45","v":0},{"$f":"'Atividade 4'!CB45","v":0},{"$f":"'Atividade 4'!CC45","v":0},{"$f":"'Atividade 4'!CD45","v":0},{"$f":"'Atividade 4'!CE45","v":0},{"$f":"'Atividade 4'!CF45","v":0},{"$f":"'Atividade 4'!CG45","v":0},{"$f":"'Atividade 4'!CH45","v":0},0,null,{"$f":"'Atividade 4'!CK45","v":0},{"$f":"'Atividade 4'!CL45","v":0},{"$f":"'Atividade 4'!CM45","v":0},{"$f":"'Atividade 4'!CN45","v":0},{"$f":"'Atividade 4'!CO45","v":0},{"$f":"'Atividade 4'!CP45","v":0},{"$f":"'Atividade 4'!CQ45","v":0},{"$f":"'Atividade 4'!CR45","v":0},{"$f":"'Atividade 4'!CS45","v":0},{"$f":"'Atividade 4'!CT45","v":0},{"$f":"'Atividade 4'!CU45","v":0},{"$f":"'Atividade 4'!CV45","v":0},0,null,{"$f":"'Atividade 4'!CY45","v":0},{"$f":"'Atividade 4'!CZ45","v":0},{"$f":"'Atividade 4'!DA45","v":0},{"$f":"'Atividade 4'!DB45","v":0},{"$f":"'Atividade 4'!DC45","v":0},{"$f":"'Atividade 4'!DD45","v":0},{"$f":"'Atividade 4'!DE45","v":0},{"$f":"'Atividade 4'!DF45","v":0},{"$f":"'Atividade 4'!DG45","v":0},{"$f":"'Atividade 4'!DH45","v":0},{"$f":"'Atividade 4'!DI45","v":0},{"$f":"'Atividade 4'!DJ45","v":0},0,null,{"$f":"'Atividade 4'!DM45","v":0},{"$f":"'Atividade 4'!DN45","v":0},{"$f":"'Atividade 4'!DO45","v":0},{"$f":"'Atividade 4'!DP45","v":0},{"$f":"'Atividade 4'!DQ45","v":0},{"$f":"'Atividade 4'!DR45","v":0},{"$f":"'Atividade 4'!DS45","v":0},{"$f":"'Atividade 4'!DT45","v":0},{"$f":"'Atividade 4'!DU45","v":0},{"$f":"'Atividade 4'!DV45","v":0},{"$f":"'Atividade 4'!DW45","v":0},{"$f":"'Atividade 4'!DX45","v":0},0,null,{"$f":"'Atividade 4'!EA45","v":0},{"$f":"'Atividade 4'!EB45","v":0},{"$f":"'Atividade 4'!EC45","v":0},{"$f":"'Atividade 4'!ED45","v":0},{"$f":"'Atividade 4'!EE45","v":0},{"$f":"'Atividade 4'!EF45","v":0},{"$f":"'Atividade 4'!EG45","v":0},{"$f":"'Atividade 4'!EH45","v":0},{"$f":"'Atividade 4'!EI45","v":0},{"$f":"'Atividade 4'!EJ45","v":0},{"$f":"'Atividade 4'!EK45","v":0},{"$f":"'Atividade 4'!EL45","v":0},0,null,{"$f":"'Atividade 4'!EO45","v":0},{"$f":"'Atividade 4'!EP45","v":0},{"$f":"'Atividade 4'!EQ45","v":0},{"$f":"'Atividade 4'!ER45","v":0},{"$f":"'Atividade 4'!ES45","v":0},{"$f":"'Atividade 4'!ET45","v":0},{"$f":"'Atividade 4'!EU45","v":0},{"$f":"'Atividade 4'!EV45","v":0},{"$f":"'Atividade 4'!EW45","v":0},{"$f":"'Atividade 4'!EX45","v":0},{"$f":"'Atividade 4'!EY45","v":0},{"$f":"'Atividade 4'!EZ45","v":0},0,null,{"$f":"'Atividade 4'!FC45","v":0},{"$f":"'Atividade 4'!FD45","v":0},{"$f":"'Atividade 4'!FE45","v":0},{"$f":"'Atividade 4'!FF45","v":0},{"$f":"'Atividade 4'!FG45","v":0},{"$f":"'Atividade 4'!FH45","v":0},{"$f":"'Atividade 4'!FI45","v":0},{"$f":"'Atividade 4'!FJ45","v":0},{"$f":"'Atividade 4'!FK45","v":0},{"$f":"'Atividade 4'!FL45","v":0},{"$f":"'Atividade 4'!FM45","v":0},{"$f":"'Atividade 4'!FN45","v":0},0,null,null,null,null,null,null,null,null,null,9,2025,"R3C117"]
[null,null,"R",{"$f":"'Atividade 4'!E46","v":0},{"$f":"'Atividade 4'!F46","v":0},{"$f":"'Atividade 4'!G46","v":0},{"$f":"'Atividade 4'!H46","v":0},{"$f":"'Atividade 4'!I46","v":0},{"$f":"'Atividade 4'!J46","v":0},{"$f":"'Atividade 4'!K46","v":0},{"$f":"'Atividade 4'!L46","v":0},{"$f":"'Atividade 4'!M46","v":0},{"$f":"'Atividade 4'!N46","v":0},{"$f":"'Atividade 4'!O46","v":0},{"$f":"'Atividade 4'!P46","v":0},0,null,{"$f":"'Atividade 4'!S46","v":0},{"$f":"'Atividade 4'!T46","v":0},{"$f":"'Atividade 4'!U46","v":0},{"$f":"'Atividade 4'!V46","v":0},{"$f":"'Atividade 4'!W46","v":0},{"$f":"'Atividade 4'!X46","v":0},{"$f":"'Atividade 4'!Y46","v":0},{"$f":"'Atividade 4'!Z46","v":0},{"$f":"'Atividade 4'!AA46","v":0},{"$f":"'Atividade 4'!AB46","v":0},{"$f":"'Atividade 4'!AC46","v":0},{"$f":"'Atividade 4'!AD46","v":0},0,null,{"$f":"'Atividade 4'!AG46","v":0},{"$f":"'Atividade 4'!AH46","v":0},{"$f":"'Atividade 4'!AI46","v":0},{"$f":"'Atividade 4'!AJ46","v":0},{"$f":"'Atividade 4'!AK46","v":0},{"$f":"'Atividade 4'!AL46","v":0},{"$f":"'Atividade 4'!AM46","v":0},{"$f":"'Atividade 4'!AN46","v":0},{"$f":"'Atividade 4'!AO46","v":0},{"$f":"'Atividade 4'!AP46","v":0},{"$f":"'Atividade 4'!AQ46","v":0},{"$f":"'Atividade 4'!AR46","v":0},0,null,{"$f":"'Atividade 4'!AU46","v":0},{"$f":"'Atividade 4'!AV46","v":0},{"$f":"'Atividade 4'!AW46","v":0},{"$f":"'Atividade 4'!AX46","v":0},{"$f":"'Atividade 4'!AY46","v":0},{"$f":"'Atividade 4'!AZ46","v":0},{"$f":"'Atividade 4'!BA46","v":0},{"$f":"'Atividade 4'!BB46","v":0},{"$f":"'Atividade 4'!BC46","v":0},{"$f":"'Atividade 4'!BD46","v":0},{"$f":"'Atividade 4'!BE46","v":0},{"$f":"'Atividade 4'!BF46","v":0},0,null,{"$f":"'Atividade 4'!BI46","v":0},{"$f":"'Atividade 4'!BJ46","v":0},{"$f":"'Atividade 4'!BK46","v":0},{"$f":"'Atividade 4'!BL46","v":0},{"$f":"'Atividade 4'!BM46","v":0},{"$f":"'Atividade 4'!BN46","v":0},{"$f":"'Atividade 4'!BO46","v":0},{"$f":"'Atividade 4'!BP46","v":0},{"$f":"'Atividade 4'!BQ46","v":0},{"$f":"'Atividade 4'!BR46","v":0},{"$f":"'Atividade 4'!BS46","v":0},{"$f":"'Atividade 4'!BT46","v":0},0,null,{"$f":"'Atividade 4'!BW46","v":0},{"$f":"'Atividade 4'!BX46","v":0},{"$f":"'Atividade 4'!BY46","v":0},{"$f":"'Atividade 4'!BZ46","v":0},{"$f":"'Atividade 4'!CA46","v":0},{"$f":"'Atividade 4'!CB46","v":0},{"$f":"'Atividade 4'!CC46","v":0},{"$f":"'Atividade 4'!CD46","v":0},{"$f":"'Atividade 4'!CE46","v":0},{"$f":"'Atividade 4'!CF46","v":0},{"$f":"'Atividade 4'!CG46","v":0},{"$f":"'Atividade 4'!CH46","v":0},0,null,{"$f":"'Atividade 4'!CK46","v":0},{"$f":"'Atividade 4'!CL46","v":0},{"$f":"'Atividade 4'!CM46","v":0},{"$f":"'Atividade 4'!CN46","v":0},{"$f":"'Atividade 4'!CO46","v":0},{"$f":"'Atividade 4'!CP46","v":0},{"$f":"'Atividade 4'!CQ46","v":0},{"$f":"'Atividade 4'!CR46","v":0},{"$f":"'Atividade 4'!CS46","v":0},{"$f":"'Atividade 4'!CT46","v":0},{"$f":"'Atividade 4'!CU46","v":0},{"$f":"'Atividade 4'!CV46","v":0},0,null,{"$f":"'Atividade 4'!CY46","v":0},{"$f":"'Atividade 4'!CZ46","v":0},{"$f":"'Atividade 4'!DA46","v":0},{"$f":"'Atividade 4'!DB46","v":0},{"$f":"'Atividade 4'!DC46","v":0},{"$f":"'Atividade 4'!DD46","v":0},{"$f":"'Atividade 4'!DE46","v":0},{"$f":"'Atividade 4'!DF46","v":0},{"$f":"'Atividade 4'!DG46","v":0},{"$f":"'Atividade 4'!DH46","v":0},{"$f":"'Atividade 4'!DI46","v":0},{"$f":"'Atividade 4'!DJ46","v":0},0,null,{"$f":"'Atividade 4'!DM46","v":0},{"$f":"'Atividade 4'!DN46","v":0},{"$f":"'Atividade 4'!DO46","v":0},{"$f":"'Atividade 4'!DP46","v":0},{"$f":"'Atividade 4'!DQ46","v":0},{"$f":"'Atividade 4'!DR46","v":0},{"$f":"'Atividade 4'!DS46","v":0},{"$f":"'Atividade 4'!DT46","v":0},{"$f":"'Atividade 4'!DU46","v":0},{"$f":"'Atividade 4'!DV46","v":0},{"$f":"'Atividade 4'!DW46","v":0},{"$f":"'Atividade 4'!DX46","v":0},0,null,{"$f":"'Atividade 4'!EA46","v":0},{"$f":"'Atividade 4'!EB46","v":0},{"$f":"'Atividade 4'!EC46","v":0},{"$f":"'Atividade 4'!ED46","v":0},{"$f":"'Atividade 4'!EE46","v":0},{"$f":"'Atividade 4'!EF46","v":0},{"$f":"'Atividade 4'!EG46","v":0},{"$f":"'Atividade 4'!EH46","v":0},{"$f":"'Atividade 4'!EI46","v":0},{"$f":"'Atividade 4'!EJ46","v":0},{"$f":"'Atividade 4'!EK46","v":0},{"$f":"'Atividade 4'!EL46","v":0},0,null,{"$f":"'Atividade 4'!EO46","v":0},{"$f":"'Atividade 4'!EP46","v":0},{"$f":"'Atividade 4'!EQ46","v":0},{"$f":"'Atividade 4'!ER46","v":0},{"$f":"'Atividade 4'!ES46","v":0},{"$f":"'Atividade 4'!ET46","v":0},{"$f":"'Atividade 4'!EU46","v":0},{"$f":"'Atividade 4'!EV46","v":0},{"$f":"'Atividade 4'!EW46","v":0},{"$f":"'Atividade 4'!EX46","v":0},{"$f":"'Atividade 4'!EY46","v":0},{"$f":"'Atividade 4'!EZ46","v":0},0,null,{"$f":"'Atividade 4'!FC46","v":0},{"$f":"'Atividade 4'!FD46","v":0},{"$f":"'Atividade 4'!FE46","v":0},{"$f":"'Atividade 4'!FF46","v":0},{"$f":"'Atividade 4'!FG46","v":0},{"$f":"'Atividade 4'!FH46","v":0},{"$f":"'Atividade 4'!FI46","v":0},{"$f":"'Atividade 4'!FJ46","v":0},{"$f":"'Atividade 4'!FK46","v":0},{"$f":"'Atividade 4'!FL46","v":0},{"$f":"'Atividade 4'!FM46","v":0},{"$f":"'Atividade 4'!FN46","v":0},0,null,null,null,null,null,null,null,null,null,10,2026,"R3C131"]
[null,{"$f":"MENU!C29","v":"Bovinocultura de Leite"},"P",{"$f":"'Atividade 5'!E45","v":0},{"$f":"'Atividade 5'!F45","v":0},{"$f":"'Atividade 5'!G45","v":0},{"$f":"'Atividade 5'!H45","v":0},{"$f":"'Atividade 5'!I45","v":0},{"$f":"'Atividade 5'!J45","v":0},{"$f":"'Atividade 5'!K45","v":0},{"$f":"'Atividade 5'!L45","v":0},{"$f":"'Atividade 5'!M45","v":0},{"$f":"'Atividade 5'!N45","v":0},{"$f":"'Atividade 5'!O45","v":0},{"$f":"'Atividade 5'!P45","v":0},0,null,{"$f":"'Atividade 5'!S45","v":0},{"$f":"'Atividade 5'!T45","v":0},{"$f":"'Atividade 5'!U45","v":0},{"$f":"'Atividade 5'!V45","v":0},{"$f":"'Atividade 5'!W45","v":0},{"$f":"'Atividade 5'!X45","v":0},{"$f":"'Atividade 5'!Y45","v":0},{"$f":"'Atividade 5'!Z45","v":0},{"$f":"'Atividade 5'!AA45","v":0},{"$f":"'Atividade 5'!AB45","v":0},{"$f":"'Atividade 5'!AC45","v":0},{"$f":"'Atividade 5'!AD45","v":0},0,null,{"$f":"'Atividade 5'!AG45","v":0},{"$f":"'Atividade 5'!AH45","v":0},{"$f":"'Atividade 5'!AI45","v":0},{"$f":"'Atividade 5'!AJ45","v":0},{"$f":"'Atividade 5'!AK45","v":0},{"$f":"'Atividade 5'!AL45","v":0},{"$f":"'Atividade 5'!AM45","v":0},{"$f":"'Atividade 5'!AN45","v":0},{"$f":"'Atividade 5'!AO45","v":0},{"$f":"'Atividade 5'!AP45","v":0},{"$f":"'Atividade 5'!AQ45","v":0},{"$f":"'Atividade 5'!AR45","v":0},0,null,{"$f":"'Atividade 5'!AU45","v":0},{"$f":"'Atividade 5'!AV45","v":0},{"$f":"'Atividade 5'!AW45","v":0},{"$f":"'Atividade 5'!AX45","v":0},{"$f":"'Atividade 5'!AY45","v":0},{"$f":"'Atividade 5'!AZ45","v":0},{"$f":"'Atividade 5'!BA45","v":0},{"$f":"'Atividade 5'!BB45","v":0},{"$f":"'Atividade 5'!BC45","v":0},{"$f":"'Atividade 5'!BD45","v":0},{"$f":"'Atividade 5'!BE45","v":0},{"$f":"'Atividade 5'!BF45","v":0},0,null,{"$f":"'Atividade 5'!BI45","v":0},{"$f":"'Atividade 5'!BJ45","v":0},{"$f":"'Atividade 5'!BK45","v":0},{"$f":"'Atividade 5'!BL45","v":0},{"$f":"'Atividade 5'!BM45","v":0},{"$f":"'Atividade 5'!BN45","v":0},{"$f":"'Atividade 5'!BO45","v":0},{"$f":"'Atividade 5'!BP45","v":0},{"$f":"'Atividade 5'!BQ45","v":0},{"$f":"'Atividade 5'!BR45","v":0},{"$f":"'Atividade 5'!BS45","v":0},{"$f":"'Atividade 5'!BT45","v":0},0,null,{"$f":"'Atividade 5'!BW45","v":0},{"$f":"'Atividade 5'!BX45","v":0},{"$f":"'Atividade 5'!BY45","v":0},{"$f":"'Atividade 5'!BZ45","v":0},{"$f":"'Atividade 5'!CA45","v":0},{"$f":"'Atividade 5'!CB45","v":0},{"$f":"'Atividade 5'!CC45","v":0},{"$f":"'Atividade 5'!CD45","v":0},{"$f":"'Atividade 5'!CE45","v":0},{"$f":"'Atividade 5'!CF45","v":0},{"$f":"'Atividade 5'!CG45","v":0},{"$f":"'Atividade 5'!CH45","v":0},0,null,{"$f":"'Atividade 5'!CK45","v":0},{"$f":"'Atividade 5'!CL45","v":0},{"$f":"'Atividade 5'!CM45","v":0},{"$f":"'Atividade 5'!CN45","v":0},{"$f":"'Atividade 5'!CO45","v":0},{"$f":"'Atividade 5'!CP45","v":0},{"$f":"'Atividade 5'!CQ45","v":0},{"$f":"'Atividade 5'!CR45","v":0},{"$f":"'Atividade 5'!CS45","v":0},{"$f":"'Atividade 5'!CT45","v":0},{"$f":"'Atividade 5'!CU45","v":0},{"$f":"'Atividade 5'!CV45","v":0},0,null,{"$f":"'Atividade 5'!CY45","v":0},{"$f":"'Atividade 5'!CZ45","v":0},{"$f":"'Atividade 5'!DA45","v":0},{"$f":"'Atividade 5'!DB45","v":0},{"$f":"'Atividade 5'!DC45","v":0},{"$f":"'Atividade 5'!DD45","v":0},{"$f":"'Atividade 5'!DE45","v":0},{"$f":"'Atividade 5'!DF45","v":0},{"$f":"'Atividade 5'!DG45","v":0},{"$f":"'Atividade 5'!DH45","v":0},{"$f":"'Atividade 5'!DI45","v":0},{"$f":"'Atividade 5'!DJ45","v":0},0,null,{"$f":"'Atividade 5'!DM45","v":0},{"$f":"'Atividade 5'!DN45","v":0},{"$f":"'Atividade 5'!DO45","v":0},{"$f":"'Atividade 5'!DP45","v":0},{"$f":"'Atividade 5'!DQ45","v":0},{"$f":"'Atividade 5'!DR45","v":0},{"$f":"'Atividade 5'!DS45","v":0},{"$f":"'Atividade 5'!DT45","v":0},{"$f":"'Atividade 5'!DU45","v":0},{"$f":"'Atividade 5'!DV45","v":0},{"$f":"'Atividade 5'!DW45","v":0},{"$f":"'Atividade 5'!DX45","v":0},0,null,{"$f":"'Atividade 5'!EA45","v":0},{"$f":"'Atividade 5'!EB45","v":0},{"$f":"'Atividade 5'!EC45","v":0},{"$f":"'Atividade 5'!ED45","v":0},{"$f":"'Atividade 5'!EE45","v":0},{"$f":"'Atividade 5'!EF45","v":0},{"$f":"'Atividade 5'!EG45","v":0},{"$f":"'Atividade 5'!EH45","v":0},{"$f":"'Atividade 5'!EI45","v":0},{"$f":"'Atividade 5'!EJ45","v":0},{"$f":"'Atividade 5'!EK45","v":0},{"$f":"'Atividade 5'!EL45","v":0},0,null,{"$f":"'Atividade 5'!EO45","v":0},{"$f":"'Atividade 5'!EP45","v":0},{"$f":"'Atividade 5'!EQ45","v":0},{"$f":"'Atividade 5'!ER45","v":0},{"$f":"'Atividade 5'!ES45","v":0},{"$f":"'Atividade 5'!ET45","v":0},{"$f":"'Atividade 5'!EU45","v":0},{"$f":"'Atividade 5'!EV45","v":0},{"$f":"'Atividade 5'!EW45","v":0},{"$f":"'Atividade 5'!EX45","v":0},{"$f":"'Atividade 5'!EY45","v":0},{"$f":"'Atividade 5'!EZ45","v":0},0,null,{"$f":"'Atividade 5'!FC45","v":0},{"$f":"'Atividade 5'!FD45","v":0},{"$f":"'Atividade 5'!FE45","v":0},{"$f":"'Atividade 5'!FF45","v":0},{"$f":"'Atividade 5'!FG45","v":0},{"$f":"'Atividade 5'!FH45","v":0},{"$f":"'Atividade 5'!FI45","v":0},{"$f":"'Atividade 5'!FJ45","v":0},{"$f":"'Atividade 5'!FK45","v":0},{"$f":"'Atividade 5'!FL45","v":0},{"$f":"'Atividade 5'!FM45","v":0},{"$f":"'Atividade 5'!FN45","v":0},0,null,null,null,null,null,null,null,null,null,11,2027,"R3C145"]
[null,null,"R",{"$f":"'Atividade 5'!E46","v":0},{"$f":"'Atividade 5'!F46","v":0},{"$f":"'Atividade 5'!G46","v":0},{"$f":"'Atividade 5'!H46","v":0},{"$f":"'Atividade 5'!I46","v":0},{"$f":"'Atividade 5'!J46","v":0},{"$f":"'Atividade 5'!K46","v":0},{"$f":"'Atividade 5'!L46","v":0},{"$f":"'Atividade 5'!M46","v":0},{"$f":"'Atividade 5'!N46","v":0},{"$f":"'Atividade 5'!O46","v":0},{"$f":"'Atividade 5'!P46","v":0},0,null,{"$f":"'Atividade 5'!S46","v":0},{"$f":"'Atividade 5'!T46","v":0},{"$f":"'Atividade 5'!U46","v":0},{"$f":"'Atividade 5'!V46","v":0},{"$f":"'Atividade 5'!W46","v":0},{"$f":"'Atividade 5'!X46","v":0},{"$f":"'Atividade 5'!Y46","v":0},{"$f":"'Atividade 5'!Z46","v":0},{"$f":"'Atividade 5'!AA46","v":0},{"$f":"'Atividade 5'!AB46","v":0},{"$f":"'Atividade 5'!AC46","v":0},{"$f":"'Atividade 5'!AD46","v":0},0,null,{"$f":"'Atividade 5'!AG46","v":0},{"$f":"'Atividade 5'!AH46","v":0},{"$f":"'Atividade 5'!AI46","v":0},{"$f":"'Atividade 5'!AJ46","v":0},{"$f":"'Atividade 5'!AK46","v":0},{"$f":"'Atividade 5'!AL46","v":0},{"$f":"'Atividade 5'!AM46","v":0},{"$f":"'Atividade 5'!AN46","v":0},{"$f":"'Atividade 5'!AO46","v":0},{"$f":"'Atividade 5'!AP46","v":0},{"$f":"'Atividade 5'!AQ46","v":0},{"$f":"'Atividade 5'!AR46","v":0},0,null,{"$f":"'Atividade 5'!AU46","v":0},{"$f":"'Atividade 5'!AV46","v":0},{"$f":"'Atividade 5'!AW46","v":0},{"$f":"'Atividade 5'!AX46","v":0},{"$f":"'Atividade 5'!AY46","v":0},{"$f":"'Atividade 5'!AZ46","v":0},{"$f":"'Atividade 5'!BA46","v":0},{"$f":"'Atividade 5'!BB46","v":0},{"$f":"'Atividade 5'!BC46","v":0},{"$f":"'Atividade 5'!BD46","v":0},{"$f":"'Atividade 5'!BE46","v":0},{"$f":"'Atividade 5'!BF46","v":0},0,null,{"$f":"'Atividade 5'!BI46","v":0},{"$f":"'Atividade 5'!BJ46","v":0},{"$f":"'Atividade 5'!BK46","v":0},{"$f":"'Atividade 5'!BL46","v":0},{"$f":"'Atividade 5'!BM46","v":0},{"$f":"'Atividade 5'!BN46","v":0},{"$f":"'Atividade 5'!BO46","v":0},{"$f":"'Atividade 5'!BP46","v":0},{"$f":"'Atividade 5'!BQ46","v":0},{"$f":"'Atividade 5'!BR46","v":0},{"$f":"'Atividade 5'!BS46","v":0},{"$f":"'Atividade 5'!BT46","v":0},0,null,{"$f":"'Atividade 5'!BW46","v":0},{"$f":"'Atividade 5'!BX46","v":0},{"$f":"'Atividade 5'!BY46","v":0},{"$f":"'Atividade 5'!BZ46","v":0},{"$f":"'Atividade 5'!CA46","v":0},{"$f":"'Atividade 5'!CB46","v":0},{"$f":"'Atividade 5'!CC46","v":0},{"$f":"'Atividade 5'!CD46","v":0},{"$f":"'Atividade 5'!CE46","v":0},{"$f":"'Atividade 5'!CF46","v":0},{"$f":"'Atividade 5'!CG46","v":0},{"$f":"'Atividade 5'!CH46","v":0},0,null,{"$f":"'Atividade 5'!CK46","v":0},{"$f":"'Atividade 5'!CL46","v":0},{"$f":"'Atividade 5'!CM46","v":0},{"$f":"'Atividade 5'!CN46","v":0},{"$f":"'Atividade 5'!CO46","v":0},{"$f":"'Atividade 5'!CP46","v":0},{"$f":"'Atividade 5'!CQ46","v":0},{"$f":"'Atividade 5'!CR46","v":0},{"$f":"'Atividade 5'!CS46","v":0},{"$f":"'Atividade 5'!CT46","v":0},{"$f":"'Atividade 5'!CU46","v":0},{"$f":"'Atividade 5'!CV46","v":0},0,null,{"$f":"'Atividade 5'!CY46","v":0},{"$f":"'Atividade 5'!CZ46","v":0},{"$f":"'Atividade 5'!DA46","v":0},{"$f":"'Atividade 5'!DB46","v":0},{"$f":"'Atividade 5'!DC46","v":0},{"$f":"'Atividade 5'!DD46","v":0},{"$f":"'Atividade 5'!DE46","v":0},{"$f":"'Atividade 5'!DF46","v":0},{"$f":"'Atividade 5'!DG46","v":0},{"$f":"'Atividade 5'!DH46","v":0},{"$f":"'Atividade 5'!DI46","v":0},{"$f":"'Atividade 5'!DJ46","v":0},0,null,{"$f":"'Atividade 5'!DM46","v":0},{"$f":"'Atividade 5'!DN46","v":0},{"$f":"'Atividade 5'!DO46","v":0},{"$f":"'Atividade 5'!DP46","v":0},{"$f":"'Atividade 5'!DQ46","v":0},{"$f":"'Atividade 5'!DR46","v":0},{"$f":"'Atividade 5'!DS46","v":0},{"$f":"'Atividade 5'!DT46","v":0},{"$f":"'Atividade 5'!DU46","v":0},{"$f":"'Atividade 5'!DV46","v":0},{"$f":"'Atividade 5'!DW46","v":0},{"$f":"'Atividade 5'!DX46","v":0},0,null,{"$f":"'Atividade 5'!EA46","v":0},{"$f":"'Atividade 5'!EB46","v":0},{"$f":"'Atividade 5'!EC46","v":0},{"$f":"'Atividade 5'!ED46","v":0},{"$f":"'Atividade 5'!EE46","v":0},{"$f":"'Atividade 5'!EF46","v":0},{"$f":"'Atividade 5'!EG46","v":0},{"$f":"'Atividade 5'!EH46","v":0},{"$f":"'Atividade 5'!EI46","v":0},{"$f":"'Atividade 5'!EJ46","v":0},{"$f":"'Atividade 5'!EK46","v":0},{"$f":"'Atividade 5'!EL46","v":0},0,null,{"$f":"'Atividade 5'!EO46","v":0},{"$f":"'Atividade 5'!EP46","v":0},{"$f":"'Atividade 5'!EQ46","v":0},{"$f":"'Atividade 5'!ER46","v":0},{"$f":"'Atividade 5'!ES46","v":0},{"$f":"'Atividade 5'!ET46","v":0},{"$f":"'Atividade 5'!EU46","v":0},{"$f":"'Atividade 5'!EV46","v":0},{"$f":"'Atividade 5'!EW46","v":0},{"$f":"'Atividade 5'!EX46","v":0},{"$f":"'Atividade 5'!EY46","v":0},{"$f":"'Atividade 5'!EZ46","v":0},0,null,{"$f":"'Atividade 5'!FC46","v":0},{"$f":"'Atividade 5'!FD46","v":0},{"$f":"'Atividade 5'!FE46","v":0},{"$f":"'Atividade 5'!FF46","v":0},{"$f":"'Atividade 5'!FG46","v":0},{"$f":"'Atividade 5'!FH46","v":0},{"$f":"'Atividade 5'!FI46","v":0},{"$f":"'Atividade 5'!FJ46","v":0},{"$f":"'Atividade 5'!FK46","v":0},{"$f":"'Atividade 5'!FL46","v":0},{"$f":"'Atividade 5'!FM46","v":0},{"$f":"'Atividade 5'!FN46","v":0},0,null,null,null,null,null,null,null,null,null,12,2028,"R3C159"]
[null,{"$f":"MENU!C30","v":"Bovinocultura de Corte"},"P",{"$f":"'Atividade 6'!E45","v":0},{"$f":"'Atividade 6'!F45","v":0},{"$f":"'Atividade 6'!G45","v":0},{"$f":"'Atividade 6'!H45","v":0},{"$f":"'Atividade 6'!I45","v":0},{"$f":"'Atividade 6'!J45","v":0},{"$f":"'Atividade 6'!K45","v":0},{"$f":"'Atividade 6'!L45","v":0},{"$f":"'Atividade 6'!M45","v":0},{"$f":"'Atividade 6'!N45","v":0},{"$f":"'Atividade 6'!O45","v":0},{"$f":"'Atividade 6'!P45","v":0},0,null,{"$f":"'Atividade 6'!S45","v":0},{"$f":"'Atividade 6'!T45","v":0},{"$f":"'Atividade 6'!U45","v":0},{"$f":"'Atividade 6'!V45","v":0},{"$f":"'Atividade 6'!W45","v":0},{"$f":"'Atividade 6'!X45","v":0},{"$f":"'Atividade 6'!Y45","v":0},{"$f":"'Atividade 6'!Z45","v":0},{"$f":"'Atividade 6'!AA45","v":0},{"$f":"'Atividade 6'!AB45","v":0},{"$f":"'Atividade 6'!AC45","v":0},{"$f":"'Atividade 6'!AD45","v":0},0,null,{"$f":"'Atividade 6'!AG45","v":0},{"$f":"'Atividade 6'!AH45","v":0},{"$f":"'Atividade 6'!AI45","v":0},{"$f":"'Atividade 6'!AJ45","v":0},{"$f":"'Atividade 6'!AK45","v":0},{"$f":"'Atividade 6'!AL45","v":0},{"$f":"'Atividade 6'!AM45","v":0},{"$f":"'Atividade 6'!AN45","v":0},{"$f":"'Atividade 6'!AO45","v":0},{"$f":"'Atividade 6'!AP45","v":0},{"$f":"'Atividade 6'!AQ45","v":0},{"$f":"'Atividade 6'!AR45","v":0},0,null,{"$f":"'Atividade 6'!AU45","v":0},{"$f":"'Atividade 6'!AV45","v":0},{"$f":"'Atividade 6'!AW45","v":0},{"$f":"'Atividade 6'!AX45","v":0},{"$f":"'Atividade 6'!AY45","v":0},{"$f":"'Atividade 6'!AZ45","v":0},{"$f":"'Atividade 6'!BA45","v":0},{"$f":"'Atividade 6'!BB45","v":0},{"$f":"'Atividade 6'!BC45","v":0},{"$f":"'Atividade 6'!BD45","v":0},{"$f":"'Atividade 6'!BE45","v":0},{"$f":"'Atividade 6'!BF45","v":0},0,null,{"$f":"'Atividade 6'!BI45","v":0},{"$f":"'Atividade 6'!BJ45","v":0},{"$f":"'Atividade 6'!BK45","v":0},{"$f":"'Atividade 6'!BL45","v":0},{"$f":"'Atividade 6'!BM45","v":0},{"$f":"'Atividade 6'!BN45","v":0},{"$f":"'Atividade 6'!BO45","v":0},{"$f":"'Atividade 6'!BP45","v":0},{"$f":"'Atividade 6'!BQ45","v":0},{"$f":"'Atividade 6'!BR45","v":0},{"$f":"'Atividade 6'!BS45","v":0},{"$f":"'Atividade 6'!BT45","v":0},0,null,{"$f":"'Atividade 6'!BW45","v":0},{"$f":"'Atividade 6'!BX45","v":0},{"$f":"'Atividade 6'!BY45","v":0},{"$f":"'Atividade 6'!BZ45","v":0},{"$f":"'Atividade 6'!CA45","v":0},{"$f":"'Atividade 6'!CB45","v":0},{"$f":"'Atividade 6'!CC45","v":0},{"$f":"'Atividade 6'!CD45","v":0},{"$f":"'Atividade 6'!CE45","v":0},{"$f":"'Atividade 6'!CF45","v":0},{"$f":"'Atividade 6'!CG45","v":0},{"$f":"'Atividade 6'!CH45","v":0},0,null,{"$f":"'Atividade 6'!CK45","v":0},{"$f":"'Atividade 6'!CL45","v":0},{"$f":"'Atividade 6'!CM45","v":0},{"$f":"'Atividade 6'!CN45","v":0},{"$f":"'Atividade 6'!CO45","v":0},{"$f":"'Atividade 6'!CP45","v":0},{"$f":"'Atividade 6'!CQ45","v":0},{"$f":"'Atividade 6'!CR45","v":0},{"$f":"'Atividade 6'!CS45","v":0},{"$f":"'Atividade 6'!CT45","v":0},{"$f":"'Atividade 6'!CU45","v":0},{"$f":"'Atividade 6'!CV45","v":0},0,null,{"$f":"'Atividade 6'!CY45","v":0},{"$f":"'Atividade 6'!CZ45","v":0},{"$f":"'Atividade 6'!DA45","v":0},{"$f":"'Atividade 6'!DB45","v":0},{"$f":"'Atividade 6'!DC45","v":0},{"$f":"'Atividade 6'!DD45","v":0},{"$f":"'Atividade 6'!DE45","v":0},{"$f":"'Atividade 6'!DF45","v":0},{"$f":"'Atividade 6'!DG45","v":0},{"$f":"'Atividade 6'!DH45","v":0},{"$f":"'Atividade 6'!DI45","v":0},{"$f":"'Atividade 6'!DJ45","v":0},0,null,{"$f":"'Atividade 6'!DM45","v":0},{"$f":"'Atividade 6'!DN45","v":0},{"$f":"'Atividade 6'!DO45","v":0},{"$f":"'Atividade 6'!DP45","v":0},{"$f":"'Atividade 6'!DQ45","v":0},{"$f":"'Atividade 6'!DR45","v":0},{"$f":"'Atividade 6'!DS45","v":0},{"$f":"'Atividade 6'!DT45","v":0},{"$f":"'Atividade 6'!DU45","v":0},{"$f":"'Atividade 6'!DV45","v":0},{"$f":"'Atividade 6'!DW45","v":0},{"$f":"'Atividade 6'!DX45","v":0},0,null,{"$f":"'Atividade 6'!EA45","v":0},{"$f":"'Atividade 6'!EB45","v":0},{"$f":"'Atividade 6'!EC45","v":0},{"$f":"'Atividade 6'!ED45","v":0},{"$f":"'Atividade 6'!EE45","v":0},{"$f":"'Atividade 6'!EF45","v":0},{"$f":"'Atividade 6'!EG45","v":0},{"$f":"'Atividade 6'!EH45","v":0},{"$f":"'Atividade 6'!EI45","v":0},{"$f":"'Atividade 6'!EJ45","v":0},{"$f":"'Atividade 6'!EK45","v":0},{"$f":"'Atividade 6'!EL45","v":0},0,null,{"$f":"'Atividade 6'!EO45","v":0},{"$f":"'Atividade 6'!EP45","v":0},{"$f":"'Atividade 6'!EQ45","v":0},{"$f":"'Atividade 6'!ER45","v":0},{"$f":"'Atividade 6'!ES45","v":0},{"$f":"'Atividade 6'!ET45","v":0},{"$f":"'Atividade 6'!EU45","v":0},{"$f":"'Atividade 6'!EV45","v":0},{"$f":"'Atividade 6'!EW45","v":0},{"$f":"'Atividade 6'!EX45","v":0},{"$f":"'Atividade 6'!EY45","v":0},{"$f":"'Atividade 6'!EZ45","v":0},0,null,{"$f":"'Atividade 6'!FC45","v":0},{"$f":"'Atividade 6'!FD45","v":0},{"$f":"'Atividade 6'!FE45","v":0},{"$f":"'Atividade 6'!FF45","v":0},{"$f":"'Atividade 6'!FG45","v":0},{"$f":"'Atividade 6'!FH45","v":0},{"$f":"'Atividade 6'!FI45","v":0},{"$f":"'Atividade 6'!FJ45","v":0},{"$f":"'Atividade 6'!FK45","v":0},{"$f":"'Atividade 6'!FL45","v":0},{"$f":"'Atividade 6'!FM45","v":0},{"$f":"'Atividade 6'!FN45","v":0},0]
[null,null,"R",{"$f":"'Atividade 6'!E46","v":0},{"$f":"'Atividade 6'!F46","v":0},{"$f":"'Atividade 6'!G46","v":0},{"$f":"'Atividade 6'!H46","v":0},{"$f":"'Atividade 6'!I46","v":0},{"$f":"'Atividade 6'!J46","v":0},{"$f":"'Atividade 6'!K46","v":0},{"$f":"'Atividade 6'!L46","v":0},{"$f":"'Atividade 6'!M46","v":0},{"$f":"'Atividade 6'!N46","v":0},{"$f":"'Atividade 6'!O46","v":0},{"$f":"'Atividade 6'!P46","v":0},0,null,{"$f":"'Atividade 6'!S46","v":0},{"$f":"'Atividade 6'!T46","v":0},{"$f":"'Atividade 6'!U46","v":0},{"$f":"'Atividade 6'!V46","v":0},{"$f":"'Atividade 6'!W46","v":0},{"$f":"'Atividade 6'!X46","v":0},{"$f":"'Atividade 6'!Y46","v":0},{"$f":"'Atividade 6'!Z46","v":0},{"$f":"'Atividade 6'!AA46","v":0},{"$f":"'Atividade 6'!AB46","v":0},{"$f":"'Atividade 6'!AC46","v":0},{"$f":"'Atividade 6'!AD46","v":0},0,null,{"$f":"'Atividade 6'!AG46","v":0},{"$f":"'Atividade 6'!AH46","v":0},{"$f":"'Atividade 6'!AI46","v":0},{"$f":"'Atividade 6'!AJ46","v":0},{"$f":"'Atividade 6'!AK46","v":0},{"$f":"'Atividade 6'!AL46","v":0},{"$f":"'Atividade 6'!AM46","v":0},{"$f":"'Atividade 6'!AN46","v":0},{"$f":"'Atividade 6'!AO46","v":0},{"$f":"'Atividade 6'!AP46","v":0},{"$f":"'Atividade 6'!AQ46","v":0},{"$f":"'Atividade 6'!AR46","v":0},0,null,{"$f":"'Atividade 6'!AU46","v":0},{"$f":"'Atividade 6'!AV46","v":0},{"$f":"'Atividade 6'!AW46","v":0},{"$f":"'Atividade 6'!AX46","v":0},{"$f":"'Atividade 6'!AY46","v":0},{"$f":"'Atividade 6'!AZ46","v":0},{"$f":"'Atividade 6'!BA46","v":0},{"$f":"'Atividade 6'!BB46","v":0},{"$f":"'Atividade 6'!BC46","v":0},{"$f":"'Atividade 6'!BD46","v":0},{"$f":"'Atividade 6'!BE46","v":0},{"$f":"'Atividade 6'!BF46","v":0},0,null,{"$f":"'Atividade 6'!BI46","v":0},{"$f":"'Atividade 6'!BJ46","v":0},{"$f":"'Atividade 6'!BK46","v":0},{"$f":"'Atividade 6'!BL46","v":0},{"$f":"'Atividade 6'!BM46","v":0},{"$f":"'Atividade 6'!BN46","v":0},{"$f":"'Atividade 6'!BO46","v":0},{"$f":"'Atividade 6'!BP46","v":0},{"$f":"'Atividade 6'!BQ46","v":0},{"$f":"'Atividade 6'!BR46","v":0},{"$f":"'Atividade 6'!BS46","v":0},{"$f":"'Atividade 6'!BT46","v":0},0,null,{"$f":"'Atividade 6'!BW46","v":0},{"$f":"'Atividade 6'!BX46","v":0},{"$f":"'Atividade 6'!BY46","v":0},{"$f":"'Atividade 6'!BZ46","v":0},{"$f":"'Atividade 6'!CA46","v":0},{"$f":"'Atividade 6'!CB46","v":0},{"$f":"'Atividade 6'!CC46","v":0},{"$f":"'Atividade 6'!CD46","v":0},{"$f":"'Atividade 6'!CE46","v":0},{"$f":"'Atividade 6'!CF46","v":0},{"$f":"'Atividade 6'!CG46","v":0},{"$f":"'Atividade 6'!CH46","v":0},0,null,{"$f":"'Atividade 6'!CK46","v":0},{"$f":"'Atividade 6'!CL46","v":0},{"$f":"'Atividade 6'!CM46","v":0},{"$f":"'Atividade 6'!CN46","v":0},{"$f":"'Atividade 6'!CO46","v":0},{"$f":"'Atividade 6'!CP46","v":0},{"$f":"'Atividade 6'!CQ46","v":0},{"$f":"'Atividade 6'!CR46","v":0},{"$f":"'Atividade 6'!CS46","v":0},{"$f":"'Atividade 6'!CT46","v":0},{"$f":"'Atividade 6'!CU46","v":0},{"$f":"'Atividade 6'!CV46","v":0},0,null,{"$f":"'Atividade 6'!CY46","v":0},{"$f":"'Atividade 6'!CZ46","v":0},{"$f":"'Atividade 6'!DA46","v":0},{"$f":"'Atividade 6'!DB46","v":0},{"$f":"'Atividade 6'!DC46","v":0},{"$f":"'Atividade 6'!DD46","v":0},{"$f":"'Atividade 6'!DE46","v":0},{"$f":"'Atividade 6'!DF46","v":0},{"$f":"'Atividade 6'!DG46","v":0},{"$f":"'Atividade 6'!DH46","v":0},{"$f":"'Atividade 6'!DI46","v":0},{"$f":"'Atividade 6'!DJ46","v":0},0,null,{"$f":"'Atividade 6'!DM46","v":0},{"$f":"'Atividade 6'!DN46","v":0},{"$f":"'Atividade 6'!DO46","v":0},{"$f":"'Atividade 6'!DP46","v":0},{"$f":"'Atividade 6'!DQ46","v":0},{"$f":"'Atividade 6'!DR46","v":0},{"$f":"'Atividade 6'!DS46","v":0},{"$f":"'Atividade 6'!DT46","v":0},{"$f":"'Atividade 6'!DU46","v":0},{"$f":"'Atividade 6'!DV46","v":0},{"$f":"'Atividade 6'!DW46","v":0},{"$f":"'Atividade 6'!DX46","v":0},0,null,{"$f":"'Atividade 6'!EA46","v":0},{"$f":"'Atividade 6'!EB46","v":0},{"$f":"'Atividade 6'!EC46","v":0},{"$f":"'Atividade 6'!ED46","v":0},{"$f":"'Atividade 6'!EE46","v":0},{"$f":"'Atividade 6'!EF46","v":0},{"$f":"'Atividade 6'!EG46","v":0},{"$f":"'Atividade 6'!EH46","v":0},{"$f":"'Atividade 6'!EI46","v":0},{"$f":"'Atividade 6'!EJ46","v":0},{"$f":"'Atividade 6'!EK46","v":0},{"$f":"'Atividade 6'!EL46","v":0},0,null,{"$f":"'Atividade 6'!EO46","v":0},{"$f":"'Atividade 6'!EP46","v":0},{"$f":"'Atividade 6'!EQ46","v":0},{"$f":"'Atividade 6'!ER46","v":0},{"$f":"'Atividade 6'!ES46","v":0},{"$f":"'Atividade 6'!ET46","v":0},{"$f":"'Atividade 6'!EU46","v":0},{"$f":"'Atividade 6'!EV46","v":0},{"$f":"'Atividade 6'!EW46","v":0},{"$f":"'Atividade 6'!EX46","v":0},{"$f":"'Atividade 6'!EY46","v":0},{"$f":"'Atividade 6'!EZ46","v":0},0,null,{"$f":"'Atividade 6'!FC46","v":0},{"$f":"'Atividade 6'!FD46","v":0},{"$f":"'Atividade 6'!FE46","v":0},{"$f":"'Atividade 6'!FF46","v":0},{"$f":"'Atividade 6'!FG46","v":0},{"$f":"'Atividade 6'!FH46","v":0},{"$f":"'Atividade 6'!FI46","v":0},{"$f":"'Atividade 6'!FJ46","v":0},{"$f":"'Atividade 6'!FK46","v":0},{"$f":"'Atividade 6'!FL46","v":0},{"$f":"'Atividade 6'!FM46","v":0},{"$f":"'Atividade 6'!FN46","v":0},0]
[null,{"$f":"MENU!C31","v":"Atividade"},"P",{"$f":"'Atividade 7'!E45","v":0},{"$f":"'Atividade 7'!F45","v":0},{"$f":"'Atividade 7'!G45","v":0},{"$f":"'Atividade 7'!H45","v":0},{"$f":"'Atividade 7'!I45","v":0},{"$f":"'Atividade 7'!J45","v":0},{"$f":"'Atividade 7'!K45","v":0},{"$f":"'Atividade 7'!L45","v":0},{"$f":"'Atividade 7'!M45","v":0},{"$f":"'Atividade 7'!N45","v":0},{"$f":"'Atividade 7'!O45","v":0},{"$f":"'Atividade 7'!P45","v":0},0,null,{"$f":"'Atividade 7'!S45","v":0},{"$f":"'Atividade 7'!T45","v":0},{"$f":"'Atividade 7'!U45","v":0},{"$f":"'Atividade 7'!V45","v":0},{"$f":"'Atividade 7'!W45","v":0},{"$f":"'Atividade 7'!X45","v":0},{"$f":"'Atividade 7'!Y45","v":0},{"$f":"'Atividade 7'!Z45","v":0},{"$f":"'Atividade 7'!AA45","v":0},{"$f":"'Atividade 7'!AB45","v":0},{"$f":"'Atividade 7'!AC45","v":0},{"$f":"'Atividade 7'!AD45","v":0},0,null,{"$f":"'Atividade 7'!AG45","v":0},{"$f":"'Atividade 7'!AH45","v":0},{"$f":"'Atividade 7'!AI45","v":0},{"$f":"'Atividade 7'!AJ45","v":0},{"$f":"'Atividade 7'!AK45","v":0},{"$f":"'Atividade 7'!AL45","v":0},{"$f":"'Atividade 7'!AM45","v":0},{"$f":"'Atividade 7'!AN45","v":0},{"$f":"'Atividade 7'!AO45","v":0},{"$f":"'Atividade 7'!AP45","v":0},{"$f":"'Atividade 7'!AQ45","v":0},{"$f":"'Atividade 7'!AR45","v":0},0,null,{"$f":"'Atividade 7'!AU45","v":0},{"$f":"'Atividade 7'!AV45","v":0},{"$f":"'Atividade 7'!AW45","v":0},{"$f":"'Atividade 7'!AX45","v":0},{"$f":"'Atividade 7'!AY45","v":0},{"$f":"'Atividade 7'!AZ45","v":0},{"$f":"'Atividade 7'!BA45","v":0},{"$f":"'Atividade 7'!BB45","v":0},{"$f":"'Atividade 7'!BC45","v":0},{"$f":"'Atividade 7'!BD45","v":0},{"$f":"'Atividade 7'!BE45","v":0},{"$f":"'Atividade 7'!BF45","v":0},0,null,{"$f":"'Atividade 7'!BI45","v":0},{"$f":"'Atividade 7'!BJ45","v":0},{"$f":"'Atividade 7'!BK45","v":0},{"$f":"'Atividade 7'!BL45","v":0},{"$f":"'Atividade 7'!BM45","v":0},{"$f":"'Atividade 7'!BN45","v":0},{"$f":"'Atividade 7'!BO45","v":0},{"$f":"'Atividade 7'!BP45","v":0},{"$f":"'Atividade 7'!BQ45","v":0},{"$f":"'Atividade 7'!BR45","v":0},{"$f":"'Atividade 7'!BS45","v":0},{"$f":"'Atividade 7'!BT45","v":0},0,null,{"$f":"'Atividade 7'!BW45","v":0},{"$f":"'Atividade 7'!BX45","v":0},{"$f":"'Atividade 7'!BY45","v":0},{"$f":"'Atividade 7'!BZ45","v":0},{"$f":"'Atividade 7'!CA45","v":0},{"$f":"'Atividade 7'!CB45","v":0},{"$f":"'Atividade 7'!CC45","v":0},{"$f":"'Atividade 7'!CD45","v":0},{"$f":"'Atividade 7'!CE45","v":0},{"$f":"'Atividade 7'!CF45","v":0},{"$f":"'Atividade 7'!CG45","v":0},{"$f":"'Atividade 7'!CH45","v":0},0,null,{"$f":"'Atividade 7'!CK45","v":0},{"$f":"'Atividade 7'!CL45","v":0},{"$f":"'Atividade 7'!CM45","v":0},{"$f":"'Atividade 7'!CN45","v":0},{"$f":"'Atividade 7'!CO45","v":0},{"$f":"'Atividade 7'!CP45","v":0},{"$f":"'Atividade 7'!CQ45","v":0},{"$f":"'Atividade 7'!CR45","v":0},{"$f":"'Atividade 7'!CS45","v":0},{"$f":"'Atividade 7'!CT45","v":0},{"$f":"'Atividade 7'!CU45","v":0},{"$f":"'Atividade 7'!CV45","v":0},0,null,{"$f":"'Atividade 7'!CY45","v":0},{"$f":"'Atividade 7'!CZ45","v":0},{"$f":"'Atividade 7'!DA45","v":0},{"$f":"'Atividade 7'!DB45","v":0},{"$f":"'Atividade 7'!DC45","v":0},{"$f":"'Atividade 7'!DD45","v":0},{"$f":"'Atividade 7'!DE45","v":0},{"$f":"'Atividade 7'!DF45","v":0},{"$f":"'Atividade 7'!DG45","v":0},{"$f":"'Atividade 7'!DH45","v":0},{"$f":"'Atividade 7'!DI45","v":0},{"$f":"'Atividade 7'!DJ45","v":0},0,null,{"$f":"'Atividade 7'!DM45","v":0},{"$f":"'Atividade 7'!DN45","v":0},{"$f":"'Atividade 7'!DO45","v":0},{"$f":"'Atividade 7'!DP45","v":0},{"$f":"'Atividade 7'!DQ45","v":0},{"$f":"'Atividade 7'!DR45","v":0},{"$f":"'Atividade 7'!DS45","v":0},{"$f":"'Atividade 7'!DT45","v":0},{"$f":"'Atividade 7'!DU45","v":0},{"$f":"'Atividade 7'!DV45","v":0},{"$f":"'Atividade 7'!DW45","v":0},{"$f":"'Atividade 7'!DX45","v":0},0,null,{"$f":"'Atividade 7'!EA45","v":0},{"$f":"'Atividade 7'!EB45","v":0},{"$f":"'Atividade 7'!EC45","v":0},{"$f":"'Atividade 7'!ED45","v":0},{"$f":"'Atividade 7'!EE45","v":0},{"$f":"'Atividade 7'!EF45","v":0},{"$f":"'Atividade 7'!EG45","v":0},{"$f":"'Atividade 7'!EH45","v":0},{"$f":"'Atividade 7'!EI45","v":0},{"$f":"'Atividade 7'!EJ45","v":0},{"$f":"'Atividade 7'!EK45","v":0},{"$f":"'Atividade 7'!EL45","v":0},0,null,{"$f":"'Atividade 7'!EO45","v":0},{"$f":"'Atividade 7'!EP45","v":0},{"$f":"'Atividade 7'!EQ45","v":0},{"$f":"'Atividade 7'!ER45","v":0},{"$f":"'Atividade 7'!ES45","v":0},{"$f":"'Atividade 7'!ET45","v":0},{"$f":"'Atividade 7'!EU45","v":0},{"$f":"'Atividade 7'!EV45","v":0},{"$f":"'Atividade 7'!EW45","v":0},{"$f":"'Atividade 7'!EX45","v":0},{"$f":"'Atividade 7'!EY45","v":0},{"$f":"'Atividade 7'!EZ45","v":0},0,null,{"$f":"'Atividade 7'!FC45","v":0},{"$f":"'Atividade 7'!FD45","v":0},{"$f":"'Atividade 7'!FE45","v":0},{"$f":"'Atividade 7'!FF45","v":0},{"$f":"'Atividade 7'!FG45","v":0},{"$f":"'Atividade 7'!FH45","v":0},{"$f":"'Atividade 7'!FI45","v":0},{"$f":"'Atividade 7'!FJ45","v":0},{"$f":"'Atividade 7'!FK45","v":0},{"$f":"'Atividade 7'!FL45","v":0},{"$f":"'Atividade 7'!FM45","v":0},{"$f":"'Atividade 7'!FN45","v":0},0]
[null,null,"R",{"$f":"'Atividade 7'!E46","v":0},{"$f":"'Atividade 7'!F46","v":0},{"$f":"'Atividade 7'!G46","v":0},{"$f":"'Atividade 7'!H46","v":0},{"$f":"'Atividade 7'!I46","v":0},{"$f":"'Atividade 7'!J46","v":0},{"$f":"'Atividade 7'!K46","v":0},{"$f":"'Atividade 7'!L46","v":0},{"$f":"'Atividade 7'!M46","v":0},{"$f":"'Atividade 7'!N46","v":0},{"$f":"'Atividade 7'!O46","v":0},{"$f":"'Atividade 7'!P46","v":0},0,null,{"$f":"'Atividade 7'!S46","v":0},{"$f":"'Atividade 7'!T46","v":0},{"$f":"'Atividade 7'!U46","v":0},{"$f":"'Atividade 7'!V46","v":0},{"$f":"'Atividade 7'!W46","v":0},{"$f":"'Atividade 7'!X46","v":0},{"$f":"'Atividade 7'!Y46","v":0},{"$f":"'Atividade 7'!Z46","v":0},{"$f":"'Atividade 7'!AA46","v":0},{"$f":"'Atividade 7'!AB46","v":0},{"$f":"'Atividade 7'!AC46","v":0},{"$f":"'Atividade 7'!AD46","v":0},0,null,{"$f":"'Atividade 7'!AG46","v":0},{"$f":"'Atividade 7'!AH46","v":0},{"$f":"'Atividade 7'!AI46","v":0},{"$f":"'Atividade 7'!AJ46","v":0},{"$f":"'Atividade 7'!AK46","v":0},{"$f":"'Atividade 7'!AL46","v":0},{"$f":"'Atividade 7'!AM46","v":0},{"$f":"'Atividade 7'!AN46","v":0},{"$f":"'Atividade 7'!AO46","v":0},{"$f":"'Atividade 7'!AP46","v":0},{"$f":"'Atividade 7'!AQ46","v":0},{"$f":"'Atividade 7'!AR46","v":0},0,null,{"$f":"'Atividade 7'!AU46","v":0},{"$f":"'Atividade 7'!AV46","v":0},{"$f":"'Atividade 7'!AW46","v":0},{"$f":"'Atividade 7'!AX46","v":0},{"$f":"'Atividade 7'!AY46","v":0},{"$f":"'Atividade 7'!AZ46","v":0},{"$f":"'Atividade 7'!BA46","v":0},{"$f":"'Atividade 7'!BB46","v":0},{"$f":"'Atividade 7'!BC46","v":0},{"$f":"'Atividade 7'!BD46","v":0},{"$f":"'Atividade 7'!BE46","v":0},{"$f":"'Atividade 7'!BF46","v":0},0,null,{"$f":"'Atividade 7'!BI46","v":0},{"$f":"'Atividade 7'!BJ46","v":0},{"$f":"'Atividade 7'!BK46","v":0},{"$f":"'Atividade 7'!BL46","v":0},{"$f":"'Atividade 7'!BM46","v":0},{"$f":"'Atividade 7'!BN46","v":0},{"$f":"'Atividade 7'!BO46","v":0},{"$f":"'Atividade 7'!BP46","v":0},{"$f":"'Atividade 7'!BQ46","v":0},{"$f":"'Atividade 7'!BR46","v":0},{"$f":"'Atividade 7'!BS46","v":0},{"$f":"'Atividade 7'!BT46","v":0},0,null,{"$f":"'Atividade 7'!BW46","v":0},{"$f":"'Atividade 7'!BX46","v":0},{"$f":"'Atividade 7'!BY46","v":0},{"$f":"'Atividade 7'!BZ46","v":0},{"$f":"'Atividade 7'!CA46","v":0},{"$f":"'Atividade 7'!CB46","v":0},{"$f":"'Atividade 7'!CC46","v":0},{"$f":"'Atividade 7'!CD46","v":0},{"$f":"'Atividade 7'!CE46","v":0},{"$f":"'Atividade 7'!CF46","v":0},{"$f":"'Atividade 7'!CG46","v":0},{"$f":"'Atividade 7'!CH46","v":0},0,null,{"$f":"'Atividade 7'!CK46","v":0},{"$f":"'Atividade 7'!CL46","v":0},{"$f":"'Atividade 7'!CM46","v":0},{"$f":"'Atividade 7'!CN46","v":0},{"$f":"'Atividade 7'!CO46","v":0},{"$f":"'Atividade 7'!CP46","v":0},{"$f":"'Atividade 7'!CQ46","v":0},{"$f":"'Atividade 7'!CR46","v":0},{"$f":"'Atividade 7'!CS46","v":0},{"$f":"'Atividade 7'!CT46","v":0},{"$f":"'Atividade 7'!CU46","v":0},{"$f":"'Atividade 7'!CV46","v":0},0,null,{"$f":"'Atividade 7'!CY46","v":0},{"$f":"'Atividade 7'!CZ46","v":0},{"$f":"'Atividade 7'!DA46","v":0},{"$f":"'Atividade 7'!DB46","v":0},{"$f":"'Atividade 7'!DC46","v":0},{"$f":"'Atividade 7'!DD46","v":0},{"$f":"'Atividade 7'!DE46","v":0},{"$f":"'Atividade 7'!DF46","v":0},{"$f":"'Atividade 7'!DG46","v":0},{"$f":"'Atividade 7'!DH46","v":0},{"$f":"'Atividade 7'!DI46","v":0},{"$f":"'Atividade 7'!DJ46","v":0},0,null,{"$f":"'Atividade 7'!DM46","v":0},{"$f":"'Atividade 7'!DN46","v":0},{"$f":"'Atividade 7'!DO46","v":0},{"$f":"'Atividade 7'!DP46","v":0},{"$f":"'Atividade 7'!DQ46","v":0},{"$f":"'Atividade 7'!DR46","v":0},{"$f":"'Atividade 7'!DS46","v":0},{"$f":"'Atividade 7'!DT46","v":0},{"$f":"'Atividade 7'!DU46","v":0},{"$f":"'Atividade 7'!DV46","v":0},{"$f":"'Atividade 7'!DW46","v":0},{"$f":"'Atividade 7'!DX46","v":0},0,null,{"$f":"'Atividade 7'!EA46","v":0},{"$f":"'Atividade 7'!EB46","v":0},{"$f":"'Atividade 7'!EC46","v":0},{"$f":"'Atividade 7'!ED46","v":0},{"$f":"'Atividade 7'!EE46","v":0},{"$f":"'Atividade 7'!EF46","v":0},{"$f":"'Atividade 7'!EG46","v":0},{"$f":"'Atividade 7'!EH46","v":0},{"$f":"'Atividade 7'!EI46","v":0},{"$f":"'Atividade 7'!EJ46","v":0},{"$f":"'Atividade 7'!EK46","v":0},{"$f":"'Atividade 7'!EL46","v":0},0,null,{"$f":"'Atividade 7'!EO46","v":0},{"$f":"'Atividade 7'!EP46","v":0},{"$f":"'Atividade 7'!EQ46","v":0},{"$f":"'Atividade 7'!ER46","v":0},{"$f":"'Atividade 7'!ES46","v":0},{"$f":"'Atividade 7'!ET46","v":0},{"$f":"'Atividade 7'!EU46","v":0},{"$f":"'Atividade 7'!EV46","v":0},{"$f":"'Atividade 7'!EW46","v":0},{"$f":"'Atividade 7'!EX46","v":0},{"$f":"'Atividade 7'!EY46","v":0},{"$f":"'Atividade 7'!EZ46","v":0},0,null,{"$f":"'Atividade 7'!FC46","v":0},{"$f":"'Atividade 7'!FD46","v":0},{"$f":"'Atividade 7'!FE46","v":0},{"$f":"'Atividade 7'!FF46","v":0},{"$f":"'Atividade 7'!FG46","v":0},{"$f":"'Atividade 7'!FH46","v":0},{"$f":"'Atividade 7'!FI46","v":0},{"$f":"'Atividade 7'!FJ46","v":0},{"$f":"'Atividade 7'!FK46","v":0},{"$f":"'Atividade 7'!FL46","v":0},{"$f":"'Atividade 7'!FM46","v":0},{"$f":"'Atividade 7'!FN46","v":0},0]
[null,{"$f":"MENU!C32","v":"Atividade"},"P",{"$f":"'Atividade 8'!E45","v":0},{"$f":"'Atividade 8'!F45","v":0},{"$f":"'Atividade 8'!G45","v":0},{"$f":"'Atividade 8'!H45","v":0},{"$f":"'Atividade 8'!I45","v":0},{"$f":"'Atividade 8'!J45","v":0},{"$f":"'Atividade 8'!K45","v":0},{"$f":"'Atividade 8'!L45","v":0},{"$f":"'Atividade 8'!M45","v":0},{"$f":"'Atividade 8'!N45","v":0},{"$f":"'Atividade 8'!O45","v":0},{"$f":"'Atividade 8'!P45","v":0},0,null,{"$f":"'Atividade 8'!S45","v":0},{"$f":"'Atividade 8'!T45","v":0},{"$f":"'Atividade 8'!U45","v":0},{"$f":"'Atividade 8'!V45","v":0},{"$f":"'Atividade 8'!W45","v":0},{"$f":"'Atividade 8'!X45","v":0},{"$f":"'Atividade 8'!Y45","v":0},{"$f":"'Atividade 8'!Z45","v":0},{"$f":"'Atividade 8'!AA45","v":0},{"$f":"'Atividade 8'!AB45","v":0},{"$f":"'Atividade 8'!AC45","v":0},{"$f":"'Atividade 8'!AD45","v":0},0,null,{"$f":"'Atividade 8'!AG45","v":0},{"$f":"'Atividade 8'!AH45","v":0},{"$f":"'Atividade 8'!AI45","v":0},{"$f":"'Atividade 8'!AJ45","v":0},{"$f":"'Atividade 8'!AK45","v":0},{"$f":"'Atividade 8'!AL45","v":0},{"$f":"'Atividade 8'!AM45","v":0},{"$f":"'Atividade 8'!AN45","v":0},{"$f":"'Atividade 8'!AO45","v":0},{"$f":"'Atividade 8'!AP45","v":0},{"$f":"'Atividade 8'!AQ45","v":0},{"$f":"'Atividade 8'!AR45","v":0},0,null,{"$f":"'Atividade 8'!AU45","v":0},{"$f":"'Atividade 8'!AV45","v":0},{"$f":"'Atividade 8'!AW45","v":0},{"$f":"'Atividade 8'!AX45","v":0},{"$f":"'Atividade 8'!AY45","v":0},{"$f":"'Atividade 8'!AZ45","v":0},{"$f":"'Atividade 8'!BA45","v":0},{"$f":"'Atividade 8'!BB45","v":0},{"$f":"'Atividade 8'!BC45","v":0},{"$f":"'Atividade 8'!BD45","v":0},{"$f":"'Atividade 8'!BE45","v":0},{"$f":"'Atividade 8'!BF45","v":0},0,null,{"$f":"'Atividade 8'!BI45","v":0},{"$f":"'Atividade 8'!BJ45","v":0},{"$f":"'Atividade 8'!BK45","v":0},{"$f":"'Atividade 8'!BL45","v":0},{"$f":"'Atividade 8'!BM45","v":0},{"$f":"'Atividade 8'!BN45","v":0},{"$f":"'Atividade 8'!BO45","v":0},{"$f":"'Atividade 8'!BP45","v":0},{"$f":"'Atividade 8'!BQ45","v":0},{"$f":"'Atividade 8'!BR45","v":0},{"$f":"'Atividade 8'!BS45","v":0},{"$f":"'Atividade 8'!BT45","v":0},0,null,{"$f":"'Atividade 8'!BW45","v":0},{"$f":"'Atividade 8'!BX45","v":0},{"$f":"'Atividade 8'!BY45","v":0},{"$f":"'Atividade 8'!BZ45","v":0},{"$f":"'Atividade 8'!CA45","v":0},{"$f":"'Atividade 8'!CB45","v":0},{"$f":"'Atividade 8'!CC45","v":0},{"$f":"'Atividade 8'!CD45","v":0},{"$f":"'Atividade 8'!CE45","v":0},{"$f":"'Atividade 8'!CF45","v":0},{"$f":"'Atividade 8'!CG45","v":0},{"$f":"'Atividade 8'!CH45","v":0},0,null,{"$f":"'Atividade 8'!CK45","v":0},{"$f":"'Atividade 8'!CL45","v":0},{"$f":"'Atividade 8'!CM45","v":0},{"$f":"'Atividade 8'!CN45","v":0},{"$f":"'Atividade 8'!CO45","v":0},{"$f":"'Atividade 8'!CP45","v":0},{"$f":"'Atividade 8'!CQ45","v":0},{"$f":"'Atividade 8'!CR45","v":0},{"$f":"'Atividade 8'!CS45","v":0},{"$f":"'Atividade 8'!CT45","v":0},{"$f":"'Atividade 8'!CU45","v":0},{"$f":"'Atividade 8'!CV45","v":0},0,null,{"$f":"'Atividade 8'!CY45","v":0},{"$f":"'Atividade 8'!CZ45","v":0},{"$f":"'Atividade 8'!DA45","v":0},{"$f":"'Atividade 8'!DB45","v":0},{"$f":"'Atividade 8'!DC45","v":0},{"$f":"'Atividade 8'!DD45","v":0},{"$f":"'Atividade 8'!DE45","v":0},{"$f":"'Atividade 8'!DF45","v":0},{"$f":"'Atividade 8'!DG45","v":0},{"$f":"'Atividade 8'!DH45","v":0},{"$f":"'Atividade 8'!DI45","v":0},{"$f":"'Atividade 8'!DJ45","v":0},0,null,{"$f":"'Atividade 8'!DM45","v":0},{"$f":"'Atividade 8'!DN45","v":0},{"$f":"'Atividade 8'!DO45","v":0},{"$f":"'Atividade 8'!DP45","v":0},{"$f":"'Atividade 8'!DQ45","v":0},{"$f":"'Atividade 8'!DR45","v":0},{"$f":"'Atividade 8'!DS45","v":0},{"$f":"'Atividade 8'!DT45","v":0},{"$f":"'Atividade 8'!DU45","v":0},{"$f":"'Atividade 8'!DV45","v":0},{"$f":"'Atividade 8'!DW45","v":0},{"$f":"'Atividade 8'!DX45","v":0},0,null,{"$f":"'Atividade 8'!EA45","v":0},{"$f":"'Atividade 8'!EB45","v":0},{"$f":"'Atividade 8'!EC45","v":0},{"$f":"'Atividade 8'!ED45","v":0},{"$f":"'Atividade 8'!EE45","v":0},{"$f":"'Atividade 8'!EF45","v":0},{"$f":"'Atividade 8'!EG45","v":0},{"$f":"'Atividade 8'!EH45","v":0},{"$f":"'Atividade 8'!EI45","v":0},{"$f":"'Atividade 8'!EJ45","v":0},{"$f":"'Atividade 8'!EK45","v":0},{"$f":"'Atividade 8'!EL45","v":0},0,null,{"$f":"'Atividade 8'!EO45","v":0},{"$f":"'Atividade 8'!EP45","v":0},{"$f":"'Atividade 8'!EQ45","v":0},{"$f":"'Atividade 8'!ER45","v":0},{"$f":"'Atividade 8'!ES45","v":0},{"$f":"'Atividade 8'!ET45","v":0},{"$f":"'Atividade 8'!EU45","v":0},{"$f":"'Atividade 8'!EV45","v":0},{"$f":"'Atividade 8'!EW45","v":0},{"$f":"'Atividade 8'!EX45","v":0},{"$f":"'Atividade 8'!EY45","v":0},{"$f":"'Atividade 8'!EZ45","v":0},0,null,{"$f":"'Atividade 8'!FC45","v":0},{"$f":"'Atividade 8'!FD45","v":0},{"$f":"'Atividade 8'!FE45","v":0},{"$f":"'Atividade 8'!FF45","v":0},{"$f":"'Atividade 8'!FG45","v":0},{"$f":"'Atividade 8'!FH45","v":0},{"$f":"'Atividade 8'!FI45","v":0},{"$f":"'Atividade 8'!FJ45","v":0},{"$f":"'Atividade 8'!FK45","v":0},{"$f":"'Atividade 8'!FL45","v":0},{"$f":"'Atividade 8'!FM45","v":0},{"$f":"'Atividade 8'!FN45","v":0},0]
[null,null,"R",{"$f":"'Atividade 8'!E46","v":0},{"$f":"'Atividade 8'!F46","v":0},{"$f":"'Atividade 8'!G46","v":0},{"$f":"'Atividade 8'!H46","v":0},{"$f":"'Atividade 8'!I46","v":0},{"$f":"'Atividade 8'!J46","v":0},{"$f":"'Atividade 8'!K46","v":0},{"$f":"'Atividade 8'!L46","v":0},{"$f":"'Atividade 8'!M46","v":0},{"$f":"'Atividade 8'!N46","v":0},{"$f":"'Atividade 8'!O46","v":0},{"$f":"'Atividade 8'!P46","v":0},0,null,{"$f":"'Atividade 8'!S46","v":0},{"$f":"'Atividade 8'!T46","v":0},{"$f":"'Atividade 8'!U46","v":0},{"$f":"'Atividade 8'!V46","v":0},{"$f":"'Atividade 8'!W46","v":0},{"$f":"'Atividade 8'!X46","v":0},{"$f":"'Atividade 8'!Y46","v":0},{"$f":"'Atividade 8'!Z46","v":0},{"$f":"'Atividade 8'!AA46","v":0},{"$f":"'Atividade 8'!AB46","v":0},{"$f":"'Atividade 8'!AC46","v":0},{"$f":"'Atividade 8'!AD46","v":0},0,null,{"$f":"'Atividade 8'!AG46","v":0},{"$f":"'Atividade 8'!AH46","v":0},{"$f":"'Atividade 8'!AI46","v":0},{"$f":"'Atividade 8'!AJ46","v":0},{"$f":"'Atividade 8'!AK46","v":0},{"$f":"'Atividade 8'!AL46","v":0},{"$f":"'Atividade 8'!AM46","v":0},{"$f":"'Atividade 8'!AN46","v":0},{"$f":"'Atividade 8'!AO46","v":0},{"$f":"'Atividade 8'!AP46","v":0},{"$f":"'Atividade 8'!AQ46","v":0},{"$f":"'Atividade 8'!AR46","v":0},0,null,{"$f":"'Atividade 8'!AU46","v":0},{"$f":"'Atividade 8'!AV46","v":0},{"$f":"'Atividade 8'!AW46","v":0},{"$f":"'Atividade 8'!AX46","v":0},{"$f":"'Atividade 8'!AY46","v":0},{"$f":"'Atividade 8'!AZ46","v":0},{"$f":"'Atividade 8'!BA46","v":0},{"$f":"'Atividade 8'!BB46","v":0},{"$f":"'Atividade 8'!BC46","v":0},{"$f":"'Atividade 8'!BD46","v":0},{"$f":"'Atividade 8'!BE46","v":0},{"$f":"'Atividade 8'!BF46","v":0},0,null,{"$f":"'Atividade 8'!BI46","v":0},{"$f":"'Atividade 8'!BJ46","v":0},{"$f":"'Atividade 8'!BK46","v":0},{"$f":"'Atividade 8'!BL46","v":0},{"$f":"'Atividade 8'!BM46","v":0},{"$f":"'Atividade 8'!BN46","v":0},{"$f":"'Atividade 8'!BO46","v":0},{"$f":"'Atividade 8'!BP46","v":0},{"$f":"'Atividade 8'!BQ46","v":0},{"$f":"'Atividade 8'!BR46","v":0},{"$f":"'Atividade 8'!BS46","v":0},{"$f":"'Atividade 8'!BT46","v":0},0,null,{"$f":"'Atividade 8'!BW46","v":0},{"$f":"'Atividade 8'!BX46","v":0},{"$f":"'Atividade 8'!BY46","v":0},{"$f":"'Atividade 8'!BZ46","v":0},{"$f":"'Atividade 8'!CA46","v":0},{"$f":"'Atividade 8'!CB46","v":0},{"$f":"'Atividade 8'!CC46","v":0},{"$f":"'Atividade 8'!CD46","v":0},{"$f":"'Atividade 8'!CE46","v":0},{"$f":"'Atividade 8'!CF46","v":0},{"$f":"'Atividade 8'!CG46","v":0},{"$f":"'Atividade 8'!CH46","v":0},0,null,{"$f":"'Atividade 8'!CK46","v":0},{"$f":"'Atividade 8'!CL46","v":0},{"$f":"'Atividade 8'!CM46","v":0},{"$f":"'Atividade 8'!CN46","v":0},{"$f":"'Atividade 8'!CO46","v":0},{"$f":"'Atividade 8'!CP46","v":0},{"$f":"'Atividade 8'!CQ46","v":0},{"$f":"'Atividade 8'!CR46","v":0},{"$f":"'Atividade 8'!CS46","v":0},{"$f":"'Atividade 8'!CT46","v":0},{"$f":"'Atividade 8'!CU46","v":0},{"$f":"'Atividade 8'!CV46","v":0},0,null,{"$f":"'Atividade 8'!CY46","v":0},{"$f":"'Atividade 8'!CZ46","v":0},{"$f":"'Atividade 8'!DA46","v":0},{"$f":"'Atividade 8'!DB46","v":0},{"$f":"'Atividade 8'!DC46","v":0},{"$f":"'Atividade 8'!DD46","v":0},{"$f":"'Atividade 8'!DE46","v":0},{"$f":"'Atividade 8'!DF46","v":0},{"$f":"'Atividade 8'!DG46","v":0},{"$f":"'Atividade 8'!DH46","v":0},{"$f":"'Atividade 8'!DI46","v":0},{"$f":"'Atividade 8'!DJ46","v":0},0,null,{"$f":"'Atividade 8'!DM46","v":0},{"$f":"'Atividade 8'!DN46","v":0},{"$f":"'Atividade 8'!DO46","v":0},{"$f":"'Atividade 8'!DP46","v":0},{"$f":"'Atividade 8'!DQ46","v":0},{"$f":"'Atividade 8'!DR46","v":0},{"$f":"'Atividade 8'!DS46","v":0},{"$f":"'Atividade 8'!DT46","v":0},{"$f":"'Atividade 8'!DU46","v":0},{"$f":"'Atividade 8'!DV46","v":0},{"$f":"'Atividade 8'!DW46","v":0},{"$f":"'Atividade 8'!DX46","v":0},0,null,{"$f":"'Atividade 8'!EA46","v":0},{"$f":"'Atividade 8'!EB46","v":0},{"$f":"'Atividade 8'!EC46","v":0},{"$f":"'Atividade 8'!ED46","v":0},{"$f":"'Atividade 8'!EE46","v":0},{"$f":"'Atividade 8'!EF46","v":0},{"$f":"'Atividade 8'!EG46","v":0},{"$f":"'Atividade 8'!EH46","v":0},{"$f":"'Atividade 8'!EI46","v":0},{"$f":"'Atividade 8'!EJ46","v":0},{"$f":"'Atividade 8'!EK46","v":0},{"$f":"'Atividade 8'!EL46","v":0},0,null,{"$f":"'Atividade 8'!EO46","v":0},{"$f":"'Atividade 8'!EP46","v":0},{"$f":"'Atividade 8'!EQ46","v":0},{"$f":"'Atividade 8'!ER46","v":0},{"$f":"'Atividade 8'!ES46","v":0},{"$f":"'Atividade 8'!ET46","v":0},{"$f":"'Atividade 8'!EU46","v":0},{"$f":"'Atividade 8'!EV46","v":0},{"$f":"'Atividade 8'!EW46","v":0},{"$f":"'Atividade 8'!EX46","v":0},{"$f":"'Atividade 8'!EY46","v":0},{"$f":"'Atividade 8'!EZ46","v":0},0,null,{"$f":"'Atividade 8'!FC46","v":0},{"$f":"'Atividade 8'!FD46","v":0},{"$f":"'Atividade 8'!FE46","v":0},{"$f":"'Atividade 8'!FF46","v":0},{"$f":"'Atividade 8'!FG46","v":0},{"$f":"'Atividade 8'!FH46","v":0},{"$f":"'Atividade 8'!FI46","v":0},{"$f":"'Atividade 8'!FJ46","v":0},{"$f":"'Atividade 8'!FK46","v":0},{"$f":"'Atividade 8'!FL46","v":0},{"$f":"'Atividade 8'!FM46","v":0},{"$f":"'Atividade 8'!FN46","v":0},0]
[null,{"$f":"MENU!C33","v":"Atividade"},"P",{"$f":"'Atividade 9'!E45","v":0},{"$f":"'Atividade 9'!F45","v":0},{"$f":"'Atividade 9'!G45","v":0},{"$f":"'Atividade 9'!H45","v":0},{"$f":"'Atividade 9'!I45","v":0},{"$f":"'Atividade 9'!J45","v":0},{"$f":"'Atividade 9'!K45","v":0},{"$f":"'Atividade 9'!L45","v":0},{"$f":"'Atividade 9'!M45","v":0},{"$f":"'Atividade 9'!N45","v":0},{"$f":"'Atividade 9'!O45","v":0},{"$f":"'Atividade 9'!P45","v":0},0,null,{"$f":"'Atividade 9'!S45","v":0},{"$f":"'Atividade 9'!T45","v":0},{"$f":"'Atividade 9'!U45","v":0},{"$f":"'Atividade 9'!V45","v":0},{"$f":"'Atividade 9'!W45","v":0},{"$f":"'Atividade 9'!X45","v":0},{"$f":"'Atividade 9'!Y45","v":0},{"$f":"'Atividade 9'!Z45","v":0},{"$f":"'Atividade 9'!AA45","v":0},{"$f":"'Atividade 9'!AB45","v":0},{"$f":"'Atividade 9'!AC45","v":0},{"$f":"'Atividade 9'!AD45","v":0},0,null,{"$f":"'Atividade 9'!AG45","v":0},{"$f":"'Atividade 9'!AH45","v":0},{"$f":"'Atividade 9'!AI45","v":0},{"$f":"'Atividade 9'!AJ45","v":0},{"$f":"'Atividade 9'!AK45","v":0},{"$f":"'Atividade 9'!AL45","v":0},{"$f":"'Atividade 9'!AM45","v":0},{"$f":"'Atividade 9'!AN45","v":0},{"$f":"'Atividade 9'!AO45","v":0},{"$f":"'Atividade 9'!AP45","v":0},{"$f":"'Atividade 9'!AQ45","v":0},{"$f":"'Atividade 9'!AR45","v":0},0,null,{"$f":"'Atividade 9'!AU45","v":0},{"$f":"'Atividade 9'!AV45","v":0},{"$f":"'Atividade 9'!AW45","v":0},{"$f":"'Atividade 9'!AX45","v":0},{"$f":"'Atividade 9'!AY45","v":0},{"$f":"'Atividade 9'!AZ45","v":0},{"$f":"'Atividade 9'!BA45","v":0},{"$f":"'Atividade 9'!BB45","v":0},{"$f":"'Atividade 9'!BC45","v":0},{"$f":"'Atividade 9'!BD45","v":0},{"$f":"'Atividade 9'!BE45","v":0},{"$f":"'Atividade 9'!BF45","v":0},0,null,{"$f":"'Atividade 9'!BI45","v":0},{"$f":"'Atividade 9'!BJ45","v":0},{"$f":"'Atividade 9'!BK45","v":0},{"$f":"'Atividade 9'!BL45","v":0},{"$f":"'Atividade 9'!BM45","v":0},{"$f":"'Atividade 9'!BN45","v":0},{"$f":"'Atividade 9'!BO45","v":0},{"$f":"'Atividade 9'!BP45","v":0},{"$f":"'Atividade 9'!BQ45","v":0},{"$f":"'Atividade 9'!BR45","v":0},{"$f":"'Atividade 9'!BS45","v":0},{"$f":"'Atividade 9'!BT45","v":0},0,null,{"$f":"'Atividade 9'!BW45","v":0},{"$f":"'Atividade 9'!BX45","v":0},{"$f":"'Atividade 9'!BY45","v":0},{"$f":"'Atividade 9'!BZ45","v":0},{"$f":"'Atividade 9'!CA45","v":0},{"$f":"'Atividade 9'!CB45","v":0},{"$f":"'Atividade 9'!CC45","v":0},{"$f":"'Atividade 9'!CD45","v":0},{"$f":"'Atividade 9'!CE45","v":0},{"$f":"'Atividade 9'!CF45","v":0},{"$f":"'Atividade 9'!CG45","v":0},{"$f":"'Atividade 9'!CH45","v":0},0,null,{"$f":"'Atividade 9'!CK45","v":0},{"$f":"'Atividade 9'!CL45","v":0},{"$f":"'Atividade 9'!CM45","v":0},{"$f":"'Atividade 9'!CN45","v":0},{"$f":"'Atividade 9'!CO45","v":0},{"$f":"'Atividade 9'!CP45","v":0},{"$f":"'Atividade 9'!CQ45","v":0},{"$f":"'Atividade 9'!CR45","v":0},{"$f":"'Atividade 9'!CS45","v":0},{"$f":"'Atividade 9'!CT45","v":0},{"$f":"'Atividade 9'!CU45","v":0},{"$f":"'Atividade 9'!CV45","v":0},0,null,{"$f":"'Atividade 9'!CY45","v":0},{"$f":"'Atividade 9'!CZ45","v":0},{"$f":"'Atividade 9'!DA45","v":0},{"$f":"'Atividade 9'!DB45","v":0},{"$f":"'Atividade 9'!DC45","v":0},{"$f":"'Atividade 9'!DD45","v":0},{"$f":"'Atividade 9'!DE45","v":0},{"$f":"'Atividade 9'!DF45","v":0},{"$f":"'Atividade 9'!DG45","v":0},{"$f":"'Atividade 9'!DH45","v":0},{"$f":"'Atividade 9'!DI45","v":0},{"$f":"'Atividade 9'!DJ45","v":0},0,null,{"$f":"'Atividade 9'!DM45","v":0},{"$f":"'Atividade 9'!DN45","v":0},{"$f":"'Atividade 9'!DO45","v":0},{"$f":"'Atividade 9'!DP45","v":0},{"$f":"'Atividade 9'!DQ45","v":0},{"$f":"'Atividade 9'!DR45","v":0},{"$f":"'Atividade 9'!DS45","v":0},{"$f":"'Atividade 9'!DT45","v":0},{"$f":"'Atividade 9'!DU45","v":0},{"$f":"'Atividade 9'!DV45","v":0},{"$f":"'Atividade 9'!DW45","v":0},{"$f":"'Atividade 9'!DX45","v":0},0,null,{"$f":"'Atividade 9'!EA45","v":0},{"$f":"'Atividade 9'!EB45","v":0},{"$f":"'Atividade 9'!EC45","v":0},{"$f":"'Atividade 9'!ED45","v":0},{"$f":"'Atividade 9'!EE45","v":0},{"$f":"'Atividade 9'!EF45","v":0},{"$f":"'Atividade 9'!EG45","v":0},{"$f":"'Atividade 9'!EH45","v":0},{"$f":"'Atividade 9'!EI45","v":0},{"$f":"'Atividade 9'!EJ45","v":0},{"$f":"'Atividade 9'!EK45","v":0},{"$f":"'Atividade 9'!EL45","v":0},0,null,{"$f":"'Atividade 9'!EO45","v":0},{"$f":"'Atividade 9'!EP45","v":0},{"$f":"'Atividade 9'!EQ45","v":0},{"$f":"'Atividade 9'!ER45","v":0},{"$f":"'Atividade 9'!ES45","v":0},{"$f":"'Atividade 9'!ET45","v":0},{"$f":"'Atividade 9'!EU45","v":0},{"$f":"'Atividade 9'!EV45","v":0},{"$f":"'Atividade 9'!EW45","v":0},{"$f":"'Atividade 9'!EX45","v":0},{"$f":"'Atividade 9'!EY45","v":0},{"$f":"'Atividade 9'!EZ45","v":0},0,null,{"$f":"'Atividade 9'!FC45","v":0},{"$f":"'Atividade 9'!FD45","v":0},{"$f":"'Atividade 9'!FE45","v":0},{"$f":"'Atividade 9'!FF45","v":0},{"$f":"'Atividade 9'!FG45","v":0},{"$f":"'Atividade 9'!FH45","v":0},{"$f":"'Atividade 9'!FI45","v":0},{"$f":"'Atividade 9'!FJ45","v":0},{"$f":"'Atividade 9'!FK45","v":0},{"$f":"'Atividade 9'!FL45","v":0},{"$f":"'Atividade 9'!FM45","v":0},{"$f":"'Atividade 9'!FN45","v":0},0]
[null,null,"R",{"$f":"'Atividade 9'!E46","v":0},{"$f":"'Atividade 9'!F46","v":0},{"$f":"'Atividade 9'!G46","v":0},{"$f":"'Atividade 9'!H46","v":0},{"$f":"'Atividade 9'!I46","v":0},{"$f":"'Atividade 9'!J46","v":0},{"$f":"'Atividade 9'!K46","v":0},{"$f":"'Atividade 9'!L46","v":0},{"$f":"'Atividade 9'!M46","v":0},{"$f":"'Atividade 9'!N46","v":0},{"$f":"'Atividade 9'!O46","v":0},{"$f":"'Atividade 9'!P46","v":0},0,null,{"$f":"'Atividade 9'!S46","v":0},{"$f":"'Atividade 9'!T46","v":0},{"$f":"'Atividade 9'!U46","v":0},{"$f":"'Atividade 9'!V46","v":0},{"$f":"'Atividade 9'!W46","v":0},{"$f":"'Atividade 9'!X46","v":0},{"$f":"'Atividade 9'!Y46","v":0},{"$f":"'Atividade 9'!Z46","v":0},{"$f":"'Atividade 9'!AA46","v":0},{"$f":"'Atividade 9'!AB46","v":0},{"$f":"'Atividade 9'!AC46","v":0},{"$f":"'Atividade 9'!AD46","v":0},0,null,{"$f":"'Atividade 9'!AG46","v":0},{"$f":"'Atividade 9'!AH46","v":0},{"$f":"'Atividade 9'!AI46","v":0},{"$f":"'Atividade 9'!AJ46","v":0},{"$f":"'Atividade 9'!AK46","v":0},{"$f":"'Atividade 9'!AL46","v":0},{"$f":"'Atividade 9'!AM46","v":0},{"$f":"'Atividade 9'!AN46","v":0},{"$f":"'Atividade 9'!AO46","v":0},{"$f":"'Atividade 9'!AP46","v":0},{"$f":"'Atividade 9'!AQ46","v":0},{"$f":"'Atividade 9'!AR46","v":0},0,null,{"$f":"'Atividade 9'!AU46","v":0},{"$f":"'Atividade 9'!AV46","v":0},{"$f":"'Atividade 9'!AW46","v":0},{"$f":"'Atividade 9'!AX46","v":0},{"$f":"'Atividade 9'!AY46","v":0},{"$f":"'Atividade 9'!AZ46","v":0},{"$f":"'Atividade 9'!BA46","v":0},{"$f":"'Atividade 9'!BB46","v":0},{"$f":"'Atividade 9'!BC46","v":0},{"$f":"'Atividade 9'!BD46","v":0},{"$f":"'Atividade 9'!BE46","v":0},{"$f":"'Atividade 9'!BF46","v":0},0,null,{"$f":"'Atividade 9'!BI46","v":0},{"$f":"'Atividade 9'!BJ46","v":0},{"$f":"'Atividade 9'!BK46","v":0},{"$f":"'Atividade 9'!BL46","v":0},{"$f":"'Atividade 9'!BM46","v":0},{"$f":"'Atividade 9'!BN46","v":0},{"$f":"'Atividade 9'!BO46","v":0},{"$f":"'Atividade 9'!BP46","v":0},{"$f":"'Atividade 9'!BQ46","v":0},{"$f":"'Atividade 9'!BR46","v":0},{"$f":"'Atividade 9'!BS46","v":0},{"$f":"'Atividade 9'!BT46","v":0},0,null,{"$f":"'Atividade 9'!BW46","v":0},{"$f":"'Atividade 9'!BX46","v":0},{"$f":"'Atividade 9'!BY46","v":0},{"$f":"'Atividade 9'!BZ46","v":0},{"$f":"'Atividade 9'!CA46","v":0},{"$f":"'Atividade 9'!CB46","v":0},{"$f":"'Atividade 9'!CC46","v":0},{"$f":"'Atividade 9'!CD46","v":0},{"$f":"'Atividade 9'!CE46","v":0},{"$f":"'Atividade 9'!CF46","v":0},{"$f":"'Atividade 9'!CG46","v":0},{"$f":"'Atividade 9'!CH46","v":0},0,null,{"$f":"'Atividade 9'!CK46","v":0},{"$f":"'Atividade 9'!CL46","v":0},{"$f":"'Atividade 9'!CM46","v":0},{"$f":"'Atividade 9'!CN46","v":0},{"$f":"'Atividade 9'!CO46","v":0},{"$f":"'Atividade 9'!CP46","v":0},{"$f":"'Atividade 9'!CQ46","v":0},{"$f":"'Atividade 9'!CR46","v":0},{"$f":"'Atividade 9'!CS46","v":0},{"$f":"'Atividade 9'!CT46","v":0},{"$f":"'Atividade 9'!CU46","v":0},{"$f":"'Atividade 9'!CV46","v":0},0,null,{"$f":"'Atividade 9'!CY46","v":0},{"$f":"'Atividade 9'!CZ46","v":0},{"$f":"'Atividade 9'!DA46","v":0},{"$f":"'Atividade 9'!DB46","v":0},{"$f":"'Atividade 9'!DC46","v":0},{"$f":"'Atividade 9'!DD46","v":0},{"$f":"'Atividade 9'!DE46","v":0},{"$f":"'Atividade 9'!DF46","v":0},{"$f":"'Atividade 9'!DG46","v":0},{"$f":"'Atividade 9'!DH46","v":0},{"$f":"'Atividade 9'!DI46","v":0},{"$f":"'Atividade 9'!DJ46","v":0},0,null,{"$f":"'Atividade 9'!DM46","v":0},{"$f":"'Atividade 9'!DN46","v":0},{"$f":"'Atividade 9'!DO46","v":0},{"$f":"'Atividade 9'!DP46","v":0},{"$f":"'Atividade 9'!DQ46","v":0},{"$f":"'Atividade 9'!DR46","v":0},{"$f":"'Atividade 9'!DS46","v":0},{"$f":"'Atividade 9'!DT46","v":0},{"$f":"'Atividade 9'!DU46","v":0},{"$f":"'Atividade 9'!DV46","v":0},{"$f":"'Atividade 9'!DW46","v":0},{"$f":"'Atividade 9'!DX46","v":0},0,null,{"$f":"'Atividade 9'!EA46","v":0},{"$f":"'Atividade 9'!EB46","v":0},{"$f":"'Atividade 9'!EC46","v":0},{"$f":"'Atividade 9'!ED46","v":0},{"$f":"'Atividade 9'!EE46","v":0},{"$f":"'Atividade 9'!EF46","v":0},{"$f":"'Atividade 9'!EG46","v":0},{"$f":"'Atividade 9'!EH46","v":0},{"$f":"'Atividade 9'!EI46","v":0},{"$f":"'Atividade 9'!EJ46","v":0},{"$f":"'Atividade 9'!EK46","v":0},{"$f":"'Atividade 9'!EL46","v":0},0,null,{"$f":"'Atividade 9'!EO46","v":0},{"$f":"'Atividade 9'!EP46","v":0},{"$f":"'Atividade 9'!EQ46","v":0},{"$f":"'Atividade 9'!ER46","v":0},{"$f":"'Atividade 9'!ES46","v":0},{"$f":"'Atividade 9'!ET46","v":0},{"$f":"'Atividade 9'!EU46","v":0},{"$f":"'Atividade 9'!EV46","v":0},{"$f":"'Atividade 9'!EW46","v":0},{"$f":"'Atividade 9'!EX46","v":0},{"$f":"'Atividade 9'!EY46","v":0},{"$f":"'Atividade 9'!EZ46","v":0},0,null,{"$f":"'Atividade 9'!FC46","v":0},{"$f":"'Atividade 9'!FD46","v":0},{"$f":"'Atividade 9'!FE46","v":0},{"$f":"'Atividade 9'!FF46","v":0},{"$f":"'Atividade 9'!FG46","v":0},{"$f":"'Atividade 9'!FH46","v":0},{"$f":"'Atividade 9'!FI46","v":0},{"$f":"'Atividade 9'!FJ46","v":0},{"$f":"'Atividade 9'!FK46","v":0},{"$f":"'Atividade 9'!FL46","v":0},{"$f":"'Atividade 9'!FM46","v":0},{"$f":"'Atividade 9'!FN46","v":0},0]
[null,"Total Saídas","P",{"$f":"SUMIF($C$5:$C$22,$C23,D$5:D$22)","v":0},0,0,0,0,0,0,0,0,0,0,0,0,null,{"$f":"SUMIF($C$5:$C$22,$C23,R$5:R$22)","v":0},0,0,0,0,0,0,0,0,0,0,0,0,null,{"$f":"SUMIF($C$5:$C$22,$C23,AF$5:AF$22)","v":0},0,0,0,0,0,0,0,0,0,0,0,0,null,{"$f":"SUMIF($C$5:$C$22,$C23,AT$5:AT$22)","v":0},0,0,0,0,0,0,0,0,0,0,0,0,null,{"$f":"SUMIF($C$5:$C$22,$C23,BH$5:BH$22)","v":0},0,0,0,0,0,0,0,0,0,0,0,0,null,{"$f":"SUMIF($C$5:$C$22,$C23,BV$5:BV$22)","v":0},0,0,0,0,0,0,0,0,0,0,0,0,null,{"$f":"SUMIF($C$5:$C$22,$C23,CJ$5:CJ$22)","v":0},0,0,0,0,0,0,0,0,0,0,0,0,null,{"$f":"SUMIF($C$5:$C$22,$C23,CX$5:CX$22)","v":0},0,0,0,0,0,0,0,0,0,0,0,0,null,{"$f":"SUMIF($C$5:$C$22,$C23,DL$5:DL$22)","v":0},0,0,0,0,0,0,0,0,0,0,0,0,null,{"$f":"SUMIF($C$5:$C$22,$C23,DZ$5:DZ$22)","v":0},0,0,0,0,0,0,0,0,0,0,0,0,null,{"$f":"SUMIF($C$5:$C$22,$C23,EN$5:EN$22)","v":0},0,0,0,0,0,0,0,0,0,0,0,0,null,{"$f":"SUMIF($C$5:$C$22,$C23,FB$5:FB$22)","v":0},0,0,0,0,0,0,0,0,0,0,0,0]
[null,null,"R",0,0,0,0,0,0,0,0,0,0,0,0,0,null,0,0,0,0,0,0,0,0,0,0,0,0,0,null,0,0,0,0,0,0,0,0,0,0,0,0,0,null,0,0,0,0,0,0,0,0,0,0,0,0,0,null,0,0,0,0,0,0,0,0,0,0,0,0,0,null,0,0,0,0,0,0,0,0,0,0,0,0,0,null,0,0,0,0,0,0,0,0,0,0,0,0,0,null,0,0,0,0,0,0,0,0,0,0,0,0,0,null,0,0,0,0,0,0,0,0,0,0,0,0,0,null,0,0,0,0,0,0,0,0,0,0,0,0,0,null,0,0,0,0,0,0,0,0,0,0,0,0,0,null,0,0,0,0,0,0,0,0,0,0,0,0,0]
[]
[]
["Entradas de Caixa",{"$f":"B5","v":"Avicultura"},"P",{"$f":"'Atividade 1'!E57","v":0},{"$f":"'Atividade 1'!F57","v":0},{"$f":"'Atividade 1'!G57","v":0},{"$f":"'Atividade 1'!H57","v":0},{"$f":"'Atividade 1'!I57","v":0},{"$f":"'Atividade 1'!J57","v":0},{"$f":"'Atividade 1'!K57","v":0},{"$f":"'Atividade 1'!L57","v":0},{"$f":"'Atividade 1'!M57","v":0},{"$f":"'Atividade 1'!N57","v":0},{"$f":"'Atividade 1'!O57","v":0},{"$f":"'Atividade 1'!P57","v":0},{"$f":"SUM(D27:O27)","v":0},null,{"$f":"'Atividade 1'!S57","v":0},{"$f":"'Atividade 1'!T57","v":0},{"$f":"'Atividade 1'!U57","v":0},{"$f":"'Atividade 1'!V57","v":0},{"$f":"'Atividade 1'!W57","v":0},{"$f":"'Atividade 1'!X57","v":0},{"$f":"'Atividade 1'!Y57","v":0},{"$f":"'Atividade 1'!Z57","v":0},{"$f":"'Atividade 1'!AA57","v":0},{"$f":"'Atividade 1'!AB57","v":0},{"$f":"'Atividade 1'!AC57","v":0},{"$f":"'Atividade 1'!AD57","v":0},{"$f":"SUM(R27:AC27)","v":0},null,{"$f":"'Atividade 1'!AG57","v":0},{"$f":"'Atividade 1'!AH57","v":0},{"$f":"'Atividade 1'!AI57","v":0},{"$f":"'Atividade 1'!AJ57","v":0},{"$f":"'Atividade 1'!AK57","v":0},{"$f":"'Atividade 1'!AL57","v":0},{"$f":"'Atividade 1'!AM57","v":0},{"$f":"'Atividade 1'!AN57","v":0},{"$f":"'Atividade 1'!AO57","v":0},{"$f":"'Atividade 1'!AP57","v":0},{"$f":"'Atividade 1'!AQ57","v":0},{"$f":"'Atividade 1'!AR57","v":0},{"$f":"SUM(AF27:AQ27)","v":0},null,{"$f":"'Atividade 1'!AU57","v":0},{"$f":"'Atividade 1'!AV57","v":0},{"$f":"'Atividade 1'!AW57","v":0},{"$f":"'Atividade 1'!AX57","v":0},{"$f":"'Atividade 1'!AY57","v":0},{"$f":"'Atividade 1'!AZ57","v":0},{"$f":"'Atividade 1'!BA57","v":0},{"$f":"'Atividade 1'!BB57","v":0},{"$f":"'Atividade 1'!BC57","v":0},{"$f":"'Atividade 1'!BD57","v":0},{"$f":"'Atividade 1'!BE57","v":0},{"$f":"'Atividade 1'!BF57","v":0},{"$f":"SUM(AT27:BE27)","v":0},null,{"$f":"'Atividade 1'!BI57","v":0},{"$f":"'Atividade 1'!BJ57","v":0},{"$f":"'Atividade 1'!BK57","v":0},{"$f":"'Atividade 1'!BL57","v":0},{"$f":"'Atividade 1'!BM57","v":0},{"$f":"'Atividade 1'!BN57","v":0},{"$f":"'Atividade 1'!BO57","v":0},{"$f":"'Atividade 1'!BP57","v":0},{"$f":"'Atividade 1'!BQ57","v":0},{"$f":"'Atividade 1'!BR57","v":0},{"$f":"'Atividade 1'!BS57","v":0},{"$f":"'Atividade 1'!BT57","v":0},{"$f":"SUM(BH27:BS27)","v":0},null,{"$f":"'Atividade 1'!BW57","v":0},{"$f":"'Atividade 1'!BX57","v":0},{"$f":"'Atividade 1'!BY57","v":0},{"$f":"'Atividade 1'!BZ57","v":0},{"$f":"'Atividade 1'!CA57","v":0},{"$f":"'Atividade 1'!CB57","v":0},{"$f":"'Atividade 1'!CC57","v":0},{"$f":"'Atividade 1'!CD57","v":0},{"$f":"'Atividade 1'!CE57","v":0},{"$f":"'Atividade 1'!CF57","v":0},{"$f":"'Atividade 1'!CG57","v":0},{"$f":"'Atividade 1'!CH57","v":0},{"$f":"SUM(BV27:CG27)","v":0},null,{"$f":"'Atividade 1'!CK57","v":0},{"$f":"'Atividade 1'!CL57","v":0},{"$f":"'Atividade 1'!CM57","v":0},{"$f":"'Atividade 1'!CN57","v":0},{"$f":"'Atividade 1'!CO57","v":0},{"$f":"'Atividade 1'!CP57","v":0},{"$f":"'Atividade 1'!CQ57","v":0},{"$f":"'Atividade 1'!CR57","v":0},{"$f":"'Atividade 1'!CS57","v":0},{"$f":"'Atividade 1'!CT57","v":0},{"$f":"'Atividade 1'!CU57","v":0},{"$f":"'Atividade 1'!CV57","v":0},{"$f":"SUM(CJ27:CU27)","v":0},null,{"$f":"'Atividade 1'!CY57","v":0},{"$f":"'Atividade 1'!CZ57","v":0},{"$f":"'Atividade 1'!DA57","v":0},{"$f":"'Atividade 1'!DB57","v":0},{"$f":"'Atividade 1'!DC57","v":0},{"$f":"'Atividade 1'!DD57","v":0},{"$f":"'Atividade 1'!DE57","v":0},{"$f":"'Atividade 1'!DF57","v":0},{"$f":"'Atividade 1'!DG57","v":0},{"$f":"'Atividade 1'!DH57","v":0},{"$f":"'Atividade 1'!DI57","v":0},{"$f":"'Atividade 1'!DJ57","v":0},{"$f":"SUM(CX27:DI27)","v":0},null,{"$f":"'Atividade 1'!DM57","v":0},{"$f":"'Atividade 1'!DN57","v":0},{"$f":"'Atividade 1'!DO57","v":0},{"$f":"'Atividade 1'!DP57","v":0},{"$f":"'Atividade 1'!DQ57","v":0},{"$f":"'Atividade 1'!DR57","v":0},{"$f":"'Atividade 1'!DS57","v":0},{"$f":"'Atividade 1'!DT57","v":0},{"$f":"'Atividade 1'!DU57","v":0},{"$f":"'Atividade 1'!DV57","v":0},{"$f":"'Atividade 1'!DW57","v":0},{"$f":"'Atividade 1'!DX57","v":0},{"$f":"SUM(DL27:DW27)","v":0},null,{"$f":"'Atividade 1'!EA57","v":0},{"$f":"'Atividade 1'!EB57","v":0},{"$f":"'Atividade 1'!EC57","v":0},{"$f":"'Atividade 1'!ED57","v":0},{"$f":"'Atividade 1'!EE57","v":0},{"$f":"'Atividade 1'!EF57","v":0},{"$f":"'Atividade 1'!EG57","v":0},{"$f":"'Atividade 1'!EH57","v":0},{"$f":"'Atividade 1'!EI57","v":0},{"$f":"'Atividade 1'!EJ57","v":0},{"$f":"'Atividade 1'!EK57","v":0},{"$f":"'Atividade 1'!EL57","v":0},{"$f":"SUM(DZ27:EK27)","v":0},null,{"$f":"'Atividade 1'!EO57","v":0},{"$f":"'Atividade 1'!EP57","v":0},{"$f":"'Atividade 1'!EQ57","v":0},{"$f":"'Atividade 1'!ER57","v":0},{"$f":"'Atividade 1'!ES57","v":0},{"$f":"'Atividade 1'!ET57","v":0},{"$f":"'Atividade 1'!EU57","v":0},{"$f":"'Atividade 1'!EV57","v":0},{"$f":"'Atividade 1'!EW57","v":0},{"$f":"'Atividade 1'!EX57","v":0},{"$f":"'Atividade 1'!EY57","v":0},{"$f":"'Atividade 1'!EZ57","v":0},{"$f":"SUM(EN27:EY27)","v":0},null,{"$f":"'Atividade 1'!FC57","v":0},{"$f":"'Atividade 1'!FD57","v":0},{"$f":"'Atividade 1'!FE57","v":0},{"$f":"'Atividade 1'!FF57","v":0},{"$f":"'Atividade 1'!FG57","v":0},{"$f":"'Atividade 1'!FH57","v":0},{"$f":"'Atividade 1'!FI57","v":0},{"$f":"'Atividade 1'!FJ57","v":0},{"$f":"'Atividade 1'!FK57","v":0},{"$f":"'Atividade 1'!FL57","v":0},{"$f":"'Atividade 1'!FM57","v":0},{"$f":"'Atividade 1'!FN57","v":0},{"$f":"SUM(FB27:FM27)","v":0}]
[null,null,"R",{"$f":"'Atividade 1'!E58","v":0},{"$f":"'Atividade 1'!F58","v":0},{"$f":"'Atividade 1'!G58","v":0},{"$f":"'Atividade 1'!H58","v":0},{"$f":"'Atividade 1'!I58","v":0},{"$f":"'Atividade 1'!J58","v":0},{"$f":"'Atividade 1'!K58","v":0},{"$f":"'Atividade 1'!L58","v":0},{"$f":"'Atividade 1'!M58","v":0},{"$f":"'Atividade 1'!N58","v":0},{"$f":"'Atividade 1'!O58","v":0},{"$f":"'Atividade 1'!P58","v":0},{"$f":"SUM(D28:O28)","v":0},null,{"$f":"'Atividade 1'!S58","v":0},{"$f":"'Atividade 1'!T58","v":0},{"$f":"'Atividade 1'!U58","v":0},{"$f":"'Atividade 1'!V58","v":0},{"$f":"'Atividade 1'!W58","v":0},{"$f":"'Atividade 1'!X58","v":0},{"$f":"'Atividade 1'!Y58","v":0},{"$f":"'Atividade 1'!Z58","v":0},{"$f":"'Atividade 1'!AA58","v":0},{"$f":"'Atividade 1'!AB58","v":0},{"$f":"'Atividade 1'!AC58","v":0},{"$f":"'Atividade 1'!AD58","v":0},{"$f":"SUM(R28:AC28)","v":0},null,{"$f":"'Atividade 1'!AG58","v":0},{"$f":"'Atividade 1'!AH58","v":0},{"$f":"'Atividade 1'!AI58","v":0},{"$f":"'Atividade 1'!AJ58","v":0},{"$f":"'Atividade 1'!AK58","v":0},{"$f":"'Atividade 1'!AL58","v":0},{"$f":"'Atividade 1'!AM58","v":0},{"$f":"'Atividade 1'!AN58","v":0},{"$f":"'Atividade 1'!AO58","v":0},{"$f":"'Atividade 1'!AP58","v":0},{"$f":"'Atividade 1'!AQ58","v":0},{"$f":"'Atividade 1'!AR58","v":0},{"$f":"SUM(AF28:AQ28)","v":0},null,{"$f":"'Atividade 1'!AU58","v":0},{"$f":"'Atividade 1'!AV58","v":0},{"$f":"'Atividade 1'!AW58","v":0},{"$f":"'Atividade 1'!AX58","v":0},{"$f":"'Atividade 1'!AY58","v":0},{"$f":"'Atividade 1'!AZ58","v":0},{"$f":"'Atividade 1'!BA58","v":0},{"$f":"'Atividade 1'!BB58","v":0},{"$f":"'Atividade 1'!BC58","v":0},{"$f":"'Atividade 1'!BD58","v":0},{"$f":"'Atividade 1'!BE58","v":0},{"$f":"'Atividade 1'!BF58","v":0},{"$f":"SUM(AT28:BE28)","v":0},null,{"$f":"'Atividade 1'!BI58","v":0},{"$f":"'Atividade 1'!BJ58","v":0},{"$f":"'Atividade 1'!BK58","v":0},{"$f":"'Atividade 1'!BL58","v":0},{"$f":"'Atividade 1'!BM58","v":0},{"$f":"'Atividade 1'!BN58","v":0},{"$f":"'Atividade 1'!BO58","v":0},{"$f":"'Atividade 1'!BP58","v":0},{"$f":"'Atividade 1'!BQ58","v":0},{"$f":"'Atividade 1'!BR58","v":0},{"$f":"'Atividade 1'!BS58","v":0},{"$f":"'Atividade 1'!BT58","v":0},{"$f":"SUM(BH28:BS28)","v":0},null,{"$f":"'Atividade 1'!BW58","v":0},{"$f":"'Atividade 1'!BX58","v":0},{"$f":"'Atividade 1'!BY58","v":0},{"$f":"'Atividade 1'!BZ58","v":0},{"$f":"'Atividade 1'!CA58","v":0},{"$f":"'Atividade 1'!CB58","v":0},{"$f":"'Atividade 1'!CC58","v":0},{"$f":"'Atividade 1'!CD58","v":0},{"$f":"'Atividade 1'!CE58","v":0},{"$f":"'Atividade 1'!CF58","v":0},{"$f":"'Atividade 1'!CG58","v":0},{"$f":"'Atividade 1'!CH58","v":0},{"$f":"SUM(BV28:CG28)","v":0},null,{"$f":"'Atividade 1'!CK58","v":0},{"$f":"'Atividade 1'!CL58","v":0},{"$f":"'Atividade 1'!CM58","v":0},{"$f":"'Atividade 1'!CN58","v":0},{"$f":"'Atividade 1'!CO58","v":0},{"$f":"'Atividade 1'!CP58","v":0},{"$f":"'Atividade 1'!CQ58","v":0},{"$f":"'Atividade 1'!CR58","v":0},{"$f":"'Atividade 1'!CS58","v":0},{"$f":"'Atividade 1'!CT58","v":0},{"$f":"'Atividade 1'!CU58","v":0},{"$f":"'Atividade 1'!CV58","v":0},{"$f":"SUM(CJ28:CU28)","v":0},null,{"$f":"'Atividade 1'!CY58","v":0},{"$f":"'Atividade 1'!CZ58","v":0},{"$f":"'Atividade 1'!DA58","v":0},{"$f":"'Atividade 1'!DB58","v":0},{"$f":"'Atividade 1'!DC58","v":0},{"$f":"'Atividade 1'!DD58","v":0},{"$f":"'Atividade 1'!DE58","v":0},{"$f":"'Atividade 1'!DF58","v":0},{"$f":"'Atividade 1'!DG58","v":0},{"$f":"'Atividade 1'!DH58","v":0},{"$f":"'Atividade 1'!DI58","v":0},{"$f":"'Atividade 1'!DJ58","v":0},{"$f":"SUM(CX28:DI28)","v":0},null,{"$f":"'Atividade 1'!DM58","v":0},{"$f":"'Atividade 1'!DN58","v":0},{"$f":"'Atividade 1'!DO58","v":0},{"$f":"'Atividade 1'!DP58","v":0},{"$f":"'Atividade 1'!DQ58","v":0},{"$f":"'Atividade 1'!DR58","v":0},{"$f":"'Atividade 1'!DS58","v":0},{"$f":"'Atividade 1'!DT58","v":0},{"$f":"'Atividade 1'!DU58","v":0},{"$f":"'Atividade 1'!DV58","v":0},{"$f":"'Atividade 1'!DW58","v":0},{"$f":"'Atividade 1'!DX58","v":0},{"$f":"SUM(DL28:DW28)","v":0},null,{"$f":"'Atividade 1'!EA58","v":0},{"$f":"'Atividade 1'!EB58","v":0},{"$f":"'Atividade 1'!EC58","v":0},{"$f":"'Atividade 1'!ED58","v":0},{"$f":"'Atividade 1'!EE58","v":0},{"$f":"'Atividade 1'!EF58","v":0},{"$f":"'Atividade 1'!EG58","v":0},{"$f":"'Atividade 1'!EH58","v":0},{"$f":"'Atividade 1'!EI58","v":0},{"$f":"'Atividade 1'!EJ58","v":0},{"$f":"'Atividade 1'!EK58","v":0},{"$f":"'Atividade 1'!EL58","v":0},{"$f":"SUM(DZ28:EK28)","v":0},null,{"$f":"'Atividade 1'!EO58","v":0},{"$f":"'Atividade 1'!EP58","v":0},{"$f":"'Atividade 1'!EQ58","v":0},{"$f":"'Atividade 1'!ER58","v":0},{"$f":"'Atividade 1'!ES58","v":0},{"$f":"'Atividade 1'!ET58","v":0},{"$f":"'Atividade 1'!EU58","v":0},{"$f":"'Atividade 1'!EV58","v":0},{"$f":"'Atividade 1'!EW58","v":0},{"$f":"'Atividade 1'!EX58","v":0},{"$f":"'Atividade 1'!EY58","v":0},{"$f":"'Atividade 1'!EZ58","v":0},{"$f":"SUM(EN28:EY28)","v":0},null,{"$f":"'Atividade 1'!FC58","v":0},{"$f":"'Atividade 1'!FD58","v":0},{"$f":"'Atividade 1'!FE58","v":0},{"$f":"'Atividade 1'!FF58","v":0},{"$f":"'Atividade 1'!FG58","v":0},{"$f":"'Atividade 1'!FH58","v":0},{"$f":"'Atividade 1'!FI58","v":0},{"$f":"'Atividade 1'!FJ58","v":0},{"$f":"'Atividade 1'!FK58","v":0},{"$f":"'Atividade 1'!FL58","v":0},{"$f":"'Atividade 1'!FM58","v":0},{"$f":"'Atividade 1'!FN58","v":0},{"$f":"SUM(FB28:FM28)","v":0}]
[null,{"$f":"B7","v":"Suinocultura"},"P",{"$f":"'Atividade 2'!E57","v":0},{"$f":"'Atividade 2'!F57","v":0},{"$f":"'Atividade 2'!G57","v":0},{"$f":"'Atividade 2'!H57","v":0},{"$f":"'Atividade 2'!I57","v":0},{"$f":"'Atividade 2'!J57","v":0},{"$f":"'Atividade 2'!K57","v":0},{"$f":"'Atividade 2'!L57","v":0},{"$f":"'Atividade 2'!M57","v":0},{"$f":"'Atividade 2'!N57","v":0},{"$f":"'Atividade 2'!O57","v":0},{"$f":"'Atividade 2'!P57","v":0},0,null,{"$f":"'Atividade 2'!S57","v":0},{"$f":"'Atividade 2'!T57","v":0},{"$f":"'Atividade 2'!U57","v":0},{"$f":"'Atividade 2'!V57","v":0},{"$f":"'Atividade 2'!W57","v":0},{"$f":"'Atividade 2'!X57","v":0},{"$f":"'Atividade 2'!Y57","v":0},{"$f":"'Atividade 2'!Z57","v":0},{"$f":"'Atividade 2'!AA57","v":0},{"$f":"'Atividade 2'!AB57","v":0},{"$f":"'Atividade 2'!AC57","v":0},{"$f":"'Atividade 2'!AD57","v":0},0,null,{"$f":"'Atividade 2'!AG57","v":0},{"$f":"'Atividade 2'!AH57","v":0},{"$f":"'Atividade 2'!AI57","v":0},{"$f":"'Atividade 2'!AJ57","v":0},{"$f":"'Atividade 2'!AK57","v":0},{"$f":"'Atividade 2'!AL57","v":0},{"$f":"'Atividade 2'!AM57","v":0},{"$f":"'Atividade 2'!AN57","v":0},{"$f":"'Atividade 2'!AO57","v":0},{"$f":"'Atividade 2'!AP57","v":0},{"$f":"'Atividade 2'!AQ57","v":0},{"$f":"'Atividade 2'!AR57","v":0},0,null,{"$f":"'Atividade 2'!AU57","v":0},{"$f":"'Atividade 2'!AV57","v":0},{"$f":"'Atividade 2'!AW57","v":0},{"$f":"'Atividade 2'!AX57","v":0},{"$f":"'Atividade 2'!AY57","v":0},{"$f":"'Atividade 2'!AZ57","v":0},{"$f":"'Atividade 2'!BA57","v":0},{"$f":"'Atividade 2'!BB57","v":0},{"$f":"'Atividade 2'!BC57","v":0},{"$f":"'Atividade 2'!BD57","v":0},{"$f":"'Atividade 2'!BE57","v":0},{"$f":"'Atividade 2'!BF57","v":0},0,null,{"$f":"'Atividade 2'!BI57","v":0},{"$f":"'Atividade 2'!BJ57","v":0},{"$f":"'Atividade 2'!BK57","v":0},{"$f":"'Atividade 2'!BL57","v":0},{"$f":"'Atividade 2'!BM57","v":0},{"$f":"'Atividade 2'!BN57","v":0},{"$f":"'Atividade 2'!BO57","v":0},{"$f":"'Atividade 2'!BP57","v":0},{"$f":"'Atividade 2'!BQ57","v":0},{"$f":"'Atividade 2'!BR57","v":0},{"$f":"'Atividade 2'!BS57","v":0},{"$f":"'Atividade 2'!BT57","v":0},0,null,{"$f":"'Atividade 2'!BW57","v":0},{"$f":"'Atividade 2'!BX57","v":0},{"$f":"'Atividade 2'!BY57","v":0},{"$f":"'Atividade 2'!BZ57","v":0},{"$f":"'Atividade 2'!CA57","v":0},{"$f":"'Atividade 2'!CB57","v":0},{"$f":"'Atividade 2'!CC57","v":0},{"$f":"'Atividade 2'!CD57","v":0},{"$f":"'Atividade 2'!CE57","v":0},{"$f":"'Atividade 2'!CF57","v":0},{"$f":"'Atividade 2'!CG57","v":0},{"$f":"'Atividade 2'!CH57","v":0},0,null,{"$f":"'Atividade 2'!CK57","v":0},{"$f":"'Atividade 2'!CL57","v":0},{"$f":"'Atividade 2'!CM57","v":0},{"$f":"'Atividade 2'!CN57","v":0},{"$f":"'Atividade 2'!CO57","v":0},{"$f":"'Atividade 2'!CP57","v":0},{"$f":"'Atividade 2'!CQ57","v":0},{"$f":"'Atividade 2'!CR57","v":0},{"$f":"'Atividade 2'!CS57","v":0},{"$f":"'Atividade 2'!CT57","v":0},{"$f":"'Atividade 2'!CU57","v":0},{"$f":"'Atividade 2'!CV57","v":0},0,null,{"$f":"'Atividade 2'!CY57","v":0},{"$f":"'Atividade 2'!CZ57","v":0},{"$f":"'Atividade 2'!DA57","v":0},{"$f":"'Atividade 2'!DB57","v":0},{"$f":"'Atividade 2'!DC57","v":0},{"$f":"'Atividade 2'!DD57","v":0},{"$f":"'Atividade 2'!DE57","v":0},{"$f":"'Atividade 2'!DF57","v":0},{"$f":"'Atividade 2'!DG57","v":0},{"$f":"'Atividade 2'!DH57","v":0},{"$f":"'Atividade 2'!DI57","v":0},{"$f":"'Atividade 2'!DJ57","v":0},0,null,{"$f":"'Atividade 2'!DM57","v":0},{"$f":"'Atividade 2'!DN57","v":0},{"$f":"'Atividade 2'!DO57","v":0},{"$f":"'Atividade 2'!DP57","v":0},{"$f":"'Atividade 2'!DQ57","v":0},{"$f":"'Atividade 2'!DR57","v":0},{"$f":"'Atividade 2'!DS57","v":0},{"$f":"'Atividade 2'!DT57","v":0},{"$f":"'Atividade 2'!DU57","v":0},{"$f":"'Atividade 2'!DV57","v":0},{"$f":"'Atividade 2'!DW57","v":0},{"$f":"'Atividade 2'!DX57","v":0},0,null,{"$f":"'Atividade 2'!EA57","v":0},{"$f":"'Atividade 2'!EB57","v":0},{"$f":"'Atividade 2'!EC57","v":0},{"$f":"'Atividade 2'!ED57","v":0},{"$f":"'Atividade 2'!EE57","v":0},{"$f":"'Atividade 2'!EF57","v":0},{"$f":"'Atividade 2'!EG57","v":0},{"$f":"'Atividade 2'!EH57","v":0},{"$f":"'Atividade 2'!EI57","v":0},{"$f":"'Atividade 2'!EJ57","v":0},{"$f":"'Atividade 2'!EK57","v":0},{"$f":"'Atividade 2'!EL57","v":0},0,null,{"$f":"'Atividade 2'!EO57","v":0},{"$f":"'Atividade 2'!EP57","v":0},{"$f":"'Atividade 2'!EQ57","v":0},{"$f":"'Atividade 2'!ER57","v":0},{"$f":"'Atividade 2'!ES57","v":0},{"$f":"'Atividade 2'!ET57","v":0},{"$f":"'Atividade 2'!EU57","v":0},{"$f":"'Atividade 2'!EV57","v":0},{"$f":"'Atividade 2'!EW57","v":0},{"$f":"'Atividade 2'!EX57","v":0},{"$f":"'Atividade 2'!EY57","v":0},{"$f":"'Atividade 2'!EZ57","v":0},0,null,{"$f":"'Atividade 2'!FC57","v":0},{"$f":"'Atividade 2'!FD57","v":0},{"$f":"'Atividade 2'!FE57","v":0},{"$f":"'Atividade 2'!FF57","v":0},{"$f":"'Atividade 2'!FG57","v":0},{"$f":"'Atividade 2'!FH57","v":0},{"$f":"'Atividade 2'!FI57","v":0},{"$f":"'Atividade 2'!FJ57","v":0},{"$f":"'Atividade 2'!FK57","v":0},{"$f":"'Atividade 2'!FL57","v":0},{"$f":"'Atividade 2'!FM57","v":0},{"$f":"'Atividade 2'!FN57","v":0},0]
[null,null,"R",{"$f":"'Atividade 2'!E58","v":0},{"$f":"'Atividade 2'!F58","v":0},{"$f":"'Atividade 2'!G58","v":0},{"$f":"'Atividade 2'!H58","v":0},{"$f":"'Atividade 2'!I58","v":0},{"$f":"'Atividade 2'!J58","v":0},{"$f":"'Atividade 2'!K58","v":0},{"$f":"'Atividade 2'!L58","v":0},{"$f":"'Atividade 2'!M58","v":0},{"$f":"'Atividade 2'!N58","v":0},{"$f":"'Atividade 2'!O58","v":0},{"$f":"'Atividade 2'!P58","v":0},0,null,{"$f":"'Atividade 2'!S58","v":0},{"$f":"'Atividade 2'!T58","v":0},{"$f":"'Atividade 2'!U58","v":0},{"$f":"'Atividade 2'!V58","v":0},{"$f":"'Atividade 2'!W58","v":0},{"$f":"'Atividade 2'!X58","v":0},{"$f":"'Atividade 2'!Y58","v":0},{"$f":"'Atividade 2'!Z58","v":0},{"$f":"'Atividade 2'!AA58","v":0},{"$f":"'Atividade 2'!AB58","v":0},{"$f":"'Atividade 2'!AC58","v":0},{"$f":"'Atividade 2'!AD58","v":0},0,null,{"$f":"'Atividade 2'!AG58","v":0},{"$f":"'Atividade 2'!AH58","v":0},{"$f":"'Atividade 2'!AI58","v":0},{"$f":"'Atividade 2'!AJ58","v":0},{"$f":"'Atividade 2'!AK58","v":0},{"$f":"'Atividade 2'!AL58","v":0},{"$f":"'Atividade 2'!AM58","v":0},{"$f":"'Atividade 2'!AN58","v":0},{"$f":"'Atividade 2'!AO58","v":0},{"$f":"'Atividade 2'!AP58","v":0},{"$f":"'Atividade 2'!AQ58","v":0},{"$f":"'Atividade 2'!AR58","v":0},0,null,{"$f":"'Atividade 2'!AU58","v":0},{"$f":"'Atividade 2'!AV58","v":0},{"$f":"'Atividade 2'!AW58","v":0},{"$f":"'Atividade 2'!AX58","v":0},{"$f":"'Atividade 2'!AY58","v":0},{"$f":"'Atividade 2'!AZ58","v":0},{"$f":"'Atividade 2'!BA58","v":0},{"$f":"'Atividade 2'!BB58","v":0},{"$f":"'Atividade 2'!BC58","v":0},{"$f":"'Atividade 2'!BD58","v":0},{"$f":"'Atividade 2'!BE58","v":0},{"$f":"'Atividade 2'!BF58","v":0},0,null,{"$f":"'Atividade 2'!BI58","v":0},{"$f":"'Atividade 2'!BJ58","v":0},{"$f":"'Atividade 2'!BK58","v":0},{"$f":"'Atividade 2'!BL58","v":0},{"$f":"'Atividade 2'!BM58","v":0},{"$f":"'Atividade 2'!BN58","v":0},{"$f":"'Atividade 2'!BO58","v":0},{"$f":"'Atividade 2'!BP58","v":0},{"$f":"'Atividade 2'!BQ58","v":0},{"$f":"'Atividade 2'!BR58","v":0},{"$f":"'Atividade 2'!BS58","v":0},{"$f":"'Atividade 2'!BT58","v":0},0,null,{"$f":"'Atividade 2'!BW58","v":0},{"$f":"'Atividade 2'!BX58","v":0},{"$f":"'Atividade 2'!BY58","v":0},{"$f":"'Atividade 2'!BZ58","v":0},{"$f":"'Atividade 2'!CA58","v":0},{"$f":"'Atividade 2'!CB58","v":0},{"$f":"'Atividade 2'!CC58","v":0},{"$f":"'Atividade 2'!CD58","v":0},{"$f":"'Atividade 2'!CE58","v":0},{"$f":"'Atividade 2'!CF58","v":0},{"$f":"'Atividade 2'!CG58","v":0},{"$f":"'Atividade 2'!CH58","v":0},0,null,{"$f":"'Atividade 2'!CK58","v":0},{"$f":"'Atividade 2'!CL58","v":0},{"$f":"'Atividade 2'!CM58","v":0},{"$f":"'Atividade 2'!CN58","v":0},{"$f":"'Atividade 2'!CO58","v":0},{"$f":"'Atividade 2'!CP58","v":0},{"$f":"'Atividade 2'!CQ58","v":0},{"$f":"'Atividade 2'!CR58","v":0},{"$f":"'Atividade 2'!CS58","v":0},{"$f":"'Atividade 2'!CT58","v":0},{"$f":"'Atividade 2'!CU58","v":0},{"$f":"'Atividade 2'!CV58","v":0},0,null,{"$f":"'Atividade 2'!CY58","v":0},{"$f":"'Atividade 2'!CZ58","v":0},{"$f":"'Atividade 2'!DA58","v":0},{"$f":"'Atividade 2'!DB58","v":0},{"$f":"'Atividade 2'!DC58","v":0},{"$f":"'Atividade 2'!DD58","v":0},{"$f":"'Atividade 2'!DE58","v":0},{"$f":"'Atividade 2'!DF58","v":0},{"$f":"'Atividade 2'!DG58","v":0},{"$f":"'Atividade 2'!DH58","v":0},{"$f":"'Atividade 2'!DI58","v":0},{"$f":"'Atividade 2'!DJ58","v":0},0,null,{"$f":"'Atividade 2'!DM58","v":0},{"$f":"'Atividade 2'!DN58","v":0},{"$f":"'Atividade 2'!DO58","v":0},{"$f":"'Atividade 2'!DP58","v":0},{"$f":"'Atividade 2'!DQ58","v":0},{"$f":"'Atividade 2'!DR58","v":0},{"$f":"'Atividade 2'!DS58","v":0},{"$f":"'Atividade 2'!DT58","v":0},{"$f":"'Atividade 2'!DU58","v":0},{"$f":"'Atividade 2'!DV58","v":0},{"$f":"'Atividade 2'!DW58","v":0},{"$f":"'Atividade 2'!DX58","v":0},0,null,{"$f":"'Atividade 2'!EA58","v":0},{"$f":"'Atividade 2'!EB58","v":0},{"$f":"'Atividade 2'!EC58","v":0},{"$f":"'Atividade 2'!ED58","v":0},{"$f":"'Atividade 2'!EE58","v":0},{"$f":"'Atividade 2'!EF58","v":0},{"$f":"'Atividade 2'!EG58","v":0},{"$f":"'Atividade 2'!EH58","v":0},{"$f":"'Atividade 2'!EI58","v":0},{"$f":"'Atividade 2'!EJ58","v":0},{"$f":"'Atividade 2'!EK58","v":0},{"$f":"'Atividade 2'!EL58","v":0},0,null,{"$f":"'Atividade 2'!EO58","v":0},{"$f":"'Atividade 2'!EP58","v":0},{"$f":"'Atividade 2'!EQ58","v":0},{"$f":"'Atividade 2'!ER58","v":0},{"$f":"'Atividade 2'!ES58","v":0},{"$f":"'Atividade 2'!ET58","v":0},{"$f":"'Atividade 2'!EU58","v":0},{"$f":"'Atividade 2'!EV58","v":0},{"$f":"'Atividade 2'!EW58","v":0},{"$f":"'Atividade 2'!EX58","v":0},{"$f":"'Atividade 2'!EY58","v":0},{"$f":"'Atividade 2'!EZ58","v":0},0,null,{"$f":"'Atividade 2'!FC58","v":0},{"$f":"'Atividade 2'!FD58","v":0},{"$f":"'Atividade 2'!FE58","v":0},{"$f":"'Atividade 2'!FF58","v":0},{"$f":"'Atividade 2'!FG58","v":0},{"$f":"'Atividade 2'!FH58","v":0},{"$f":"'Atividade 2'!FI58","v":0},{"$f":"'Atividade 2'!FJ58","v":0},{"$f":"'Atividade 2'!FK58","v":0},{"$f":"'Atividade 2'!FL58","v":0},{"$f":"'Atividade 2'!FM58","v":0},{"$f":"'Atividade 2'!FN58","v":0},0]
[null,{"$f":"B9","v":"Lavoura de Soja"},"P",{"$f":"'Atividade 3'!E57","v":0},{"$f":"'Atividade 3'!F57","v":0},{"$f":"'Atividade 3'!G57","v":0},{"$f":"'Atividade 3'!H57","v":0},{"$f":"'Atividade 3'!I57","v":0},{"$f":"'Atividade 3'!J57","v":0},{"$f":"'Atividade 3'!K57","v":0},{"$f":"'Atividade 3'!L57","v":0},{"$f":"'Atividade 3'!M57","v":0},{"$f":"'Atividade 3'!N57","v":0},{"$f":"'Atividade 3'!O57","v":0},{"$f":"'Atividade 3'!P57","v":0},0,null,{"$f":"'Atividade 3'!S57","v":0},{"$f":"'Atividade 3'!T57","v":0},{"$f":"'Atividade 3'!U57","v":0},{"$f":"'Atividade 3'!V57","v":0},{"$f":"'Atividade 3'!W57","v":0},{"$f":"'Atividade 3'!X57","v":0},{"$f":"'Atividade 3'!Y57","v":0},{"$f":"'Atividade 3'!Z57","v":0},{"$f":"'Atividade 3'!AA57","v":0},{"$f":"'Atividade 3'!AB57","v":0},{"$f":"'Atividade 3'!AC57","v":0},{"$f":"'Atividade 3'!AD57","v":0},0,null,{"$f":"'Atividade 3'!AG57","v":0},{"$f":"'Atividade 3'!AH57","v":0},{"$f":"'Atividade 3'!AI57","v":0},{"$f":"'Atividade 3'!AJ57","v":0},{"$f":"'Atividade 3'!AK57","v":0},{"$f":"'Atividade 3'!AL57","v":0},{"$f":"'Atividade 3'!AM57","v":0},{"$f":"'Atividade 3'!AN57","v":0},{"$f":"'Atividade 3'!AO57","v":0},{"$f":"'Atividade 3'!AP57","v":0},{"$f":"'Atividade 3'!AQ57","v":0},{"$f":"'Atividade 3'!AR57","v":0},0,null,{"$f":"'Atividade 3'!AU57","v":0},{"$f":"'Atividade 3'!AV57","v":0},{"$f":"'Atividade 3'!AW57","v":0},{"$f":"'Atividade 3'!AX57","v":0},{"$f":"'Atividade 3'!AY57","v":0},{"$f":"'Atividade 3'!AZ57","v":0},{"$f":"'Atividade 3'!BA57","v":0},{"$f":"'Atividade 3'!BB57","v":0},{"$f":"'Atividade 3'!BC57","v":0},{"$f":"'Atividade 3'!BD57","v":0},{"$f":"'Atividade 3'!BE57","v":0},{"$f":"'Atividade 3'!BF57","v":0},0,null,{"$f":"'Atividade 3'!BI57","v":0},{"$f":"'Atividade 3'!BJ57","v":0},{"$f":"'Atividade 3'!BK57","v":0},{"$f":"'Atividade 3'!BL57","v":0},{"$f":"'Atividade 3'!BM57","v":0},{"$f":"'Atividade 3'!BN57","v":0},{"$f":"'Atividade 3'!BO57","v":0},{"$f":"'Atividade 3'!BP57","v":0},{"$f":"'Atividade 3'!BQ57","v":0},{"$f":"'Atividade 3'!BR57","v":0},{"$f":"'Atividade 3'!BS57","v":0},{"$f":"'Atividade 3'!BT57","v":0},0,null,{"$f":"'Atividade 3'!BW57","v":0},{"$f":"'Atividade 3'!BX57","v":0},{"$f":"'Atividade 3'!BY57","v":0},{"$f":"'Atividade 3'!BZ57","v":0},{"$f":"'Atividade 3'!CA57","v":0},{"$f":"'Atividade 3'!CB57","v":0},{"$f":"'Atividade 3'!CC57","v":0},{"$f":"'Atividade 3'!CD57","v":0},{"$f":"'Atividade 3'!CE57","v":0},{"$f":"'Atividade 3'!CF57","v":0},{"$f":"'Atividade 3'!CG57","v":0},{"$f":"'Atividade 3'!CH57","v":0},0,null,{"$f":"'Atividade 3'!CK57","v":0},{"$f":"'Atividade 3'!CL57","v":0},{"$f":"'Atividade 3'!CM57","v":0},{"$f":"'Atividade 3'!CN57","v":0},{"$f":"'Atividade 3'!CO57","v":0},{"$f":"'Atividade 3'!CP57","v":0},{"$f":"'Atividade 3'!CQ57","v":0},{"$f":"'Atividade 3'!CR57","v":0},{"$f":"'Atividade 3'!CS57","v":0},{"$f":"'Atividade 3'!CT57","v":0},{"$f":"'Atividade 3'!CU57","v":0},{"$f":"'Atividade 3'!CV57","v":0},0,null,{"$f":"'Atividade 3'!CY57","v":0},{"$f":"'Atividade 3'!CZ57","v":0},{"$f":"'Atividade 3'!DA57","v":0},{"$f":"'Atividade 3'!DB57","v":0},{"$f":"'Atividade 3'!DC57","v":0},{"$f":"'Atividade 3'!DD57","v":0},{"$f":"'Atividade 3'!DE57","v":0},{"$f":"'Atividade 3'!DF57","v":0},{"$f":"'Atividade 3'!DG57","v":0},{"$f":"'Atividade 3'!DH57","v":0},{"$f":"'Atividade 3'!DI57","v":0},{"$f":"'Atividade 3'!DJ57","v":0},0,null,{"$f":"'Atividade 3'!DM57","v":0},{"$f":"'Atividade 3'!DN57","v":0},{"$f":"'Atividade 3'!DO57","v":0},{"$f":"'Atividade 3'!DP57","v":0},{"$f":"'Atividade 3'!DQ57","v":0},{"$f":"'Atividade 3'!DR57","v":0},{"$f":"'Atividade 3'!DS57","v":0},{"$f":"'Atividade 3'!DT57","v":0},{"$f":"'Atividade 3'!DU57","v":0},{"$f":"'Atividade 3'!DV57","v":0},{"$f":"'Atividade 3'!DW57","v":0},{"$f":"'Atividade 3'!DX57","v":0},0,null,{"$f":"'Atividade 3'!EA57","v":0},{"$f":"'Atividade 3'!EB57","v":0},{"$f":"'Atividade 3'!EC57","v":0},{"$f":"'Atividade 3'!ED57","v":0},{"$f":"'Atividade 3'!EE57","v":0},{"$f":"'Atividade 3'!EF57","v":0},{"$f":"'Atividade 3'!EG57","v":0},{"$f":"'Atividade 3'!EH57","v":0},{"$f":"'Atividade 3'!EI57","v":0},{"$f":"'Atividade 3'!EJ57","v":0},{"$f":"'Atividade 3'!EK57","v":0},{"$f":"'Atividade 3'!EL57","v":0},0,null,{"$f":"'Atividade 3'!EO57","v":0},{"$f":"'Atividade 3'!EP57","v":0},{"$f":"'Atividade 3'!EQ57","v":0},{"$f":"'Atividade 3'!ER57","v":0},{"$f":"'Atividade 3'!ES57","v":0},{"$f":"'Atividade 3'!ET57","v":0},{"$f":"'Atividade 3'!EU57","v":0},{"$f":"'Atividade 3'!EV57","v":0},{"$f":"'Atividade 3'!EW57","v":0},{"$f":"'Atividade 3'!EX57","v":0},{"$f":"'Atividade 3'!EY57","v":0},{"$f":"'Atividade 3'!EZ57","v":0},0,null,{"$f":"'Atividade 3'!FC57","v":0},{"$f":"'Atividade 3'!FD57","v":0},{"$f":"'Atividade 3'!FE57","v":0},{"$f":"'Atividade 3'!FF57","v":0},{"$f":"'Atividade 3'!FG57","v":0},{"$f":"'Atividade 3'!FH57","v":0},{"$f":"'Atividade 3'!FI57","v":0},{"$f":"'Atividade 3'!FJ57","v":0},{"$f":"'Atividade 3'!FK57","v":0},{"$f":"'Atividade 3'!FL57","v":0},{"$f":"'Atividade 3'!FM57","v":0},{"$f":"'Atividade 3'!FN57","v":0},0]
[null,null,"R",{"$f":"'Atividade 3'!E58","v":0},{"$f":"'Atividade 3'!F58","v":0},{"$f":"'Atividade 3'!G58","v":0},{"$f":"'Atividade 3'!H58","v":0},{"$f":"'Atividade 3'!I58","v":0},{"$f":"'Atividade 3'!J58","v":0},{"$f":"'Atividade 3'!K58","v":0},{"$f":"'Atividade 3'!L58","v":0},{"$f":"'Atividade 3'!M58","v":0},{"$f":"'Atividade 3'!N58","v":0},{"$f":"'Atividade 3'!O58","v":0},{"$f":"'Atividade 3'!P58","v":0},0,null,{"$f":"'Atividade 3'!S58","v":0},{"$f":"'Atividade 3'!T58","v":0},{"$f":"'Atividade 3'!U58","v":0},{"$f":"'Atividade 3'!V58","v":0},{"$f":"'Atividade 3'!W58","v":0},{"$f":"'Atividade 3'!X58","v":0},{"$f":"'Atividade 3'!Y58","v":0},{"$f":"'Atividade 3'!Z58","v":0},{"$f":"'Atividade 3'!AA58","v":0},{"$f":"'Atividade 3'!AB58","v":0},{"$f":"'Atividade 3'!AC58","v":0},{"$f":"'Atividade 3'!AD58","v":0},0,null,{"$f":"'Atividade 3'!AG58","v":0},{"$f":"'Atividade 3'!AH58","v":0},{"$f":"'Atividade 3'!AI58","v":0},{"$f":"'Atividade 3'!AJ58","v":0},{"$f":"'Atividade 3'!AK58","v":0},{"$f":"'Atividade 3'!AL58","v":0},{"$f":"'Atividade 3'!AM58","v":0},{"$f":"'Atividade 3'!AN58","v":0},{"$f":"'Atividade 3'!AO58","v":0},{"$f":"'Atividade 3'!AP58","v":0},{"$f":"'Atividade 3'!AQ58","v":0},{"$f":"'Atividade 3'!AR58","v":0},0,null,{"$f":"'Atividade 3'!AU58","v":0},{"$f":"'Atividade 3'!AV58","v":0},{"$f":"'Atividade 3'!AW58","v":0},{"$f":"'Atividade 3'!AX58","v":0},{"$f":"'Atividade 3'!AY58","v":0},{"$f":"'Atividade 3'!AZ58","v":0},{"$f":"'Atividade 3'!BA58","v":0},{"$f":"'Atividade 3'!BB58","v":0},{"$f":"'Atividade 3'!BC58","v":0},{"$f":"'Atividade 3'!BD58","v":0},{"$f":"'Atividade 3'!BE58","v":0},{"$f":"'Atividade 3'!BF58","v":0},0,null,{"$f":"'Atividade 3'!BI58","v":0},{"$f":"'Atividade 3'!BJ58","v":0},{"$f":"'Atividade 3'!BK58","v":0},{"$f":"'Atividade 3'!BL58","v":0},{"$f":"'Atividade 3'!BM58","v":0},{"$f":"'Atividade 3'!BN58","v":0},{"$f":"'Atividade 3'!BO58","v":0},{"$f":"'Atividade 3'!BP58","v":0},{"$f":"'Atividade 3'!BQ58","v":0},{"$f":"'Atividade 3'!BR58","v":0},{"$f":"'Atividade 3'!BS58","v":0},{"$f":"'Atividade 3'!BT58","v":0},0,null,{"$f":"'Atividade 3'!BW58","v":0},{"$f":"'Atividade 3'!BX58","v":0},{"$f":"'Atividade 3'!BY58","v":0},{"$f":"'Atividade 3'!BZ58","v":0},{"$f":"'Atividade 3'!CA58","v":0},{"$f":"'Atividade 3'!CB58","v":0},{"$f":"'Atividade 3'!CC58","v":0},{"$f":"'Atividade 3'!CD58","v":0},{"$f":"'Atividade 3'!CE58","v":0},{"$f":"'Atividade 3'!CF58","v":0},{"$f":"'Atividade 3'!CG58","v":0},{"$f":"'Atividade 3'!CH58","v":0},0,null,{"$f":"'Atividade 3'!CK58","v":0},{"$f":"'Atividade 3'!CL58","v":0},{"$f":"'Atividade 3'!CM58","v":0},{"$f":"'Atividade 3'!CN58","v":0},{"$f":"'Atividade 3'!CO58","v":0},{"$f":"'Atividade 3'!CP58","v":0},{"$f":"'Atividade 3'!CQ58","v":0},{"$f":"'Atividade 3'!CR58","v":0},{"$f":"'Atividade 3'!CS58","v":0},{"$f":"'Atividade 3'!CT58","v":0},{"$f":"'Atividade 3'!CU58","v":0},{"$f":"'Atividade 3'!CV58","v":0},0,null,{"$f":"'Atividade 3'!CY58","v":0},{"$f":"'Atividade 3'!CZ58","v":0},{"$f":"'Atividade 3'!DA58","v":0},{"$f":"'Atividade 3'!DB58","v":0},{"$f":"'Atividade 3'!DC58","v":0},{"$f":"'Atividade 3'!DD58","v":0},{"$f":"'Atividade 3'!DE58","v":0},{"$f":"'Atividade 3'!DF58","v":0},{"$f":"'Atividade 3'!DG58","v":0},{"$f":"'Atividade 3'!DH58","v":0},{"$f":"'Atividade 3'!DI58","v":0},{"$f":"'Atividade 3'!DJ58","v":0},0,null,{"$f":"'Atividade 3'!DM58","v":0},{"$f":"'Atividade 3'!DN58","v":0},{"$f":"'Atividade 3'!DO58","v":0},{"$f":"'Atividade 3'!DP58","v":0},{"$f":"'Atividade 3'!DQ58","v":0},{"$f":"'Atividade 3'!DR58","v":0},{"$f":"'Atividade 3'!DS58","v":0},{"$f":"'Atividade 3'!DT58","v":0},{"$f":"'Atividade 3'!DU58","v":0},{"$f":"'Atividade 3'!DV58","v":0},{"$f":"'Atividade 3'!DW58","v":0},{"$f":"'Atividade 3'!DX58","v":0},0,null,{"$f":"'Atividade 3'!EA58","v":0},{"$f":"'Atividade 3'!EB58","v":0},{"$f":"'Atividade 3'!EC58","v":0},{"$f":"'Atividade 3'!ED58","v":0},{"$f":"'Atividade 3'!EE58","v":0},{"$f":"'Atividade 3'!EF58","v":0},{"$f":"'Atividade 3'!EG58","v":0},{"$f":"'Atividade 3'!EH58","v":0},{"$f":"'Atividade 3'!EI58","v":0},{"$f":"'Atividade 3'!EJ58","v":0},{"$f":"'Atividade 3'!EK58","v":0},{"$f":"'Atividade 3'!EL58","v":0},0,null,{"$f":"'Atividade 3'!EO58","v":0},{"$f":"'Atividade 3'!EP58","v":0},{"$f":"'Atividade 3'!EQ58","v":0},{"$f":"'Atividade 3'!ER58","v":0},{"$f":"'Atividade 3'!ES58","v":0},{"$f":"'Atividade 3'!ET58","v":0},{"$f":"'Atividade 3'!EU58","v":0},{"$f":"'Atividade 3'!EV58","v":0},{"$f":"'Atividade 3'!EW58","v":0},{"$f":"'Atividade 3'!EX58","v":0},{"$f":"'Atividade 3'!EY58","v":0},{"$f":"'Atividade 3'!EZ58","v":0},0,null,{"$f":"'Atividade 3'!FC58","v":0},{"$f":"'Atividade 3'!FD58","v":0},{"$f":"'Atividade 3'!FE58","v":0},{"$f":"'Atividade 3'!FF58","v":0},{"$f":"'Atividade 3'!FG58","v":0},{"$f":"'Atividade 3'!FH58","v":0},{"$f":"'Atividade 3'!FI58","v":0},{"$f":"'Atividade 3'!FJ58","v":0},{"$f":"'Atividade 3'!FK58","v":0},{"$f":"'Atividade 3'!FL58","v":0},{"$f":"'Atividade 3'!FM58","v":0},{"$f":"'Atividade 3'!FN58","v":0},0]
[null,{"$f":"B11","v":"Lavoura de Milho"},"P",{"$f":"'Atividade 4'!E57","v":0},{"$f":"'Atividade 4'!F57","v":0},{"$f":"'Atividade 4'!G57","v":0},{"$f":"'Atividade 4'!H57","v":0},{"$f":"'Atividade 4'!I57","v":0},{"$f":"'Atividade 4'!J57","v":0},{"$f":"'Atividade 4'!K57","v":0},{"$f":"'Atividade 4'!L57","v":0},{"$f":"'Atividade 4'!M57","v":0},{"$f":"'Atividade 4'!N57","v":0},{"$f":"'Atividade 4'!O57","v":0},{"$f":"'Atividade 4'!P57","v":0},0,null,{"$f":"'Atividade 4'!S57","v":0},{"$f":"'Atividade 4'!T57","v":0},{"$f":"'Atividade 4'!U57","v":0},{"$f":"'Atividade 4'!V57","v":0},{"$f":"'Atividade 4'!W57","v":0},{"$f":"'Atividade 4'!X57","v":0},{"$f":"'Atividade 4'!Y57","v":0},{"$f":"'Atividade 4'!Z57","v":0},{"$f":"'Atividade 4'!AA57","v":0},{"$f":"'Atividade 4'!AB57","v":0},{"$f":"'Atividade 4'!AC57","v":0},{"$f":"'Atividade 4'!AD57","v":0},0,null,{"$f":"'Atividade 4'!AG57","v":0},{"$f":"'Atividade 4'!AH57","v":0},{"$f":"'Atividade 4'!AI57","v":0},{"$f":"'Atividade 4'!AJ57","v":0},{"$f":"'Atividade 4'!AK57","v":0},{"$f":"'Atividade 4'!AL57","v":0},{"$f":"'Atividade 4'!AM57","v":0},{"$f":"'Atividade 4'!AN57","v":0},{"$f":"'Atividade 4'!AO57","v":0},{"$f":"'Atividade 4'!AP57","v":0},{"$f":"'Atividade 4'!AQ57","v":0},{"$f":"'Atividade 4'!AR57","v":0},0,null,{"$f":"'Atividade 4'!AU57","v":0},{"$f":"'Atividade 4'!AV57","v":0},{"$f":"'Atividade 4'!AW57","v":0},{"$f":"'Atividade 4'!AX57","v":0},{"$f":"'Atividade 4'!AY57","v":0},{"$f":"'Atividade 4'!AZ57","v":0},{"$f":"'Atividade 4'!BA57","v":0},{"$f":"'Atividade 4'!BB57","v":0},{"$f":"'Atividade 4'!BC57","v":0},{"$f":"'Atividade 4'!BD57","v":0},{"$f":"'Atividade 4'!BE57","v":0},{"$f":"'Atividade 4'!BF57","v":0},0,null,{"$f":"'Atividade 4'!BI57","v":0},{"$f":"'Atividade 4'!BJ57","v":0},{"$f":"'Atividade 4'!BK57","v":0},{"$f":"'Atividade 4'!BL57","v":0},{"$f":"'Atividade 4'!BM57","v":0},{"$f":"'Atividade 4'!BN57","v":0},{"$f":"'Atividade 4'!BO57","v":0},{"$f":"'Atividade 4'!BP57","v":0},{"$f":"'Atividade 4'!BQ57","v":0},{"$f":"'Atividade 4'!BR57","v":0},{"$f":"'Atividade 4'!BS57","v":0},{"$f":"'Atividade 4'!BT57","v":0},0,null,{"$f":"'Atividade 4'!BW57","v":0},{"$f":"'Atividade 4'!BX57","v":0},{"$f":"'Atividade 4'!BY57","v":0},{"$f":"'Atividade 4'!BZ57","v":0},{"$f":"'Atividade 4'!CA57","v":0},{"$f":"'Atividade 4'!CB57","v":0},{"$f":"'Atividade 4'!CC57","v":0},{"$f":"'Atividade 4'!CD57","v":0},{"$f":"'Atividade 4'!CE57","v":0},{"$f":"'Atividade 4'!CF57","v":0},{"$f":"'Atividade 4'!CG57","v":0},{"$f":"'Atividade 4'!CH57","v":0},0,null,{"$f":"'Atividade 4'!CK57","v":0},{"$f":"'Atividade 4'!CL57","v":0},{"$f":"'Atividade 4'!CM57","v":0},{"$f":"'Atividade 4'!CN57","v":0},{"$f":"'Atividade 4'!CO57","v":0},{"$f":"'Atividade 4'!CP57","v":0},{"$f":"'Atividade 4'!CQ57","v":0},{"$f":"'Atividade 4'!CR57","v":0},{"$f":"'Atividade 4'!CS57","v":0},{"$f":"'Atividade 4'!CT57","v":0},{"$f":"'Atividade 4'!CU57","v":0},{"$f":"'Atividade 4'!CV57","v":0},0,null,{"$f":"'Atividade 4'!CY57","v":0},{"$f":"'Atividade 4'!CZ57","v":0},{"$f":"'Atividade 4'!DA57","v":0},{"$f":"'Atividade 4'!DB57","v":0},{"$f":"'Atividade 4'!DC57","v":0},{"$f":"'Atividade 4'!DD57","v":0},{"$f":"'Atividade 4'!DE57","v":0},{"$f":"'Atividade 4'!DF57","v":0},{"$f":"'Atividade 4'!DG57","v":0},{"$f":"'Atividade 4'!DH57","v":0},{"$f":"'Atividade 4'!DI57","v":0},{"$f":"'Atividade 4'!DJ57","v":0},0,null,{"$f":"'Atividade 4'!DM57","v":0},{"$f":"'Atividade 4'!DN57","v":0},{"$f":"'Atividade 4'!DO57","v":0},{"$f":"'Atividade 4'!DP57","v":0},{"$f":"'Atividade 4'!DQ57","v":0},{"$f":"'Atividade 4'!DR57","v":0},{"$f":"'Atividade 4'!DS57","v":0},{"$f":"'Atividade 4'!DT57","v":0},{"$f":"'Atividade 4'!DU57","v":0},{"$f":"'Atividade 4'!DV57","v":0},{"$f":"'Atividade 4'!DW57","v":0},{"$f":"'Atividade 4'!DX57","v":0},0,null,{"$f":"'Atividade 4'!EA57","v":0},{"$f":"'Atividade 4'!EB57","v":0},{"$f":"'Atividade 4'!EC57","v":0},{"$f":"'Atividade 4'!ED57","v":0},{"$f":"'Atividade 4'!EE57","v":0},{"$f":"'Atividade 4'!EF57","v":0},{"$f":"'Atividade 4'!EG57","v":0},{"$f":"'Atividade 4'!EH57","v":0},{"$f":"'Atividade 4'!EI57","v":0},{"$f":"'Atividade 4'!EJ57","v":0},{"$f":"'Atividade 4'!EK57","v":0},{"$f":"'Atividade 4'!EL57","v":0},0,null,{"$f":"'Atividade 4'!EO57","v":0},{"$f":"'Atividade 4'!EP57","v":0},{"$f":"'Atividade 4'!EQ57","v":0},{"$f":"'Atividade 4'!ER57","v":0},{"$f":"'Atividade 4'!ES57","v":0},{"$f":"'Atividade 4'!ET57","v":0},{"$f":"'Atividade 4'!EU57","v":0},{"$f":"'Atividade 4'!EV57","v":0},{"$f":"'Atividade 4'!EW57","v":0},{"$f":"'Atividade 4'!EX57","v":0},{"$f":"'Atividade 4'!EY57","v":0},{"$f":"'Atividade 4'!EZ57","v":0},0,null,{"$f":"'Atividade 4'!FC57","v":0},{"$f":"'Atividade 4'!FD57","v":0},{"$f":"'Atividade 4'!FE57","v":0},{"$f":"'Atividade 4'!FF57","v":0},{"$f":"'Atividade 4'!FG57","v":0},{"$f":"'Atividade 4'!FH57","v":0},{"$f":"'Atividade 4'!FI57","v":0},{"$f":"'Atividade 4'!FJ57","v":0},{"$f":"'Atividade 4'!FK57","v":0},{"$f":"'Atividade 4'!FL57","v":0},{"$f":"'Atividade 4'!FM57","v":0},{"$f":"'Atividade 4'!FN57","v":0},0]
[null,null,"R",{"$f":"'Atividade 4'!E58","v":0},{"$f":"'Atividade 4'!F58","v":0},{"$f":"'Atividade 4'!G58","v":0},{"$f":"'Atividade 4'!H58","v":0},{"$f":"'Atividade 4'!I58","v":0},{"$f":"'Atividade 4'!J58","v":0},{"$f":"'Atividade 4'!K58","v":0},{"$f":"'Atividade 4'!L58","v":0},{"$f":"'Atividade 4'!M58","v":0},{"$f":"'Atividade 4'!N58","v":0},{"$f":"'Atividade 4'!O58","v":0},{"$f":"'Atividade 4'!P58","v":0},0,null,{"$f":"'Atividade 4'!S58","v":0},{"$f":"'Atividade 4'!T58","v":0},{"$f":"'Atividade 4'!U58","v":0},{"$f":"'Atividade 4'!V58","v":0},{"$f":"'Atividade 4'!W58","v":0},{"$f":"'Atividade 4'!X58","v":0},{"$f":"'Atividade 4'!Y58","v":0},{"$f":"'Atividade 4'!Z58","v":0},{"$f":"'Atividade 4'!AA58","v":0},{"$f":"'Atividade 4'!AB58","v":0},{"$f":"'Atividade 4'!AC58","v":0},{"$f":"'Atividade 4'!AD58","v":0},0,null,{"$f":"'Atividade 4'!AG58","v":0},{"$f":"'Atividade 4'!AH58","v":0},{"$f":"'Atividade 4'!AI58","v":0},{"$f":"'Atividade 4'!AJ58","v":0},{"$f":"'Atividade 4'!AK58","v":0},{"$f":"'Atividade 4'!AL58","v":0},{"$f":"'Atividade 4'!AM58","v":0},{"$f":"'Atividade 4'!AN58","v":0},{"$f":"'Atividade 4'!AO58","v":0},{"$f":"'Atividade 4'!AP58","v":0},{"$f":"'Atividade 4'!AQ58","v":0},{"$f":"'Atividade 4'!AR58","v":0},0,null,{"$f":"'Atividade 4'!AU58","v":0},{"$f":"'Atividade 4'!AV58","v":0},{"$f":"'Atividade 4'!AW58","v":0},{"$f":"'Atividade 4'!AX58","v":0},{"$f":"'Atividade 4'!AY58","v":0},{"$f":"'Atividade 4'!AZ58","v":0},{"$f":"'Atividade 4'!BA58","v":0},{"$f":"'Atividade 4'!BB58","v":0},{"$f":"'Atividade 4'!BC58","v":0},{"$f":"'Atividade 4'!BD58","v":0},{"$f":"'Atividade 4'!BE58","v":0},{"$f":"'Atividade 4'!BF58","v":0},0,null,{"$f":"'Atividade 4'!BI58","v":0},{"$f":"'Atividade 4'!BJ58","v":0},{"$f":"'Atividade 4'!BK58","v":0},{"$f":"'Atividade 4'!BL58","v":0},{"$f":"'Atividade 4'!BM58","v":0},{"$f":"'Atividade 4'!BN58","v":0},{"$f":"'Atividade 4'!BO58","v":0},{"$f":"'Atividade 4'!BP58","v":0},{"$f":"'Atividade 4'!BQ58","v":0},{"$f":"'Atividade 4'!BR58","v":0},{"$f":"'Atividade 4'!BS58","v":0},{"$f":"'Atividade 4'!BT58","v":0},0,null,{"$f":"'Atividade 4'!BW58","v":0},{"$f":"'Atividade 4'!BX58","v":0},{"$f":"'Atividade 4'!BY58","v":0},{"$f":"'Atividade 4'!BZ58","v":0},{"$f":"'Atividade 4'!CA58","v":0},{"$f":"'Atividade 4'!CB58","v":0},{"$f":"'Atividade 4'!CC58","v":0},{"$f":"'Atividade 4'!CD58","v":0},{"$f":"'Atividade 4'!CE58","v":0},{"$f":"'Atividade 4'!CF58","v":0},{"$f":"'Atividade 4'!CG58","v":0},{"$f":"'Atividade 4'!CH58","v":0},0,null,{"$f":"'Atividade 4'!CK58","v":0},{"$f":"'Atividade 4'!CL58","v":0},{"$f":"'Atividade 4'!CM58","v":0},{"$f":"'Atividade 4'!CN58","v":0},{"$f":"'Atividade 4'!CO58","v":0},{"$f":"'Atividade 4'!CP58","v":0},{"$f":"'Atividade 4'!CQ58","v":0},{"$f":"'Atividade 4'!CR58","v":0},{"$f":"'Atividade 4'!CS58","v":0},{"$f":"'Atividade 4'!CT58","v":0},{"$f":"'Atividade 4'!CU58","v":0},{"$f":"'Atividade 4'!CV58","v":0},0,null,{"$f":"'Atividade 4'!CY58","v":0},{"$f":"'Atividade 4'!CZ58","v":0},{"$f":"'Atividade 4'!DA58","v":0},{"$f":"'Atividade 4'!DB58","v":0},{"$f":"'Atividade 4'!DC58","v":0},{"$f":"'Atividade 4'!DD58","v":0},{"$f":"'Atividade 4'!DE58","v":0},{"$f":"'Atividade 4'!DF58","v":0},{"$f":"'Atividade 4'!DG58","v":0},{"$f":"'Atividade 4'!DH58","v":0},{"$f":"'Atividade 4'!DI58","v":0},{"$f":"'Atividade 4'!DJ58","v":0},0,null,{"$f":"'Atividade 4'!DM58","v":0},{"$f":"'Atividade 4'!DN58","v":0},{"$f":"'Atividade 4'!DO58","v":0},{"$f":"'Atividade 4'!DP58","v":0},{"$f":"'Atividade 4'!DQ58","v":0},{"$f":"'Atividade 4'!DR58","v":0},{"$f":"'Atividade 4'!DS58","v":0},{"$f":"'Atividade 4'!DT58","v":0},{"$f":"'Atividade 4'!DU58","v":0},{"$f":"'Atividade 4'!DV58","v":0},{"$f":"'Atividade 4'!DW58","v":0},{"$f":"'Atividade 4'!DX58","v":0},0,null,{"$f":"'Atividade 4'!EA58","v":0},{"$f":"'Atividade 4'!EB58","v":0},{"$f":"'Atividade 4'!EC58","v":0},{"$f":"'Atividade 4'!ED58","v":0},{"$f":"'Atividade 4'!EE58","v":0},{"$f":"'Atividade 4'!EF58","v":0},{"$f":"'Atividade 4'!EG58","v":0},{"$f":"'Atividade 4'!EH58","v":0},{"$f":"'Atividade 4'!EI58","v":0},{"$f":"'Atividade 4'!EJ58","v":0},{"$f":"'Atividade 4'!EK58","v":0},{"$f":"'Atividade 4'!EL58","v":0},0,null,{"$f":"'Atividade 4'!EO58","v":0},{"$f":"'Atividade 4'!EP58","v":0},{"$f":"'Atividade 4'!EQ58","v":0},{"$f":"'Atividade 4'!ER58","v":0},{"$f":"'Atividade 4'!ES58","v":0},{"$f":"'Atividade 4'!ET58","v":0},{"$f":"'Atividade 4'!EU58","v":0},{"$f":"'Atividade 4'!EV58","v":0},{"$f":"'Atividade 4'!EW58","v":0},{"$f":"'Atividade 4'!EX58","v":0},{"$f":"'Atividade 4'!EY58","v":0},{"$f":"'Atividade 4'!EZ58","v":0},0,null,{"$f":"'Atividade 4'!FC58","v":0},{"$f":"'Atividade 4'!FD58","v":0},{"$f":"'Atividade 4'!FE58","v":0},{"$f":"'Atividade 4'!FF58","v":0},{"$f":"'Atividade 4'!FG58","v":0},{"$f":"'Atividade 4'!FH58","v":0},{"$f":"'Atividade 4'!FI58","v":0},{"$f":"'Atividade 4'!FJ58","v":0},{"$f":"'Atividade 4'!FK58","v":0},{"$f":"'Atividade 4'!FL58","v":0},{"$f":"'Atividade 4'!FM58","v":0},{"$f":"'Atividade 4'!FN58","v":0},0]
[null,{"$f":"B13","v":"Bovinocultura de Leite"},"P",{"$f":"'Atividade 5'!E57","v":0},{"$f":"'Atividade 5'!F57","v":0},{"$f":"'Atividade 5'!G57","v":0},{"$f":"'Atividade 5'!H57","v":0},{"$f":"'Atividade 5'!I57","v":0},{"$f":"'Atividade 5'!J57","v":0},{"$f":"'Atividade 5'!K57","v":0},{"$f":"'Atividade 5'!L57","v":0},{"$f":"'Atividade 5'!M57","v":0},{"$f":"'Atividade 5'!N57","v":0},{"$f":"'Atividade 5'!O57","v":0},{"$f":"'Atividade 5'!P57","v":0},0,null,{"$f":"'Atividade 5'!S57","v":0},{"$f":"'Atividade 5'!T57","v":0},{"$f":"'Atividade 5'!U57","v":0},{"$f":"'Atividade 5'!V57","v":0},{"$f":"'Atividade 5'!W57","v":0},{"$f":"'Atividade 5'!X57","v":0},{"$f":"'Atividade 5'!Y57","v":0},{"$f":"'Atividade 5'!Z57","v":0},{"$f":"'Atividade 5'!AA57","v":0},{"$f":"'Atividade 5'!AB57","v":0},{"$f":"'Atividade 5'!AC57","v":0},{"$f":"'Atividade 5'!AD57","v":0},0,null,{"$f":"'Atividade 5'!AG57","v":0},{"$f":"'Atividade 5'!AH57","v":0},{"$f":"'Atividade 5'!AI57","v":0},{"$f":"'Atividade 5'!AJ57","v":0},{"$f":"'Atividade 5'!AK57","v":0},{"$f":"'Atividade 5'!AL57","v":0},{"$f":"'Atividade 5'!AM57","v":0},{"$f":"'Atividade 5'!AN57","v":0},{"$f":"'Atividade 5'!AO57","v":0},{"$f":"'Atividade 5'!AP57","v":0},{"$f":"'Atividade 5'!AQ57","v":0},{"$f":"'Atividade 5'!AR57","v":0},0,null,{"$f":"'Atividade 5'!AU57","v":0},{"$f":"'Atividade 5'!AV57","v":0},{"$f":"'Atividade 5'!AW57","v":0},{"$f":"'Atividade 5'!AX57","v":0},{"$f":"'Atividade 5'!AY57","v":0},{"$f":"'Atividade 5'!AZ57","v":0},{"$f":"'Atividade 5'!BA57","v":0},{"$f":"'Atividade 5'!BB57","v":0},{"$f":"'Atividade 5'!BC57","v":0},{"$f":"'Atividade 5'!BD57","v":0},{"$f":"'Atividade 5'!BE57","v":0},{"$f":"'Atividade 5'!BF57","v":0},0,null,{"$f":"'Atividade 5'!BI57","v":0},{"$f":"'Atividade 5'!BJ57","v":0},{"$f":"'Atividade 5'!BK57","v":0},{"$f":"'Atividade 5'!BL57","v":0},{"$f":"'Atividade 5'!BM57","v":0},{"$f":"'Atividade 5'!BN57","v":0},{"$f":"'Atividade 5'!BO57","v":0},{"$f":"'Atividade 5'!BP57","v":0},{"$f":"'Atividade 5'!BQ57","v":0},{"$f":"'Atividade 5'!BR57","v":0},{"$f":"'Atividade 5'!BS57","v":0},{"$f":"'Atividade 5'!BT57","v":0},0,null,{"$f":"'Atividade 5'!BW57","v":0},{"$f":"'Atividade 5'!BX57","v":0},{"$f":"'Atividade 5'!BY57","v":0},{"$f":"'Atividade 5'!BZ57","v":0},{"$f":"'Atividade 5'!CA57","v":0},{"$f":"'Atividade 5'!CB57","v":0},{"$f":"'Atividade 5'!CC57","v":0},{"$f":"'Atividade 5'!CD57","v":0},{"$f":"'Atividade 5'!CE57","v":0},{"$f":"'Atividade 5'!CF57","v":0},{"$f":"'Atividade 5'!CG57","v":0},{"$f":"'Atividade 5'!CH57","v":0},0,null,{"$f":"'Atividade 5'!CK57","v":0},{"$f":"'Atividade 5'!CL57","v":0},{"$f":"'Atividade 5'!CM57","v":0},{"$f":"'Atividade 5'!CN57","v":0},{"$f":"'Atividade 5'!CO57","v":0},{"$f":"'Atividade 5'!CP57","v":0},{"$f":"'Atividade 5'!CQ57","v":0},{"$f":"'Atividade 5'!CR57","v":0},{"$f":"'Atividade 5'!CS57","v":0},{"$f":"'Atividade 5'!CT57","v":0},{"$f":"'Atividade 5'!CU57","v":0},{"$f":"'Atividade 5'!CV57","v":0},0,null,{"$f":"'Atividade 5'!CY57","v":0},{"$f":"'Atividade 5'!CZ57","v":0},{"$f":"'Atividade 5'!DA57","v":0},{"$f":"'Atividade 5'!DB57","v":0},{"$f":"'Atividade 5'!DC57","v":0},{"$f":"'Atividade 5'!DD57","v":0},{"$f":"'Atividade 5'!DE57","v":0},{"$f":"'Atividade 5'!DF57","v":0},{"$f":"'Atividade 5'!DG57","v":0},{"$f":"'Atividade 5'!DH57","v":0},{"$f":"'Atividade 5'!DI57","v":0},{"$f":"'Atividade 5'!DJ57","v":0},0,null,{"$f":"'Atividade 5'!DM57","v":0},{"$f":"'Atividade 5'!DN57","v":0},{"$f":"'Atividade 5'!DO57","v":0},{"$f":"'Atividade 5'!DP57","v":0},{"$f":"'Atividade 5'!DQ57","v":0},{"$f":"'Atividade 5'!DR57","v":0},{"$f":"'Atividade 5'!DS57","v":0},{"$f":"'Atividade 5'!DT57","v":0},{"$f":"'Atividade 5'!DU57","v":0},{"$f":"'Atividade 5'!DV57","v":0},{"$f":"'Atividade 5'!DW57","v":0},{"$f":"'Atividade 5'!DX57","v":0},0,null,{"$f":"'Atividade 5'!EA57","v":0},{"$f":"'Atividade 5'!EB57","v":0},{"$f":"'Atividade 5'!EC57","v":0},{"$f":"'Atividade 5'!ED57","v":0},{"$f":"'Atividade 5'!EE57","v":0},{"$f":"'Atividade 5'!EF57","v":0},{"$f":"'Atividade 5'!EG57","v":0},{"$f":"'Atividade 5'!EH57","v":0},{"$f":"'Atividade 5'!EI57","v":0},{"$f":"'Atividade 5'!EJ57","v":0},{"$f":"'Atividade 5'!EK57","v":0},{"$f":"'Atividade 5'!EL57","v":0},0,null,{"$f":"'Atividade 5'!EO57","v":0},{"$f":"'Atividade 5'!EP57","v":0},{"$f":"'Atividade 5'!EQ57","v":0},{"$f":"'Atividade 5'!ER57","v":0},{"$f":"'Atividade 5'!ES57","v":0},{"$f":"'Atividade 5'!ET57","v":0},{"$f":"'Atividade 5'!EU57","v":0},{"$f":"'Atividade 5'!EV57","v":0},{"$f":"'Atividade 5'!EW57","v":0},{"$f":"'Atividade 5'!EX57","v":0},{"$f":"'Atividade 5'!EY57","v":0},{"$f":"'Atividade 5'!EZ57","v":0},0,null,{"$f":"'Atividade 5'!FC57","v":0},{"$f":"'Atividade 5'!FD57","v":0},{"$f":"'Atividade 5'!FE57","v":0},{"$f":"'Atividade 5'!FF57","v":0},{"$f":"'Atividade 5'!FG57","v":0},{"$f":"'Atividade 5'!FH57","v":0},{"$f":"'Atividade 5'!FI57","v":0},{"$f":"'Atividade 5'!FJ57","v":0},{"$f":"'Atividade 5'!FK57","v":0},{"$f":"'Atividade 5'!FL57","v":0},{"$f":"'Atividade 5'!FM57","v":0},{"$f":"'Atividade 5'!FN57","v":0},0]
[null,null,"R",{"$f":"'Atividade 5'!E58","v":0},{"$f":"'Atividade 5'!F58","v":0},{"$f":"'Atividade 5'!G58","v":0},{"$f":"'Atividade 5'!H58","v":0},{"$f":"'Atividade 5'!I58","v":0},{"$f":"'Atividade 5'!J58","v":0},{"$f":"'Atividade 5'!K58","v":0},{"$f":"'Atividade 5'!L58","v":0},{"$f":"'Atividade 5'!M58","v":0},{"$f":"'Atividade 5'!N58","v":0},{"$f":"'Atividade 5'!O58","v":0},{"$f":"'Atividade 5'!P58","v":0},0,null,{"$f":"'Atividade 5'!S58","v":0},{"$f":"'Atividade 5'!T58","v":0},{"$f":"'Atividade 5'!U58","v":0},{"$f":"'Atividade 5'!V58","v":0},{"$f":"'Atividade 5'!W58","v":0},{"$f":"'Atividade 5'!X58","v":0},{"$f":"'Atividade 5'!Y58","v":0},{"$f":"'Atividade 5'!Z58","v":0},{"$f":"'Atividade 5'!AA58","v":0},{"$f":"'Atividade 5'!AB58","v":0},{"$f":"'Atividade 5'!AC58","v":0},{"$f":"'Atividade 5'!AD58","v":0},0,null,{"$f":"'Atividade 5'!AG58","v":0},{"$f":"'Atividade 5'!AH58","v":0},{"$f":"'Atividade 5'!AI58","v":0},{"$f":"'Atividade 5'!AJ58","v":0},{"$f":"'Atividade 5'!AK58","v":0},{"$f":"'Atividade 5'!AL58","v":0},{"$f":"'Atividade 5'!AM58","v":0},{"$f":"'Atividade 5'!AN58","v":0},{"$f":"'Atividade 5'!AO58","v":0},{"$f":"'Atividade 5'!AP58","v":0},{"$f":"'Atividade 5'!AQ58","v":0},{"$f":"'Atividade 5'!AR58","v":0},0,null,{"$f":"'Atividade 5'!AU58","v":0},{"$f":"'Atividade 5'!AV58","v":0},{"$f":"'Atividade 5'!AW58","v":0},{"$f":"'Atividade 5'!AX58","v":0},{"$f":"'Atividade 5'!AY58","v":0},{"$f":"'Atividade 5'!AZ58","v":0},{"$f":"'Atividade 5'!BA58","v":0},{"$f":"'Atividade 5'!BB58","v":0},{"$f":"'Atividade 5'!BC58","v":0},{"$f":"'Atividade 5'!BD58","v":0},{"$f":"'Atividade 5'!BE58","v":0},{"$f":"'Atividade 5'!BF58","v":0},0,null,{"$f":"'Atividade 5'!BI58","v":0},{"$f":"'Atividade 5'!BJ58","v":0},{"$f":"'Atividade 5'!BK58","v":0},{"$f":"'Atividade 5'!BL58","v":0},{"$f":"'Atividade 5'!BM58","v":0},{"$f":"'Atividade 5'!BN58","v":0},{"$f":"'Atividade 5'!BO58","v":0},{"$f":"'Atividade 5'!BP58","v":0},{"$f":"'Atividade 5'!BQ58","v":0},{"$f":"'Atividade 5'!BR58","v":0},{"$f":"'Atividade 5'!BS58","v":0},{"$f":"'Atividade 5'!BT58","v":0},0,null,{"$f":"'Atividade 5'!BW58","v":0},{"$f":"'Atividade 5'!BX58","v":0},{"$f":"'Atividade 5'!BY58","v":0},{"$f":"'Atividade 5'!BZ58","v":0},{"$f":"'Atividade 5'!CA58","v":0},{"$f":"'Atividade 5'!CB58","v":0},{"$f":"'Atividade 5'!CC58","v":0},{"$f":"'Atividade 5'!CD58","v":0},{"$f":"'Atividade 5'!CE58","v":0},{"$f":"'Atividade 5'!CF58","v":0},{"$f":"'Atividade 5'!CG58","v":0},{"$f":"'Atividade 5'!CH58","v":0},0,null,{"$f":"'Atividade 5'!CK58","v":0},{"$f":"'Atividade 5'!CL58","v":0},{"$f":"'Atividade 5'!CM58","v":0},{"$f":"'Atividade 5'!CN58","v":0},{"$f":"'Atividade 5'!CO58","v":0},{"$f":"'Atividade 5'!CP58","v":0},{"$f":"'Atividade 5'!CQ58","v":0},{"$f":"'Atividade 5'!CR58","v":0},{"$f":"'Atividade 5'!CS58","v":0},{"$f":"'Atividade 5'!CT58","v":0},{"$f":"'Atividade 5'!CU58","v":0},{"$f":"'Atividade 5'!CV58","v":0},0,null,{"$f":"'Atividade 5'!CY58","v":0},{"$f":"'Atividade 5'!CZ58","v":0},{"$f":"'Atividade 5'!DA58","v":0},{"$f":"'Atividade 5'!DB58","v":0},{"$f":"'Atividade 5'!DC58","v":0},{"$f":"'Atividade 5'!DD58","v":0},{"$f":"'Atividade 5'!DE58","v":0},{"$f":"'Atividade 5'!DF58","v":0},{"$f":"'Atividade 5'!DG58","v":0},{"$f":"'Atividade 5'!DH58","v":0},{"$f":"'Atividade 5'!DI58","v":0},{"$f":"'Atividade 5'!DJ58","v":0},0,null,{"$f":"'Atividade 5'!DM58","v":0},{"$f":"'Atividade 5'!DN58","v":0},{"$f":"'Atividade 5'!DO58","v":0},{"$f":"'Atividade 5'!DP58","v":0},{"$f":"'Atividade 5'!DQ58","v":0},{"$f":"'Atividade 5'!DR58","v":0},{"$f":"'Atividade 5'!DS58","v":0},{"$f":"'Atividade 5'!DT58","v":0},{"$f":"'Atividade 5'!DU58","v":0},{"$f":"'Atividade 5'!DV58","v":0},{"$f":"'Atividade 5'!DW58","v":0},{"$f":"'Atividade 5'!DX58","v":0},0,null,{"$f":"'Atividade 5'!EA58","v":0},{"$f":"'Atividade 5'!EB58","v":0},{"$f":"'Atividade 5'!EC58","v":0},{"$f":"'Atividade 5'!ED58","v":0},{"$f":"'Atividade 5'!EE58","v":0},{"$f":"'Atividade 5'!EF58","v":0},{"$f":"'Atividade 5'!EG58","v":0},{"$f":"'Atividade 5'!EH58","v":0},{"$f":"'Atividade 5'!EI58","v":0},{"$f":"'Atividade 5'!EJ58","v":0},{"$f":"'Atividade 5'!EK58","v":0},{"$f":"'Atividade 5'!EL58","v":0},0,null,{"$f":"'Atividade 5'!EO58","v":0},{"$f":"'Atividade 5'!EP58","v":0},{"$f":"'Atividade 5'!EQ58","v":0},{"$f":"'Atividade 5'!ER58","v":0},{"$f":"'Atividade 5'!ES58","v":0},{"$f":"'Atividade 5'!ET58","v":0},{"$f":"'Atividade 5'!EU58","v":0},{"$f":"'Atividade 5'!EV58","v":0},{"$f":"'Atividade 5'!EW58","v":0},{"$f":"'Atividade 5'!EX58","v":0},{"$f":"'Atividade 5'!EY58","v":0},{"$f":"'Atividade 5'!EZ58","v":0},0,null,{"$f":"'Atividade 5'!FC58","v":0},{"$f":"'Atividade 5'!FD58","v":0},{"$f":"'Atividade 5'!FE58","v":0},{"$f":"'Atividade 5'!FF58","v":0},{"$f":"'Atividade 5'!FG58","v":0},{"$f":"'Atividade 5'!FH58","v":0},{"$f":"'Atividade 5'!FI58","v":0},{"$f":"'Atividade 5'!FJ58","v":0},{"$f":"'Atividade 5'!FK58","v":0},{"$f":"'Atividade 5'!FL58","v":0},{"$f":"'Atividade 5'!FM58","v":0},{"$f":"'Atividade 5'!FN58","v":0},0]
[null,{"$f":"B15","v":"Bovinocultura de Corte"},"P",{"$f":"'Atividade 6'!E57","v":0},{"$f":"'Atividade 6'!F57","v":0},{"$f":"'Atividade 6'!G57","v":0},{"$f":"'Atividade 6'!H57","v":0},{"$f":"'Atividade 6'!I57","v":0},{"$f":"'Atividade 6'!J57","v":0},{"$f":"'Atividade 6'!K57","v":0},{"$f":"'Atividade 6'!L57","v":0},{"$f":"'Atividade 6'!M57","v":0},{"$f":"'Atividade 6'!N57","v":0},{"$f":"'Atividade 6'!O57","v":0},{"$f":"'Atividade 6'!P57","v":0},0,null,{"$f":"'Atividade 6'!S57","v":0},{"$f":"'Atividade 6'!T57","v":0},{"$f":"'Atividade 6'!U57","v":0},{"$f":"'Atividade 6'!V57","v":0},{"$f":"'Atividade 6'!W57","v":0},{"$f":"'Atividade 6'!X57","v":0},{"$f":"'Atividade 6'!Y57","v":0},{"$f":"'Atividade 6'!Z57","v":0},{"$f":"'Atividade 6'!AA57","v":0},{"$f":"'Atividade 6'!AB57","v":0},{"$f":"'Atividade 6'!AC57","v":0},{"$f":"'Atividade 6'!AD57","v":0},0,null,{"$f":"'Atividade 6'!AG57","v":0},{"$f":"'Atividade 6'!AH57","v":0},{"$f":"'Atividade 6'!AI57","v":0},{"$f":"'Atividade 6'!AJ57","v":0},{"$f":"'Atividade 6'!AK57","v":0},{"$f":"'Atividade 6'!AL57","v":0},{"$f":"'Atividade 6'!AM57","v":0},{"$f":"'Atividade 6'!AN57","v":0},{"$f":"'Atividade 6'!AO57","v":0},{"$f":"'Atividade 6'!AP57","v":0},{"$f":"'Atividade 6'!AQ57","v":0},{"$f":"'Atividade 6'!AR57","v":0},0,null,{"$f":"'Atividade 6'!AU57","v":0},{"$f":"'Atividade 6'!AV57","v":0},{"$f":"'Atividade 6'!AW57","v":0},{"$f":"'Atividade 6'!AX57","v":0},{"$f":"'Atividade 6'!AY57","v":0},{"$f":"'Atividade 6'!AZ57","v":0},{"$f":"'Atividade 6'!BA57","v":0},{"$f":"'Atividade 6'!BB57","v":0},{"$f":"'Atividade 6'!BC57","v":0},{"$f":"'Atividade 6'!BD57","v":0},{"$f":"'Atividade 6'!BE57","v":0},{"$f":"'Atividade 6'!BF57","v":0},0,null,{"$f":"'Atividade 6'!BI57","v":0},{"$f":"'Atividade 6'!BJ57","v":0},{"$f":"'Atividade 6'!BK57","v":0},{"$f":"'Atividade 6'!BL57","v":0},{"$f":"'Atividade 6'!BM57","v":0},{"$f":"'Atividade 6'!BN57","v":0},{"$f":"'Atividade 6'!BO57","v":0},{"$f":"'Atividade 6'!BP57","v":0},{"$f":"'Atividade 6'!BQ57","v":0},{"$f":"'Atividade 6'!BR57","v":0},{"$f":"'Atividade 6'!BS57","v":0},{"$f":"'Atividade 6'!BT57","v":0},0,null,{"$f":"'Atividade 6'!BW57","v":0},{"$f":"'Atividade 6'!BX57","v":0},{"$f":"'Atividade 6'!BY57","v":0},{"$f":"'Atividade 6'!BZ57","v":0},{"$f":"'Atividade 6'!CA57","v":0},{"$f":"'Atividade 6'!CB57","v":0},{"$f":"'Atividade 6'!CC57","v":0},{"$f":"'Atividade 6'!CD57","v":0},{"$f":"'Atividade 6'!CE57","v":0},{"$f":"'Atividade 6'!CF57","v":0},{"$f":"'Atividade 6'!CG57","v":0},{"$f":"'Atividade 6'!CH57","v":0},0,null,{"$f":"'Atividade 6'!CK57","v":0},{"$f":"'Atividade 6'!CL57","v":0},{"$f":"'Atividade 6'!CM57","v":0},{"$f":"'Atividade 6'!CN57","v":0},{"$f":"'Atividade 6'!CO57","v":0},{"$f":"'Atividade 6'!CP57","v":0},{"$f":"'Atividade 6'!CQ57","v":0},{"$f":"'Atividade 6'!CR57","v":0},{"$f":"'Atividade 6'!CS57","v":0},{"$f":"'Atividade 6'!CT57","v":0},{"$f":"'Atividade 6'!CU57","v":0},{"$f":"'Atividade 6'!CV57","v":0},0,null,{"$f":"'Atividade 6'!CY57","v":0},{"$f":"'Atividade 6'!CZ57","v":0},{"$f":"'Atividade 6'!DA57","v":0},{"$f":"'Atividade 6'!DB57","v":0},{"$f":"'Atividade 6'!DC57","v":0},{"$f":"'Atividade 6'!DD57","v":0},{"$f":"'Atividade 6'!DE57","v":0},{"$f":"'Atividade 6'!DF57","v":0},{"$f":"'Atividade 6'!DG57","v":0},{"$f":"'Atividade 6'!DH57","v":0},{"$f":"'Atividade 6'!DI57","v":0},{"$f":"'Atividade 6'!DJ57","v":0},0,null,{"$f":"'Atividade 6'!DM57","v":0},{"$f":"'Atividade 6'!DN57","v":0},{"$f":"'Atividade 6'!DO57","v":0},{"$f":"'Atividade 6'!DP57","v":0},{"$f":"'Atividade 6'!DQ57","v":0},{"$f":"'Atividade 6'!DR57","v":0},{"$f":"'Atividade 6'!DS57","v":0},{"$f":"'Atividade 6'!DT57","v":0},{"$f":"'Atividade 6'!DU57","v":0},{"$f":"'Atividade 6'!DV57","v":0},{"$f":"'Atividade 6'!DW57","v":0},{"$f":"'Atividade 6'!DX57","v":0},0,null,{"$f":"'Atividade 6'!EA57","v":0},{"$f":"'Atividade 6'!EB57","v":0},{"$f":"'Atividade 6'!EC57","v":0},{"$f":"'Atividade 6'!ED57","v":0},{"$f":"'Atividade 6'!EE57","v":0},{"$f":"'Atividade 6'!EF57","v":0},{"$f":"'Atividade 6'!EG57","v":0},{"$f":"'Atividade 6'!EH57","v":0},{"$f":"'Atividade 6'!EI57","v":0},{"$f":"'Atividade 6'!EJ57","v":0},{"$f":"'Atividade 6'!EK57","v":0},{"$f":"'Atividade 6'!EL57","v":0},0,null,{"$f":"'Atividade 6'!EO57","v":0},{"$f":"'Atividade 6'!EP57","v":0},{"$f":"'Atividade 6'!EQ57","v":0},{"$f":"'Atividade 6'!ER57","v":0},{"$f":"'Atividade 6'!ES57","v":0},{"$f":"'Atividade 6'!ET57","v":0},{"$f":"'Atividade 6'!EU57","v":0},{"$f":"'Atividade 6'!EV57","v":0},{"$f":"'Atividade 6'!EW57","v":0},{"$f":"'Atividade 6'!EX57","v":0},{"$f":"'Atividade 6'!EY57","v":0},{"$f":"'Atividade 6'!EZ57","v":0},0,null,{"$f":"'Atividade 6'!FC57","v":0},{"$f":"'Atividade 6'!FD57","v":0},{"$f":"'Atividade 6'!FE57","v":0},{"$f":"'Atividade 6'!FF57","v":0},{"$f":"'Atividade 6'!FG57","v":0},{"$f":"'Atividade 6'!FH57","v":0},{"$f":"'Atividade 6'!FI57","v":0},{"$f":"'Atividade 6'!FJ57","v":0},{"$f":"'Atividade 6'!FK57","v":0},{"$f":"'Atividade 6'!FL57","v":0},{"$f":"'Atividade 6'!FM57","v":0},{"$f":"'Atividade 6'!FN57","v":0},0]
[null,null,"R",{"$f":"'Atividade 6'!E58","v":0},{"$f":"'Atividade 6'!F58","v":0},{"$f":"'Atividade 6'!G58","v":0},{"$f":"'Atividade 6'!H58","v":0},{"$f":"'Atividade 6'!I58","v":0},{"$f":"'Atividade 6'!J58","v":0},{"$f":"'Atividade 6'!K58","v":0},{"$f":"'Atividade 6'!L58","v":0},{"$f":"'Atividade 6'!M58","v":0},{"$f":"'Atividade 6'!N58","v":0},{"$f":"'Atividade 6'!O58","v":0},{"$f":"'Atividade 6'!P58","v":0},0,null,{"$f":"'Atividade 6'!S58","v":0},{"$f":"'Atividade 6'!T58","v":0},{"$f":"'Atividade 6'!U58","v":0},{"$f":"'Atividade 6'!V58","v":0},{"$f":"'Atividade 6'!W58","v":0},{"$f":"'Atividade 6'!X58","v":0},{"$f":"'Atividade 6'!Y58","v":0},{"$f":"'Atividade 6'!Z58","v":0},{"$f":"'Atividade 6'!AA58","v":0},{"$f":"'Atividade 6'!AB58","v":0},{"$f":"'Atividade 6'!AC58","v":0},{"$f":"'Atividade 6'!AD58","v":0},0,null,{"$f":"'Atividade 6'!AG58","v":0},{"$f":"'Atividade 6'!AH58","v":0},{"$f":"'Atividade 6'!AI58","v":0},{"$f":"'Atividade 6'!AJ58","v":0},{"$f":"'Atividade 6'!AK58","v":0},{"$f":"'Atividade 6'!AL58","v":0},{"$f":"'Atividade 6'!AM58","v":0},{"$f":"'Atividade 6'!AN58","v":0},{"$f":"'Atividade 6'!AO58","v":0},{"$f":"'Atividade 6'!AP58","v":0},{"$f":"'Atividade 6'!AQ58","v":0},{"$f":"'Atividade 6'!AR58","v":0},0,null,{"$f":"'Atividade 6'!AU58","v":0},{"$f":"'Atividade 6'!AV58","v":0},{"$f":"'Atividade 6'!AW58","v":0},{"$f":"'Atividade 6'!AX58","v":0},{"$f":"'Atividade 6'!AY58","v":0},{"$f":"'Atividade 6'!AZ58","v":0},{"$f":"'Atividade 6'!BA58","v":0},{"$f":"'Atividade 6'!BB58","v":0},{"$f":"'Atividade 6'!BC58","v":0},{"$f":"'Atividade 6'!BD58","v":0},{"$f":"'Atividade 6'!BE58","v":0},{"$f":"'Atividade 6'!BF58","v":0},0,null,{"$f":"'Atividade 6'!BI58","v":0},{"$f":"'Atividade 6'!BJ58","v":0},{"$f":"'Atividade 6'!BK58","v":0},{"$f":"'Atividade 6'!BL58","v":0},{"$f":"'Atividade 6'!BM58","v":0},{"$f":"'Atividade 6'!BN58","v":0},{"$f":"'Atividade 6'!BO58","v":0},{"$f":"'Atividade 6'!BP58","v":0},{"$f":"'Atividade 6'!BQ58","v":0},{"$f":"'Atividade 6'!BR58","v":0},{"$f":"'Atividade 6'!BS58","v":0},{"$f":"'Atividade 6'!BT58","v":0},0,null,{"$f":"'Atividade 6'!BW58","v":0},{"$f":"'Atividade 6'!BX58","v":0},{"$f":"'Atividade 6'!BY58","v":0},{"$f":"'Atividade 6'!BZ58","v":0},{"$f":"'Atividade 6'!CA58","v":0},{"$f":"'Atividade 6'!CB58","v":0},{"$f":"'Atividade 6'!CC58","v":0},{"$f":"'Atividade 6'!CD58","v":0},{"$f":"'Atividade 6'!CE58","v":0},{"$f":"'Atividade 6'!CF58","v":0},{"$f":"'Atividade 6'!CG58","v":0},{"$f":"'Atividade 6'!CH58","v":0},0,null,{"$f":"'Atividade 6'!CK58","v":0},{"$f":"'Atividade 6'!CL58","v":0},{"$f":"'Atividade 6'!CM58","v":0},{"$f":"'Atividade 6'!CN58","v":0},{"$f":"'Atividade 6'!CO58","v":0},{"$f":"'Atividade 6'!CP58","v":0},{"$f":"'Atividade 6'!CQ58","v":0},{"$f":"'Atividade 6'!CR58","v":0},{"$f":"'Atividade 6'!CS58","v":0},{"$f":"'Atividade 6'!CT58","v":0},{"$f":"'Atividade 6'!CU58","v":0},{"$f":"'Atividade 6'!CV58","v":0},0,null,{"$f":"'Atividade 6'!CY58","v":0},{"$f":"'Atividade 6'!CZ58","v":0},{"$f":"'Atividade 6'!DA58","v":0},{"$f":"'Atividade 6'!DB58","v":0},{"$f":"'Atividade 6'!DC58","v":0},{"$f":"'Atividade 6'!DD58","v":0},{"$f":"'Atividade 6'!DE58","v":0},{"$f":"'Atividade 6'!DF58","v":0},{"$f":"'Atividade 6'!DG58","v":0},{"$f":"'Atividade 6'!DH58","v":0},{"$f":"'Atividade 6'!DI58","v":0},{"$f":"'Atividade 6'!DJ58","v":0},0,null,{"$f":"'Atividade 6'!DM58","v":0},{"$f":"'Atividade 6'!DN58","v":0},{"$f":"'Atividade 6'!DO58","v":0},{"$f":"'Atividade 6'!DP58","v":0},{"$f":"'Atividade 6'!DQ58","v":0},{"$f":"'Atividade 6'!DR58","v":0},{"$f":"'Atividade 6'!DS58","v":0},{"$f":"'Atividade 6'!DT58","v":0},{"$f":"'Atividade 6'!DU58","v":0},{"$f":"'Atividade 6'!DV58","v":0},{"$f":"'Atividade 6'!DW58","v":0},{"$f":"'Atividade 6'!DX58","v":0},0,null,{"$f":"'Atividade 6'!EA58","v":0},{"$f":"'Atividade 6'!EB58","v":0},{"$f":"'Atividade 6'!EC58","v":0},{"$f":"'Atividade 6'!ED58","v":0},{"$f":"'Atividade 6'!EE58","v":0},{"$f":"'Atividade 6'!EF58","v":0},{"$f":"'Atividade 6'!EG58","v":0},{"$f":"'Atividade 6'!EH58","v":0},{"$f":"'Atividade 6'!EI58","v":0},{"$f":"'Atividade 6'!EJ58","v":0},{"$f":"'Atividade 6'!EK58","v":0},{"$f":"'Atividade 6'!EL58","v":0},0,null,{"$f":"'Atividade 6'!EO58","v":0},{"$f":"'Atividade 6'!EP58","v":0},{"$f":"'Atividade 6'!EQ58","v":0},{"$f":"'Atividade 6'!ER58","v":0},{"$f":"'Atividade 6'!ES58","v":0},{"$f":"'Atividade 6'!ET58","v":0},{"$f":"'Atividade 6'!EU58","v":0},{"$f":"'Atividade 6'!EV58","v":0},{"$f":"'Atividade 6'!EW58","v":0},{"$f":"'Atividade 6'!EX58","v":0},{"$f":"'Atividade 6'!EY58","v":0},{"$f":"'Atividade 6'!EZ58","v":0},0,null,{"$f":"'Atividade 6'!FC58","v":0},{"$f":"'Atividade 6'!FD58","v":0},{"$f":"'Atividade 6'!FE58","v":0},{"$f":"'Atividade 6'!FF58","v":0},{"$f":"'Atividade 6'!FG58","v":0},{"$f":"'Atividade 6'!FH58","v":0},{"$f":"'Atividade 6'!FI58","v":0},{"$f":"'Atividade 6'!FJ58","v":0},{"$f":"'Atividade 6'!FK58","v":0},{"$f":"'Atividade 6'!FL58","v":0},{"$f":"'Atividade 6'!FM58","v":0},{"$f":"'Atividade 6'!FN58","v":0},0]
[null,{"$f":"B17","v":"Atividade"},"P",{"$f":"'Atividade 7'!E57","v":0},{"$f":"'Atividade 7'!F57","v":0},{"$f":"'Atividade 7'!G57","v":0},{"$f":"'Atividade 7'!H57","v":0},{"$f":"'Atividade 7'!I57","v":0},{"$f":"'Atividade 7'!J57","v":0},{"$f":"'Atividade 7'!K57","v":0},{"$f":"'Atividade 7'!L57","v":0},{"$f":"'Atividade 7'!M57","v":0},{"$f":"'Atividade 7'!N57","v":0},{"$f":"'Atividade 7'!O57","v":0},{"$f":"'Atividade 7'!P57","v":0},0,null,{"$f":"'Atividade 7'!S57","v":0},{"$f":"'Atividade 7'!T57","v":0},{"$f":"'Atividade 7'!U57","v":0},{"$f":"'Atividade 7'!V57","v":0},{"$f":"'Atividade 7'!W57","v":0},{"$f":"'Atividade 7'!X57","v":0},{"$f":"'Atividade 7'!Y57","v":0},{"$f":"'Atividade 7'!Z57","v":0},{"$f":"'Atividade 7'!AA57","v":0},{"$f":"'Atividade 7'!AB57","v":0},{"$f":"'Atividade 7'!AC57","v":0},{"$f":"'Atividade 7'!AD57","v":0},0,null,{"$f":"'Atividade 7'!AG57","v":0},{"$f":"'Atividade 7'!AH57","v":0},{"$f":"'Atividade 7'!AI57","v":0},{"$f":"'Atividade 7'!AJ57","v":0},{"$f":"'Atividade 7'!AK57","v":0},{"$f":"'Atividade 7'!AL57","v":0},{"$f":"'Atividade 7'!AM57","v":0},{"$f":"'Atividade 7'!AN57","v":0},{"$f":"'Atividade 7'!AO57","v":0},{"$f":"'Atividade 7'!AP57","v":0},{"$f":"'Atividade 7'!AQ57","v":0},{"$f":"'Atividade 7'!AR57","v":0},0,null,{"$f":"'Atividade 7'!AU57","v":0},{"$f":"'Atividade 7'!AV57","v":0},{"$f":"'Atividade 7'!AW57","v":0},{"$f":"'Atividade 7'!AX57","v":0},{"$f":"'Atividade 7'!AY57","v":0},{"$f":"'Atividade 7'!AZ57","v":0},{"$f":"'Atividade 7'!BA57","v":0},{"$f":"'Atividade 7'!BB57","v":0},{"$f":"'Atividade 7'!BC57","v":0},{"$f":"'Atividade 7'!BD57","v":0},{"$f":"'Atividade 7'!BE57","v":0},{"$f":"'Atividade 7'!BF57","v":0},0,null,{"$f":"'Atividade 7'!BI57","v":0},{"$f":"'Atividade 7'!BJ57","v":0},{"$f":"'Atividade 7'!BK57","v":0},{"$f":"'Atividade 7'!BL57","v":0},{"$f":"'Atividade 7'!BM57","v":0},{"$f":"'Atividade 7'!BN57","v":0},{"$f":"'Atividade 7'!BO57","v":0},{"$f":"'Atividade 7'!BP57","v":0},{"$f":"'Atividade 7'!BQ57","v":0},{"$f":"'Atividade 7'!BR57","v":0},{"$f":"'Atividade 7'!BS57","v":0},{"$f":"'Atividade 7'!BT57","v":0},0,null,{"$f":"'Atividade 7'!BW57","v":0},{"$f":"'Atividade 7'!BX57","v":0},{"$f":"'Atividade 7'!BY57","v":0},{"$f":"'Atividade 7'!BZ57","v":0},{"$f":"'Atividade 7'!CA57","v":0},{"$f":"'Atividade 7'!CB57","v":0},{"$f":"'Atividade 7'!CC57","v":0},{"$f":"'Atividade 7'!CD57","v":0},{"$f":"'Atividade 7'!CE57","v":0},{"$f":"'Atividade 7'!CF57","v":0},{"$f":"'Atividade 7'!CG57","v":0},{"$f":"'Atividade 7'!CH57","v":0},0,null,{"$f":"'Atividade 7'!CK57","v":0},{"$f":"'Atividade 7'!CL57","v":0},{"$f":"'Atividade 7'!CM57","v":0},{"$f":"'Atividade 7'!CN57","v":0},{"$f":"'Atividade 7'!CO57","v":0},{"$f":"'Atividade 7'!CP57","v":0},{"$f":"'Atividade 7'!CQ57","v":0},{"$f":"'Atividade 7'!CR57","v":0},{"$f":"'Atividade 7'!CS57","v":0},{"$f":"'Atividade 7'!CT57","v":0},{"$f":"'Atividade 7'!CU57","v":0},{"$f":"'Atividade 7'!CV57","v":0},0,null,{"$f":"'Atividade 7'!CY57","v":0},{"$f":"'Atividade 7'!CZ57","v":0},{"$f":"'Atividade 7'!DA57","v":0},{"$f":"'Atividade 7'!DB57","v":0},{"$f":"'Atividade 7'!DC57","v":0},{"$f":"'Atividade 7'!DD57","v":0},{"$f":"'Atividade 7'!DE57","v":0},{"$f":"'Atividade 7'!DF57","v":0},{"$f":"'Atividade 7'!DG57","v":0},{"$f":"'Atividade 7'!DH57","v":0},{"$f":"'Atividade 7'!DI57","v":0},{"$f":"'Atividade 7'!DJ57","v":0},0,null,{"$f":"'Atividade 7'!DM57","v":0},{"$f":"'Atividade 7'!DN57","v":0},{"$f":"'Atividade 7'!DO57","v":0},{"$f":"'Atividade 7'!DP57","v":0},{"$f":"'Atividade 7'!DQ57","v":0},{"$f":"'Atividade 7'!DR57","v":0},{"$f":"'Atividade 7'!DS57","v":0},{"$f":"'Atividade 7'!DT57","v":0},{"$f":"'Atividade 7'!DU57","v":0},{"$f":"'Atividade 7'!DV57","v":0},{"$f":"'Atividade 7'!DW57","v":0},{"$f":"'Atividade 7'!DX57","v":0},0,null,{"$f":"'Atividade 7'!EA57","v":0},{"$f":"'Atividade 7'!EB57","v":0},{"$f":"'Atividade 7'!EC57","v":0},{"$f":"'Atividade 7'!ED57","v":0},{"$f":"'Atividade 7'!EE57","v":0},{"$f":"'Atividade 7'!EF57","v":0},{"$f":"'Atividade 7'!EG57","v":0},{"$f":"'Atividade 7'!EH57","v":0},{"$f":"'Atividade 7'!EI57","v":0},{"$f":"'Atividade 7'!EJ57","v":0},{"$f":"'Atividade 7'!EK57","v":0},{"$f":"'Atividade 7'!EL57","v":0},0,null,{"$f":"'Atividade 7'!EO57","v":0},{"$f":"'Atividade 7'!EP57","v":0},{"$f":"'Atividade 7'!EQ57","v":0},{"$f":"'Atividade 7'!ER57","v":0},{"$f":"'Atividade 7'!ES57","v":0},{"$f":"'Atividade 7'!ET57","v":0},{"$f":"'Atividade 7'!EU57","v":0},{"$f":"'Atividade 7'!EV57","v":0},{"$f":"'Atividade 7'!EW57","v":0},{"$f":"'Atividade 7'!EX57","v":0},{"$f":"'Atividade 7'!EY57","v":0},{"$f":"'Atividade 7'!EZ57","v":0},0,null,{"$f":"'Atividade 7'!FC57","v":0},{"$f":"'Atividade 7'!FD57","v":0},{"$f":"'Atividade 7'!FE57","v":0},{"$f":"'Atividade 7'!FF57","v":0},{"$f":"'Atividade 7'!FG57","v":0},{"$f":"'Atividade 7'!FH57","v":0},{"$f":"'Atividade 7'!FI57","v":0},{"$f":"'Atividade 7'!FJ57","v":0},{"$f":"'Atividade 7'!FK57","v":0},{"$f":"'Atividade 7'!FL57","v":0},{"$f":"'Atividade 7'!FM57","v":0},{"$f":"'Atividade 7'!FN57","v":0},0]
[null,null,"R",{"$f":"'Atividade 7'!E58","v":0},{"$f":"'Atividade 7'!F58","v":0},{"$f":"'Atividade 7'!G58","v":0},{"$f":"'Atividade 7'!H58","v":0},{"$f":"'Atividade 7'!I58","v":0},{"$f":"'Atividade 7'!J58","v":0},{"$f":"'Atividade 7'!K58","v":0},{"$f":"'Atividade 7'!L58","v":0},{"$f":"'Atividade 7'!M58","v":0},{"$f":"'Atividade 7'!N58","v":0},{"$f":"'Atividade 7'!O58","v":0},{"$f":"'Atividade 7'!P58","v":0},0,null,{"$f":"'Atividade 7'!S58","v":0},{"$f":"'Atividade 7'!T58","v":0},{"$f":"'Atividade 7'!U58","v":0},{"$f":"'Atividade 7'!V58","v":0},{"$f":"'Atividade 7'!W58","v":0},{"$f":"'Atividade 7'!X58","v":0},{"$f":"'Atividade 7'!Y58","v":0},{"$f":"'Atividade 7'!Z58","v":0},{"$f":"'Atividade 7'!AA58","v":0},{"$f":"'Atividade 7'!AB58","v":0},{"$f":"'Atividade 7'!AC58","v":0},{"$f":"'Atividade 7'!AD58","v":0},0,null,{"$f":"'Atividade 7'!AG58","v":0},{"$f":"'Atividade 7'!AH58","v":0},{"$f":"'Atividade 7'!AI58","v":0},{"$f":"'Atividade 7'!AJ58","v":0},{"$f":"'Atividade 7'!AK58","v":0},{"$f":"'Atividade 7'!AL58","v":0},{"$f":"'Atividade 7'!AM58","v":0},{"$f":"'Atividade 7'!AN58","v":0},{"$f":"'Atividade 7'!AO58","v":0},{"$f":"'Atividade 7'!AP58","v":0},{"$f":"'Atividade 7'!AQ58","v":0},{"$f":"'Atividade 7'!AR58","v":0},0,null,{"$f":"'Atividade 7'!AU58","v":0},{"$f":"'Atividade 7'!AV58","v":0},{"$f":"'Atividade 7'!AW58","v":0},{"$f":"'Atividade 7'!AX58","v":0},{"$f":"'Atividade 7'!AY58","v":0},{"$f":"'Atividade 7'!AZ58","v":0},{"$f":"'Atividade 7'!BA58","v":0},{"$f":"'Atividade 7'!BB58","v":0},{"$f":"'Atividade 7'!BC58","v":0},{"$f":"'Atividade 7'!BD58","v":0},{"$f":"'Atividade 7'!BE58","v":0},{"$f":"'Atividade 7'!BF58","v":0},0,null,{"$f":"'Atividade 7'!BI58","v":0},{"$f":"'Atividade 7'!BJ58","v":0},{"$f":"'Atividade 7'!BK58","v":0},{"$f":"'Atividade 7'!BL58","v":0},{"$f":"'Atividade 7'!BM58","v":0},{"$f":"'Atividade 7'!BN58","v":0},{"$f":"'Atividade 7'!BO58","v":0},{"$f":"'Atividade 7'!BP58","v":0},{"$f":"'Atividade 7'!BQ58","v":0},{"$f":"'Atividade 7'!BR58","v":0},{"$f":"'Atividade 7'!BS58","v":0},{"$f":"'Atividade 7'!BT58","v":0},0,null,{"$f":"'Atividade 7'!BW58","v":0},{"$f":"'Atividade 7'!BX58","v":0},{"$f":"'Atividade 7'!BY58","v":0},{"$f":"'Atividade 7'!BZ58","v":0},{"$f":"'Atividade 7'!CA58","v":0},{"$f":"'Atividade 7'!CB58","v":0},{"$f":"'Atividade 7'!CC58","v":0},{"$f":"'Atividade 7'!CD58","v":0},{"$f":"'Atividade 7'!CE58","v":0},{"$f":"'Atividade 7'!CF58","v":0},{"$f":"'Atividade 7'!CG58","v":0},{"$f":"'Atividade 7'!CH58","v":0},0,null,{"$f":"'Atividade 7'!CK58","v":0},{"$f":"'Atividade 7'!CL58","v":0},{"$f":"'Atividade 7'!CM58","v":0},{"$f":"'Atividade 7'!CN58","v":0},{"$f":"'Atividade 7'!CO58","v":0},{"$f":"'Atividade 7'!CP58","v":0},{"$f":"'Atividade 7'!CQ58","v":0},{"$f":"'Atividade 7'!CR58","v":0},{"$f":"'Atividade 7'!CS58","v":0},{"$f":"'Atividade 7'!CT58","v":0},{"$f":"'Atividade 7'!CU58","v":0},{"$f":"'Atividade 7'!CV58","v":0},0,null,{"$f":"'Atividade 7'!CY58","v":0},{"$f":"'Atividade 7'!CZ58","v":0},{"$f":"'Atividade 7'!DA58","v":0},{"$f":"'Atividade 7'!DB58","v":0},{"$f":"'Atividade 7'!DC58","v":0},{"$f":"'Atividade 7'!DD58","v":0},{"$f":"'Atividade 7'!DE58","v":0},{"$f":"'Atividade 7'!DF58","v":0},{"$f":"'Atividade 7'!DG58","v":0},{"$f":"'Atividade 7'!DH58","v":0},{"$f":"'Atividade 7'!DI58","v":0},{"$f":"'Atividade 7'!DJ58","v":0},0,null,{"$f":"'Atividade 7'!DM58","v":0},{"$f":"'Atividade 7'!DN58","v":0},{"$f":"'Atividade 7'!DO58","v":0},{"$f":"'Atividade 7'!DP58","v":0},{"$f":"'Atividade 7'!DQ58","v":0},{"$f":"'Atividade 7'!DR58","v":0},{"$f":"'Atividade 7'!DS58","v":0},{"$f":"'Atividade 7'!DT58","v":0},{"$f":"'Atividade 7'!DU58","v":0},{"$f":"'Atividade 7'!DV58","v":0},{"$f":"'Atividade 7'!DW58","v":0},{"$f":"'Atividade 7'!DX58","v":0},0,null,{"$f":"'Atividade 7'!EA58","v":0},{"$f":"'Atividade 7'!EB58","v":0},{"$f":"'Atividade 7'!EC58","v":0},{"$f":"'Atividade 7'!ED58","v":0},{"$f":"'Atividade 7'!EE58","v":0},{"$f":"'Atividade 7'!EF58","v":0},{"$f":"'Atividade 7'!EG58","v":0},{"$f":"'Atividade 7'!EH58","v":0},{"$f":"'Atividade 7'!EI58","v":0},{"$f":"'Atividade 7'!EJ58","v":0},{"$f":"'Atividade 7'!EK58","v":0},{"$f":"'Atividade 7'!EL58","v":0},0,null,{"$f":"'Atividade 7'!EO58","v":0},{"$f":"'Atividade 7'!EP58","v":0},{"$f":"'Atividade 7'!EQ58","v":0},{"$f":"'Atividade 7'!ER58","v":0},{"$f":"'Atividade 7'!ES58","v":0},{"$f":"'Atividade 7'!ET58","v":0},{"$f":"'Atividade 7'!EU58","v":0},{"$f":"'Atividade 7'!EV58","v":0},{"$f":"'Atividade 7'!EW58","v":0},{"$f":"'Atividade 7'!EX58","v":0},{"$f":"'Atividade 7'!EY58","v":0},{"$f":"'Atividade 7'!EZ58","v":0},0,null,{"$f":"'Atividade 7'!FC58","v":0},{"$f":"'Atividade 7'!FD58","v":0},{"$f":"'Atividade 7'!FE58","v":0},{"$f":"'Atividade 7'!FF58","v":0},{"$f":"'Atividade 7'!FG58","v":0},{"$f":"'Atividade 7'!FH58","v":0},{"$f":"'Atividade 7'!FI58","v":0},{"$f":"'Atividade 7'!FJ58","v":0},{"$f":"'Atividade 7'!FK58","v":0},{"$f":"'Atividade 7'!FL58","v":0},{"$f":"'Atividade 7'!FM58","v":0},{"$f":"'Atividade 7'!FN58","v":0},0]
[null,{"$f":"B19","v":"Atividade"},"P",{"$f":"'Atividade 8'!E57","v":0},{"$f":"'Atividade 8'!F57","v":0},{"$f":"'Atividade 8'!G57","v":0},{"$f":"'Atividade 8'!H57","v":0},{"$f":"'Atividade 8'!I57","v":0},{"$f":"'Atividade 8'!J57","v":0},{"$f":"'Atividade 8'!K57","v":0},{"$f":"'Atividade 8'!L57","v":0},{"$f":"'Atividade 8'!M57","v":0},{"$f":"'Atividade 8'!N57","v":0},{"$f":"'Atividade 8'!O57","v":0},{"$f":"'Atividade 8'!P57","v":0},0,null,{"$f":"'Atividade 8'!S57","v":0},{"$f":"'Atividade 8'!T57","v":0},{"$f":"'Atividade 8'!U57","v":0},{"$f":"'Atividade 8'!V57","v":0},{"$f":"'Atividade 8'!W57","v":0},{"$f":"'Atividade 8'!X57","v":0},{"$f":"'Atividade 8'!Y57","v":0},{"$f":"'Atividade 8'!Z57","v":0},{"$f":"'Atividade 8'!AA57","v":0},{"$f":"'Atividade 8'!AB57","v":0},{"$f":"'Atividade 8'!AC57","v":0},{"$f":"'Atividade 8'!AD57","v":0},0,null,{"$f":"'Atividade 8'!AG57","v":0},{"$f":"'Atividade 8'!AH57","v":0},{"$f":"'Atividade 8'!AI57","v":0},{"$f":"'Atividade 8'!AJ57","v":0},{"$f":"'Atividade 8'!AK57","v":0},{"$f":"'Atividade 8'!AL57","v":0},{"$f":"'Atividade 8'!AM57","v":0},{"$f":"'Atividade 8'!AN57","v":0},{"$f":"'Atividade 8'!AO57","v":0},{"$f":"'Atividade 8'!AP57","v":0},{"$f":"'Atividade 8'!AQ57","v":0},{"$f":"'Atividade 8'!AR57","v":0},0,null,{"$f":"'Atividade 8'!AU57","v":0},{"$f":"'Atividade 8'!AV57","v":0},{"$f":"'Atividade 8'!AW57","v":0},{"$f":"'Atividade 8'!AX57","v":0},{"$f":"'Atividade 8'!AY57","v":0},{"$f":"'Atividade 8'!AZ57","v":0},{"$f":"'Atividade 8'!BA57","v":0},{"$f":"'Atividade 8'!BB57","v":0},{"$f":"'Atividade 8'!BC57","v":0},{"$f":"'Atividade 8'!BD57","v":0},{"$f":"'Atividade 8'!BE57","v":0},{"$f":"'Atividade 8'!BF57","v":0},0,null,{"$f":"'Atividade 8'!BI57","v":0},{"$f":"'Atividade 8'!BJ57","v":0},{"$f":"'Atividade 8'!BK57","v":0},{"$f":"'Atividade 8'!BL57","v":0},{"$f":"'Atividade 8'!BM57","v":0},{"$f":"'Atividade 8'!BN57","v":0},{"$f":"'Atividade 8'!BO57","v":0},{"$f":"'Atividade 8'!BP57","v":0},{"$f":"'Atividade 8'!BQ57","v":0},{"$f":"'Atividade 8'!BR57","v":0},{"$f":"'Atividade 8'!BS57","v":0},{"$f":"'Atividade 8'!BT57","v":0},0,null,{"$f":"'Atividade 8'!BW57","v":0},{"$f":"'Atividade 8'!BX57","v":0},{"$f":"'Atividade 8'!BY57","v":0},{"$f":"'Atividade 8'!BZ57","v":0},{"$f":"'Atividade 8'!CA57","v":0},{"$f":"'Atividade 8'!CB57","v":0},{"$f":"'Atividade 8'!CC57","v":0},{"$f":"'Atividade 8'!CD57","v":0},{"$f":"'Atividade 8'!CE57","v":0},{"$f":"'Atividade 8'!CF57","v":0},{"$f":"'Atividade 8'!CG57","v":0},{"$f":"'Atividade 8'!CH57","v":0},0,null,{"$f":"'Atividade 8'!CK57","v":0},{"$f":"'Atividade 8'!CL57","v":0},{"$f":"'Atividade 8'!CM57","v":0},{"$f":"'Atividade 8'!CN57","v":0},{"$f":"'Atividade 8'!CO57","v":0},{"$f":"'Atividade 8'!CP57","v":0},{"$f":"'Atividade 8'!CQ57","v":0},{"$f":"'Atividade 8'!CR57","v":0},{"$f":"'Atividade 8'!CS57","v":0},{"$f":"'Atividade 8'!CT57","v":0},{"$f":"'Atividade 8'!CU57","v":0},{"$f":"'Atividade 8'!CV57","v":0},0,null,{"$f":"'Atividade 8'!CY57","v":0},{"$f":"'Atividade 8'!CZ57","v":0},{"$f":"'Atividade 8'!DA57","v":0},{"$f":"'Atividade 8'!DB57","v":0},{"$f":"'Atividade 8'!DC57","v":0},{"$f":"'Atividade 8'!DD57","v":0},{"$f":"'Atividade 8'!DE57","v":0},{"$f":"'Atividade 8'!DF57","v":0},{"$f":"'Atividade 8'!DG57","v":0},{"$f":"'Atividade 8'!DH57","v":0},{"$f":"'Atividade 8'!DI57","v":0},{"$f":"'Atividade 8'!DJ57","v":0},0,null,{"$f":"'Atividade 8'!DM57","v":0},{"$f":"'Atividade 8'!DN57","v":0},{"$f":"'Atividade 8'!DO57","v":0},{"$f":"'Atividade 8'!DP57","v":0},{"$f":"'Atividade 8'!DQ57","v":0},{"$f":"'Atividade 8'!DR57","v":0},{"$f":"'Atividade 8'!DS57","v":0},{"$f":"'Atividade 8'!DT57","v":0},{"$f":"'Atividade 8'!DU57","v":0},{"$f":"'Atividade 8'!DV57","v":0},{"$f":"'Atividade 8'!DW57","v":0},{"$f":"'Atividade 8'!DX57","v":0},0,null,{"$f":"'Atividade 8'!EA57","v":0},{"$f":"'Atividade 8'!EB57","v":0},{"$f":"'Atividade 8'!EC57","v":0},{"$f":"'Atividade 8'!ED57","v":0},{"$f":"'Atividade 8'!EE57","v":0},{"$f":"'Atividade 8'!EF57","v":0},{"$f":"'Atividade 8'!EG57","v":0},{"$f":"'Atividade 8'!EH57","v":0},{"$f":"'Atividade 8'!EI57","v":0},{"$f":"'Atividade 8'!EJ57","v":0},{"$f":"'Atividade 8'!EK57","v":0},{"$f":"'Atividade 8'!EL57","v":0},0,null,{"$f":"'Atividade 8'!EO57","v":0},{"$f":"'Atividade 8'!EP57","v":0},{"$f":"'Atividade 8'!EQ57","v":0},{"$f":"'Atividade 8'!ER57","v":0},{"$f":"'Atividade 8'!ES57","v":0},{"$f":"'Atividade 8'!ET57","v":0},{"$f":"'Atividade 8'!EU57","v":0},{"$f":"'Atividade 8'!EV57","v":0},{"$f":"'Atividade 8'!EW57","v":0},{"$f":"'Atividade 8'!EX57","v":0},{"$f":"'Atividade 8'!EY57","v":0},{"$f":"'Atividade 8'!EZ57","v":0},0,null,{"$f":"'Atividade 8'!FC57","v":0},{"$f":"'Atividade 8'!FD57","v":0},{"$f":"'Atividade 8'!FE57","v":0},{"$f":"'Atividade 8'!FF57","v":0},{"$f":"'Atividade 8'!FG57","v":0},{"$f":"'Atividade 8'!FH57","v":0},{"$f":"'Atividade 8'!FI57","v":0},{"$f":"'Atividade 8'!FJ57","v":0},{"$f":"'Atividade 8'!FK57","v":0},{"$f":"'Atividade 8'!FL57","v":0},{"$f":"'Atividade 8'!FM57","v":0},{"$f":"'Atividade 8'!FN57","v":0},0]
[null,null,"R",{"$f":"'Atividade 8'!E58","v":0},{"$f":"'Atividade 8'!F58","v":0},{"$f":"'Atividade 8'!G58","v":0},{"$f":"'Atividade 8'!H58","v":0},{"$f":"'Atividade 8'!I58","v":0},{"$f":"'Atividade 8'!J58","v":0},{"$f":"'Atividade 8'!K58","v":0},{"$f":"'Atividade 8'!L58","v":0},{"$f":"'Atividade 8'!M58","v":0},{"$f":"'Atividade 8'!N58","v":0},{"$f":"'Atividade 8'!O58","v":0},{"$f":"'Atividade 8'!P58","v":0},0,null,{"$f":"'Atividade 8'!S58","v":0},{"$f":"'Atividade 8'!T58","v":0},{"$f":"'Atividade 8'!U58","v":0},{"$f":"'Atividade 8'!V58","v":0},{"$f":"'Atividade 8'!W58","v":0},{"$f":"'Atividade 8'!X58","v":0},{"$f":"'Atividade 8'!Y58","v":0},{"$f":"'Atividade 8'!Z58","v":0},{"$f":"'Atividade 8'!AA58","v":0},{"$f":"'Atividade 8'!AB58","v":0},{"$f":"'Atividade 8'!AC58","v":0},{"$f":"'Atividade 8'!AD58","v":0},0,null,{"$f":"'Atividade 8'!AG58","v":0},{"$f":"'Atividade 8'!AH58","v":0},{"$f":"'Atividade 8'!AI58","v":0},{"$f":"'Atividade 8'!AJ58","v":0},{"$f":"'Atividade 8'!AK58","v":0},{"$f":"'Atividade 8'!AL58","v":0},{"$f":"'Atividade 8'!AM58","v":0},{"$f":"'Atividade 8'!AN58","v":0},{"$f":"'Atividade 8'!AO58","v":0},{"$f":"'Atividade 8'!AP58","v":0},{"$f":"'Atividade 8'!AQ58","v":0},{"$f":"'Atividade 8'!AR58","v":0},0,null,{"$f":"'Atividade 8'!AU58","v":0},{"$f":"'Atividade 8'!AV58","v":0},{"$f":"'Atividade 8'!AW58","v":0},{"$f":"'Atividade 8'!AX58","v":0},{"$f":"'Atividade 8'!AY58","v":0},{"$f":"'Atividade 8'!AZ58","v":0},{"$f":"'Atividade 8'!BA58","v":0},{"$f":"'Atividade 8'!BB58","v":0},{"$f":"'Atividade 8'!BC58","v":0},{"$f":"'Atividade 8'!BD58","v":0},{"$f":"'Atividade 8'!BE58","v":0},{"$f":"'Atividade 8'!BF58","v":0},0,null,{"$f":"'Atividade 8'!BI58","v":0},{"$f":"'Atividade 8'!BJ58","v":0},{"$f":"'Atividade 8'!BK58","v":0},{"$f":"'Atividade 8'!BL58","v":0},{"$f":"'Atividade 8'!BM58","v":0},{"$f":"'Atividade 8'!BN58","v":0},{"$f":"'Atividade 8'!BO58","v":0},{"$f":"'Atividade 8'!BP58","v":0},{"$f":"'Atividade 8'!BQ58","v":0},{"$f":"'Atividade 8'!BR58","v":0},{"$f":"'Atividade 8'!BS58","v":0},{"$f":"'Atividade 8'!BT58","v":0},0,null,{"$f":"'Atividade 8'!BW58","v":0},{"$f":"'Atividade 8'!BX58","v":0},{"$f":"'Atividade 8'!BY58","v":0},{"$f":"'Atividade 8'!BZ58","v":0},{"$f":"'Atividade 8'!CA58","v":0},{"$f":"'Atividade 8'!CB58","v":0},{"$f":"'Atividade 8'!CC58","v":0},{"$f":"'Atividade 8'!CD58","v":0},{"$f":"'Atividade 8'!CE58","v":0},{"$f":"'Atividade 8'!CF58","v":0},{"$f":"'Atividade 8'!CG58","v":0},{"$f":"'Atividade 8'!CH58","v":0},0,null,{"$f":"'Atividade 8'!CK58","v":0},{"$f":"'Atividade 8'!CL58","v":0},{"$f":"'Atividade 8'!CM58","v":0},{"$f":"'Atividade 8'!CN58","v":0},{"$f":"'Atividade 8'!CO58","v":0},{"$f":"'Atividade 8'!CP58","v":0},{"$f":"'Atividade 8'!CQ58","v":0},{"$f":"'Atividade 8'!CR58","v":0},{"$f":"'Atividade 8'!CS58","v":0},{"$f":"'Atividade 8'!CT58","v":0},{"$f":"'Atividade 8'!CU58","v":0},{"$f":"'Atividade 8'!CV58","v":0},0,null,{"$f":"'Atividade 8'!CY58","v":0},{"$f":"'Atividade 8'!CZ58","v":0},{"$f":"'Atividade 8'!DA58","v":0},{"$f":"'Atividade 8'!DB58","v":0},{"$f":"'Atividade 8'!DC58","v":0},{"$f":"'Atividade 8'!DD58","v":0},{"$f":"'Atividade 8'!DE58","v":0},{"$f":"'Atividade 8'!DF58","v":0},{"$f":"'Atividade 8'!DG58","v":0},{"$f":"'Atividade 8'!DH58","v":0},{"$f":"'Atividade 8'!DI58","v":0},{"$f":"'Atividade 8'!DJ58","v":0},0,null,{"$f":"'Atividade 8'!DM58","v":0},{"$f":"'Atividade 8'!DN58","v":0},{"$f":"'Atividade 8'!DO58","v":0},{"$f":"'Atividade 8'!DP58","v":0},{"$f":"'Atividade 8'!DQ58","v":0},{"$f":"'Atividade 8'!DR58","v":0},{"$f":"'Atividade 8'!DS58","v":0},{"$f":"'Atividade 8'!DT58","v":0},{"$f":"'Atividade 8'!DU58","v":0},{"$f":"'Atividade 8'!DV58","v":0},{"$f":"'Atividade 8'!DW58","v":0},{"$f":"'Atividade 8'!DX58","v":0},0,null,{"$f":"'Atividade 8'!EA58","v":0},{"$f":"'Atividade 8'!EB58","v":0},{"$f":"'Atividade 8'!EC58","v":0},{"$f":"'Atividade 8'!ED58","v":0},{"$f":"'Atividade 8'!EE58","v":0},{"$f":"'Atividade 8'!EF58","v":0},{"$f":"'Atividade 8'!EG58","v":0},{"$f":"'Atividade 8'!EH58","v":0},{"$f":"'Atividade 8'!EI58","v":0},{"$f":"'Atividade 8'!EJ58","v":0},{"$f":"'Atividade 8'!EK58","v":0},{"$f":"'Atividade 8'!EL58","v":0},0,null,{"$f":"'Atividade 8'!EO58","v":0},{"$f":"'Atividade 8'!EP58","v":0},{"$f":"'Atividade 8'!EQ58","v":0},{"$f":"'Atividade 8'!ER58","v":0},{"$f":"'Atividade 8'!ES58","v":0},{"$f":"'Atividade 8'!ET58","v":0},{"$f":"'Atividade 8'!EU58","v":0},{"$f":"'Atividade 8'!EV58","v":0},{"$f":"'Atividade 8'!EW58","v":0},{"$f":"'Atividade 8'!EX58","v":0},{"$f":"'Atividade 8'!EY58","v":0},{"$f":"'Atividade 8'!EZ58","v":0},0,null,{"$f":"'Atividade 8'!FC58","v":0},{"$f":"'Atividade 8'!FD58","v":0},{"$f":"'Atividade 8'!FE58","v":0},{"$f":"'Atividade 8'!FF58","v":0},{"$f":"'Atividade 8'!FG58","v":0},{"$f":"'Atividade 8'!FH58","v":0},{"$f":"'Atividade 8'!FI58","v":0},{"$f":"'Atividade 8'!FJ58","v":0},{"$f":"'Atividade 8'!FK58","v":0},{"$f":"'Atividade 8'!FL58","v":0},{"$f":"'Atividade 8'!FM58","v":0},{"$f":"'Atividade 8'!FN58","v":0},0]
[null,{"$f":"B21","v":"Atividade"},"P",{"$f":"'Atividade 9'!E57","v":0},{"$f":"'Atividade 9'!F57","v":0},{"$f":"'Atividade 9'!G57","v":0},{"$f":"'Atividade 9'!H57","v":0},{"$f":"'Atividade 9'!I57","v":0},{"$f":"'Atividade 9'!J57","v":0},{"$f":"'Atividade 9'!K57","v":0},{"$f":"'Atividade 9'!L57","v":0},{"$f":"'Atividade 9'!M57","v":0},{"$f":"'Atividade 9'!N57","v":0},{"$f":"'Atividade 9'!O57","v":0},{"$f":"'Atividade 9'!P57","v":0},0,null,{"$f":"'Atividade 9'!S57","v":0},{"$f":"'Atividade 9'!T57","v":0},{"$f":"'Atividade 9'!U57","v":0},{"$f":"'Atividade 9'!V57","v":0},{"$f":"'Atividade 9'!W57","v":0},{"$f":"'Atividade 9'!X57","v":0},{"$f":"'Atividade 9'!Y57","v":0},{"$f":"'Atividade 9'!Z57","v":0},{"$f":"'Atividade 9'!AA57","v":0},{"$f":"'Atividade 9'!AB57","v":0},{"$f":"'Atividade 9'!AC57","v":0},{"$f":"'Atividade 9'!AD57","v":0},0,null,{"$f":"'Atividade 9'!AG57","v":0},{"$f":"'Atividade 9'!AH57","v":0},{"$f":"'Atividade 9'!AI57","v":0},{"$f":"'Atividade 9'!AJ57","v":0},{"$f":"'Atividade 9'!AK57","v":0},{"$f":"'Atividade 9'!AL57","v":0},{"$f":"'Atividade 9'!AM57","v":0},{"$f":"'Atividade 9'!AN57","v":0},{"$f":"'Atividade 9'!AO57","v":0},{"$f":"'Atividade 9'!AP57","v":0},{"$f":"'Atividade 9'!AQ57","v":0},{"$f":"'Atividade 9'!AR57","v":0},0,null,{"$f":"'Atividade 9'!AU57","v":0},{"$f":"'Atividade 9'!AV57","v":0},{"$f":"'Atividade 9'!AW57","v":0},{"$f":"'Atividade 9'!AX57","v":0},{"$f":"'Atividade 9'!AY57","v":0},{"$f":"'Atividade 9'!AZ57","v":0},{"$f":"'Atividade 9'!BA57","v":0},{"$f":"'Atividade 9'!BB57","v":0},{"$f":"'Atividade 9'!BC57","v":0},{"$f":"'Atividade 9'!BD57","v":0},{"$f":"'Atividade 9'!BE57","v":0},{"$f":"'Atividade 9'!BF57","v":0},0,null,{"$f":"'Atividade 9'!BI57","v":0},{"$f":"'Atividade 9'!BJ57","v":0},{"$f":"'Atividade 9'!BK57","v":0},{"$f":"'Atividade 9'!BL57","v":0},{"$f":"'Atividade 9'!BM57","v":0},{"$f":"'Atividade 9'!BN57","v":0},{"$f":"'Atividade 9'!BO57","v":0},{"$f":"'Atividade 9'!BP57","v":0},{"$f":"'Atividade 9'!BQ57","v":0},{"$f":"'Atividade 9'!BR57","v":0},{"$f":"'Atividade 9'!BS57","v":0},{"$f":"'Atividade 9'!BT57","v":0},0,null,{"$f":"'Atividade 9'!BW57","v":0},{"$f":"'Atividade 9'!BX57","v":0},{"$f":"'Atividade 9'!BY57","v":0},{"$f":"'Atividade 9'!BZ57","v":0},{"$f":"'Atividade 9'!CA57","v":0},{"$f":"'Atividade 9'!CB57","v":0},{"$f":"'Atividade 9'!CC57","v":0},{"$f":"'Atividade 9'!CD57","v":0},{"$f":"'Atividade 9'!CE57","v":0},{"$f":"'Atividade 9'!CF57","v":0},{"$f":"'Atividade 9'!CG57","v":0},{"$f":"'Atividade 9'!CH57","v":0},0,null,{"$f":"'Atividade 9'!CK57","v":0},{"$f":"'Atividade 9'!CL57","v":0},{"$f":"'Atividade 9'!CM57","v":0},{"$f":"'Atividade 9'!CN57","v":0},{"$f":"'Atividade 9'!CO57","v":0},{"$f":"'Atividade 9'!CP57","v":0},{"$f":"'Atividade 9'!CQ57","v":0},{"$f":"'Atividade 9'!CR57","v":0},{"$f":"'Atividade 9'!CS57","v":0},{"$f":"'Atividade 9'!CT57","v":0},{"$f":"'Atividade 9'!CU57","v":0},{"$f":"'Atividade 9'!CV57","v":0},0,null,{"$f":"'Atividade 9'!CY57","v":0},{"$f":"'Atividade 9'!CZ57","v":0},{"$f":"'Atividade 9'!DA57","v":0},{"$f":"'Atividade 9'!DB57","v":0},{"$f":"'Atividade 9'!DC57","v":0},{"$f":"'Atividade 9'!DD57","v":0},{"$f":"'Atividade 9'!DE57","v":0},{"$f":"'Atividade 9'!DF57","v":0},{"$f":"'Atividade 9'!DG57","v":0},{"$f":"'Atividade 9'!DH57","v":0},{"$f":"'Atividade 9'!DI57","v":0},{"$f":"'Atividade 9'!DJ57","v":0},0,null,{"$f":"'Atividade 9'!DM57","v":0},{"$f":"'Atividade 9'!DN57","v":0},{"$f":"'Atividade 9'!DO57","v":0},{"$f":"'Atividade 9'!DP57","v":0},{"$f":"'Atividade 9'!DQ57","v":0},{"$f":"'Atividade 9'!DR57","v":0},{"$f":"'Atividade 9'!DS57","v":0},{"$f":"'Atividade 9'!DT57","v":0},{"$f":"'Atividade 9'!DU57","v":0},{"$f":"'Atividade 9'!DV57","v":0},{"$f":"'Atividade 9'!DW57","v":0},{"$f":"'Atividade 9'!DX57","v":0},0,null,{"$f":"'Atividade 9'!EA57","v":0},{"$f":"'Atividade 9'!EB57","v":0},{"$f":"'Atividade 9'!EC57","v":0},{"$f":"'Atividade 9'!ED57","v":0},{"$f":"'Atividade 9'!EE57","v":0},{"$f":"'Atividade 9'!EF57","v":0},{"$f":"'Atividade 9'!EG57","v":0},{"$f":"'Atividade 9'!EH57","v":0},{"$f":"'Atividade 9'!EI57","v":0},{"$f":"'Atividade 9'!EJ57","v":0},{"$f":"'Atividade 9'!EK57","v":0},{"$f":"'Atividade 9'!EL57","v":0},0,null,{"$f":"'Atividade 9'!EO57","v":0},{"$f":"'Atividade 9'!EP57","v":0},{"$f":"'Atividade 9'!EQ57","v":0},{"$f":"'Atividade 9'!ER57","v":0},{"$f":"'Atividade 9'!ES57","v":0},{"$f":"'Atividade 9'!ET57","v":0},{"$f":"'Atividade 9'!EU57","v":0},{"$f":"'Atividade 9'!EV57","v":0},{"$f":"'Atividade 9'!EW57","v":0},{"$f":"'Atividade 9'!EX57","v":0},{"$f":"'Atividade 9'!EY57","v":0},{"$f":"'Atividade 9'!EZ57","v":0},0,null,{"$f":"'Atividade 9'!FC57","v":0},{"$f":"'Atividade 9'!FD57","v":0},{"$f":"'Atividade 9'!FE57","v":0},{"$f":"'Atividade 9'!FF57","v":0},{"$f":"'Atividade 9'!FG57","v":0},{"$f":"'Atividade 9'!FH57","v":0},{"$f":"'Atividade 9'!FI57","v":0},{"$f":"'Atividade 9'!FJ57","v":0},{"$f":"'Atividade 9'!FK57","v":0},{"$f":"'Atividade 9'!FL57","v":0},{"$f":"'Atividade 9'!FM57","v":0},{"$f":"'Atividade 9'!FN57","v":0},0]
[null,null,"R",{"$f":"'Atividade 9'!E58","v":0},{"$f":"'Atividade 9'!F58","v":0},{"$f":"'Atividade 9'!G58","v":0},{"$f":"'Atividade 9'!H58","v":0},{"$f":"'Atividade 9'!I58","v":0},{"$f":"'Atividade 9'!J58","v":0},{"$f":"'Atividade 9'!K58","v":0},{"$f":"'Atividade 9'!L58","v":0},{"$f":"'Atividade 9'!M58","v":0},{"$f":"'Atividade 9'!N58","v":0},{"$f":"'Atividade 9'!O58","v":0},{"$f":"'Atividade 9'!P58","v":0},0,null,{"$f":"'Atividade 9'!S58","v":0},{"$f":"'Atividade 9'!T58","v":0},{"$f":"'Atividade 9'!U58","v":0},{"$f":"'Atividade 9'!V58","v":0},{"$f":"'Atividade 9'!W58","v":0},{"$f":"'Atividade 9'!X58","v":0},{"$f":"'Atividade 9'!Y58","v":0},{"$f":"'Atividade 9'!Z58","v":0},{"$f":"'Atividade 9'!AA58","v":0},{"$f":"'Atividade 9'!AB58","v":0},{"$f":"'Atividade 9'!AC58","v":0},{"$f":"'Atividade 9'!AD58","v":0},0,null,{"$f":"'Atividade 9'!AG58","v":0},{"$f":"'Atividade 9'!AH58","v":0},{"$f":"'Atividade 9'!AI58","v":0},{"$f":"'Atividade 9'!AJ58","v":0},{"$f":"'Atividade 9'!AK58","v":0},{"$f":"'Atividade 9'!AL58","v":0},{"$f":"'Atividade 9'!AM58","v":0},{"$f":"'Atividade 9'!AN58","v":0},{"$f":"'Atividade 9'!AO58","v":0},{"$f":"'Atividade 9'!AP58","v":0},{"$f":"'Atividade 9'!AQ58","v":0},{"$f":"'Atividade 9'!AR58","v":0},0,null,{"$f":"'Atividade 9'!AU58","v":0},{"$f":"'Atividade 9'!AV58","v":0},{"$f":"'Atividade 9'!AW58","v":0},{"$f":"'Atividade 9'!AX58","v":0},{"$f":"'Atividade 9'!AY58","v":0},{"$f":"'Atividade 9'!AZ58","v":0},{"$f":"'Atividade 9'!BA58","v":0},{"$f":"'Atividade 9'!BB58","v":0},{"$f":"'Atividade 9'!BC58","v":0},{"$f":"'Atividade 9'!BD58","v":0},{"$f":"'Atividade 9'!BE58","v":0},{"$f":"'Atividade 9'!BF58","v":0},0,null,{"$f":"'Atividade 9'!BI58","v":0},{"$f":"'Atividade 9'!BJ58","v":0},{"$f":"'Atividade 9'!BK58","v":0},{"$f":"'Atividade 9'!BL58","v":0},{"$f":"'Atividade 9'!BM58","v":0},{"$f":"'Atividade 9'!BN58","v":0},{"$f":"'Atividade 9'!BO58","v":0},{"$f":"'Atividade 9'!BP58","v":0},{"$f":"'Atividade 9'!BQ58","v":0},{"$f":"'Atividade 9'!BR58","v":0},{"$f":"'Atividade 9'!BS58","v":0},{"$f":"'Atividade 9'!BT58","v":0},0,null,{"$f":"'Atividade 9'!BW58","v":0},{"$f":"'Atividade 9'!BX58","v":0},{"$f":"'Atividade 9'!BY58","v":0},{"$f":"'Atividade 9'!BZ58","v":0},{"$f":"'Atividade 9'!CA58","v":0},{"$f":"'Atividade 9'!CB58","v":0},{"$f":"'Atividade 9'!CC58","v":0},{"$f":"'Atividade 9'!CD58","v":0},{"$f":"'Atividade 9'!CE58","v":0},{"$f":"'Atividade 9'!CF58","v":0},{"$f":"'Atividade 9'!CG58","v":0},{"$f":"'Atividade 9'!CH58","v":0},0,null,{"$f":"'Atividade 9'!CK58","v":0},{"$f":"'Atividade 9'!CL58","v":0},{"$f":"'Atividade 9'!CM58","v":0},{"$f":"'Atividade 9'!CN58","v":0},{"$f":"'Atividade 9'!CO58","v":0},{"$f":"'Atividade 9'!CP58","v":0},{"$f":"'Atividade 9'!CQ58","v":0},{"$f":"'Atividade 9'!CR58","v":0},{"$f":"'Atividade 9'!CS58","v":0},{"$f":"'Atividade 9'!CT58","v":0},{"$f":"'Atividade 9'!CU58","v":0},{"$f":"'Atividade 9'!CV58","v":0},0,null,{"$f":"'Atividade 9'!CY58","v":0},{"$f":"'Atividade 9'!CZ58","v":0},{"$f":"'Atividade 9'!DA58","v":0},{"$f":"'Atividade 9'!DB58","v":0},{"$f":"'Atividade 9'!DC58","v":0},{"$f":"'Atividade 9'!DD58","v":0},{"$f":"'Atividade 9'!DE58","v":0},{"$f":"'Atividade 9'!DF58","v":0},{"$f":"'Atividade 9'!DG58","v":0},{"$f":"'Atividade 9'!DH58","v":0},{"$f":"'Atividade 9'!DI58","v":0},{"$f":"'Atividade 9'!DJ58","v":0},0,null,{"$f":"'Atividade 9'!DM58","v":0},{"$f":"'Atividade 9'!DN58","v":0},{"$f":"'Atividade 9'!DO58","v":0},{"$f":"'Atividade 9'!DP58","v":0},{"$f":"'Atividade 9'!DQ58","v":0},{"$f":"'Atividade 9'!DR58","v":0},{"$f":"'Atividade 9'!DS58","v":0},{"$f":"'Atividade 9'!DT58","v":0},{"$f":"'Atividade 9'!DU58","v":0},{"$f":"'Atividade 9'!DV58","v":0},{"$f":"'Atividade 9'!DW58","v":0},{"$f":"'Atividade 9'!DX58","v":0},0,null,{"$f":"'Atividade 9'!EA58","v":0},{"$f":"'Atividade 9'!EB58","v":0},{"$f":"'Atividade 9'!EC58","v":0},{"$f":"'Atividade 9'!ED58","v":0},{"$f":"'Atividade 9'!EE58","v":0},{"$f":"'Atividade 9'!EF58","v":0},{"$f":"'Atividade 9'!EG58","v":0},{"$f":"'Atividade 9'!EH58","v":0},{"$f":"'Atividade 9'!EI58","v":0},{"$f":"'Atividade 9'!EJ58","v":0},{"$f":"'Atividade 9'!EK58","v":0},{"$f":"'Atividade 9'!EL58","v":0},0,null,{"$f":"'Atividade 9'!EO58","v":0},{"$f":"'Atividade 9'!EP58","v":0},{"$f":"'Atividade 9'!EQ58","v":0},{"$f":"'Atividade 9'!ER58","v":0},{"$f":"'Atividade 9'!ES58","v":0},{"$f":"'Atividade 9'!ET58","v":0},{"$f":"'Atividade 9'!EU58","v":0},{"$f":"'Atividade 9'!EV58","v":0},{"$f":"'Atividade 9'!EW58","v":0},{"$f":"'Atividade 9'!EX58","v":0},{"$f":"'Atividade 9'!EY58","v":0},{"$f":"'Atividade 9'!EZ58","v":0},0,null,{"$f":"'Atividade 9'!FC58","v":0},{"$f":"'Atividade 9'!FD58","v":0},{"$f":"'Atividade 9'!FE58","v":0},{"$f":"'Atividade 9'!FF58","v":0},{"$f":"'Atividade 9'!FG58","v":0},{"$f":"'Atividade 9'!FH58","v":0},{"$f":"'Atividade 9'!FI58","v":0},{"$f":"'Atividade 9'!FJ58","v":0},{"$f":"'Atividade 9'!FK58","v":0},{"$f":"'Atividade 9'!FL58","v":0},{"$f":"'Atividade 9'!FM58","v":0},{"$f":"'Atividade 9'!FN58","v":0},0]
[null,"Total Entradas","P",{"$f":"SUMIF($C$27:$C$44,$C45,D$27:D$44)","v":0},{"$f":"SUMIF($C$27:$C$44,$C45,E$27:E$44)","v":0},0,0,0,0,0,0,0,0,0,0,{"$f":"SUMIF($C$5:$C$22,$C45,P$27:P$44)","v":0},null,{"$f":"SUMIF($C$5:$C$22,$C45,R$5:R$22)","v":0},0,0,0,0,0,0,0,0,0,0,0,0,null,{"$f":"SUMIF($C$5:$C$22,$C45,AF$5:AF$22)","v":0},0,0,0,0,0,0,0,0,0,0,0,0,null,{"$f":"SUMIF($C$5:$C$22,$C45,AT$5:AT$22)","v":0},0,0,0,0,0,0,0,0,0,0,0,0,null,{"$f":"SUMIF($C$5:$C$22,$C45,BH$5:BH$22)","v":0},0,0,0,0,0,0,0,0,0,0,0,0,null,{"$f":"SUMIF($C$5:$C$22,$C45,BV$5:BV$22)","v":0},0,0,0,0,0,0,0,0,0,0,0,0,null,{"$f":"SUMIF($C$5:$C$22,$C45,CJ$5:CJ$22)","v":0},0,0,0,0,0,0,0,0,0,0,0,0,null,{"$f":"SUMIF($C$5:$C$22,$C45,CX$5:CX$22)","v":0},0,0,0,0,0,0,0,0,0,0,0,0,null,{"$f":"SUMIF($C$5:$C$22,$C45,DL$5:DL$22)","v":0},0,0,0,0,0,0,0,0,0,0,0,0,null,{"$f":"SUMIF($C$5:$C$22,$C45,DZ$5:DZ$22)","v":0},0,0,0,0,0,0,0,0,0,0,0,0,null,{"$f":"SUMIF($C$5:$C$22,$C45,EN$5:EN$22)","v":0},0,0,0,0,0,0,0,0,0,0,0,0,null,{"$f":"SUMIF($C$5:$C$22,$C45,FB$5:FB$22)","v":0},0,0,0,0,0,0,0,0,0,0,0,0]
[null,null,"R",{"$f":"SUMIF($C$27:$C$44,$C46,D$27:D$44)","v":0},0,0,0,0,0,0,0,0,0,0,0,{"$f":"SUMIF($C$5:$C$22,$C46,P$27:P$44)","v":0},null,0,0,0,0,0,0,0,0,0,0,0,0,0,null,0,0,0,0,0,0,0,0,0,0,0,0,0,null,0,0,0,0,0,0,0,0,0,0,0,0,0,null,0,0,0,0,0,0,0,0,0,0,0,0,0,null,0,0,0,0,0,0,0,0,0,0,0,0,0,null,0,0,0,0,0,0,0,0,0,0,0,0,0,null,0,0,0,0,0,0,0,0,0,0,0,0,0,null,0,0,0,0,0,0,0,0,0,0,0,0,0,null,0,0,0,0,0,0,0,0,0,0,0,0,0,null,0,0,0,0,0,0,0,0,0,0,0,0,0,null,0,0,0,0,0,0,0,0,0,0,0,0,0]
[]
["Saldo de Exercícios Anteriores",null,null,{"$f":"'Atividade 1'!E60+'Atividade 2'!E60+'Atividade 3'!E60+'Atividade 4'!E60+'Atividade 5'!E60+'Atividade 6'!E60+'Atividade 7'!E60+'Atividade 8'!E60+'Atividade 9'!E60+Pessoal!E60+Gerais!E60","v":0}]
["Saldo de Caixa Mensal",null,"P",{"$f":"D45-D23","v":0},0,0,0,0,0,0,0,0,0,0,0,0,null,{"$f":"R45-R23","v":0},0,0,0,0,0,0,0,0,0,0,0,0,null,{"$f":"AF45-AF23","v":0},0,0,0,0,0,0,0,0,0,0,0,0,null,{"$f":"AT45-AT23","v":0},0,0,0,0,0,0,0,0,0,0,0,0,null,{"$f":"BH45-BH23","v":0},0,0,0,0,0,0,0,0,0,0,0,0,null,{"$f":"BV45-BV23","v":0},0,0,0,0,0,0,0,0,0,0,0,0,null,{"$f":"CJ45-CJ23","v":0},0,0,0,0,0,0,0,0,0,0,0,0,null,{"$f":"CX45-CX23","v":0},0,0,0,0,0,0,0,0,0,0,0,0,null,{"$f":"DL45-DL23","v":0},0,0,0,0,0,0,0,0,0,0,0,0,null,{"$f":"DZ45-DZ23","v":0},0,0,0,0,0,0,0,0,0,0,0,0,null,{"$f":"EN45-EN23","v":0},0,0,0,0,0,0,0,0,0,0,0,0,null,{"$f":"FB45-FB23","v":0},0,0,0,0,0,0,0,0,0,0,0,0]
[null,null,"R",{"$f":"D46-D24","v":0},0,0,0,0,0,0,0,0,0,0,0,0,null,{"$f":"R46-R24","v":0},0,0,0,0,0,0,0,0,0,0,0,0,null,{"$f":"AF46-AF24","v":0},0,0,0,0,0,0,0,0,0,0,0,0,null,{"$f":"AT46-AT24","v":0},0,0,0,0,0,0,0,0,0,0,0,0,null,{"$f":"BH46-BH24","v":0},0,0,0,0,0,0,0,0,0,0,0,0,null,{"$f":"BV46-BV24","v":0},0,0,0,0,0,0,0,0,0,0,0,0,null,{"$f":"CJ46-CJ24","v":0},0,0,0,0,0,0,0,0,0,0,0,0,null,{"$f":"CX46-CX24","v":0},0,0,0,0,0,0,0,0,0,0,0,0,null,{"$f":"DL46-DL24","v":0},0,0,0,0,0,0,0,0,0,0,0,0,null,{"$f":"DZ46-DZ24","v":0},0,0,0,0,0,0,0,0,0,0,0,0,null,{"$f":"EN46-EN24","v":0},0,0,0,0,0,0,0,0,0,0,0,0,null,{"$f":"FB46-FB24","v":0},0,0,0,0,0,0,0,0,0,0,0,0]
["Caixa Acumulado",null,"P",{"$f":"D49","v":0},{"$f":"E49+D51","v":0},0,0,0,0,0,0,0,0,0,0,null,null,{"$f":"R49+O51","v":0},{"$f":"S49+R51","v":0},0,0,0,0,0,0,0,0,0,0,null,null,{"$f":"AF49+AC51","v":0},{"$f":"AG49+AF51","v":0},0,0,0,0,0,0,0,0,0,0,null,null,{"$f":"AT49+AQ51","v":0},{"$f":"AU49+AT51","v":0},0,0,0,0,0,0,0,0,0,0,null,null,{"$f":"BH49+BE51","v":0},{"$f":"BI49+BH51","v":0},0,0,0,0,0,0,0,0,0,0,null,null,{"$f":"BV49+BS51","v":0},{"$f":"BW49+BV51","v":0},0,0,0,0,0,0,0,0,0,0,null,null,{"$f":"CJ49+CG51","v":0},{"$f":"CK49+CJ51","v":0},0,0,0,0,0,0,0,0,0,0,null,null,{"$f":"CX49+CU51","v":0},{"$f":"CY49+CX51","v":0},0,0,0,0,0,0,0,0,0,0,null,null,{"$f":"DL49+DI51","v":0},{"$f":"DM49+DL51","v":0},0,0,0,0,0,0,0,0,0,0,null,null,{"$f":"DZ49+DW51","v":0},{"$f":"EA49+DZ51","v":0},0,0,0,0,0,0,0,0,0,0,null,null,{"$f":"EN49+EK51","v":0},{"$f":"EO49+EN51","v":0},0,0,0,0,0,0,0,0,0,0,null,null,{"$f":"FB49+EY51","v":0},{"$f":"FC49+FB51","v":0},0,0,0,0,0,0,0,0,0,0]
[null,null,"R",{"$f":"D48+D50","v":0},{"$f":"D52+E50","v":0},0,0,0,0,0,0,0,0,0,0,null,null,{"$f":"R50+O52","v":0},{"$f":"S50+R52","v":0},0,0,0,0,0,0,0,0,0,0,null,null,{"$f":"AF50+AC52","v":0},{"$f":"AG50+AF52","v":0},0,0,0,0,0,0,0,0,0,0,null,null,{"$f":"AT50+AQ52","v":0},{"$f":"AU50+AT52","v":0},0,0,0,0,0,0,0,0,0,0,null,null,{"$f":"BH50+BE52","v":0},{"$f":"BI50+BH52","v":0},0,0,0,0,0,0,0,0,0,0,null,null,{"$f":"BV50+BS52","v":0},{"$f":"BW50+BV52","v":0},0,0,0,0,0,0,0,0,0,0,null,null,{"$f":"CJ50+CG52","v":0},{"$f":"CK50+CJ52","v":0},0,0,0,0,0,0,0,0,0,0,null,null,{"$f":"CX50+CU52","v":0},{"$f":"CY50+CX52","v":0},0,0,0,0,0,0,0,0,0,0,null,null,{"$f":"DL50+DI52","v":0},{"$f":"DM50+DL52","v":0},0,0,0,0,0,0,0,0,0,0,null,null,{"$f":"DZ50+DW52","v":0},{"$f":"EA50+DZ52","v":0},0,0,0,0,0,0,0,0,0,0,null,null,{"$f":"EN50+EK52","v":0},{"$f":"EO50+EN52","v":0},0,0,0,0,0,0,0,0,0,0,null,null,{"$f":"FB50+EY52","v":0},{"$f":"FC50+FB52","v":0},0,0,0,0,0,0,0,0,0,0]
[]
["Pessoais","Saídas","P",{"$f":"Pessoal!E45","v":0},{"$f":"Pessoal!F45","v":0},{"$f":"Pessoal!G45","v":0},{"$f":"Pessoal!H45","v":0},{"$f":"Pessoal!I45","v":0},{"$f":"Pessoal!J45","v":0},{"$f":"Pessoal!K45","v":0},{"$f":"Pessoal!L45","v":0},{"$f":"Pessoal!M45","v":0},{"$f":"Pessoal!N45","v":0},{"$f":"Pessoal!O45","v":0},{"$f":"Pessoal!P45","v":0},{"$f":"SUM(D54:O54)","v":0},null,{"$f":"Pessoal!S45","v":0},{"$f":"Pessoal!T45","v":0},{"$f":"Pessoal!U45","v":0},{"$f":"Pessoal!V45","v":0},{"$f":"Pessoal!W45","v":0},{"$f":"Pessoal!X45","v":0},{"$f":"Pessoal!Y45","v":0},{"$f":"Pessoal!Z45","v":0},{"$f":"Pessoal!AA45","v":0},{"$f":"Pessoal!AB45","v":0},{"$f":"Pessoal!AC45","v":0},{"$f":"Pessoal!AD45","v":0},{"$f":"SUM(R54:AC54)","v":0},null,{"$f":"Pessoal!AG45","v":0},{"$f":"Pessoal!AH45","v":0},{"$f":"Pessoal!AI45","v":0},{"$f":"Pessoal!AJ45","v":0},{"$f":"Pessoal!AK45","v":0},{"$f":"Pessoal!AL45","v":0},{"$f":"Pessoal!AM45","v":0},{"$f":"Pessoal!AN45","v":0},{"$f":"Pessoal!AO45","v":0},{"$f":"Pessoal!AP45","v":0},{"$f":"Pessoal!AQ45","v":0},{"$f":"Pessoal!AR45","v":0},{"$f":"SUM(AF54:AQ54)","v":0},null,{"$f":"Pessoal!AU45","v":0},{"$f":"Pessoal!AV45","v":0},{"$f":"Pessoal!AW45","v":0},{"$f":"Pessoal!AX45","v":0},{"$f":"Pessoal!AY45","v":0},{"$f":"Pessoal!AZ45","v":0},{"$f":"Pessoal!BA45","v":0},{"$f":"Pessoal!BB45","v":0},{"$f":"Pessoal!BC45","v":0},{"$f":"Pessoal!BD45","v":0},{"$f":"Pessoal!BE45","v":0},{"$f":"Pessoal!BF45","v":0},{"$f":"SUM(AT54:BE54)","v":0},null,{"$f":"Pessoal!BI45","v":0},{"$f":"Pessoal!BJ45","v":0},{"$f":"Pessoal!BK45","v":0},{"$f":"Pessoal!BL45","v":0},{"$f":"Pessoal!BM45","v":0},{"$f":"Pessoal!BN45","v":0},{"$f":"Pessoal!BO45","v":0},{"$f":"Pessoal!BP45","v":0},{"$f":"Pessoal!BQ45","v":0},{"$f":"Pessoal!BR45","v":0},{"$f":"Pessoal!BS45","v":0},{"$f":"Pessoal!BT45","v":0},{"$f":"SUM(BH54:BS54)","v":0},null,{"$f":"Pessoal!BW45","v":0},{"$f":"Pessoal!BX45","v":0},{"$f":"Pessoal!BY45","v":0},{"$f":"Pessoal!BZ45","v":0},{"$f":"Pessoal!CA45","v":0},{"$f":"Pessoal!CB45","v":0},{"$f":"Pessoal!CC45","v":0},{"$f":"Pessoal!CD45","v":0},{"$f":"Pessoal!CE45","v":0},{"$f":"Pessoal!CF45","v":0},{"$f":"Pessoal!CG45","v":0},{"$f":"Pessoal!CH45","v":0},{"$f":"SUM(BV54:CG54)","v":0},null,{"$f":"Pessoal!CK45","v":0},{"$f":"Pessoal!CL45","v":0},{"$f":"Pessoal!CM45","v":0},{"$f":"Pessoal!CN45","v":0},{"$f":"Pessoal!CO45","v":0},{"$f":"Pessoal!CP45","v":0},{"$f":"Pessoal!CQ45","v":0},{"$f":"Pessoal!CR45","v":0},{"$f":"Pessoal!CS45","v":0},{"$f":"Pessoal!CT45","v":0},{"$f":"Pessoal!CU45","v":0},{"$f":"Pessoal!CV45","v":0},{"$f":"SUM(CJ54:CU54)","v":0},null,{"$f":"Pessoal!CY45","v":0},{"$f":"Pessoal!CZ45","v":0},{"$f":"Pessoal!DA45","v":0},{"$f":"Pessoal!DB45","v":0},{"$f":"Pessoal!DC45","v":0},{"$f":"Pessoal!DD45","v":0},{"$f":"Pessoal!DE45","v":0},{"$f":"Pessoal!DF45","v":0},{"$f":"Pessoal!DG45","v":0},{"$f":"Pessoal!DH45","v":0},{"$f":"Pessoal!DI45","v":0},{"$f":"Pessoal!DJ45","v":0},{"$f":"SUM(CX54:DI54)","v":0},null,{"$f":"Pessoal!DM45","v":0},{"$f":"Pessoal!DN45","v":0},{"$f":"Pessoal!DO45","v":0},{"$f":"Pessoal!DP45","v":0},{"$f":"Pessoal!DQ45","v":0},{"$f":"Pessoal!DR45","v":0},{"$f":"Pessoal!DS45","v":0},{"$f":"Pessoal!DT45","v":0},{"$f":"Pessoal!DU45","v":0},{"$f":"Pessoal!DV45","v":0},{"$f":"Pessoal!DW45","v":0},{"$f":"Pessoal!DX45","v":0},{"$f":"SUM(DL54:DW54)","v":0},null,{"$f":"Pessoal!EA45","v":0},{"$f":"Pessoal!EB45","v":0},{"$f":"Pessoal!EC45","v":0},{"$f":"Pessoal!ED45","v":0},{"$f":"Pessoal!EE45","v":0},{"$f":"Pessoal!EF45","v":0},{"$f":"Pessoal!EG45","v":0},{"$f":"Pessoal!EH45","v":0},{"$f":"Pessoal!EI45","v":0},{"$f":"Pessoal!EJ45","v":0},{"$f":"Pessoal!EK45","v":0},{"$f":"Pessoal!EL45","v":0},{"$f":"SUM(DZ54:EK54)","v":0},null,{"$f":"Pessoal!EO45","v":0},{"$f":"Pessoal!EP45","v":0},{"$f":"Pessoal!EQ45","v":0},{"$f":"Pessoal!ER45","v":0},{"$f":"Pessoal!ES45","v":0},{"$f":"Pessoal!ET45","v":0},{"$f":"Pessoal!EU45","v":0},{"$f":"Pessoal!EV45","v":0},{"$f":"Pessoal!EW45","v":0},{"$f":"Pessoal!EX45","v":0},{"$f":"Pessoal!EY45","v":0},{"$f":"Pessoal!EZ45","v":0},{"$f":"SUM(EN54:EY54)","v":0},null,{"$f":"Pessoal!FC45","v":0},{"$f":"Pessoal!FD45","v":0},{"$f":"Pessoal!FE45","v":0},{"$f":"Pessoal!FF45","v":0},{"$f":"Pessoal!FG45","v":0},{"$f":"Pessoal!FH45","v":0},{"$f":"Pessoal!FI45","v":0},{"$f":"Pessoal!FJ45","v":0},{"$f":"Pessoal!FK45","v":0},{"$f":"Pessoal!FL45","v":0},{"$f":"Pessoal!FM45","v":0},{"$f":"Pessoal!FN45","v":0},{"$f":"SUM(FB54:FM54)","v":0}]
[null,null,"R",{"$f":"Pessoal!E46","v":0},{"$f":"Pessoal!F46","v":0},{"$f":"Pessoal!G46","v":0},{"$f":"Pessoal!H46","v":0},{"$f":"Pessoal!I46","v":0},{"$f":"Pessoal!J46","v":0},{"$f":"Pessoal!K46","v":0},{"$f":"Pessoal!L46","v":0},{"$f":"Pessoal!M46","v":0},{"$f":"Pessoal!N46","v":0},{"$f":"Pessoal!O46","v":0},{"$f":"Pessoal!P46","v":0},{"$f":"SUM(D55:O55)","v":0},null,{"$f":"Pessoal!S46","v":0},{"$f":"Pessoal!T46","v":0},{"$f":"Pessoal!U46","v":0},{"$f":"Pessoal!V46","v":0},{"$f":"Pessoal!W46","v":0},{"$f":"Pessoal!X46","v":0},{"$f":"Pessoal!Y46","v":0},{"$f":"Pessoal!Z46","v":0},{"$f":"Pessoal!AA46","v":0},{"$f":"Pessoal!AB46","v":0},{"$f":"Pessoal!AC46","v":0},{"$f":"Pessoal!AD46","v":0},{"$f":"SUM(R55:AC55)","v":0},null,{"$f":"Pessoal!AG46","v":0},{"$f":"Pessoal!AH46","v":0},{"$f":"Pessoal!AI46","v":0},{"$f":"Pessoal!AJ46","v":0},{"$f":"Pessoal!AK46","v":0},{"$f":"Pessoal!AL46","v":0},{"$f":"Pessoal!AM46","v":0},{"$f":"Pessoal!AN46","v":0},{"$f":"Pessoal!AO46","v":0},{"$f":"Pessoal!AP46","v":0},{"$f":"Pessoal!AQ46","v":0},{"$f":"Pessoal!AR46","v":0},{"$f":"SUM(AF55:AQ55)","v":0},null,{"$f":"Pessoal!AU46","v":0},{"$f":"Pessoal!AV46","v":0},{"$f":"Pessoal!AW46","v":0},{"$f":"Pessoal!AX46","v":0},{"$f":"Pessoal!AY46","v":0},{"$f":"Pessoal!AZ46","v":0},{"$f":"Pessoal!BA46","v":0},{"$f":"Pessoal!BB46","v":0},{"$f":"Pessoal!BC46","v":0},{"$f":"Pessoal!BD46","v":0},{"$f":"Pessoal!BE46","v":0},{"$f":"Pessoal!BF46","v":0},{"$f":"SUM(AT55:BE55)","v":0},null,{"$f":"Pessoal!BI46","v":0},{"$f":"Pessoal!BJ46","v":0},{"$f":"Pessoal!BK46","v":0},{"$f":"Pessoal!BL46","v":0},{"$f":"Pessoal!BM46","v":0},{"$f":"Pessoal!BN46","v":0},{"$f":"Pessoal!BO46","v":0},{"$f":"Pessoal!BP46","v":0},{"$f":"Pessoal!BQ46","v":0},{"$f":"Pessoal!BR46","v":0},{"$f":"Pessoal!BS46","v":0},{"$f":"Pessoal!BT46","v":0},{"$f":"SUM(BH55:BS55)","v":0},null,{"$f":"Pessoal!BW46","v":0},{"$f":"Pessoal!BX46","v":0},{"$f":"Pessoal!BY46","v":0},{"$f":"Pessoal!BZ46","v":0},{"$f":"Pessoal!CA46","v":0},{"$f":"Pessoal!CB46","v":0},{"$f":"Pessoal!CC46","v":0},{"$f":"Pessoal!CD46","v":0},{"$f":"Pessoal!CE46","v":0},{"$f":"Pessoal!CF46","v":0},{"$f":"Pessoal!CG46","v":0},{"$f":"Pessoal!CH46","v":0},{"$f":"SUM(BV55:CG55)","v":0},null,{"$f":"Pessoal!CK46","v":0},{"$f":"Pessoal!CL46","v":0},{"$f":"Pessoal!CM46","v":0},{"$f":"Pessoal!CN46","v":0},{"$f":"Pessoal!CO46","v":0},{"$f":"Pessoal!CP46","v":0},{"$f":"Pessoal!CQ46","v":0},{"$f":"Pessoal!CR46","v":0},{"$f":"Pessoal!CS46","v":0},{"$f":"Pessoal!CT46","v":0},{"$f":"Pessoal!CU46","v":0},{"$f":"Pessoal!CV46","v":0},{"$f":"SUM(CJ55:CU55)","v":0},null,{"$f":"Pessoal!CY46","v":0},{"$f":"Pessoal!CZ46","v":0},{"$f":"Pessoal!DA46","v":0},{"$f":"Pessoal!DB46","v":0},{"$f":"Pessoal!DC46","v":0},{"$f":"Pessoal!DD46","v":0},{"$f":"Pessoal!DE46","v":0},{"$f":"Pessoal!DF46","v":0},{"$f":"Pessoal!DG46","v":0},{"$f":"Pessoal!DH46","v":0},{"$f":"Pessoal!DI46","v":0},{"$f":"Pessoal!DJ46","v":0},{"$f":"SUM(CX55:DI55)","v":0},null,{"$f":"Pessoal!DM46","v":0},{"$f":"Pessoal!DN46","v":0},{"$f":"Pessoal!DO46","v":0},{"$f":"Pessoal!DP46","v":0},{"$f":"Pessoal!DQ46","v":0},{"$f":"Pessoal!DR46","v":0},{"$f":"Pessoal!DS46","v":0},{"$f":"Pessoal!DT46","v":0},{"$f":"Pessoal!DU46","v":0},{"$f":"Pessoal!DV46","v":0},{"$f":"Pessoal!DW46","v":0},{"$f":"Pessoal!DX46","v":0},{"$f":"SUM(DL55:DW55)","v":0},null,{"$f":"Pessoal!EA46","v":0},{"$f":"Pessoal!EB46","v":0},{"$f":"Pessoal!EC46","v":0},{"$f":"Pessoal!ED46","v":0},{"$f":"Pessoal!EE46","v":0},{"$f":"Pessoal!EF46","v":0},{"$f":"Pessoal!EG46","v":0},{"$f":"Pessoal!EH46","v":0},{"$f":"Pessoal!EI46","v":0},{"$f":"Pessoal!EJ46","v":0},{"$f":"Pessoal!EK46","v":0},{"$f":"Pessoal!EL46","v":0},{"$f":"SUM(DZ55:EK55)","v":0},null,{"$f":"Pessoal!EO46","v":0},{"$f":"Pessoal!EP46","v":0},{"$f":"Pessoal!EQ46","v":0},{"$f":"Pessoal!ER46","v":0},{"$f":"Pessoal!ES46","v":0},{"$f":"Pessoal!ET46","v":0},{"$f":"Pessoal!EU46","v":0},{"$f":"Pessoal!EV46","v":0},{"$f":"Pessoal!EW46","v":0},{"$f":"Pessoal!EX46","v":0},{"$f":"Pessoal!EY46","v":0},{"$f":"Pessoal!EZ46","v":0},{"$f":"SUM(EN55:EY55)","v":0},null,{"$f":"Pessoal!FC46","v":0},{"$f":"Pessoal!FD46","v":0},{"$f":"Pessoal!FE46","v":0},{"$f":"Pessoal!FF46","v":0},{"$f":"Pessoal!FG46","v":0},{"$f":"Pessoal!FH46","v":0},{"$f":"Pessoal!FI46","v":0},{"$f":"Pessoal!FJ46","v":0},{"$f":"Pessoal!FK46","v":0},{"$f":"Pessoal!FL46","v":0},{"$f":"Pessoal!FM46","v":0},{"$f":"Pessoal!FN46","v":0},{"$f":"SUM(FB55:FM55)","v":0}]
[null,"Entradas","P",{"$f":"Pessoal!E57","v":0},{"$f":"Pessoal!F57","v":0},{"$f":"Pessoal!G57","v":0},{"$f":"Pessoal!H57","v":0},{"$f":"Pessoal!I57","v":0},{"$f":"Pessoal!J57","v":0},{"$f":"Pessoal!K57","v":0},{"$f":"Pessoal!L57","v":0},{"$f":"Pessoal!M57","v":0},{"$f":"Pessoal!N57","v":0},{"$f":"Pessoal!O57","v":0},{"$f":"Pessoal!P57","v":0},{"$f":"SUM(D56:O56)","v":0},null,{"$f":"Pessoal!S57","v":0},{"$f":"Pessoal!T57","v":0},{"$f":"Pessoal!U57","v":0},{"$f":"Pessoal!V57","v":0},{"$f":"Pessoal!W57","v":0},{"$f":"Pessoal!X57","v":0},{"$f":"Pessoal!Y57","v":0},{"$f":"Pessoal!Z57","v":0},{"$f":"Pessoal!AA57","v":0},{"$f":"Pessoal!AB57","v":0},{"$f":"Pessoal!AC57","v":0},{"$f":"Pessoal!AD57","v":0},{"$f":"SUM(R56:AC56)","v":0},null,{"$f":"Pessoal!AG57","v":0},{"$f":"Pessoal!AH57","v":0},{"$f":"Pessoal!AI57","v":0},{"$f":"Pessoal!AJ57","v":0},{"$f":"Pessoal!AK57","v":0},{"$f":"Pessoal!AL57","v":0},{"$f":"Pessoal!AM57","v":0},{"$f":"Pessoal!AN57","v":0},{"$f":"Pessoal!AO57","v":0},{"$f":"Pessoal!AP57","v":0},{"$f":"Pessoal!AQ57","v":0},{"$f":"Pessoal!AR57","v":0},{"$f":"SUM(AF56:AQ56)","v":0},null,{"$f":"Pessoal!AU57","v":0},{"$f":"Pessoal!AV57","v":0},{"$f":"Pessoal!AW57","v":0},{"$f":"Pessoal!AX57","v":0},{"$f":"Pessoal!AY57","v":0},{"$f":"Pessoal!AZ57","v":0},{"$f":"Pessoal!BA57","v":0},{"$f":"Pessoal!BB57","v":0},{"$f":"Pessoal!BC57","v":0},{"$f":"Pessoal!BD57","v":0},{"$f":"Pessoal!BE57","v":0},{"$f":"Pessoal!BF57","v":0},{"$f":"SUM(AT56:BE56)","v":0},null,{"$f":"Pessoal!BI57","v":0},{"$f":"Pessoal!BJ57","v":0},{"$f":"Pessoal!BK57","v":0},{"$f":"Pessoal!BL57","v":0},{"$f":"Pessoal!BM57","v":0},{"$f":"Pessoal!BN57","v":0},{"$f":"Pessoal!BO57","v":0},{"$f":"Pessoal!BP57","v":0},{"$f":"Pessoal!BQ57","v":0},{"$f":"Pessoal!BR57","v":0},{"$f":"Pessoal!BS57","v":0},{"$f":"Pessoal!BT57","v":0},{"$f":"SUM(BH56:BS56)","v":0},null,{"$f":"Pessoal!BW57","v":0},{"$f":"Pessoal!BX57","v":0},{"$f":"Pessoal!BY57","v":0},{"$f":"Pessoal!BZ57","v":0},{"$f":"Pessoal!CA57","v":0},{"$f":"Pessoal!CB57","v":0},{"$f":"Pessoal!CC57","v":0},{"$f":"Pessoal!CD57","v":0},{"$f":"Pessoal!CE57","v":0},{"$f":"Pessoal!CF57","v":0},{"$f":"Pessoal!CG57","v":0},{"$f":"Pessoal!CH57","v":0},{"$f":"SUM(BV56:CG56)","v":0},null,{"$f":"Pessoal!CK57","v":0},{"$f":"Pessoal!CL57","v":0},{"$f":"Pessoal!CM57","v":0},{"$f":"Pessoal!CN57","v":0},{"$f":"Pessoal!CO57","v":0},{"$f":"Pessoal!CP57","v":0},{"$f":"Pessoal!CQ57","v":0},{"$f":"Pessoal!CR57","v":0},{"$f":"Pessoal!CS57","v":0},{"$f":"Pessoal!CT57","v":0},{"$f":"Pessoal!CU57","v":0},{"$f":"Pessoal!CV57","v":0},{"$f":"SUM(CJ56:CU56)","v":0},null,{"$f":"Pessoal!CY57","v":0},{"$f":"Pessoal!CZ57","v":0},{"$f":"Pessoal!DA57","v":0},{"$f":"Pessoal!DB57","v":0},{"$f":"Pessoal!DC57","v":0},{"$f":"Pessoal!DD57","v":0},{"$f":"Pessoal!DE57","v":0},{"$f":"Pessoal!DF57","v":0},{"$f":"Pessoal!DG57","v":0},{"$f":"Pessoal!DH57","v":0},{"$f":"Pessoal!DI57","v":0},{"$f":"Pessoal!DJ57","v":0},{"$f":"SUM(CX56:DI56)","v":0},null,{"$f":"Pessoal!DM57","v":0},{"$f":"Pessoal!DN57","v":0},{"$f":"Pessoal!DO57","v":0},{"$f":"Pessoal!DP57","v":0},{"$f":"Pessoal!DQ57","v":0},{"$f":"Pessoal!DR57","v":0},{"$f":"Pessoal!DS57","v":0},{"$f":"Pessoal!DT57","v":0},{"$f":"Pessoal!DU57","v":0},{"$f":"Pessoal!DV57","v":0},{"$f":"Pessoal!DW57","v":0},{"$f":"Pessoal!DX57","v":0},{"$f":"SUM(DL56:DW56)","v":0},null,{"$f":"Pessoal!EA57","v":0},{"$f":"Pessoal!EB57","v":0},{"$f":"Pessoal!EC57","v":0},{"$f":"Pessoal!ED57","v":0},{"$f":"Pessoal!EE57","v":0},{"$f":"Pessoal!EF57","v":0},{"$f":"Pessoal!EG57","v":0},{"$f":"Pessoal!EH57","v":0},{"$f":"Pessoal!EI57","v":0},{"$f":"Pessoal!EJ57","v":0},{"$f":"Pessoal!EK57","v":0},{"$f":"Pessoal!EL57","v":0},{"$f":"SUM(DZ56:EK56)","v":0},null,{"$f":"Pessoal!EO57","v":0},{"$f":"Pessoal!EP57","v":0},{"$f":"Pessoal!EQ57","v":0},{"$f":"Pessoal!ER57","v":0},{"$f":"Pessoal!ES57","v":0},{"$f":"Pessoal!ET57","v":0},{"$f":"Pessoal!EU57","v":0},{"$f":"Pessoal!EV57","v":0},{"$f":"Pessoal!EW57","v":0},{"$f":"Pessoal!EX57","v":0},{"$f":"Pessoal!EY57","v":0},{"$f":"Pessoal!EZ57","v":0},{"$f":"SUM(EN56:EY56)","v":0},null,{"$f":"Pessoal!FC57","v":0},{"$f":"Pessoal!FD57","v":0},{"$f":"Pessoal!FE57","v":0},{"$f":"Pessoal!FF57","v":0},{"$f":"Pessoal!FG57","v":0},{"$f":"Pessoal!FH57","v":0},{"$f":"Pessoal!FI57","v":0},{"$f":"Pessoal!FJ57","v":0},{"$f":"Pessoal!FK57","v":0},{"$f":"Pessoal!FL57","v":0},{"$f":"Pessoal!FM57","v":0},{"$f":"Pessoal!FN57","v":0},{"$f":"SUM(FB56:FM56)","v":0}]
[null,null,"R",{"$f":"Pessoal!E58","v":0},{"$f":"Pessoal!F58","v":0},{"$f":"Pessoal!G58","v":0},{"$f":"Pessoal!H58","v":0},{"$f":"Pessoal!I58","v":0},{"$f":"Pessoal!J58","v":0},{"$f":"Pessoal!K58","v":0},{"$f":"Pessoal!L58","v":0},{"$f":"Pessoal!M58","v":0},{"$f":"Pessoal!N58","v":0},{"$f":"Pessoal!O58","v":0},{"$f":"Pessoal!P58","v":0},{"$f":"SUM(D57:O57)","v":0},null,{"$f":"Pessoal!S58","v":0},{"$f":"Pessoal!T58","v":0},{"$f":"Pessoal!U58","v":0},{"$f":"Pessoal!V58","v":0},{"$f":"Pessoal!W58","v":0},{"$f":"Pessoal!X58","v":0},{"$f":"Pessoal!Y58","v":0},{"$f":"Pessoal!Z58","v":0},{"$f":"Pessoal!AA58","v":0},{"$f":"Pessoal!AB58","v":0},{"$f":"Pessoal!AC58","v":0},{"$f":"Pessoal!AD58","v":0},{"$f":"SUM(R57:AC57)","v":0},null,{"$f":"Pessoal!AG58","v":0},{"$f":"Pessoal!AH58","v":0},{"$f":"Pessoal!AI58","v":0},{"$f":"Pessoal!AJ58","v":0},{"$f":"Pessoal!AK58","v":0},{"$f":"Pessoal!AL58","v":0},{"$f":"Pessoal!AM58","v":0},{"$f":"Pessoal!AN58","v":0},{"$f":"Pessoal!AO58","v":0},{"$f":"Pessoal!AP58","v":0},{"$f":"Pessoal!AQ58","v":0},{"$f":"Pessoal!AR58","v":0},{"$f":"SUM(AF57:AQ57)","v":0},null,{"$f":"Pessoal!AU58","v":0},{"$f":"Pessoal!AV58","v":0},{"$f":"Pessoal!AW58","v":0},{"$f":"Pessoal!AX58","v":0},{"$f":"Pessoal!AY58","v":0},{"$f":"Pessoal!AZ58","v":0},{"$f":"Pessoal!BA58","v":0},{"$f":"Pessoal!BB58","v":0},{"$f":"Pessoal!BC58","v":0},{"$f":"Pessoal!BD58","v":0},{"$f":"Pessoal!BE58","v":0},{"$f":"Pessoal!BF58","v":0},{"$f":"SUM(AT57:BE57)","v":0},null,{"$f":"Pessoal!BI58","v":0},{"$f":"Pessoal!BJ58","v":0},{"$f":"Pessoal!BK58","v":0},{"$f":"Pessoal!BL58","v":0},{"$f":"Pessoal!BM58","v":0},{"$f":"Pessoal!BN58","v":0},{"$f":"Pessoal!BO58","v":0},{"$f":"Pessoal!BP58","v":0},{"$f":"Pessoal!BQ58","v":0},{"$f":"Pessoal!BR58","v":0},{"$f":"Pessoal!BS58","v":0},{"$f":"Pessoal!BT58","v":0},{"$f":"SUM(BH57:BS57)","v":0},null,{"$f":"Pessoal!BW58","v":0},{"$f":"Pessoal!BX58","v":0},{"$f":"Pessoal!BY58","v":0},{"$f":"Pessoal!BZ58","v":0},{"$f":"Pessoal!CA58","v":0},{"$f":"Pessoal!CB58","v":0},{"$f":"Pessoal!CC58","v":0},{"$f":"Pessoal!CD58","v":0},{"$f":"Pessoal!CE58","v":0},{"$f":"Pessoal!CF58","v":0},{"$f":"Pessoal!CG58","v":0},{"$f":"Pessoal!CH58","v":0},{"$f":"SUM(BV57:CG57)","v":0},null,{"$f":"Pessoal!CK58","v":0},{"$f":"Pessoal!CL58","v":0},{"$f":"Pessoal!CM58","v":0},{"$f":"Pessoal!CN58","v":0},{"$f":"Pessoal!CO58","v":0},{"$f":"Pessoal!CP58","v":0},{"$f":"Pessoal!CQ58","v":0},{"$f":"Pessoal!CR58","v":0},{"$f":"Pessoal!CS58","v":0},{"$f":"Pessoal!CT58","v":0},{"$f":"Pessoal!CU58","v":0},{"$f":"Pessoal!CV58","v":0},{"$f":"SUM(CJ57:CU57)","v":0},null,{"$f":"Pessoal!CY58","v":0},{"$f":"Pessoal!CZ58","v":0},{"$f":"Pessoal!DA58","v":0},{"$f":"Pessoal!DB58","v":0},{"$f":"Pessoal!DC58","v":0},{"$f":"Pessoal!DD58","v":0},{"$f":"Pessoal!DE58","v":0},{"$f":"Pessoal!DF58","v":0},{"$f":"Pessoal!DG58","v":0},{"$f":"Pessoal!DH58","v":0},{"$f":"Pessoal!DI58","v":0},{"$f":"Pessoal!DJ58","v":0},{"$f":"SUM(CX57:DI57)","v":0},null,{"$f":"Pessoal!DM58","v":0},{"$f":"Pessoal!DN58","v":0},{"$f":"Pessoal!DO58","v":0},{"$f":"Pessoal!DP58","v":0},{"$f":"Pessoal!DQ58","v":0},{"$f":"Pessoal!DR58","v":0},{"$f":"Pessoal!DS58","v":0},{"$f":"Pessoal!DT58","v":0},{"$f":"Pessoal!DU58","v":0},{"$f":"Pessoal!DV58","v":0},{"$f":"Pessoal!DW58","v":0},{"$f":"Pessoal!DX58","v":0},{"$f":"SUM(DL57:DW57)","v":0},null,{"$f":"Pessoal!EA58","v":0},{"$f":"Pessoal!EB58","v":0},{"$f":"Pessoal!EC58","v":0},{"$f":"Pessoal!ED58","v":0},{"$f":"Pessoal!EE58","v":0},{"$f":"Pessoal!EF58","v":0},{"$f":"Pessoal!EG58","v":0},{"$f":"Pessoal!EH58","v":0},{"$f":"Pessoal!EI58","v":0},{"$f":"Pessoal!EJ58","v":0},{"$f":"Pessoal!EK58","v":0},{"$f":"Pessoal!EL58","v":0},{"$f":"SUM(DZ57:EK57)","v":0},null,{"$f":"Pessoal!EO58","v":0},{"$f":"Pessoal!EP58","v":0},{"$f":"Pessoal!EQ58","v":0},{"$f":"Pessoal!ER58","v":0},{"$f":"Pessoal!ES58","v":0},{"$f":"Pessoal!ET58","v":0},{"$f":"Pessoal!EU58","v":0},{"$f":"Pessoal!EV58","v":0},{"$f":"Pessoal!EW58","v":0},{"$f":"Pessoal!EX58","v":0},{"$f":"Pessoal!EY58","v":0},{"$f":"Pessoal!EZ58","v":0},{"$f":"SUM(EN57:EY57)","v":0},null,{"$f":"Pessoal!FC58","v":0},{"$f":"Pessoal!FD58","v":0},{"$f":"Pessoal!FE58","v":0},{"$f":"Pessoal!FF58","v":0},{"$f":"Pessoal!FG58","v":0},{"$f":"Pessoal!FH58","v":0},{"$f":"Pessoal!FI58","v":0},{"$f":"Pessoal!FJ58","v":0},{"$f":"Pessoal!FK58","v":0},{"$f":"Pessoal!FL58","v":0},{"$f":"Pessoal!FM58","v":0},{"$f":"Pessoal!FN58","v":0},{"$f":"SUM(FB57:FM57)","v":0}]
[null,null,null,null,null,null,null,null,null,null,null,"k"]
["Diversos","Saídas","P",{"$f":"Gerais!E45","v":0},{"$f":"Gerais!F45","v":0},{"$f":"Gerais!G45","v":0},{"$f":"Gerais!H45","v":0},{"$f":"Gerais!I45","v":0},{"$f":"Gerais!J45","v":0},{"$f":"Gerais!K45","v":0},{"$f":"Gerais!L45","v":0},{"$f":"Gerais!M45","v":0},{"$f":"Gerais!N45","v":0},{"$f":"Gerais!O45","v":0},{"$f":"Gerais!P45","v":0},{"$f":"SUM(D59:O59)","v":0},null,{"$f":"Gerais!S45","v":0},{"$f":"Gerais!T45","v":0},{"$f":"Gerais!U45","v":0},{"$f":"Gerais!V45","v":0},{"$f":"Gerais!W45","v":0},{"$f":"Gerais!X45","v":0},{"$f":"Gerais!Y45","v":0},{"$f":"Gerais!Z45","v":0},{"$f":"Gerais!AA45","v":0},{"$f":"Gerais!AB45","v":0},{"$f":"Gerais!AC45","v":0},{"$f":"Gerais!AD45","v":0},{"$f":"SUM(R59:AC59)","v":0},null,{"$f":"Gerais!AG45","v":0},{"$f":"Gerais!AH45","v":0},{"$f":"Gerais!AI45","v":0},{"$f":"Gerais!AJ45","v":0},{"$f":"Gerais!AK45","v":0},{"$f":"Gerais!AL45","v":0},{"$f":"Gerais!AM45","v":0},{"$f":"Gerais!AN45","v":0},{"$f":"Gerais!AO45","v":0},{"$f":"Gerais!AP45","v":0},{"$f":"Gerais!AQ45","v":0},{"$f":"Gerais!AR45","v":0},{"$f":"SUM(AF59:AQ59)","v":0},null,{"$f":"Gerais!AU45","v":0},{"$f":"Gerais!AV45","v":0},{"$f":"Gerais!AW45","v":0},{"$f":"Gerais!AX45","v":0},{"$f":"Gerais!AY45","v":0},{"$f":"Gerais!AZ45","v":0},{"$f":"Gerais!BA45","v":0},{"$f":"Gerais!BB45","v":0},{"$f":"Gerais!BC45","v":0},{"$f":"Gerais!BD45","v":0},{"$f":"Gerais!BE45","v":0},{"$f":"Gerais!BF45","v":0},{"$f":"SUM(AT59:BE59)","v":0},null,{"$f":"Gerais!BI45","v":0},{"$f":"Gerais!BJ45","v":0},{"$f":"Gerais!BK45","v":0},{"$f":"Gerais!BL45","v":0},{"$f":"Gerais!BM45","v":0},{"$f":"Gerais!BN45","v":0},{"$f":"Gerais!BO45","v":0},{"$f":"Gerais!BP45","v":0},{"$f":"Gerais!BQ45","v":0},{"$f":"Gerais!BR45","v":0},{"$f":"Gerais!BS45","v":0},{"$f":"Gerais!BT45","v":0},{"$f":"SUM(BH59:BS59)","v":0},null,{"$f":"Gerais!BW45","v":0},{"$f":"Gerais!BX45","v":0},{"$f":"Gerais!BY45","v":0},{"$f":"Gerais!BZ45","v":0},{"$f":"Gerais!CA45","v":0},{"$f":"Gerais!CB45","v":0},{"$f":"Gerais!CC45","v":0},{"$f":"Gerais!CD45","v":0},{"$f":"Gerais!CE45","v":0},{"$f":"Gerais!CF45","v":0},{"$f":"Gerais!CG45","v":0},{"$f":"Gerais!CH45","v":0},{"$f":"SUM(BV59:CG59)","v":0},null,{"$f":"Gerais!CK45","v":0},{"$f":"Gerais!CL45","v":0},{"$f":"Gerais!CM45","v":0},{"$f":"Gerais!CN45","v":0},{"$f":"Gerais!CO45","v":0},{"$f":"Gerais!CP45","v":0},{"$f":"Gerais!CQ45","v":0},{"$f":"Gerais!CR45","v":0},{"$f":"Gerais!CS45","v":0},{"$f":"Gerais!CT45","v":0},{"$f":"Gerais!CU45","v":0},{"$f":"Gerais!CV45","v":0},{"$f":"SUM(CJ59:CU59)","v":0},null,{"$f":"Gerais!CY45","v":0},{"$f":"Gerais!CZ45","v":0},{"$f":"Gerais!DA45","v":0},{"$f":"Gerais!DB45","v":0},{"$f":"Gerais!DC45","v":0},{"$f":"Gerais!DD45","v":0},{"$f":"Gerais!DE45","v":0},{"$f":"Gerais!DF45","v":0},{"$f":"Gerais!DG45","v":0},{"$f":"Gerais!DH45","v":0},{"$f":"Gerais!DI45","v":0},{"$f":"Gerais!DJ45","v":0},{"$f":"SUM(CX59:DI59)","v":0},null,{"$f":"Gerais!DM45","v":0},{"$f":"Gerais!DN45","v":0},{"$f":"Gerais!DO45","v":0},{"$f":"Gerais!DP45","v":0},{"$f":"Gerais!DQ45","v":0},{"$f":"Gerais!DR45","v":0},{"$f":"Gerais!DS45","v":0},{"$f":"Gerais!DT45","v":0},{"$f":"Gerais!DU45","v":0},{"$f":"Gerais!DV45","v":0},{"$f":"Gerais!DW45","v":0},{"$f":"Gerais!DX45","v":0},{"$f":"SUM(DL59:DW59)","v":0},null,{"$f":"Gerais!EA45","v":0},{"$f":"Gerais!EB45","v":0},{"$f":"Gerais!EC45","v":0},{"$f":"Gerais!ED45","v":0},{"$f":"Gerais!EE45","v":0},{"$f":"Gerais!EF45","v":0},{"$f":"Gerais!EG45","v":0},{"$f":"Gerais!EH45","v":0},{"$f":"Gerais!EI45","v":0},{"$f":"Gerais!EJ45","v":0},{"$f":"Gerais!EK45","v":0},{"$f":"Gerais!EL45","v":0},{"$f":"SUM(DZ59:EK59)","v":0},null,{"$f":"Gerais!EO45","v":0},{"$f":"Gerais!EP45","v":0},{"$f":"Gerais!EQ45","v":0},{"$f":"Gerais!ER45","v":0},{"$f":"Gerais!ES45","v":0},{"$f":"Gerais!ET45","v":0},{"$f":"Gerais!EU45","v":0},{"$f":"Gerais!EV45","v":0},{"$f":"Gerais!EW45","v":0},{"$f":"Gerais!EX45","v":0},{"$f":"Gerais!EY45","v":0},{"$f":"Gerais!EZ45","v":0},{"$f":"SUM(EN59:EY59)","v":0},null,{"$f":"Gerais!FC45","v":0},{"$f":"Gerais!FD45","v":0},{"$f":"Gerais!FE45","v":0},{"$f":"Gerais!FF45","v":0},{"$f":"Gerais!FG45","v":0},{"$f":"Gerais!FH45","v":0},{"$f":"Gerais!FI45","v":0},{"$f":"Gerais!FJ45","v":0},{"$f":"Gerais!FK45","v":0},{"$f":"Gerais!FL45","v":0},{"$f":"Gerais!FM45","v":0},{"$f":"Gerais!FN45","v":0},{"$f":"SUM(FB59:FM59)","v":0}]
[null,null,"R",{"$f":"Gerais!E46","v":0},{"$f":"Gerais!F46","v":0},{"$f":"Gerais!G46","v":0},{"$f":"Gerais!H46","v":0},{"$f":"Gerais!I46","v":0},{"$f":"Gerais!J46","v":0},{"$f":"Gerais!K46","v":0},{"$f":"Gerais!L46","v":0},{"$f":"Gerais!M46","v":0},{"$f":"Gerais!N46","v":0},{"$f":"Gerais!O46","v":0},{"$f":"Gerais!P46","v":0},{"$f":"SUM(D60:O60)","v":0},null,{"$f":"Gerais!S46","v":0},{"$f":"Gerais!T46","v":0},{"$f":"Gerais!U46","v":0},{"$f":"Gerais!V46","v":0},{"$f":"Gerais!W46","v":0},{"$f":"Gerais!X46","v":0},{"$f":"Gerais!Y46","v":0},{"$f":"Gerais!Z46","v":0},{"$f":"Gerais!AA46","v":0},{"$f":"Gerais!AB46","v":0},{"$f":"Gerais!AC46","v":0},{"$f":"Gerais!AD46","v":0},{"$f":"SUM(R60:AC60)","v":0},null,{"$f":"Gerais!AG46","v":0},{"$f":"Gerais!AH46","v":0},{"$f":"Gerais!AI46","v":0},{"$f":"Gerais!AJ46","v":0},{"$f":"Gerais!AK46","v":0},{"$f":"Gerais!AL46","v":0},{"$f":"Gerais!AM46","v":0},{"$f":"Gerais!AN46","v":0},{"$f":"Gerais!AO46","v":0},{"$f":"Gerais!AP46","v":0},{"$f":"Gerais!AQ46","v":0},{"$f":"Gerais!AR46","v":0},{"$f":"SUM(AF60:AQ60)","v":0},null,{"$f":"Gerais!AU46","v":0},{"$f":"Gerais!AV46","v":0},{"$f":"Gerais!AW46","v":0},{"$f":"Gerais!AX46","v":0},{"$f":"Gerais!AY46","v":0},{"$f":"Gerais!AZ46","v":0},{"$f":"Gerais!BA46","v":0},{"$f":"Gerais!BB46","v":0},{"$f":"Gerais!BC46","v":0},{"$f":"Gerais!BD46","v":0},{"$f":"Gerais!BE46","v":0},{"$f":"Gerais!BF46","v":0},{"$f":"SUM(AT60:BE60)","v":0},null,{"$f":"Gerais!BI46","v":0},{"$f":"Gerais!BJ46","v":0},{"$f":"Gerais!BK46","v":0},{"$f":"Gerais!BL46","v":0},{"$f":"Gerais!BM46","v":0},{"$f":"Gerais!BN46","v":0},{"$f":"Gerais!BO46","v":0},{"$f":"Gerais!BP46","v":0},{"$f":"Gerais!BQ46","v":0},{"$f":"Gerais!BR46","v":0},{"$f":"Gerais!BS46","v":0},{"$f":"Gerais!BT46","v":0},{"$f":"SUM(BH60:BS60)","v":0},null,{"$f":"Gerais!BW46","v":0},{"$f":"Gerais!BX46","v":0},{"$f":"Gerais!BY46","v":0},{"$f":"Gerais!BZ46","v":0},{"$f":"Gerais!CA46","v":0},{"$f":"Gerais!CB46","v":0},{"$f":"Gerais!CC46","v":0},{"$f":"Gerais!CD46","v":0},{"$f":"Gerais!CE46","v":0},{"$f":"Gerais!CF46","v":0},{"$f":"Gerais!CG46","v":0},{"$f":"Gerais!CH46","v":0},{"$f":"SUM(BV60:CG60)","v":0},null,{"$f":"Gerais!CK46","v":0},{"$f":"Gerais!CL46","v":0},{"$f":"Gerais!CM46","v":0},{"$f":"Gerais!CN46","v":0},{"$f":"Gerais!CO46","v":0},{"$f":"Gerais!CP46","v":0},{"$f":"Gerais!CQ46","v":0},{"$f":"Gerais!CR46","v":0},{"$f":"Gerais!CS46","v":0},{"$f":"Gerais!CT46","v":0},{"$f":"Gerais!CU46","v":0},{"$f":"Gerais!CV46","v":0},{"$f":"SUM(CJ60:CU60)","v":0},null,{"$f":"Gerais!CY46","v":0},{"$f":"Gerais!CZ46","v":0},{"$f":"Gerais!DA46","v":0},{"$f":"Gerais!DB46","v":0},{"$f":"Gerais!DC46","v":0},{"$f":"Gerais!DD46","v":0},{"$f":"Gerais!DE46","v":0},{"$f":"Gerais!DF46","v":0},{"$f":"Gerais!DG46","v":0},{"$f":"Gerais!DH46","v":0},{"$f":"Gerais!DI46","v":0},{"$f":"Gerais!DJ46","v":0},{"$f":"SUM(CX60:DI60)","v":0},null,{"$f":"Gerais!DM46","v":0},{"$f":"Gerais!DN46","v":0},{"$f":"Gerais!DO46","v":0},{"$f":"Gerais!DP46","v":0},{"$f":"Gerais!DQ46","v":0},{"$f":"Gerais!DR46","v":0},{"$f":"Gerais!DS46","v":0},{"$f":"Gerais!DT46","v":0},{"$f":"Gerais!DU46","v":0},{"$f":"Gerais!DV46","v":0},{"$f":"Gerais!DW46","v":0},{"$f":"Gerais!DX46","v":0},{"$f":"SUM(DL60:DW60)","v":0},null,{"$f":"Gerais!EA46","v":0},{"$f":"Gerais!EB46","v":0},{"$f":"Gerais!EC46","v":0},{"$f":"Gerais!ED46","v":0},{"$f":"Gerais!EE46","v":0},{"$f":"Gerais!EF46","v":0},{"$f":"Gerais!EG46","v":0},{"$f":"Gerais!EH46","v":0},{"$f":"Gerais!EI46","v":0},{"$f":"Gerais!EJ46","v":0},{"$f":"Gerais!EK46","v":0},{"$f":"Gerais!EL46","v":0},{"$f":"SUM(DZ60:EK60)","v":0},null,{"$f":"Gerais!EO46","v":0},{"$f":"Gerais!EP46","v":0},{"$f":"Gerais!EQ46","v":0},{"$f":"Gerais!ER46","v":0},{"$f":"Gerais!ES46","v":0},{"$f":"Gerais!ET46","v":0},{"$f":"Gerais!EU46","v":0},{"$f":"Gerais!EV46","v":0},{"$f":"Gerais!EW46","v":0},{"$f":"Gerais!EX46","v":0},{"$f":"Gerais!EY46","v":0},{"$f":"Gerais!EZ46","v":0},{"$f":"SUM(EN60:EY60)","v":0},null,{"$f":"Gerais!FC46","v":0},{"$f":"Gerais!FD46","v":0},{"$f":"Gerais!FE46","v":0},{"$f":"Gerais!FF46","v":0},{"$f":"Gerais!FG46","v":0},{"$f":"Gerais!FH46","v":0},{"$f":"Gerais!FI46","v":0},{"$f":"Gerais!FJ46","v":0},{"$f":"Gerais!FK46","v":0},{"$f":"Gerais!FL46","v":0},{"$f":"Gerais!FM46","v":0},{"$f":"Gerais!FN46","v":0},{"$f":"SUM(FB60:FM60)","v":0}]
[null,"Entradas","P",{"$f":"Gerais!E57","v":0},{"$f":"Gerais!F57","v":0},{"$f":"Gerais!G57","v":0},{"$f":"Gerais!H57","v":0},{"$f":"Gerais!I57","v":0},{"$f":"Gerais!J57","v":0},{"$f":"Gerais!K57","v":0},{"$f":"Gerais!L57","v":0},{"$f":"Gerais!M57","v":0},{"$f":"Gerais!N57","v":0},{"$f":"Gerais!O57","v":0},{"$f":"Gerais!P57","v":0},{"$f":"SUM(D61:O61)","v":0},null,{"$f":"Gerais!S57","v":0},{"$f":"Gerais!T57","v":0},{"$f":"Gerais!U57","v":0},{"$f":"Gerais!V57","v":0},{"$f":"Gerais!W57","v":0},{"$f":"Gerais!X57","v":0},{"$f":"Gerais!Y57","v":0},{"$f":"Gerais!Z57","v":0},{"$f":"Gerais!AA57","v":0},{"$f":"Gerais!AB57","v":0},{"$f":"Gerais!AC57","v":0},{"$f":"Gerais!AD57","v":0},{"$f":"SUM(R61:AC61)","v":0},null,{"$f":"Gerais!AG57","v":0},{"$f":"Gerais!AH57","v":0},{"$f":"Gerais!AI57","v":0},{"$f":"Gerais!AJ57","v":0},{"$f":"Gerais!AK57","v":0},{"$f":"Gerais!AL57","v":0},{"$f":"Gerais!AM57","v":0},{"$f":"Gerais!AN57","v":0},{"$f":"Gerais!AO57","v":0},{"$f":"Gerais!AP57","v":0},{"$f":"Gerais!AQ57","v":0},{"$f":"Gerais!AR57","v":0},{"$f":"SUM(AF61:AQ61)","v":0},null,{"$f":"Gerais!AU57","v":0},{"$f":"Gerais!AV57","v":0},{"$f":"Gerais!AW57","v":0},{"$f":"Gerais!AX57","v":0},{"$f":"Gerais!AY57","v":0},{"$f":"Gerais!AZ57","v":0},{"$f":"Gerais!BA57","v":0},{"$f":"Gerais!BB57","v":0},{"$f":"Gerais!BC57","v":0},{"$f":"Gerais!BD57","v":0},{"$f":"Gerais!BE57","v":0},{"$f":"Gerais!BF57","v":0},{"$f":"SUM(AT61:BE61)","v":0},null,{"$f":"Gerais!BI57","v":0},{"$f":"Gerais!BJ57","v":0},{"$f":"Gerais!BK57","v":0},{"$f":"Gerais!BL57","v":0},{"$f":"Gerais!BM57","v":0},{"$f":"Gerais!BN57","v":0},{"$f":"Gerais!BO57","v":0},{"$f":"Gerais!BP57","v":0},{"$f":"Gerais!BQ57","v":0},{"$f":"Gerais!BR57","v":0},{"$f":"Gerais!BS57","v":0},{"$f":"Gerais!BT57","v":0},{"$f":"SUM(BH61:BS61)","v":0},null,{"$f":"Gerais!BW57","v":0},{"$f":"Gerais!BX57","v":0},{"$f":"Gerais!BY57","v":0},{"$f":"Gerais!BZ57","v":0},{"$f":"Gerais!CA57","v":0},{"$f":"Gerais!CB57","v":0},{"$f":"Gerais!CC57","v":0},{"$f":"Gerais!CD57","v":0},{"$f":"Gerais!CE57","v":0},{"$f":"Gerais!CF57","v":0},{"$f":"Gerais!CG57","v":0},{"$f":"Gerais!CH57","v":0},{"$f":"SUM(BV61:CG61)","v":0},null,{"$f":"Gerais!CK57","v":0},{"$f":"Gerais!CL57","v":0},{"$f":"Gerais!CM57","v":0},{"$f":"Gerais!CN57","v":0},{"$f":"Gerais!CO57","v":0},{"$f":"Gerais!CP57","v":0},{"$f":"Gerais!CQ57","v":0},{"$f":"Gerais!CR57","v":0},{"$f":"Gerais!CS57","v":0},{"$f":"Gerais!CT57","v":0},{"$f":"Gerais!CU57","v":0},{"$f":"Gerais!CV57","v":0},{"$f":"SUM(CJ61:CU61)","v":0},null,{"$f":"Gerais!CY57","v":0},{"$f":"Gerais!CZ57","v":0},{"$f":"Gerais!DA57","v":0},{"$f":"Gerais!DB57","v":0},{"$f":"Gerais!DC57","v":0},{"$f":"Gerais!DD57","v":0},{"$f":"Gerais!DE57","v":0},{"$f":"Gerais!DF57","v":0},{"$f":"Gerais!DG57","v":0},{"$f":"Gerais!DH57","v":0},{"$f":"Gerais!DI57","v":0},{"$f":"Gerais!DJ57","v":0},{"$f":"SUM(CX61:DI61)","v":0},null,{"$f":"Gerais!DM57","v":0},{"$f":"Gerais!DN57","v":0},{"$f":"Gerais!DO57","v":0},{"$f":"Gerais!DP57","v":0},{"$f":"Gerais!DQ57","v":0},{"$f":"Gerais!DR57","v":0},{"$f":"Gerais!DS57","v":0},{"$f":"Gerais!DT57","v":0},{"$f":"Gerais!DU57","v":0},{"$f":"Gerais!DV57","v":0},{"$f":"Gerais!DW57","v":0},{"$f":"Gerais!DX57","v":0},{"$f":"SUM(DL61:DW61)","v":0},null,{"$f":"Gerais!EA57","v":0},{"$f":"Gerais!EB57","v":0},{"$f":"Gerais!EC57","v":0},{"$f":"Gerais!ED57","v":0},{"$f":"Gerais!EE57","v":0},{"$f":"Gerais!EF57","v":0},{"$f":"Gerais!EG57","v":0},{"$f":"Gerais!EH57","v":0},{"$f":"Gerais!EI57","v":0},{"$f":"Gerais!EJ57","v":0},{"$f":"Gerais!EK57","v":0},{"$f":"Gerais!EL57","v":0},{"$f":"SUM(DZ61:EK61)","v":0},null,{"$f":"Gerais!EO57","v":0},{"$f":"Gerais!EP57","v":0},{"$f":"Gerais!EQ57","v":0},{"$f":"Gerais!ER57","v":0},{"$f":"Gerais!ES57","v":0},{"$f":"Gerais!ET57","v":0},{"$f":"Gerais!EU57","v":0},{"$f":"Gerais!EV57","v":0},{"$f":"Gerais!EW57","v":0},{"$f":"Gerais!EX57","v":0},{"$f":"Gerais!EY57","v":0},{"$f":"Gerais!EZ57","v":0},{"$f":"SUM(EN61:EY61)","v":0},null,{"$f":"Gerais!FC57","v":0},{"$f":"Gerais!FD57","v":0},{"$f":"Gerais!FE57","v":0},{"$f":"Gerais!FF57","v":0},{"$f":"Gerais!FG57","v":0},{"$f":"Gerais!FH57","v":0},{"$f":"Gerais!FI57","v":0},{"$f":"Gerais!FJ57","v":0},{"$f":"Gerais!FK57","v":0},{"$f":"Gerais!FL57","v":0},{"$f":"Gerais!FM57","v":0},{"$f":"Gerais!FN57","v":0},{"$f":"SUM(FB61:FM61)","v":0}]
[null,null,"R",{"$f":"Gerais!E58","v":0},{"$f":"Gerais!F58","v":0},{"$f":"Gerais!G58","v":0},{"$f":"Gerais!H58","v":0},{"$f":"Gerais!I58","v":0},{"$f":"Gerais!J58","v":0},{"$f":"Gerais!K58","v":0},{"$f":"Gerais!L58","v":0},{"$f":"Gerais!M58","v":0},{"$f":"Gerais!N58","v":0},{"$f":"Gerais!O58","v":0},{"$f":"Gerais!P58","v":0},{"$f":"SUM(D62:O62)","v":0},null,{"$f":"Gerais!S58","v":0},{"$f":"Gerais!T58","v":0},{"$f":"Gerais!U58","v":0},{"$f":"Gerais!V58","v":0},{"$f":"Gerais!W58","v":0},{"$f":"Gerais!X58","v":0},{"$f":"Gerais!Y58","v":0},{"$f":"Gerais!Z58","v":0},{"$f":"Gerais!AA58","v":0},{"$f":"Gerais!AB58","v":0},{"$f":"Gerais!AC58","v":0},{"$f":"Gerais!AD58","v":0},{"$f":"SUM(R62:AC62)","v":0},null,{"$f":"Gerais!AG58","v":0},{"$f":"Gerais!AH58","v":0},{"$f":"Gerais!AI58","v":0},{"$f":"Gerais!AJ58","v":0},{"$f":"Gerais!AK58","v":0},{"$f":"Gerais!AL58","v":0},{"$f":"Gerais!AM58","v":0},{"$f":"Gerais!AN58","v":0},{"$f":"Gerais!AO58","v":0},{"$f":"Gerais!AP58","v":0},{"$f":"Gerais!AQ58","v":0},{"$f":"Gerais!AR58","v":0},{"$f":"SUM(AF62:AQ62)","v":0},null,{"$f":"Gerais!AU58","v":0},{"$f":"Gerais!AV58","v":0},{"$f":"Gerais!AW58","v":0},{"$f":"Gerais!AX58","v":0},{"$f":"Gerais!AY58","v":0},{"$f":"Gerais!AZ58","v":0},{"$f":"Gerais!BA58","v":0},{"$f":"Gerais!BB58","v":0},{"$f":"Gerais!BC58","v":0},{"$f":"Gerais!BD58","v":0},{"$f":"Gerais!BE58","v":0},{"$f":"Gerais!BF58","v":0},{"$f":"SUM(AT62:BE62)","v":0},null,{"$f":"Gerais!BI58","v":0},{"$f":"Gerais!BJ58","v":0},{"$f":"Gerais!BK58","v":0},{"$f":"Gerais!BL58","v":0},{"$f":"Gerais!BM58","v":0},{"$f":"Gerais!BN58","v":0},{"$f":"Gerais!BO58","v":0},{"$f":"Gerais!BP58","v":0},{"$f":"Gerais!BQ58","v":0},{"$f":"Gerais!BR58","v":0},{"$f":"Gerais!BS58","v":0},{"$f":"Gerais!BT58","v":0},{"$f":"SUM(BH62:BS62)","v":0},null,{"$f":"Gerais!BW58","v":0},{"$f":"Gerais!BX58","v":0},{"$f":"Gerais!BY58","v":0},{"$f":"Gerais!BZ58","v":0},{"$f":"Gerais!CA58","v":0},{"$f":"Gerais!CB58","v":0},{"$f":"Gerais!CC58","v":0},{"$f":"Gerais!CD58","v":0},{"$f":"Gerais!CE58","v":0},{"$f":"Gerais!CF58","v":0},{"$f":"Gerais!CG58","v":0},{"$f":"Gerais!CH58","v":0},{"$f":"SUM(BV62:CG62)","v":0},null,{"$f":"Gerais!CK58","v":0},{"$f":"Gerais!CL58","v":0},{"$f":"Gerais!CM58","v":0},{"$f":"Gerais!CN58","v":0},{"$f":"Gerais!CO58","v":0},{"$f":"Gerais!CP58","v":0},{"$f":"Gerais!CQ58","v":0},{"$f":"Gerais!CR58","v":0},{"$f":"Gerais!CS58","v":0},{"$f":"Gerais!CT58","v":0},{"$f":"Gerais!CU58","v":0},{"$f":"Gerais!CV58","v":0},{"$f":"SUM(CJ62:CU62)","v":0},null,{"$f":"Gerais!CY58","v":0},{"$f":"Gerais!CZ58","v":0},{"$f":"Gerais!DA58","v":0},{"$f":"Gerais!DB58","v":0},{"$f":"Gerais!DC58","v":0},{"$f":"Gerais!DD58","v":0},{"$f":"Gerais!DE58","v":0},{"$f":"Gerais!DF58","v":0},{"$f":"Gerais!DG58","v":0},{"$f":"Gerais!DH58","v":0},{"$f":"Gerais!DI58","v":0},{"$f":"Gerais!DJ58","v":0},{"$f":"SUM(CX62:DI62)","v":0},null,{"$f":"Gerais!DM58","v":0},{"$f":"Gerais!DN58","v":0},{"$f":"Gerais!DO58","v":0},{"$f":"Gerais!DP58","v":0},{"$f":"Gerais!DQ58","v":0},{"$f":"Gerais!DR58","v":0},{"$f":"Gerais!DS58","v":0},{"$f":"Gerais!DT58","v":0},{"$f":"Gerais!DU58","v":0},{"$f":"Gerais!DV58","v":0},{"$f":"Gerais!DW58","v":0},{"$f":"Gerais!DX58","v":0},{"$f":"SUM(DL62:DW62)","v":0},null,{"$f":"Gerais!EA58","v":0},{"$f":"Gerais!EB58","v":0},{"$f":"Gerais!EC58","v":0},{"$f":"Gerais!ED58","v":0},{"$f":"Gerais!EE58","v":0},{"$f":"Gerais!EF58","v":0},{"$f":"Gerais!EG58","v":0},{"$f":"Gerais!EH58","v":0},{"$f":"Gerais!EI58","v":0},{"$f":"Gerais!EJ58","v":0},{"$f":"Gerais!EK58","v":0},{"$f":"Gerais!EL58","v":0},{"$f":"SUM(DZ62:EK62)","v":0},null,{"$f":"Gerais!EO58","v":0},{"$f":"Gerais!EP58","v":0},{"$f":"Gerais!EQ58","v":0},{"$f":"Gerais!ER58","v":0},{"$f":"Gerais!ES58","v":0},{"$f":"Gerais!ET58","v":0},{"$f":"Gerais!EU58","v":0},{"$f":"Gerais!EV58","v":0},{"$f":"Gerais!EW58","v":0},{"$f":"Gerais!EX58","v":0},{"$f":"Gerais!EY58","v":0},{"$f":"Gerais!EZ58","v":0},{"$f":"SUM(EN62:EY62)","v":0},null,{"$f":"Gerais!FC58","v":0},{"$f":"Gerais!FD58","v":0},{"$f":"Gerais!FE58","v":0},{"$f":"Gerais!FF58","v":0},{"$f":"Gerais!FG58","v":0},{"$f":"Gerais!FH58","v":0},{"$f":"Gerais!FI58","v":0},{"$f":"Gerais!FJ58","v":0},{"$f":"Gerais!FK58","v":0},{"$f":"Gerais!FL58","v":0},{"$f":"Gerais!FM58","v":0},{"$f":"Gerais!FN58","v":0},{"$f":"SUM(FB62:FM62)","v":0}]
[]
["TOTAL GERAL"]
["Saldo de Caixa Mensal",null,"P",{"$f":"D49-D54+D56-D59+D61","v":0},{"$f":"E49-E54+E56-E59+E61","v":0},0,0,0,0,0,0,0,0,0,0,{"$f":"P61-P39","v":0},null,{"$f":"R49-R54+R56-R59+R61","v":0},{"$f":"S49-S54+S56-S59+S61","v":0},0,0,0,0,0,0,0,0,0,0,{"$f":"AD61-AD39","v":0},null,{"$f":"AF49-AF54+AF56-AF59+AF61","v":0},{"$f":"AG49-AG54+AG56-AG59+AG61","v":0},0,0,0,0,0,0,0,0,0,0,{"$f":"AR61-AR39","v":0},null,{"$f":"AT49-AT54+AT56-AT59+AT61","v":0},{"$f":"AU49-AU54+AU56-AU59+AU61","v":0},0,0,0,0,0,0,0,0,0,0,{"$f":"BF61-BF39","v":0},null,{"$f":"BH49-BH54+BH56-BH59+BH61","v":0},{"$f":"BI49-BI54+BI56-BI59+BI61","v":0},0,0,0,0,0,0,0,0,0,0,{"$f":"BT61-BT39","v":0},null,{"$f":"BV49-BV54+BV56-BV59+BV61","v":0},{"$f":"BW49-BW54+BW56-BW59+BW61","v":0},0,0,0,0,0,0,0,0,0,0,{"$f":"CH61-CH39","v":0},null,{"$f":"CJ49-CJ54+CJ56-CJ59+CJ61","v":0},{"$f":"CK49-CK54+CK56-CK59+CK61","v":0},0,0,0,0,0,0,0,0,0,0,{"$f":"CV61-CV39","v":0},null,{"$f":"CX49-CX54+CX56-CX59+CX61","v":0},{"$f":"CY49-CY54+CY56-CY59+CY61","v":0},0,0,0,0,0,0,0,0,0,0,{"$f":"DJ61-DJ39","v":0},null,{"$f":"DL49-DL54+DL56-DL59+DL61","v":0},{"$f":"DM49-DM54+DM56-DM59+DM61","v":0},0,0,0,0,0,0,0,0,0,0,{"$f":"DX61-DX39","v":0},null,{"$f":"DZ49-DZ54+DZ56-DZ59+DZ61","v":0},{"$f":"EA49-EA54+EA56-EA59+EA61","v":0},0,0,0,0,0,0,0,0,0,0,{"$f":"EL61-EL39","v":0},null,{"$f":"EN49-EN54+EN56-EN59+EN61","v":0},{"$f":"EO49-EO54+EO56-EO59+EO61","v":0},0,0,0,0,0,0,0,0,0,0,{"$f":"EZ61-EZ39","v":0},null,{"$f":"FB49-FB54+FB56-FB59+FB61","v":0},{"$f":"FC49-FC54+FC56-FC59+FC61","v":0},{"$f":"FD49-FD54+FD56-FD59+FD61","v":0},0,0,0,0,0,0,0,0,0,{"$f":"FN61-FN39","v":0}]
[null,null,"R",{"$f":"D50-D55+D57-D60+D62","v":0},{"$f":"E50-E55+E57-E60+E62","v":0},0,0,0,0,0,0,0,0,0,0,{"$f":"P62-P40","v":0},null,{"$f":"R50-R55+R57-R60+R62","v":0},{"$f":"S50-S55+S57-S60+S62","v":0},0,0,0,0,0,0,0,0,0,0,{"$f":"AD62-AD40","v":0},null,{"$f":"AF50-AF55+AF57-AF60+AF62","v":0},{"$f":"AG50-AG55+AG57-AG60+AG62","v":0},0,0,0,0,0,0,0,0,0,0,{"$f":"AR62-AR40","v":0},null,{"$f":"AT50-AT55+AT57-AT60+AT62","v":0},{"$f":"AU50-AU55+AU57-AU60+AU62","v":0},0,0,0,0,0,0,0,0,0,0,{"$f":"BF62-BF40","v":0},null,{"$f":"BH50-BH55+BH57-BH60+BH62","v":0},{"$f":"BI50-BI55+BI57-BI60+BI62","v":0},0,0,0,0,0,0,0,0,0,0,{"$f":"BT62-BT40","v":0},null,{"$f":"BV50-BV55+BV57-BV60+BV62","v":0},{"$f":"BW50-BW55+BW57-BW60+BW62","v":0},0,0,0,0,0,0,0,0,0,0,{"$f":"CH62-CH40","v":0},null,{"$f":"CJ50-CJ55+CJ57-CJ60+CJ62","v":0},{"$f":"CK50-CK55+CK57-CK60+CK62","v":0},0,0,0,0,0,0,0,0,0,0,{"$f":"CV62-CV40","v":0},null,{"$f":"CX50-CX55+CX57-CX60+CX62","v":0},{"$f":"CY50-CY55+CY57-CY60+CY62","v":0},0,0,0,0,0,0,0,0,0,0,{"$f":"DJ62-DJ40","v":0},null,{"$f":"DL50-DL55+DL57-DL60+DL62","v":0},{"$f":"DM50-DM55+DM57-DM60+DM62","v":0},0,0,0,0,0,0,0,0,0,0,{"$f":"DX62-DX40","v":0},null,{"$f":"DZ50-DZ55+DZ57-DZ60+DZ62","v":0},{"$f":"EA50-EA55+EA57-EA60+EA62","v":0},0,0,0,0,0,0,0,0,0,0,{"$f":"EL62-EL40","v":0},null,{"$f":"EN50-EN55+EN57-EN60+EN62","v":0},{"$f":"EO50-EO55+EO57-EO60+EO62","v":0},0,0,0,0,0,0,0,0,0,0,{"$f":"EZ62-EZ40","v":0},null,{"$f":"FB50-FB55+FB57-FB60+FB62","v":0},{"$f":"FC50-FC55+FC57-FC60+FC62","v":0},0,0,0,0,0,0,0,0,0,0,{"$f":"FN62-FN40","v":0}]
["Caixa Acumulado",null,"P",{"$f":"D65","v":0},{"$f":"E65+D67","v":0},0,0,0,0,0,0,0,0,0,0,null,null,{"$f":"R65+O67","v":0},{"$f":"S65+R67","v":0},0,0,0,0,0,0,0,0,0,0,null,null,{"$f":"AF65+AC67","v":0},{"$f":"AG65+AF67","v":0},0,0,0,0,0,0,0,0,0,0,null,null,{"$f":"AT65+AQ67","v":0},{"$f":"AU65+AT67","v":0},0,0,0,0,0,0,0,0,0,0,null,null,{"$f":"BH65+BE67","v":0},{"$f":"BI65+BH67","v":0},0,0,0,0,0,0,0,0,0,0,null,null,{"$f":"BV65+BS67","v":0},{"$f":"BW65+BV67","v":0},0,0,0,0,0,0,0,0,0,0,null,null,{"$f":"CJ65+CG67","v":0},{"$f":"CK65+CJ67","v":0},0,0,0,0,0,0,0,0,0,0,null,null,{"$f":"CX65+CU67","v":0},{"$f":"CY65+CX67","v":0},0,0,0,0,0,0,0,0,0,0,null,null,{"$f":"DL65+DI67","v":0},{"$f":"DM65+DL67","v":0},0,0,0,0,0,0,0,0,0,0,null,null,{"$f":"DZ65+DW67","v":0},{"$f":"EA65+DZ67","v":0},0,0,0,0,0,0,0,0,0,0,null,null,{"$f":"EN65+EK67","v":0},{"$f":"EO65+EN67","v":0},0,0,0,0,0,0,0,0,0,0,null,null,{"$f":"FB65+EY67","v":0},{"$f":"FC65+FB67","v":0},0,0,0,0,0,0,0,0,0,0]
[null,null,"R",{"$f":"D66","v":0},{"$f":"D68+E66","v":0},0,0,0,0,0,0,0,0,0,0,null,null,{"$f":"R66+O68","v":0},{"$f":"S66+R68","v":0},0,0,0,0,0,0,0,0,0,0,null,null,{"$f":"AF66+AC68","v":0},{"$f":"AG66+AF68","v":0},0,0,0,0,0,0,0,0,0,0,null,null,{"$f":"AT66+AQ68","v":0},{"$f":"AU66+AT68","v":0},0,0,0,0,0,0,0,0,0,0,null,null,{"$f":"BH66+BE68","v":0},{"$f":"BI66+BH68","v":0},0,0,0,0,0,0,0,0,0,0,null,null,{"$f":"BV66+BS68","v":0},{"$f":"BW66+BV68","v":0},0,0,0,0,0,0,0,0,0,0,null,null,{"$f":"CJ66+CG68","v":0},{"$f":"CK66+CJ68","v":0},0,0,0,0,0,0,0,0,0,0,null,null,{"$f":"CX66+CU68","v":0},{"$f":"CY66+CX68","v":0},0,0,0,0,0,0,0,0,0,0,null,null,{"$f":"DL66+DI68","v":0},{"$f":"DM66+DL68","v":0},0,0,0,0,0,0,0,0,0,0,null,null,{"$f":"DZ66+DW68","v":0},{"$f":"EA66+DZ68","v":0},0,0,0,0,0,0,0,0,0,0,null,null,{"$f":"EN66+EK68","v":0},{"$f":"EO66+EN68","v":0},0,0,0,0,0,0,0,0,0,0,null,null,{"$f":"FB66+EY68","v":0},{"$f":"FC66+FB68","v":0},0,0,0,0,0,0,0,0,0,0]
[]
["Financ.","Parcela Financiamento/ Custeio","P",{"$f":"SUM('Atividade 1:Atividade 9'!E33)+Gerais!E43","v":0},{"$f":"SUM('Atividade 1:Atividade 9'!F33)+Gerais!F43","v":0},{"$f":"SUM('Atividade 1:Atividade 9'!G33)+Gerais!G43","v":0},{"$f":"SUM('Atividade 1:Atividade 9'!H33)+Gerais!H43","v":0},{"$f":"SUM('Atividade 1:Atividade 9'!I33)+Gerais!I43","v":0},{"$f":"SUM('Atividade 1:Atividade 9'!J33)+Gerais!J43","v":0},{"$f":"SUM('Atividade 1:Atividade 9'!K33)+Gerais!K43","v":0},{"$f":"SUM('Atividade 1:Atividade 9'!L33)+Gerais!L43","v":0},{"$f":"SUM('Atividade 1:Atividade 9'!M33)+Gerais!M43","v":0},{"$f":"SUM('Atividade 1:Atividade 9'!N33)+Gerais!N43","v":0},{"$f":"SUM('Atividade 1:Atividade 9'!O33)+Gerais!O43","v":0},{"$f":"SUM('Atividade 1:Atividade 9'!P33)+Gerais!P43","v":0},{"$f":"SUM(D70:O70)","v":0},null,{"$f":"SUM('Atividade 1:Atividade 9'!S33)+Gerais!S43","v":0},{"$f":"SUM('Atividade 1:Atividade 9'!T33)+Gerais!T43","v":0},{"$f":"SUM('Atividade 1:Atividade 9'!U33)+Gerais!U43","v":0},{"$f":"SUM('Atividade 1:Atividade 9'!V33)+Gerais!V43","v":0},{"$f":"SUM('Atividade 1:Atividade 9'!W33)+Gerais!W43","v":0},{"$f":"SUM('Atividade 1:Atividade 9'!X33)+Gerais!X43","v":0},{"$f":"SUM('Atividade 1:Atividade 9'!Y33)+Gerais!Y43","v":0},{"$f":"SUM('Atividade 1:Atividade 9'!Z33)+Gerais!Z43","v":0},{"$f":"SUM('Atividade 1:Atividade 9'!AA33)+Gerais!AA43","v":0},{"$f":"SUM('Atividade 1:Atividade 9'!AB33)+Gerais!AB43","v":0},{"$f":"SUM('Atividade 1:Atividade 9'!AC33)+Gerais!AC43","v":0},{"$f":"SUM('Atividade 1:Atividade 9'!AD33)+Gerais!AD43","v":0},{"$f":"SUM(R70:AC70)","v":0},null,{"$f":"SUM('Atividade 1:Atividade 9'!AG33)+Gerais!AG43","v":0},{"$f":"SUM('Atividade 1:Atividade 9'!AH33)+Gerais!AH43","v":0},{"$f":"SUM('Atividade 1:Atividade 9'!AI33)+Gerais!AI43","v":0},{"$f":"SUM('Atividade 1:Atividade 9'!AJ33)+Gerais!AJ43","v":0},{"$f":"SUM('Atividade 1:Atividade 9'!AK33)+Gerais!AK43","v":0},{"$f":"SUM('Atividade 1:Atividade 9'!AL33)+Gerais!AL43","v":0},{"$f":"SUM('Atividade 1:Atividade 9'!AM33)+Gerais!AM43","v":0},{"$f":"SUM('Atividade 1:Atividade 9'!AN33)+Gerais!AN43","v":0},{"$f":"SUM('Atividade 1:Atividade 9'!AO33)+Gerais!AO43","v":0},{"$f":"SUM('Atividade 1:Atividade 9'!AP33)+Gerais!AP43","v":0},{"$f":"SUM('Atividade 1:Atividade 9'!AQ33)+Gerais!AQ43","v":0},{"$f":"SUM('Atividade 1:Atividade 9'!AR33)+Gerais!AR43","v":0},{"$f":"SUM(AF70:AQ70)","v":0},null,{"$f":"SUM('Atividade 1:Atividade 9'!AU33)+Gerais!AU43","v":0},{"$f":"SUM('Atividade 1:Atividade 9'!AV33)+Gerais!AV43","v":0},{"$f":"SUM('Atividade 1:Atividade 9'!AW33)+Gerais!AW43","v":0},{"$f":"SUM('Atividade 1:Atividade 9'!AX33)+Gerais!AX43","v":0},{"$f":"SUM('Atividade 1:Atividade 9'!AY33)+Gerais!AY43","v":0},{"$f":"SUM('Atividade 1:Atividade 9'!AZ33)+Gerais!AZ43","v":0},{"$f":"SUM('Atividade 1:Atividade 9'!BA33)+Gerais!BA43","v":0},{"$f":"SUM('Atividade 1:Atividade 9'!BB33)+Gerais!BB43","v":0},{"$f":"SUM('Atividade 1:Atividade 9'!BC33)+Gerais!BC43","v":0},{"$f":"SUM('Atividade 1:Atividade 9'!BD33)+Gerais!BD43","v":0},{"$f":"SUM('Atividade 1:Atividade 9'!BE33)+Gerais!BE43","v":0},{"$f":"SUM('Atividade 1:Atividade 9'!BF33)+Gerais!BF43","v":0},{"$f":"SUM(AT70:BE70)","v":0},null,{"$f":"SUM('Atividade 1:Atividade 9'!BI33)+Gerais!BI43","v":0},{"$f":"SUM('Atividade 1:Atividade 9'!BJ33)+Gerais!BJ43","v":0},{"$f":"SUM('Atividade 1:Atividade 9'!BK33)+Gerais!BK43","v":0},{"$f":"SUM('Atividade 1:Atividade 9'!BL33)+Gerais!BL43","v":0},{"$f":"SUM('Atividade 1:Atividade 9'!BM33)+Gerais!BM43","v":0},{"$f":"SUM('Atividade 1:Atividade 9'!BN33)+Gerais!BN43","v":0},{"$f":"SUM('Atividade 1:Atividade 9'!BO33)+Gerais!BO43","v":0},{"$f":"SUM('Atividade 1:Atividade 9'!BP33)+Gerais!BP43","v":0},{"$f":"SUM('Atividade 1:Atividade 9'!BQ33)+Gerais!BQ43","v":0},{"$f":"SUM('Atividade 1:Atividade 9'!BR33)+Gerais!BR43","v":0},{"$f":"SUM('Atividade 1:Atividade 9'!BS33)+Gerais!BS43","v":0},{"$f":"SUM('Atividade 1:Atividade 9'!BT33)+Gerais!BT43","v":0},{"$f":"SUM(BH70:BS70)","v":0},null,{"$f":"SUM('Atividade 1:Atividade 9'!BW33)+Gerais!BW43","v":0},{"$f":"SUM('Atividade 1:Atividade 9'!BX33)+Gerais!BX43","v":0},{"$f":"SUM('Atividade 1:Atividade 9'!BY33)+Gerais!BY43","v":0},{"$f":"SUM('Atividade 1:Atividade 9'!BZ33)+Gerais!BZ43","v":0},{"$f":"SUM('Atividade 1:Atividade 9'!CA33)+Gerais!CA43","v":0},{"$f":"SUM('Atividade 1:Atividade 9'!CB33)+Gerais!CB43","v":0},{"$f":"SUM('Atividade 1:Atividade 9'!CC33)+Gerais!CC43","v":0},{"$f":"SUM('Atividade 1:Atividade 9'!CD33)+Gerais!CD43","v":0},{"$f":"SUM('Atividade 1:Atividade 9'!CE33)+Gerais!CE43","v":0},{"$f":"SUM('Atividade 1:Atividade 9'!CF33)+Gerais!CF43","v":0},{"$f":"SUM('Atividade 1:Atividade 9'!CG33)+Gerais!CG43","v":0},{"$f":"SUM('Atividade 1:Atividade 9'!CH33)+Gerais!CH43","v":0},{"$f":"SUM(BV70:CG70)","v":0},null,{"$f":"SUM('Atividade 1:Atividade 9'!CK33)+Gerais!CK43","v":0},{"$f":"SUM('Atividade 1:Atividade 9'!CL33)+Gerais!CL43","v":0},{"$f":"SUM('Atividade 1:Atividade 9'!CM33)+Gerais!CM43","v":0},{"$f":"SUM('Atividade 1:Atividade 9'!CN33)+Gerais!CN43","v":0},{"$f":"SUM('Atividade 1:Atividade 9'!CO33)+Gerais!CO43","v":0},{"$f":"SUM('Atividade 1:Atividade 9'!CP33)+Gerais!CP43","v":0},{"$f":"SUM('Atividade 1:Atividade 9'!CQ33)+Gerais!CQ43","v":0},{"$f":"SUM('Atividade 1:Atividade 9'!CR33)+Gerais!CR43","v":0},{"$f":"SUM('Atividade 1:Atividade 9'!CS33)+Gerais!CS43","v":0},{"$f":"SUM('Atividade 1:Atividade 9'!CT33)+Gerais!CT43","v":0},{"$f":"SUM('Atividade 1:Atividade 9'!CU33)+Gerais!CU43","v":0},{"$f":"SUM('Atividade 1:Atividade 9'!CV33)+Gerais!CV43","v":0},{"$f":"SUM(CJ70:CU70)","v":0},null,{"$f":"SUM('Atividade 1:Atividade 9'!CY33)+Gerais!CY43","v":0},{"$f":"SUM('Atividade 1:Atividade 9'!CZ33)+Gerais!CZ43","v":0},{"$f":"SUM('Atividade 1:Atividade 9'!DA33)+Gerais!DA43","v":0},{"$f":"SUM('Atividade 1:Atividade 9'!DB33)+Gerais!DB43","v":0},{"$f":"SUM('Atividade 1:Atividade 9'!DC33)+Gerais!DC43","v":0},{"$f":"SUM('Atividade 1:Atividade 9'!DD33)+Gerais!DD43","v":0},{"$f":"SUM('Atividade 1:Atividade 9'!DE33)+Gerais!DE43","v":0},{"$f":"SUM('Atividade 1:Atividade 9'!DF33)+Gerais!DF43","v":0},{"$f":"SUM('Atividade 1:Atividade 9'!DG33)+Gerais!DG43","v":0},{"$f":"SUM('Atividade 1:Atividade 9'!DH33)+Gerais!DH43","v":0},{"$f":"SUM('Atividade 1:Atividade 9'!DI33)+Gerais!DI43","v":0},{"$f":"SUM('Atividade 1:Atividade 9'!DJ33)+Gerais!DJ43","v":0},{"$f":"SUM(CX70:DI70)","v":0},null,{"$f":"SUM('Atividade 1:Atividade 9'!DM33)+Gerais!DM43","v":0},{"$f":"SUM('Atividade 1:Atividade 9'!DN33)+Gerais!DN43","v":0},{"$f":"SUM('Atividade 1:Atividade 9'!DO33)+Gerais!DO43","v":0},{"$f":"SUM('Atividade 1:Atividade 9'!DP33)+Gerais!DP43","v":0},{"$f":"SUM('Atividade 1:Atividade 9'!DQ33)+Gerais!DQ43","v":0},{"$f":"SUM('Atividade 1:Atividade 9'!DR33)+Gerais!DR43","v":0},{"$f":"SUM('Atividade 1:Atividade 9'!DS33)+Gerais!DS43","v":0},{"$f":"SUM('Atividade 1:Atividade 9'!DT33)+Gerais!DT43","v":0},{"$f":"SUM('Atividade 1:Atividade 9'!DU33)+Gerais!DU43","v":0},{"$f":"SUM('Atividade 1:Atividade 9'!DV33)+Gerais!DV43","v":0},{"$f":"SUM('Atividade 1:Atividade 9'!DW33)+Gerais!DW43","v":0},{"$f":"SUM('Atividade 1:Atividade 9'!DX33)+Gerais!DX43","v":0},{"$f":"SUM(DL70:DW70)","v":0},null,{"$f":"SUM('Atividade 1:Atividade 9'!EA33)+Gerais!EA43","v":0},{"$f":"SUM('Atividade 1:Atividade 9'!EB33)+Gerais!EB43","v":0},{"$f":"SUM('Atividade 1:Atividade 9'!EC33)+Gerais!EC43","v":0},{"$f":"SUM('Atividade 1:Atividade 9'!ED33)+Gerais!ED43","v":0},{"$f":"SUM('Atividade 1:Atividade 9'!EE33)+Gerais!EE43","v":0},{"$f":"SUM('Atividade 1:Atividade 9'!EF33)+Gerais!EF43","v":0},{"$f":"SUM('Atividade 1:Atividade 9'!EG33)+Gerais!EG43","v":0},{"$f":"SUM('Atividade 1:Atividade 9'!EH33)+Gerais!EH43","v":0},{"$f":"SUM('Atividade 1:Atividade 9'!EI33)+Gerais!EI43","v":0},{"$f":"SUM('Atividade 1:Atividade 9'!EJ33)+Gerais!EJ43","v":0},{"$f":"SUM('Atividade 1:Atividade 9'!EK33)+Gerais!EK43","v":0},{"$f":"SUM('Atividade 1:Atividade 9'!EL33)+Gerais!EL43","v":0},{"$f":"SUM(DZ70:EK70)","v":0},null,{"$f":"SUM('Atividade 1:Atividade 9'!EO33)+Gerais!EO43","v":0},{"$f":"SUM('Atividade 1:Atividade 9'!EP33)+Gerais!EP43","v":0},{"$f":"SUM('Atividade 1:Atividade 9'!EQ33)+Gerais!EQ43","v":0},{"$f":"SUM('Atividade 1:Atividade 9'!ER33)+Gerais!ER43","v":0},{"$f":"SUM('Atividade 1:Atividade 9'!ES33)+Gerais!ES43","v":0},{"$f":"SUM('Atividade 1:Atividade 9'!ET33)+Gerais!ET43","v":0},{"$f":"SUM('Atividade 1:Atividade 9'!EU33)+Gerais!EU43","v":0},{"$f":"SUM('Atividade 1:Atividade 9'!EV33)+Gerais!EV43","v":0},{"$f":"SUM('Atividade 1:Atividade 9'!EW33)+Gerais!EW43","v":0},{"$f":"SUM('Atividade 1:Atividade 9'!EX33)+Gerais!EX43","v":0},{"$f":"SUM('Atividade 1:Atividade 9'!EY33)+Gerais!EY43","v":0},{"$f":"SUM('Atividade 1:Atividade 9'!EZ33)+Gerais!EZ43","v":0},{"$f":"SUM(EN70:EY70)","v":0},null,{"$f":"SUM('Atividade 1:Atividade 9'!FC33)+Gerais!FC43","v":0},{"$f":"SUM('Atividade 1:Atividade 9'!FD33)+Gerais!FD43","v":0},{"$f":"SUM('Atividade 1:Atividade 9'!FE33)+Gerais!FE43","v":0},{"$f":"SUM('Atividade 1:Atividade 9'!FF33)+Gerais!FF43","v":0},{"$f":"SUM('Atividade 1:Atividade 9'!FG33)+Gerais!FG43","v":0},{"$f":"SUM('Atividade 1:Atividade 9'!FH33)+Gerais!FH43","v":0},{"$f":"SUM('Atividade 1:Atividade 9'!FI33)+Gerais!FI43","v":0},{"$f":"SUM('Atividade 1:Atividade 9'!FJ33)+Gerais!FJ43","v":0},{"$f":"SUM('Atividade 1:Atividade 9'!FK33)+Gerais!FK43","v":0},{"$f":"SUM('Atividade 1:Atividade 9'!FL33)+Gerais!FL43","v":0},{"$f":"SUM('Atividade 1:Atividade 9'!FM33)+Gerais!FM43","v":0},{"$f":"SUM('Atividade 1:Atividade 9'!FN33)+Gerais!FN43","v":0},{"$f":"SUM(FB70:FM70)","v":0}]
[null,null,"R",{"$f":"SUM('Atividade 1:Atividade 9'!E34)+Gerais!E44","v":0},{"$f":"SUM('Atividade 1:Atividade 9'!F34)+Gerais!F44","v":0},{"$f":"SUM('Atividade 1:Atividade 9'!G34)+Gerais!G44","v":0},{"$f":"SUM('Atividade 1:Atividade 9'!H34)+Gerais!H44","v":0},{"$f":"SUM('Atividade 1:Atividade 9'!I34)+Gerais!I44","v":0},{"$f":"SUM('Atividade 1:Atividade 9'!J34)+Gerais!J44","v":0},{"$f":"SUM('Atividade 1:Atividade 9'!K34)+Gerais!K44","v":0},{"$f":"SUM('Atividade 1:Atividade 9'!L34)+Gerais!L44","v":0},{"$f":"SUM('Atividade 1:Atividade 9'!M34)+Gerais!M44","v":0},{"$f":"SUM('Atividade 1:Atividade 9'!N34)+Gerais!N44","v":0},{"$f":"SUM('Atividade 1:Atividade 9'!O34)+Gerais!O44","v":0},{"$f":"SUM('Atividade 1:Atividade 9'!P34)+Gerais!P44","v":0},{"$f":"SUM(D71:O71)","v":0},null,{"$f":"SUM('Atividade 1:Atividade 9'!S34)+Gerais!S44","v":0},{"$f":"SUM('Atividade 1:Atividade 9'!T34)+Gerais!T44","v":0},{"$f":"SUM('Atividade 1:Atividade 9'!U34)+Gerais!U44","v":0},{"$f":"SUM('Atividade 1:Atividade 9'!V34)+Gerais!V44","v":0},{"$f":"SUM('Atividade 1:Atividade 9'!W34)+Gerais!W44","v":0},{"$f":"SUM('Atividade 1:Atividade 9'!X34)+Gerais!X44","v":0},{"$f":"SUM('Atividade 1:Atividade 9'!Y34)+Gerais!Y44","v":0},{"$f":"SUM('Atividade 1:Atividade 9'!Z34)+Gerais!Z44","v":0},{"$f":"SUM('Atividade 1:Atividade 9'!AA34)+Gerais!AA44","v":0},{"$f":"SUM('Atividade 1:Atividade 9'!AB34)+Gerais!AB44","v":0},{"$f":"SUM('Atividade 1:Atividade 9'!AC34)+Gerais!AC44","v":0},{"$f":"SUM('Atividade 1:Atividade 9'!AD34)+Gerais!AD44","v":0},{"$f":"SUM(R71:AC71)","v":0},null,{"$f":"SUM('Atividade 1:Atividade 9'!AG34)+Gerais!AG44","v":0},{"$f":"SUM('Atividade 1:Atividade 9'!AH34)+Gerais!AH44","v":0},{"$f":"SUM('Atividade 1:Atividade 9'!AI34)+Gerais!AI44","v":0},{"$f":"SUM('Atividade 1:Atividade 9'!AJ34)+Gerais!AJ44","v":0},{"$f":"SUM('Atividade 1:Atividade 9'!AK34)+Gerais!AK44","v":0},{"$f":"SUM('Atividade 1:Atividade 9'!AL34)+Gerais!AL44","v":0},{"$f":"SUM('Atividade 1:Atividade 9'!AM34)+Gerais!AM44","v":0},{"$f":"SUM('Atividade 1:Atividade 9'!AN34)+Gerais!AN44","v":0},{"$f":"SUM('Atividade 1:Atividade 9'!AO34)+Gerais!AO44","v":0},{"$f":"SUM('Atividade 1:Atividade 9'!AP34)+Gerais!AP44","v":0},{"$f":"SUM('Atividade 1:Atividade 9'!AQ34)+Gerais!AQ44","v":0},{"$f":"SUM('Atividade 1:Atividade 9'!AR34)+Gerais!AR44","v":0},{"$f":"SUM(AF71:AQ71)","v":0},null,{"$f":"SUM('Atividade 1:Atividade 9'!AU34)+Gerais!AU44","v":0},{"$f":"SUM('Atividade 1:Atividade 9'!AV34)+Gerais!AV44","v":0},{"$f":"SUM('Atividade 1:Atividade 9'!AW34)+Gerais!AW44","v":0},{"$f":"SUM('Atividade 1:Atividade 9'!AX34)+Gerais!AX44","v":0},{"$f":"SUM('Atividade 1:Atividade 9'!AY34)+Gerais!AY44","v":0},{"$f":"SUM('Atividade 1:Atividade 9'!AZ34)+Gerais!AZ44","v":0},{"$f":"SUM('Atividade 1:Atividade 9'!BA34)+Gerais!BA44","v":0},{"$f":"SUM('Atividade 1:Atividade 9'!BB34)+Gerais!BB44","v":0},{"$f":"SUM('Atividade 1:Atividade 9'!BC34)+Gerais!BC44","v":0},{"$f":"SUM('Atividade 1:Atividade 9'!BD34)+Gerais!BD44","v":0},{"$f":"SUM('Atividade 1:Atividade 9'!BE34)+Gerais!BE44","v":0},{"$f":"SUM('Atividade 1:Atividade 9'!BF34)+Gerais!BF44","v":0},{"$f":"SUM(AT71:BE71)","v":0},null,{"$f":"SUM('Atividade 1:Atividade 9'!BI34)+Gerais!BI44","v":0},{"$f":"SUM('Atividade 1:Atividade 9'!BJ34)+Gerais!BJ44","v":0},{"$f":"SUM('Atividade 1:Atividade 9'!BK34)+Gerais!BK44","v":0},{"$f":"SUM('Atividade 1:Atividade 9'!BL34)+Gerais!BL44","v":0},{"$f":"SUM('Atividade 1:Atividade 9'!BM34)+Gerais!BM44","v":0},{"$f":"SUM('Atividade 1:Atividade 9'!BN34)+Gerais!BN44","v":0},{"$f":"SUM('Atividade 1:Atividade 9'!BO34)+Gerais!BO44","v":0},{"$f":"SUM('Atividade 1:Atividade 9'!BP34)+Gerais!BP44","v":0},{"$f":"SUM('Atividade 1:Atividade 9'!BQ34)+Gerais!BQ44","v":0},{"$f":"SUM('Atividade 1:Atividade 9'!BR34)+Gerais!BR44","v":0},{"$f":"SUM('Atividade 1:Atividade 9'!BS34)+Gerais!BS44","v":0},{"$f":"SUM('Atividade 1:Atividade 9'!BT34)+Gerais!BT44","v":0},{"$f":"SUM(BH71:BS71)","v":0},null,{"$f":"SUM('Atividade 1:Atividade 9'!BW34)+Gerais!BW44","v":0},{"$f":"SUM('Atividade 1:Atividade 9'!BX34)+Gerais!BX44","v":0},{"$f":"SUM('Atividade 1:Atividade 9'!BY34)+Gerais!BY44","v":0},{"$f":"SUM('Atividade 1:Atividade 9'!BZ34)+Gerais!BZ44","v":0},{"$f":"SUM('Atividade 1:Atividade 9'!CA34)+Gerais!CA44","v":0},{"$f":"SUM('Atividade 1:Atividade 9'!CB34)+Gerais!CB44","v":0},{"$f":"SUM('Atividade 1:Atividade 9'!CC34)+Gerais!CC44","v":0},{"$f":"SUM('Atividade 1:Atividade 9'!CD34)+Gerais!CD44","v":0},{"$f":"SUM('Atividade 1:Atividade 9'!CE34)+Gerais!CE44","v":0},{"$f":"SUM('Atividade 1:Atividade 9'!CF34)+Gerais!CF44","v":0},{"$f":"SUM('Atividade 1:Atividade 9'!CG34)+Gerais!CG44","v":0},{"$f":"SUM('Atividade 1:Atividade 9'!CH34)+Gerais!CH44","v":0},{"$f":"SUM(BV71:CG71)","v":0},null,{"$f":"SUM('Atividade 1:Atividade 9'!CK34)+Gerais!CK44","v":0},{"$f":"SUM('Atividade 1:Atividade 9'!CL34)+Gerais!CL44","v":0},{"$f":"SUM('Atividade 1:Atividade 9'!CM34)+Gerais!CM44","v":0},{"$f":"SUM('Atividade 1:Atividade 9'!CN34)+Gerais!CN44","v":0},{"$f":"SUM('Atividade 1:Atividade 9'!CO34)+Gerais!CO44","v":0},{"$f":"SUM('Atividade 1:Atividade 9'!CP34)+Gerais!CP44","v":0},{"$f":"SUM('Atividade 1:Atividade 9'!CQ34)+Gerais!CQ44","v":0},{"$f":"SUM('Atividade 1:Atividade 9'!CR34)+Gerais!CR44","v":0},{"$f":"SUM('Atividade 1:Atividade 9'!CS34)+Gerais!CS44","v":0},{"$f":"SUM('Atividade 1:Atividade 9'!CT34)+Gerais!CT44","v":0},{"$f":"SUM('Atividade 1:Atividade 9'!CU34)+Gerais!CU44","v":0},{"$f":"SUM('Atividade 1:Atividade 9'!CV34)+Gerais!CV44","v":0},{"$f":"SUM(CJ71:CU71)","v":0},null,{"$f":"SUM('Atividade 1:Atividade 9'!CY34)+Gerais!CY44","v":0},{"$f":"SUM('Atividade 1:Atividade 9'!CZ34)+Gerais!CZ44","v":0},{"$f":"SUM('Atividade 1:Atividade 9'!DA34)+Gerais!DA44","v":0},{"$f":"SUM('Atividade 1:Atividade 9'!DB34)+Gerais!DB44","v":0},{"$f":"SUM('Atividade 1:Atividade 9'!DC34)+Gerais!DC44","v":0},{"$f":"SUM('Atividade 1:Atividade 9'!DD34)+Gerais!DD44","v":0},{"$f":"SUM('Atividade 1:Atividade 9'!DE34)+Gerais!DE44","v":0},{"$f":"SUM('Atividade 1:Atividade 9'!DF34)+Gerais!DF44","v":0},{"$f":"SUM('Atividade 1:Atividade 9'!DG34)+Gerais!DG44","v":0},{"$f":"SUM('Atividade 1:Atividade 9'!DH34)+Gerais!DH44","v":0},{"$f":"SUM('Atividade 1:Atividade 9'!DI34)+Gerais!DI44","v":0},{"$f":"SUM('Atividade 1:Atividade 9'!DJ34)+Gerais!DJ44","v":0},{"$f":"SUM(CX71:DI71)","v":0},null,{"$f":"SUM('Atividade 1:Atividade 9'!DM34)+Gerais!DM44","v":0},{"$f":"SUM('Atividade 1:Atividade 9'!DN34)+Gerais!DN44","v":0},{"$f":"SUM('Atividade 1:Atividade 9'!DO34)+Gerais!DO44","v":0},{"$f":"SUM('Atividade 1:Atividade 9'!DP34)+Gerais!DP44","v":0},{"$f":"SUM('Atividade 1:Atividade 9'!DQ34)+Gerais!DQ44","v":0},{"$f":"SUM('Atividade 1:Atividade 9'!DR34)+Gerais!DR44","v":0},{"$f":"SUM('Atividade 1:Atividade 9'!DS34)+Gerais!DS44","v":0},{"$f":"SUM('Atividade 1:Atividade 9'!DT34)+Gerais!DT44","v":0},{"$f":"SUM('Atividade 1:Atividade 9'!DU34)+Gerais!DU44","v":0},{"$f":"SUM('Atividade 1:Atividade 9'!DV34)+Gerais!DV44","v":0},{"$f":"SUM('Atividade 1:Atividade 9'!DW34)+Gerais!DW44","v":0},{"$f":"SUM('Atividade 1:Atividade 9'!DX34)+Gerais!DX44","v":0},{"$f":"SUM(DL71:DW71)","v":0},null,{"$f":"SUM('Atividade 1:Atividade 9'!EA34)+Gerais!EA44","v":0},{"$f":"SUM('Atividade 1:Atividade 9'!EB34)+Gerais!EB44","v":0},{"$f":"SUM('Atividade 1:Atividade 9'!EC34)+Gerais!EC44","v":0},{"$f":"SUM('Atividade 1:Atividade 9'!ED34)+Gerais!ED44","v":0},{"$f":"SUM('Atividade 1:Atividade 9'!EE34)+Gerais!EE44","v":0},{"$f":"SUM('Atividade 1:Atividade 9'!EF34)+Gerais!EF44","v":0},{"$f":"SUM('Atividade 1:Atividade 9'!EG34)+Gerais!EG44","v":0},{"$f":"SUM('Atividade 1:Atividade 9'!EH34)+Gerais!EH44","v":0},{"$f":"SUM('Atividade 1:Atividade 9'!EI34)+Gerais!EI44","v":0},{"$f":"SUM('Atividade 1:Atividade 9'!EJ34)+Gerais!EJ44","v":0},{"$f":"SUM('Atividade 1:Atividade 9'!EK34)+Gerais!EK44","v":0},{"$f":"SUM('Atividade 1:Atividade 9'!EL34)+Gerais!EL44","v":0},{"$f":"SUM(DZ71:EK71)","v":0},null,{"$f":"SUM('Atividade 1:Atividade 9'!EO34)+Gerais!EO44","v":0},{"$f":"SUM('Atividade 1:Atividade 9'!EP34)+Gerais!EP44","v":0},{"$f":"SUM('Atividade 1:Atividade 9'!EQ34)+Gerais!EQ44","v":0},{"$f":"SUM('Atividade 1:Atividade 9'!ER34)+Gerais!ER44","v":0},{"$f":"SUM('Atividade 1:Atividade 9'!ES34)+Gerais!ES44","v":0},{"$f":"SUM('Atividade 1:Atividade 9'!ET34)+Gerais!ET44","v":0},{"$f":"SUM('Atividade 1:Atividade 9'!EU34)+Gerais!EU44","v":0},{"$f":"SUM('Atividade 1:Atividade 9'!EV34)+Gerais!EV44","v":0},{"$f":"SUM('Atividade 1:Atividade 9'!EW34)+Gerais!EW44","v":0},{"$f":"SUM('Atividade 1:Atividade 9'!EX34)+Gerais!EX44","v":0},{"$f":"SUM('Atividade 1:Atividade 9'!EY34)+Gerais!EY44","v":0},{"$f":"SUM('Atividade 1:Atividade 9'!EZ34)+Gerais!EZ44","v":0},{"$f":"SUM(EN71:EY71)","v":0},null,{"$f":"SUM('Atividade 1:Atividade 9'!FC34)+Gerais!FC44","v":0},{"$f":"SUM('Atividade 1:Atividade 9'!FD34)+Gerais!FD44","v":0},{"$f":"SUM('Atividade 1:Atividade 9'!FE34)+Gerais!FE44","v":0},{"$f":"SUM('Atividade 1:Atividade 9'!FF34)+Gerais!FF44","v":0},{"$f":"SUM('Atividade 1:Atividade 9'!FG34)+Gerais!FG44","v":0},{"$f":"SUM('Atividade 1:Atividade 9'!FH34)+Gerais!FH44","v":0},{"$f":"SUM('Atividade 1:Atividade 9'!FI34)+Gerais!FI44","v":0},{"$f":"SUM('Atividade 1:Atividade 9'!FJ34)+Gerais!FJ44","v":0},{"$f":"SUM('Atividade 1:Atividade 9'!FK34)+Gerais!FK44","v":0},{"$f":"SUM('Atividade 1:Atividade 9'!FL34)+Gerais!FL44","v":0},{"$f":"SUM('Atividade 1:Atividade 9'!FM34)+Gerais!FM44","v":0},{"$f":"SUM('Atividade 1:Atividade 9'!FN34)+Gerais!FN44","v":0},{"$f":"SUM(FB71:FM71)","v":0}]
[null,"Entrada de Financiamento/Custeio","P",{"$f":"SUM('Atividade 1:Atividade 9'!E43)+Gerais!E55","v":0},{"$f":"SUM('Atividade 1:Atividade 9'!F43)+Gerais!F55","v":0},{"$f":"SUM('Atividade 1:Atividade 9'!G43)+Gerais!G55","v":0},{"$f":"SUM('Atividade 1:Atividade 9'!H43)+Gerais!H55","v":0},{"$f":"SUM('Atividade 1:Atividade 9'!I43)+Gerais!I55","v":0},{"$f":"SUM('Atividade 1:Atividade 9'!J43)+Gerais!J55","v":0},{"$f":"SUM('Atividade 1:Atividade 9'!K43)+Gerais!K55","v":0},{"$f":"SUM('Atividade 1:Atividade 9'!L43)+Gerais!L55","v":0},{"$f":"SUM('Atividade 1:Atividade 9'!M43)+Gerais!M55","v":0},{"$f":"SUM('Atividade 1:Atividade 9'!N43)+Gerais!N55","v":0},{"$f":"SUM('Atividade 1:Atividade 9'!O43)+Gerais!O55","v":0},{"$f":"SUM('Atividade 1:Atividade 9'!P43)+Gerais!P55","v":0},{"$f":"SUM(D72:O72)","v":0},null,{"$f":"SUM('Atividade 1:Atividade 9'!S43)+Gerais!S55","v":0},{"$f":"SUM('Atividade 1:Atividade 9'!T43)+Gerais!T55","v":0},{"$f":"SUM('Atividade 1:Atividade 9'!U43)+Gerais!U55","v":0},{"$f":"SUM('Atividade 1:Atividade 9'!V43)+Gerais!V55","v":0},{"$f":"SUM('Atividade 1:Atividade 9'!W43)+Gerais!W55","v":0},{"$f":"SUM('Atividade 1:Atividade 9'!X43)+Gerais!X55","v":0},{"$f":"SUM('Atividade 1:Atividade 9'!Y43)+Gerais!Y55","v":0},{"$f":"SUM('Atividade 1:Atividade 9'!Z43)+Gerais!Z55","v":0},{"$f":"SUM('Atividade 1:Atividade 9'!AA43)+Gerais!AA55","v":0},{"$f":"SUM('Atividade 1:Atividade 9'!AB43)+Gerais!AB55","v":0},{"$f":"SUM('Atividade 1:Atividade 9'!AC43)+Gerais!AC55","v":0},{"$f":"SUM('Atividade 1:Atividade 9'!AD43)+Gerais!AD55","v":0},{"$f":"SUM(R72:AC72)","v":0},null,{"$f":"SUM('Atividade 1:Atividade 9'!AG43)+Gerais!AG55","v":0},{"$f":"SUM('Atividade 1:Atividade 9'!AH43)+Gerais!AH55","v":0},{"$f":"SUM('Atividade 1:Atividade 9'!AI43)+Gerais!AI55","v":0},{"$f":"SUM('Atividade 1:Atividade 9'!AJ43)+Gerais!AJ55","v":0},{"$f":"SUM('Atividade 1:Atividade 9'!AK43)+Gerais!AK55","v":0},{"$f":"SUM('Atividade 1:Atividade 9'!AL43)+Gerais!AL55","v":0},{"$f":"SUM('Atividade 1:Atividade 9'!AM43)+Gerais!AM55","v":0},{"$f":"SUM('Atividade 1:Atividade 9'!AN43)+Gerais!AN55","v":0},{"$f":"SUM('Atividade 1:Atividade 9'!AO43)+Gerais!AO55","v":0},{"$f":"SUM('Atividade 1:Atividade 9'!AP43)+Gerais!AP55","v":0},{"$f":"SUM('Atividade 1:Atividade 9'!AQ43)+Gerais!AQ55","v":0},{"$f":"SUM('Atividade 1:Atividade 9'!AR43)+Gerais!AR55","v":0},{"$f":"SUM(AF72:AQ72)","v":0},null,{"$f":"SUM('Atividade 1:Atividade 9'!AU43)+Gerais!AU55","v":0},{"$f":"SUM('Atividade 1:Atividade 9'!AV43)+Gerais!AV55","v":0},{"$f":"SUM('Atividade 1:Atividade 9'!AW43)+Gerais!AW55","v":0},{"$f":"SUM('Atividade 1:Atividade 9'!AX43)+Gerais!AX55","v":0},{"$f":"SUM('Atividade 1:Atividade 9'!AY43)+Gerais!AY55","v":0},{"$f":"SUM('Atividade 1:Atividade 9'!AZ43)+Gerais!AZ55","v":0},{"$f":"SUM('Atividade 1:Atividade 9'!BA43)+Gerais!BA55","v":0},{"$f":"SUM('Atividade 1:Atividade 9'!BB43)+Gerais!BB55","v":0},{"$f":"SUM('Atividade 1:Atividade 9'!BC43)+Gerais!BC55","v":0},{"$f":"SUM('Atividade 1:Atividade 9'!BD43)+Gerais!BD55","v":0},{"$f":"SUM('Atividade 1:Atividade 9'!BE43)+Gerais!BE55","v":0},{"$f":"SUM('Atividade 1:Atividade 9'!BF43)+Gerais!BF55","v":0},{"$f":"SUM(AT72:BE72)","v":0},null,{"$f":"SUM('Atividade 1:Atividade 9'!BI43)+Gerais!BI55","v":0},{"$f":"SUM('Atividade 1:Atividade 9'!BJ43)+Gerais!BJ55","v":0},{"$f":"SUM('Atividade 1:Atividade 9'!BK43)+Gerais!BK55","v":0},{"$f":"SUM('Atividade 1:Atividade 9'!BL43)+Gerais!BL55","v":0},{"$f":"SUM('Atividade 1:Atividade 9'!BM43)+Gerais!BM55","v":0},{"$f":"SUM('Atividade 1:Atividade 9'!BN43)+Gerais!BN55","v":0},{"$f":"SUM('Atividade 1:Atividade 9'!BO43)+Gerais!BO55","v":0},{"$f":"SUM('Atividade 1:Atividade 9'!BP43)+Gerais!BP55","v":0},{"$f":"SUM('Atividade 1:Atividade 9'!BQ43)+Gerais!BQ55","v":0},{"$f":"SUM('Atividade 1:Atividade 9'!BR43)+Gerais!BR55","v":0},{"$f":"SUM('Atividade 1:Atividade 9'!BS43)+Gerais!BS55","v":0},{"$f":"SUM('Atividade 1:Atividade 9'!BT43)+Gerais!BT55","v":0},{"$f":"SUM(BH72:BS72)","v":0},null,{"$f":"SUM('Atividade 1:Atividade 9'!BW43)+Gerais!BW55","v":0},{"$f":"SUM('Atividade 1:Atividade 9'!BX43)+Gerais!BX55","v":0},{"$f":"SUM('Atividade 1:Atividade 9'!BY43)+Gerais!BY55","v":0},{"$f":"SUM('Atividade 1:Atividade 9'!BZ43)+Gerais!BZ55","v":0},{"$f":"SUM('Atividade 1:Atividade 9'!CA43)+Gerais!CA55","v":0},{"$f":"SUM('Atividade 1:Atividade 9'!CB43)+Gerais!CB55","v":0},{"$f":"SUM('Atividade 1:Atividade 9'!CC43)+Gerais!CC55","v":0},{"$f":"SUM('Atividade 1:Atividade 9'!CD43)+Gerais!CD55","v":0},{"$f":"SUM('Atividade 1:Atividade 9'!CE43)+Gerais!CE55","v":0},{"$f":"SUM('Atividade 1:Atividade 9'!CF43)+Gerais!CF55","v":0},{"$f":"SUM('Atividade 1:Atividade 9'!CG43)+Gerais!CG55","v":0},{"$f":"SUM('Atividade 1:Atividade 9'!CH43)+Gerais!CH55","v":0},{"$f":"SUM(BV72:CG72)","v":0},null,{"$f":"SUM('Atividade 1:Atividade 9'!CK43)+Gerais!CK55","v":0},{"$f":"SUM('Atividade 1:Atividade 9'!CL43)+Gerais!CL55","v":0},{"$f":"SUM('Atividade 1:Atividade 9'!CM43)+Gerais!CM55","v":0},{"$f":"SUM('Atividade 1:Atividade 9'!CN43)+Gerais!CN55","v":0},{"$f":"SUM('Atividade 1:Atividade 9'!CO43)+Gerais!CO55","v":0},{"$f":"SUM('Atividade 1:Atividade 9'!CP43)+Gerais!CP55","v":0},{"$f":"SUM('Atividade 1:Atividade 9'!CQ43)+Gerais!CQ55","v":0},{"$f":"SUM('Atividade 1:Atividade 9'!CR43)+Gerais!CR55","v":0},{"$f":"SUM('Atividade 1:Atividade 9'!CS43)+Gerais!CS55","v":0},{"$f":"SUM('Atividade 1:Atividade 9'!CT43)+Gerais!CT55","v":0},{"$f":"SUM('Atividade 1:Atividade 9'!CU43)+Gerais!CU55","v":0},{"$f":"SUM('Atividade 1:Atividade 9'!CV43)+Gerais!CV55","v":0},{"$f":"SUM(CJ72:CU72)","v":0},null,{"$f":"SUM('Atividade 1:Atividade 9'!CY43)+Gerais!CY55","v":0},{"$f":"SUM('Atividade 1:Atividade 9'!CZ43)+Gerais!CZ55","v":0},{"$f":"SUM('Atividade 1:Atividade 9'!DA43)+Gerais!DA55","v":0},{"$f":"SUM('Atividade 1:Atividade 9'!DB43)+Gerais!DB55","v":0},{"$f":"SUM('Atividade 1:Atividade 9'!DC43)+Gerais!DC55","v":0},{"$f":"SUM('Atividade 1:Atividade 9'!DD43)+Gerais!DD55","v":0},{"$f":"SUM('Atividade 1:Atividade 9'!DE43)+Gerais!DE55","v":0},{"$f":"SUM('Atividade 1:Atividade 9'!DF43)+Gerais!DF55","v":0},{"$f":"SUM('Atividade 1:Atividade 9'!DG43)+Gerais!DG55","v":0},{"$f":"SUM('Atividade 1:Atividade 9'!DH43)+Gerais!DH55","v":0},{"$f":"SUM('Atividade 1:Atividade 9'!DI43)+Gerais!DI55","v":0},{"$f":"SUM('Atividade 1:Atividade 9'!DJ43)+Gerais!DJ55","v":0},{"$f":"SUM(CX72:DI72)","v":0},null,{"$f":"SUM('Atividade 1:Atividade 9'!DM43)+Gerais!DM55","v":0},{"$f":"SUM('Atividade 1:Atividade 9'!DN43)+Gerais!DN55","v":0},{"$f":"SUM('Atividade 1:Atividade 9'!DO43)+Gerais!DO55","v":0},{"$f":"SUM('Atividade 1:Atividade 9'!DP43)+Gerais!DP55","v":0},{"$f":"SUM('Atividade 1:Atividade 9'!DQ43)+Gerais!DQ55","v":0},{"$f":"SUM('Atividade 1:Atividade 9'!DR43)+Gerais!DR55","v":0},{"$f":"SUM('Atividade 1:Atividade 9'!DS43)+Gerais!DS55","v":0},{"$f":"SUM('Atividade 1:Atividade 9'!DT43)+Gerais!DT55","v":0},{"$f":"SUM('Atividade 1:Atividade 9'!DU43)+Gerais!DU55","v":0},{"$f":"SUM('Atividade 1:Atividade 9'!DV43)+Gerais!DV55","v":0},{"$f":"SUM('Atividade 1:Atividade 9'!DW43)+Gerais!DW55","v":0},{"$f":"SUM('Atividade 1:Atividade 9'!DX43)+Gerais!DX55","v":0},{"$f":"SUM(DL72:DW72)","v":0},null,{"$f":"SUM('Atividade 1:Atividade 9'!EA43)+Gerais!EA55","v":0},{"$f":"SUM('Atividade 1:Atividade 9'!EB43)+Gerais!EB55","v":0},{"$f":"SUM('Atividade 1:Atividade 9'!EC43)+Gerais!EC55","v":0},{"$f":"SUM('Atividade 1:Atividade 9'!ED43)+Gerais!ED55","v":0},{"$f":"SUM('Atividade 1:Atividade 9'!EE43)+Gerais!EE55","v":0},{"$f":"SUM('Atividade 1:Atividade 9'!EF43)+Gerais!EF55","v":0},{"$f":"SUM('Atividade 1:Atividade 9'!EG43)+Gerais!EG55","v":0},{"$f":"SUM('Atividade 1:Atividade 9'!EH43)+Gerais!EH55","v":0},{"$f":"SUM('Atividade 1:Atividade 9'!EI43)+Gerais!EI55","v":0},{"$f":"SUM('Atividade 1:Atividade 9'!EJ43)+Gerais!EJ55","v":0},{"$f":"SUM('Atividade 1:Atividade 9'!EK43)+Gerais!EK55","v":0},{"$f":"SUM('Atividade 1:Atividade 9'!EL43)+Gerais!EL55","v":0},{"$f":"SUM(DZ72:EK72)","v":0},null,{"$f":"SUM('Atividade 1:Atividade 9'!EO43)+Gerais!EO55","v":0},{"$f":"SUM('Atividade 1:Atividade 9'!EP43)+Gerais!EP55","v":0},{"$f":"SUM('Atividade 1:Atividade 9'!EQ43)+Gerais!EQ55","v":0},{"$f":"SUM('Atividade 1:Atividade 9'!ER43)+Gerais!ER55","v":0},{"$f":"SUM('Atividade 1:Atividade 9'!ES43)+Gerais!ES55","v":0},{"$f":"SUM('Atividade 1:Atividade 9'!ET43)+Gerais!ET55","v":0},{"$f":"SUM('Atividade 1:Atividade 9'!EU43)+Gerais!EU55","v":0},{"$f":"SUM('Atividade 1:Atividade 9'!EV43)+Gerais!EV55","v":0},{"$f":"SUM('Atividade 1:Atividade 9'!EW43)+Gerais!EW55","v":0},{"$f":"SUM('Atividade 1:Atividade 9'!EX43)+Gerais!EX55","v":0},{"$f":"SUM('Atividade 1:Atividade 9'!EY43)+Gerais!EY55","v":0},{"$f":"SUM('Atividade 1:Atividade 9'!EZ43)+Gerais!EZ55","v":0},{"$f":"SUM(EN72:EY72)","v":0},null,{"$f":"SUM('Atividade 1:Atividade 9'!FC43)+Gerais!FC55","v":0},{"$f":"SUM('Atividade 1:Atividade 9'!FD43)+Gerais!FD55","v":0},{"$f":"SUM('Atividade 1:Atividade 9'!FE43)+Gerais!FE55","v":0},{"$f":"SUM('Atividade 1:Atividade 9'!FF43)+Gerais!FF55","v":0},{"$f":"SUM('Atividade 1:Atividade 9'!FG43)+Gerais!FG55","v":0},{"$f":"SUM('Atividade 1:Atividade 9'!FH43)+Gerais!FH55","v":0},{"$f":"SUM('Atividade 1:Atividade 9'!FI43)+Gerais!FI55","v":0},{"$f":"SUM('Atividade 1:Atividade 9'!FJ43)+Gerais!FJ55","v":0},{"$f":"SUM('Atividade 1:Atividade 9'!FK43)+Gerais!FK55","v":0},{"$f":"SUM('Atividade 1:Atividade 9'!FL43)+Gerais!FL55","v":0},{"$f":"SUM('Atividade 1:Atividade 9'!FM43)+Gerais!FM55","v":0},{"$f":"SUM('Atividade 1:Atividade 9'!FN43)+Gerais!FN55","v":0},{"$f":"SUM(FB72:FM72)","v":0}]
[null,null,"R",{"$f":"SUM('Atividade 1:Atividade 9'!E44)+Gerais!E56","v":0},{"$f":"SUM('Atividade 1:Atividade 9'!F44)+Gerais!F56","v":0},{"$f":"SUM('Atividade 1:Atividade 9'!G44)+Gerais!G56","v":0},{"$f":"SUM('Atividade 1:Atividade 9'!H44)+Gerais!H56","v":0},{"$f":"SUM('Atividade 1:Atividade 9'!I44)+Gerais!I56","v":0},{"$f":"SUM('Atividade 1:Atividade 9'!J44)+Gerais!J56","v":0},{"$f":"SUM('Atividade 1:Atividade 9'!K44)+Gerais!K56","v":0},{"$f":"SUM('Atividade 1:Atividade 9'!L44)+Gerais!L56","v":0},{"$f":"SUM('Atividade 1:Atividade 9'!M44)+Gerais!M56","v":0},{"$f":"SUM('Atividade 1:Atividade 9'!N44)+Gerais!N56","v":0},{"$f":"SUM('Atividade 1:Atividade 9'!O44)+Gerais!O56","v":0},{"$f":"SUM('Atividade 1:Atividade 9'!P44)+Gerais!P56","v":0},{"$f":"SUM(D73:O73)","v":0},null,{"$f":"SUM('Atividade 1:Atividade 9'!S44)+Gerais!S56","v":0},{"$f":"SUM('Atividade 1:Atividade 9'!T44)+Gerais!T56","v":0},{"$f":"SUM('Atividade 1:Atividade 9'!U44)+Gerais!U56","v":0},{"$f":"SUM('Atividade 1:Atividade 9'!V44)+Gerais!V56","v":0},{"$f":"SUM('Atividade 1:Atividade 9'!W44)+Gerais!W56","v":0},{"$f":"SUM('Atividade 1:Atividade 9'!X44)+Gerais!X56","v":0},{"$f":"SUM('Atividade 1:Atividade 9'!Y44)+Gerais!Y56","v":0},{"$f":"SUM('Atividade 1:Atividade 9'!Z44)+Gerais!Z56","v":0},{"$f":"SUM('Atividade 1:Atividade 9'!AA44)+Gerais!AA56","v":0},{"$f":"SUM('Atividade 1:Atividade 9'!AB44)+Gerais!AB56","v":0},{"$f":"SUM('Atividade 1:Atividade 9'!AC44)+Gerais!AC56","v":0},{"$f":"SUM('Atividade 1:Atividade 9'!AD44)+Gerais!AD56","v":0},{"$f":"SUM(R73:AC73)","v":0},null,{"$f":"SUM('Atividade 1:Atividade 9'!AG44)+Gerais!AG56","v":0},{"$f":"SUM('Atividade 1:Atividade 9'!AH44)+Gerais!AH56","v":0},{"$f":"SUM('Atividade 1:Atividade 9'!AI44)+Gerais!AI56","v":0},{"$f":"SUM('Atividade 1:Atividade 9'!AJ44)+Gerais!AJ56","v":0},{"$f":"SUM('Atividade 1:Atividade 9'!AK44)+Gerais!AK56","v":0},{"$f":"SUM('Atividade 1:Atividade 9'!AL44)+Gerais!AL56","v":0},{"$f":"SUM('Atividade 1:Atividade 9'!AM44)+Gerais!AM56","v":0},{"$f":"SUM('Atividade 1:Atividade 9'!AN44)+Gerais!AN56","v":0},{"$f":"SUM('Atividade 1:Atividade 9'!AO44)+Gerais!AO56","v":0},{"$f":"SUM('Atividade 1:Atividade 9'!AP44)+Gerais!AP56","v":0},{"$f":"SUM('Atividade 1:Atividade 9'!AQ44)+Gerais!AQ56","v":0},{"$f":"SUM('Atividade 1:Atividade 9'!AR44)+Gerais!AR56","v":0},{"$f":"SUM(AF73:AQ73)","v":0},null,{"$f":"SUM('Atividade 1:Atividade 9'!AU44)+Gerais!AU56","v":0},{"$f":"SUM('Atividade 1:Atividade 9'!AV44)+Gerais!AV56","v":0},{"$f":"SUM('Atividade 1:Atividade 9'!AW44)+Gerais!AW56","v":0},{"$f":"SUM('Atividade 1:Atividade 9'!AX44)+Gerais!AX56","v":0},{"$f":"SUM('Atividade 1:Atividade 9'!AY44)+Gerais!AY56","v":0},{"$f":"SUM('Atividade 1:Atividade 9'!AZ44)+Gerais!AZ56","v":0},{"$f":"SUM('Atividade 1:Atividade 9'!BA44)+Gerais!BA56","v":0},{"$f":"SUM('Atividade 1:Atividade 9'!BB44)+Gerais!BB56","v":0},{"$f":"SUM('Atividade 1:Atividade 9'!BC44)+Gerais!BC56","v":0},{"$f":"SUM('Atividade 1:Atividade 9'!BD44)+Gerais!BD56","v":0},{"$f":"SUM('Atividade 1:Atividade 9'!BE44)+Gerais!BE56","v":0},{"$f":"SUM('Atividade 1:Atividade 9'!BF44)+Gerais!BF56","v":0},{"$f":"SUM(AT73:BE73)","v":0},null,{"$f":"SUM('Atividade 1:Atividade 9'!BH44)+Gerais!BI56","v":0},{"$f":"SUM('Atividade 1:Atividade 9'!BI44)+Gerais!BJ56","v":0},{"$f":"SUM('Atividade 1:Atividade 9'!BJ44)+Gerais!BK56","v":0},{"$f":"SUM('Atividade 1:Atividade 9'!BK44)+Gerais!BL56","v":0},{"$f":"SUM('Atividade 1:Atividade 9'!BL44)+Gerais!BM56","v":0},{"$f":"SUM('Atividade 1:Atividade 9'!BM44)+Gerais!BN56","v":0},{"$f":"SUM('Atividade 1:Atividade 9'!BN44)+Gerais!BO56","v":0},{"$f":"SUM('Atividade 1:Atividade 9'!BO44)+Gerais!BP56","v":0},{"$f":"SUM('Atividade 1:Atividade 9'!BP44)+Gerais!BQ56","v":0},{"$f":"SUM('Atividade 1:Atividade 9'!BQ44)+Gerais!BR56","v":0},{"$f":"SUM('Atividade 1:Atividade 9'!BR44)+Gerais!BS56","v":0},{"$f":"SUM('Atividade 1:Atividade 9'!BS44)+Gerais!BT56","v":0},{"$f":"SUM(BH73:BS73)","v":0},null,{"$f":"SUM('Atividade 1:Atividade 9'!BW44)+Gerais!BW56","v":0},{"$f":"SUM('Atividade 1:Atividade 9'!BX44)+Gerais!BX56","v":0},{"$f":"SUM('Atividade 1:Atividade 9'!BY44)+Gerais!BY56","v":0},{"$f":"SUM('Atividade 1:Atividade 9'!BZ44)+Gerais!BZ56","v":0},{"$f":"SUM('Atividade 1:Atividade 9'!CA44)+Gerais!CA56","v":0},{"$f":"SUM('Atividade 1:Atividade 9'!CB44)+Gerais!CB56","v":0},{"$f":"SUM('Atividade 1:Atividade 9'!CC44)+Gerais!CC56","v":0},{"$f":"SUM('Atividade 1:Atividade 9'!CD44)+Gerais!CD56","v":0},{"$f":"SUM('Atividade 1:Atividade 9'!CE44)+Gerais!CE56","v":0},{"$f":"SUM('Atividade 1:Atividade 9'!CF44)+Gerais!CF56","v":0},{"$f":"SUM('Atividade 1:Atividade 9'!CG44)+Gerais!CG56","v":0},{"$f":"SUM('Atividade 1:Atividade 9'!CH44)+Gerais!CH56","v":0},{"$f":"SUM(BV73:CG73)","v":0},null,{"$f":"SUM('Atividade 1:Atividade 9'!CK44)+Gerais!CK56","v":0},{"$f":"SUM('Atividade 1:Atividade 9'!CL44)+Gerais!CL56","v":0},{"$f":"SUM('Atividade 1:Atividade 9'!CM44)+Gerais!CM56","v":0},{"$f":"SUM('Atividade 1:Atividade 9'!CN44)+Gerais!CN56","v":0},{"$f":"SUM('Atividade 1:Atividade 9'!CO44)+Gerais!CO56","v":0},{"$f":"SUM('Atividade 1:Atividade 9'!CP44)+Gerais!CP56","v":0},{"$f":"SUM('Atividade 1:Atividade 9'!CQ44)+Gerais!CQ56","v":0},{"$f":"SUM('Atividade 1:Atividade 9'!CR44)+Gerais!CR56","v":0},{"$f":"SUM('Atividade 1:Atividade 9'!CS44)+Gerais!CS56","v":0},{"$f":"SUM('Atividade 1:Atividade 9'!CT44)+Gerais!CT56","v":0},{"$f":"SUM('Atividade 1:Atividade 9'!CU44)+Gerais!CU56","v":0},{"$f":"SUM('Atividade 1:Atividade 9'!CV44)+Gerais!CV56","v":0},{"$f":"SUM(CJ73:CU73)","v":0},null,{"$f":"SUM('Atividade 1:Atividade 9'!CY44)+Gerais!CY56","v":0},{"$f":"SUM('Atividade 1:Atividade 9'!CZ44)+Gerais!CZ56","v":0},{"$f":"SUM('Atividade 1:Atividade 9'!DA44)+Gerais!DA56","v":0},{"$f":"SUM('Atividade 1:Atividade 9'!DB44)+Gerais!DB56","v":0},{"$f":"SUM('Atividade 1:Atividade 9'!DC44)+Gerais!DC56","v":0},{"$f":"SUM('Atividade 1:Atividade 9'!DD44)+Gerais!DD56","v":0},{"$f":"SUM('Atividade 1:Atividade 9'!DE44)+Gerais!DE56","v":0},{"$f":"SUM('Atividade 1:Atividade 9'!DF44)+Gerais!DF56","v":0},{"$f":"SUM('Atividade 1:Atividade 9'!DG44)+Gerais!DG56","v":0},{"$f":"SUM('Atividade 1:Atividade 9'!DH44)+Gerais!DH56","v":0},{"$f":"SUM('Atividade 1:Atividade 9'!DI44)+Gerais!DI56","v":0},{"$f":"SUM('Atividade 1:Atividade 9'!DJ44)+Gerais!DJ56","v":0},{"$f":"SUM(CX73:DI73)","v":0},null,{"$f":"SUM('Atividade 1:Atividade 9'!DM44)+Gerais!DM56","v":0},{"$f":"SUM('Atividade 1:Atividade 9'!DN44)+Gerais!DN56","v":0},{"$f":"SUM('Atividade 1:Atividade 9'!DO44)+Gerais!DO56","v":0},{"$f":"SUM('Atividade 1:Atividade 9'!DP44)+Gerais!DP56","v":0},{"$f":"SUM('Atividade 1:Atividade 9'!DQ44)+Gerais!DQ56","v":0},{"$f":"SUM('Atividade 1:Atividade 9'!DR44)+Gerais!DR56","v":0},{"$f":"SUM('Atividade 1:Atividade 9'!DS44)+Gerais!DS56","v":0},{"$f":"SUM('Atividade 1:Atividade 9'!DT44)+Gerais!DT56","v":0},{"$f":"SUM('Atividade 1:Atividade 9'!DU44)+Gerais!DU56","v":0},{"$f":"SUM('Atividade 1:Atividade 9'!DV44)+Gerais!DV56","v":0},{"$f":"SUM('Atividade 1:Atividade 9'!DW44)+Gerais!DW56","v":0},{"$f":"SUM('Atividade 1:Atividade 9'!DX44)+Gerais!DX56","v":0},{"$f":"SUM(DL73:DW73)","v":0},null,{"$f":"SUM('Atividade 1:Atividade 9'!EA44)+Gerais!EA56","v":0},{"$f":"SUM('Atividade 1:Atividade 9'!EB44)+Gerais!EB56","v":0},{"$f":"SUM('Atividade 1:Atividade 9'!EC44)+Gerais!EC56","v":0},{"$f":"SUM('Atividade 1:Atividade 9'!ED44)+Gerais!ED56","v":0},{"$f":"SUM('Atividade 1:Atividade 9'!EE44)+Gerais!EE56","v":0},{"$f":"SUM('Atividade 1:Atividade 9'!EF44)+Gerais!EF56","v":0},{"$f":"SUM('Atividade 1:Atividade 9'!EG44)+Gerais!EG56","v":0},{"$f":"SUM('Atividade 1:Atividade 9'!EH44)+Gerais!EH56","v":0},{"$f":"SUM('Atividade 1:Atividade 9'!EI44)+Gerais!EI56","v":0},{"$f":"SUM('Atividade 1:Atividade 9'!EJ44)+Gerais!EJ56","v":0},{"$f":"SUM('Atividade 1:Atividade 9'!EK44)+Gerais!EK56","v":0},{"$f":"SUM('Atividade 1:Atividade 9'!EL44)+Gerais!EL56","v":0},{"$f":"SUM(DZ73:EK73)","v":0},null,{"$f":"SUM('Atividade 1:Atividade 9'!EO44)+Gerais!EO56","v":0},{"$f":"SUM('Atividade 1:Atividade 9'!EP44)+Gerais!EP56","v":0},{"$f":"SUM('Atividade 1:Atividade 9'!EQ44)+Gerais!EQ56","v":0},{"$f":"SUM('Atividade 1:Atividade 9'!ER44)+Gerais!ER56","v":0},{"$f":"SUM('Atividade 1:Atividade 9'!ES44)+Gerais!ES56","v":0},{"$f":"SUM('Atividade 1:Atividade 9'!ET44)+Gerais!ET56","v":0},{"$f":"SUM('Atividade 1:Atividade 9'!EU44)+Gerais!EU56","v":0},{"$f":"SUM('Atividade 1:Atividade 9'!EV44)+Gerais!EV56","v":0},{"$f":"SUM('Atividade 1:Atividade 9'!EW44)+Gerais!EW56","v":0},{"$f":"SUM('Atividade 1:Atividade 9'!EX44)+Gerais!EX56","v":0},{"$f":"SUM('Atividade 1:Atividade 9'!EY44)+Gerais!EY56","v":0},{"$f":"SUM('Atividade 1:Atividade 9'!EZ44)+Gerais!EZ56","v":0},{"$f":"SUM(EN73:EY73)","v":0},null,{"$f":"SUM('Atividade 1:Atividade 9'!FC44)+Gerais!FC56","v":0},{"$f":"SUM('Atividade 1:Atividade 9'!FD44)+Gerais!FD56","v":0},{"$f":"SUM('Atividade 1:Atividade 9'!FE44)+Gerais!FE56","v":0},{"$f":"SUM('Atividade 1:Atividade 9'!FF44)+Gerais!FF56","v":0},{"$f":"SUM('Atividade 1:Atividade 9'!FG44)+Gerais!FG56","v":0},{"$f":"SUM('Atividade 1:Atividade 9'!FH44)+Gerais!FH56","v":0},{"$f":"SUM('Atividade 1:Atividade 9'!FI44)+Gerais!FI56","v":0},{"$f":"SUM('Atividade 1:Atividade 9'!FJ44)+Gerais!FJ56","v":0},{"$f":"SUM('Atividade 1:Atividade 9'!FK44)+Gerais!FK56","v":0},{"$f":"SUM('Atividade 1:Atividade 9'!FL44)+Gerais!FL56","v":0},{"$f":"SUM('Atividade 1:Atividade 9'!FM44)+Gerais!FM56","v":0},{"$f":"SUM('Atividade 1:Atividade 9'!FN44)+Gerais!FN56","v":0},{"$f":"SUM(FB73:FM73)","v":0}]
["* Os financiamento já estão contabilizadas nas saídas e entradas. Essa tabela apenas apresenta de maneira organizada todos os financiamentos, podendo ser utilizado para controle das parcelas a vencer"]

{"sheet":"Pessoal","index":11,"n_rows":64,"n_cols":183,"rows_kept":64,"cut":false,"hidden":false,"merged":[[2,32,2,44],[2,46,2,58],[0,32,1,44],[0,46,1,58],[0,116,1,128],[0,60,1,72],[0,74,1,86],[0,88,1,100],[0,102,1,114],[0,130,1,142],[28,2,29,2],[2,144,2,156],[2,158,2,170],[2,60,2,72],[2,74,2,86],[2,88,2,100],[2,102,2,114],[2,116,2,128],[0,144,1,156],[0,158,1,170],[2,130,2,142],[2,4,2,16],[2,18,2,30],[0,4,1,16],[0,18,1,30],[4,1,45,1],[4,2,5,2],[6,2,7,2],[8,2,9,2],[10,2,11,2],[12,2,13,2],[14,2,15,2],[16,2,17,2],[18,2,19,2],[20,2,21,2],[22,2,23,2],[24,2,25,2],[26,2,27,2],[30,2,31,2],[42,2,43,2],[44,2,45,2],[60,1,61,2],[62,1,63,2],[59,1,59,2],[48,1,57,1],[48,2,49,2],[50,2,51,2],[54,2,55,2],[56,2,57,2],[52,2,53,2],[32,2,33,2],[34,2,35,2],[36,2,37,2],[38,2,39,2],[40,2,41,2]]}
[null,null,null,null,"Pessoais",null,null,null,null,null,null,null,null,null,null,null,null,null,"Pessoais",null,null,null,null,null,null,null,null,null,null,null,null,null,"Pessoais",null,null,null,null,null,null,null,null,null,null,null,null,null,"Pessoais",null,null,null,null,null,null,null,null,null,null,null,null,null,"Pessoais",null,null,null,null,null,null,null,null,null,null,null,null,null,"Pessoais",null,null,null,null,null,null,null,null,null,null,null,null,null,"Pessoais",null,null,null,null,null,null,null,null,null,null,null,null,null,"Pessoais",null,null,null,null,null,null,null,null,null,null,null,null,null,"Pessoais",null,null,null,null,null,null,null,null,null,null,null,null,null,"Pessoais",null,null,null,null,null,null,null,null,null,null,null,null,null,"Pessoais",null,null,null,null,null,null,null,null,null,null,null,null,null,"Pessoais"]
[null,null,null,null,null,null,null,null,null,null,null,null,null,null,null,null,null,null,null,null,null,null,null,null,null,null,null,null,null,null,null,null,null,null,null,null,null,null,null,null,null,null,null,null,null,null,null,null,null,null,null,null,null,null,null,null,null,null,null,null,null,null,null,null,null,null,null,null,null,null,null,null,null,null,null,null,null,null,null,null,null,null,null,null,null,null,null,null,null,null,null,null,null,null,null,null,null,null,null,null,null,null,null,null,null,null,null,null,null,null,null,null,null,null,null,null,null,null,null,null,null,null,null,null,null,null,null,null,null,null,null,null,null,null,null,null,null,null,null,null,null,null,null,null,null,null,null,null,null,null,null,null,null,null,null,null,null,null,null,null,null,null,null,null,null,null,null,null,null,null,null,null,null,null,null,null,null,null,6,1,{"$f":"VLOOKUP(FX2,FX3:FY14,2,0)","v":2017},{"$f":"VLOOKUP(FY2,$FY$3:$FZ$14,2,0)","v":"R3C5"},6]
[null,null,null,null,{"$f":"MENU!F6","v":0},null,null,null,null,null,null,null,null,null,null,null,null,null,{"$f":"E3+1","v":1},null,null,null,null,null,null,null,null,null,null,null,null,null,{"$f":"S3+1","v":2},null,null,null,null,null,null,null,null,null,null,null,null,null,{"$f":"AG3+1","v":3},null,null,null,null,null,null,null,null,null,null,null,null,null,{"$f":"AU3+1","v":4},null,null,null,null,null,null,null,null,null,null,null,null,null,{"$f":"BI3+1","v":5},null,null,null,null,null,null,null,null,null,null,null,null,null,{"$f":"BW3+1","v":6},null,null,null,null,null,null,null,null,null,null,null,null,null,{"$f":"CK3+1","v":7},null,null,null,null,null,null,null,null,null,null,null,null,null,{"$f":"CY3+1","v":8},null,null,null,null,null,null,null,null,null,null,null,null,null,{"$f":"DM3+1","v":9},null,null,null,null,null,null,null,null,null,null,null,null,null,{"$f":"EA3+1","v":10},null,null,null,null,null,null,null,null,null,null,null,null,null,{"$f":"EO3+1","v":11},null,null,null,null,null,null,null,null,null,null,null,null,null,null,null,null,null,null,null,null,1,2017,"R3C5"]
[null,null,"Descrição de Despesa",null,"Jan","Fev","Mar","Abr","Mai","Jun","Jul","Ago","Set","Out","Nov","Dez","Total",null,"Jan","Fev","Mar","Abr","Mai","Jun","Jul","Ago","Set","Out","Nov","Dez","Total",null,"Jan","Fev","Mar","Abr","Mai","Jun","Jul","Ago","Set","Out","Nov","Dez","Total",null,"Jan","Fev","Mar","Abr","Mai","Jun","Jul","Ago","Set","Out","Nov","Dez","Total",null,"Jan","Fev","Mar","Abr","Mai","Jun","Jul","Ago","Set","Out","Nov","Dez","Total",null,"Jan","Fev","Mar","Abr","Mai","Jun","Jul","Ago","Set","Out","Nov","Dez","Total",null,"Jan","Fev","Mar","Abr","Mai","Jun","Jul","Ago","Set","Out","Nov","Dez","Total",null,"Jan","Fev","Mar","Abr","Mai","Jun","Jul","Ago","Set","Out","Nov","Dez","Total",null,"Jan","Fev","Mar","Abr","Mai","Jun","Jul","Ago","Set","Out","Nov","Dez","Total",null,"Jan","Fev","Mar","Abr","Mai","Jun","Jul","Ago","Set","Out","Nov","Dez","Total",null,"Jan","Fev","Mar","Abr","Mai","Jun","Jul","Ago","Set","Out","Nov","Dez","Total",null,"Jan","Fev","Mar","Abr","Mai","Jun","Jul","Ago","Set","Out","Nov","Dez","Total",null,null,null,null,null,null,null,null,2,2018,"R3C19"]
[{"$f":"C5&D5","v":"MercadoP"},"Saídas de Caixa","Mercado","P",0,0,0,0,0,0,0,0,0,0,0,0,{"$f":"SUM($E$5:$P$5)","v":0},null,0,0,0,0,0,0,0,0,0,0,0,0,{"$f":"SUM($S$5:$AD$5)","v":0},null,0,0,0,0,0,0,0,0,0,0,0,0,{"$f":"SUM($AG$5:$AR$5)","v":0},null,0,0,0,0,0,0,0,0,0,0,0,0,{"$f":"SUM($AU$5:$BF$5)","v":0},null,0,0,0,0,0,0,0,0,0,0,0,0,{"$f":"SUM($BI$5:$BT$5)","v":0},null,0,0,0,0,0,0,0,0,0,0,0,0,{"$f":"SUM($BW$5:$CH$5)","v":0},null,0,0,0,0,0,0,0,0,0,0,0,0,{"$f":"SUM($CK$5:$CV$5)","v":0},null,0,0,0,0,0,0,0,0,0,0,0,0,{"$f":"SUM($CY$5:$DJ$5)","v":0},null,0,0,0,0,0,0,0,0,0,0,0,0,{"$f":"SUM($DM$5:$DX$5)","v":0},null,0,0,0,0,0,0,0,0,0,0,0,0,{"$f":"SUM($EA$5:$EL$5)","v":0},null,0,0,0,0,0,0,0,0,0,0,0,0,{"$f":"SUM($EO$5:$EZ$5)","v":0},null,0,0,0,0,0,0,0,0,0,0,0,0,{"$f":"SUM($FC$5:$FN$5)","v":0},null,null,null,null,null,null,null,null,3,2019,"R3C33"]
[{"$f":"C5&D6","v":"MercadoR"},null,null,"R",null,null,null,null,null,null,null,null,null,null,null,null,{"$f":"SUM($E$6:$P$6)","v":0},null,null,null,null,null,null,null,null,null,null,null,null,null,{"$f":"SUM($S$6:$AD$6)","v":0},null,null,null,null,null,null,null,null,null,null,null,null,null,{"$f":"SUM($AG$6:$AR$6)","v":0},null,null,null,null,null,null,null,null,null,null,null,null,null,{"$f":"SUM($AU$6:$BF$6)","v":0},null,null,null,null,null,null,null,null,null,null,null,null,null,{"$f":"SUM($BI$6:$BT$6)","v":0},null,null,null,null,null,null,null,null,null,null,null,null,null,{"$f":"SUM($BW$6:$CH$6)","v":0},null,null,null,null,null,null,null,null,null,null,null,null,null,{"$f":"SUM($CK$6:$CV$6)","v":0},null,null,null,null,null,null,null,null,null,null,null,null,null,{"$f":"SUM($CY$6:$DJ$6)","v":0},null,null,null,null,null,null,null,null,null,null,null,null,null,{"$f":"SUM($DM$6:$DX$6)","v":0},null,null,null,null,null,null,null,null,null,null,null,null,null,{"$f":"SUM($EA$6:$EL$6)","v":0},null,null,null,null,null,null,null,null,null,null,null,null,null,{"$f":"SUM($EO$6:$EZ$6)","v":0},null,null,null,null,null,null,null,null,null,null,null,null,null,{"$f":"SUM($FC$6:$FN$6)","v":0},null,null,null,null,null,null,null,null,4,2020,"R3C47"]
[{"$f":"C7&D7","v":"EducaçãoP"},null,"Educação","P",0,0,0,0,0,0,0,0,0,0,0,0,{"$f":"SUM($E$7:$P$7)","v":0},null,0,0,0,0,0,0,0,0,0,0,0,0,{"$f":"SUM($S$7:$AD$7)","v":0},null,0,0,0,0,0,0,0,0,0,0,0,0,{"$f":"SUM($AG$7:$AR$7)","v":0},null,0,0,0,0,0,0,0,0,0,0,0,0,{"$f":"SUM($AU$7:$BF$7)","v":0},null,0,0,0,0,0,0,0,0,0,0,0,0,{"$f":"SUM($BI$7:$BT$7)","v":0},null,0,0,0,0,0,0,0,0,0,0,0,0,{"$f":"SUM($BW$7:$CH$7)","v":0},null,0,0,0,0,0,0,0,0,0,0,0,0,{"$f":"SUM($CK$7:$CV$7)","v":0},null,0,0,0,0,0,0,0,0,0,0,0,0,{"$f":"SUM($CY$7:$DJ$7)","v":0},null,0,0,0,0,0,0,0,0,0,0,0,0,{"$f":"SUM($DM$7:$DX$7)","v":0},null,0,0,0,0,0,0,0,0,0,0,0,0,{"$f":"SUM($EA$7:$EL$7)","v":0},null,0,0,0,0,0,0,0,0,0,0,0,0,{"$f":"SUM($EO$7:$EZ$7)","v":0},null,0,0,0,0,0,0,0,0,0,0,0,0,{"$f":"SUM($FC$7:$FN$7)","v":0},null,null,null,null,null,null,null,null,5,2021,"R3C61"]
[{"$f":"C7&D8","v":"EducaçãoR"},null,null,"R",null,null,null,null,null,null,null,null,null,null,null,null,{"$f":"SUM($E$8:$P$8)","v":0},null,null,null,null,null,null,null,null,null,null,null,null,null,{"$f":"SUM($S$8:$AD$8)","v":0},null,null,null,null,null,null,null,null,null,null,null,null,null,{"$f":"SUM($AG$8:$AR$8)","v":0},null,null,null,null,null,null,null,null,null,null,null,null,null,{"$f":"SUM($AU$8:$BF$8)","v":0},null,null,null,null,null,null,null,null,null,null,null,null,null,{"$f":"SUM($BI$8:$BT$8)","v":0},null,null,null,null,null,null,null,null,null,null,null,null,null,{"$f":"SUM($BW$8:$CH$8)","v":0},null,null,null,null,null,null,null,null,null,null,null,null,null,{"$f":"SUM($CK$8:$CV$8)","v":0},null,null,null,null,null,null,null,null,null,null,null,null,null,{"$f":"SUM($CY$8:$DJ$8)","v":0},null,null,null,null,null,null,null,null,null,null,null,null,null,{"$f":"SUM($DM$8:$DX$8)","v":0},null,null,null,null,null,null,null,null,null,null,null,null,null,{"$f":"SUM($EA$8:$EL$8)","v":0},null,null,null,null,null,null,null,null,null,null,null,null,null,{"$f":"SUM($EO$8:$EZ$8)","v":0},null,null,null,null,null,null,null,null,null,null,null,null,null,{"$f":"SUM($FC$8:$FN$8)","v":0},null,null,null,null,null,null,null,null,6,2022,"R3C75"]
[{"$f":"C9&D9","v":"VestuarioP"},null,"Vestuario","P",0,0,0,0,0,0,0,0,0,0,0,0,{"$f":"SUM($E$9:$P$9)","v":0},null,0,0,0,0,0,0,0,0,0,0,0,0,{"$f":"SUM($S$9:$AD$9)","v":0},null,0,0,0,0,0,0,0,0,0,0,0,0,{"$f":"SUM($AG$9:$AR$9)","v":0},null,0,0,0,0,0,0,0,0,0,0,0,0,{"$f":"SUM($AU$9:$BF$9)","v":0},null,0,0,0,0,0,0,0,0,0,0,0,0,{"$f":"SUM($BI$9:$BT$9)","v":0},null,0,0,0,0,0,0,0,0,0,0,0,0,{"$f":"SUM($BW$9:$CH$9)","v":0},null,0,0,0,0,0,0,0,0,0,0,0,0,{"$f":"SUM($CK$9:$CV$9)","v":0},null,0,0,0,0,0,0,0,0,0,0,0,0,{"$f":"SUM($CY$9:$DJ$9)","v":0},null,0,0,0,0,0,0,0,0,0,0,0,0,{"$f":"SUM($DM$9:$DX$9)","v":0},null,0,0,0,0,0,0,0,0,0,0,0,0,{"$f":"SUM($EA$9:$EL$9)","v":0},null,0,0,0,0,0,0,0,0,0,0,0,0,{"$f":"SUM($EO$9:$EZ$9)","v":0},null,0,0,0,0,0,0,0,0,0,0,0,0,{"$f":"SUM($FC$9:$FN$9)","v":0},null,null,null,null,null,null,null,null,7,2023,"R3C89"]
[{"$f":"C9&D10","v":"VestuarioR"},null,null,"R",null,null,null,null,null,null,null,null,null,null,null,null,{"$f":"SUM($E$10:$P$10)","v":0},null,null,null,null,null,null,null,null,null,null,null,null,null,{"$f":"SUM($S$10:$AD$10)","v":0},null,null,null,null,null,null,null,null,null,null,null,null,null,{"$f":"SUM($AG$10:$AR$10)","v":0},null,null,null,null,null,null,null,null,null,null,null,null,null,{"$f":"SUM($AU$10:$BF$10)","v":0},null,null,null,null,null,null,null,null,null,null,null,null,null,{"$f":"SUM($BI$10:$BT$10)","v":0},null,null,null,null,null,null,null,null,null,null,null,null,null,{"$f":"SUM($BW$10:$CH$10)","v":0},null,null,null,null,null,null,null,null,null,null,null,null,null,{"$f":"SUM($CK$10:$CV$10)","v":0},null,null,null,null,null,null,null,null,null,null,null,null,null,{"$f":"SUM($CY$10:$DJ$10)","v":0},null,null,null,null,null,null,null,null,null,null,null,null,null,{"$f":"SUM($DM$10:$DX$10)","v":0},null,null,null,null,null,null,null,null,null,null,null,null,null,{"$f":"SUM($EA$10:$EL$10)","v":0},null,null,null,null,null,null,null,null,null,null,null,null,null,{"$f":"SUM($EO$10:$EZ$10)","v":0},null,null,null,null,null,null,null,null,null,null,null,null,null,{"$f":"SUM($FC$10:$FN$10)","v":0},null,null,null,null,null,null,null,null,8,2024,"R3C103"]
[{"$f":"C11&D11","v":"SaúdeP"},null,"Saúde","P",0,0,0,0,0,0,0,0,0,0,0,0,{"$f":"SUM($E$11:$P$11)","v":0},null,0,0,0,0,0,0,0,0,0,0,0,0,{"$f":"SUM($S$11:$AD$11)","v":0},null,0,0,0,0,0,0,0,0,0,0,0,0,{"$f":"SUM($AG$11:$AR$11)","v":0},null,0,0,0,0,0,0,0,0,0,0,0,0,{"$f":"SUM($AU$11:$BF$11)","v":0},null,0,0,0,0,0,0,0,0,0,0,0,0,{"$f":"SUM($BI$11:$BT$11)","v":0},null,0,0,0,0,0,0,0,0,0,0,0,0,{"$f":"SUM($BW$11:$CH$11)","v":0},null,0,0,0,0,0,0,0,0,0,0,0,0,{"$f":"SUM($CK$11:$CV$11)","v":0},null,0,0,0,0,0,0,0,0,0,0,0,0,{"$f":"SUM($CY$11:$DJ$11)","v":0},null,0,0,0,0,0,0,0,0,0,0,0,0,{"$f":"SUM($DM$11:$DX$11)","v":0},null,0,0,0,0,0,0,0,0,0,0,0,0,{"$f":"SUM($EA$11:$EL$11)","v":0},null,0,0,0,0,0,0,0,0,0,0,0,0,{"$f":"SUM($EO$11:$EZ$11)","v":0},null,0,0,0,0,0,0,0,0,0,0,0,0,{"$f":"SUM($FC$11:$FN$11)","v":0},null,null,null,null,null,null,null,null,9,2025,"R3C117"]
[{"$f":"C11&D12","v":"SaúdeR"},null,null,"R",null,null,null,null,null,null,null,null,null,null,null,null,{"$f":"SUM($E$12:$P$12)","v":0},null,null,null,null,null,null,null,null,null,null,null,null,null,{"$f":"SUM($S$12:$AD$12)","v":0},null,null,null,null,null,null,null,null,null,null,null,null,null,{"$f":"SUM($AG$12:$AR$12)","v":0},null,null,null,null,null,null,null,null,null,null,null,null,null,{"$f":"SUM($AU$12:$BF$12)","v":0},null,null,null,null,null,null,null,null,null,null,null,null,null,{"$f":"SUM($BI$12:$BT$12)","v":0},null,null,null,null,null,null,null,null,null,null,null,null,null,{"$f":"SUM($BW$12:$CH$12)","v":0},null,null,null,null,null,null,null,null,null,null,null,null,null,{"$f":"SUM($CK$12:$CV$12)","v":0},null,null,null,null,null,null,null,null,null,null,null,null,null,{"$f":"SUM($CY$12:$DJ$12)","v":0},null,null,null,null,null,null,null,null,null,null,null,null,null,{"$f":"SUM($DM$12:$DX$12)","v":0},null,null,null,null,null,null,null,null,null,null,null,null,null,{"$f":"SUM($EA$12:$EL$12)","v":0},null,null,null,null,null,null,null,null,null,null,null,null,null,{"$f":"SUM($EO$12:$EZ$12)","v":0},null,null,null,null,null,null,null,null,null,null,null,null,null,{"$f":"SUM($FC$12:$FN$12)","v":0},null,null,null,null,null,null,null,null,10,2026,"R3C131"]
[{"$f":"C13&D13","v":"LaserP"},null,"Laser","P",0,0,0,0,0,0,0,0,0,0,0,0,{"$f":"SUM($E$13:$P$13)","v":0},null,0,0,0,0,0,0,0,0,0,0,0,0,{"$f":"SUM($S$13:$AD$13)","v":0},null,0,0,0,0,0,0,0,0,0,0,0,0,{"$f":"SUM($AG$13:$AR$13)","v":0},null,0,0,0,0,0,0,0,0,0,0,0,0,{"$f":"SUM($AU$13:$BF$13)","v":0},null,0,0,0,0,0,0,0,0,0,0,0,0,{"$f":"SUM($BI$13:$BT$13)","v":0},null,0,0,0,0,0,0,0,0,0,0,0,0,{"$f":"SUM($BW$13:$CH$13)","v":0},null,0,0,0,0,0,0,0,0,0,0,0,0,{"$f":"SUM($CK$13:$CV$13)","v":0},null,0,0,0,0,0,0,0,0,0,0,0,0,{"$f":"SUM($CY$13:$DJ$13)","v":0},null,0,0,0,0,0,0,0,0,0,0,0,0,{"$f":"SUM($DM$13:$DX$13)","v":0},null,0,0,0,0,0,0,0,0,0,0,0,0,{"$f":"SUM($EA$13:$EL$13)","v":0},null,0,0,0,0,0,0,0,0,0,0,0,0,{"$f":"SUM($EO$13:$EZ$13)","v":0},null,0,0,0,0,0,0,0,0,0,0,0,0,{"$f":"SUM($FC$13:$FN$13)","v":0},null,null,null,null,null,null,null,null,11,2027,"R3C145"]
[{"$f":"C13&D14","v":"LaserR"},null,null,"R",null,null,null,null,null,null,null,null,null,null,null,null,{"$f":"SUM($E$14:$P$14)","v":0},null,null,null,null,null,null,null,null,null,null,null,null,null,{"$f":"SUM($S$14:$AD$14)","v":0},null,null,null,null,null,null,null,null,null,null,null,null,null,{"$f":"SUM($AG$14:$AR$14)","v":0},null,null,null,null,null,null,null,null,null,null,null,null,null,{"$f":"SUM($AU$14:$BF$14)","v":0},null,null,null,null,null,null,null,null,null,null,null,null,null,{"$f":"SUM($BI$14:$BT$14)","v":0},null,null,null,null,null,null,null,null,null,null,null,null,null,{"$f":"SUM($BW$14:$CH$14)","v":0},null,null,null,null,null,null,null,null,null,null,null,null,null,{"$f":"SUM($CK$14:$CV$14)","v":0},null,null,null,null,null,null,null,null,null,null,null,null,null,{"$f":"SUM($CY$14:$DJ$14)","v":0},null,null,null,null,null,null,null,null,null,null,null,null,null,{"$f":"SUM($DM$14:$DX$14)","v":0},null,null,null,null,null,null,null,null,null,null,null,null,null,{"$f":"SUM($EA$14:$EL$14)","v":0},null,null,null,null,null,null,null,null,null,null,null,null,null,{"$f":"SUM($EO$14:$EZ$14)","v":0},null,null,null,null,null,null,null,null,null,null,null,null,null,{"$f":"SUM($FC$14:$FN$14)","v":0},null,null,null,null,null,null,null,null,12,2028,"R3C159"]
[{"$f":"C15&D15","v":"ComunicaçãoP"},null,"Comunicação","P",0,0,0,0,0,0,0,0,0,0,0,0,{"$f":"SUM($E$15:$P$15)","v":0},null,0,0,0,0,0,0,0,0,0,0,0,0,{"$f":"SUM($S$15:$AD$15)","v":0},null,0,0,0,0,0,0,0,0,0,0,0,0,{"$f":"SUM($AG$15:$AR$15)","v":0},null,0,0,0,0,0,0,0,0,0,0,0,0,{"$f":"SUM($AU$15:$BF$15)","v":0},null,0,0,0,0,0,0,0,0,0,0,0,0,{"$f":"SUM($BI$15:$BT$15)","v":0},null,0,0,0,0,0,0,0,0,0,0,0,0,{"$f":"SUM($BW$15:$CH$15)","v":0},null,0,0,0,0,0,0,0,0,0,0,0,0,{"$f":"SUM($CK$15:$CV$15)","v":0},null,0,0,0,0,0,0,0,0,0,0,0,0,{"$f":"SUM($CY$15:$DJ$15)","v":0},null,0,0,0,0,0,0,0,0,0,0,0,0,{"$f":"SUM($DM$15:$DX$15)","v":0},null,0,0,0,0,0,0,0,0,0,0,0,0,{"$f":"SUM($EA$15:$EL$15)","v":0},null,0,0,0,0,0,0,0,0,0,0,0,0,{"$f":"SUM($EO$15:$EZ$15)","v":0},null,0,0,0,0,0,0,0,0,0,0,0,0,{"$f":"SUM($FC$15:$FN$15)","v":0}]
[{"$f":"C15&D16","v":"ComunicaçãoR"},null,null,"R",null,null,null,null,null,null,null,null,null,null,null,null,{"$f":"SUM($E$16:$P$16)","v":0},null,null,null,null,null,null,null,null,null,null,null,null,null,{"$f":"SUM($S$16:$AD$16)","v":0},null,null,null,null,null,null,null,null,null,null,null,null,null,{"$f":"SUM($AG$16:$AR$16)","v":0},null,null,null,null,null,null,null,null,null,null,null,null,null,{"$f":"SUM($AU$16:$BF$16)","v":0},null,null,null,null,null,null,null,null,null,null,null,null,null,{"$f":"SUM($BI$16:$BT$16)","v":0},null,null,null,null,null,null,null,null,null,null,null,null,null,{"$f":"SUM($BW$16:$CH$16)","v":0},null,null,null,null,null,null,null,null,null,null,null,null,null,{"$f":"SUM($CK$16:$CV$16)","v":0},null,null,null,null,null,null,null,null,null,null,null,null,null,{"$f":"SUM($CY$16:$DJ$16)","v":0},null,null,null,null,null,null,null,null,null,null,null,null,null,{"$f":"SUM($DM$16:$DX$16)","v":0},null,null,null,null,null,null,null,null,null,null,null,null,null,{"$f":"SUM($EA$16:$EL$16)","v":0},null,null,null,null,null,null,null,null,null,null,null,null,null,{"$f":"SUM($EO$16:$EZ$16)","v":0},null,null,null,null,null,null,null,null,null,null,null,null,null,{"$f":"SUM($FC$16:$FN$16)","v":0}]
[{"$f":"C17&D17","v":"ÁguaP"},null,"Água","P",0,0,0,0,0,0,0,0,0,0,0,0,{"$f":"SUM($E$17:$P$17)","v":0},null,0,0,0,0,0,0,0,0,0,0,0,0,{"$f":"SUM($S$17:$AD$17)","v":0},null,0,0,0,0,0,0,0,0,0,0,0,0,{"$f":"SUM($AG$17:$AR$17)","v":0},null,0,0,0,0,0,0,0,0,0,0,0,0,{"$f":"SUM($AU$17:$BF$17)","v":0},null,0,0,0,0,0,0,0,0,0,0,0,0,{"$f":"SUM($BI$17:$BT$17)","v":0},null,0,0,0,0,0,0,0,0,0,0,0,0,{"$f":"SUM($BW$17:$CH$17)","v":0},null,0,0,0,0,0,0,0,0,0,0,0,0,{"$f":"SUM($CK$17:$CV$17)","v":0},null,0,0,0,0,0,0,0,0,0,0,0,0,{"$f":"SUM($CY$17:$DJ$17)","v":0},null,0,0,0,0,0,0,0,0,0,0,0,0,{"$f":"SUM($DM$17:$DX$17)","v":0},null,0,0,0,0,0,0,0,0,0,0,0,0,{"$f":"SUM($EA$17:$EL$17)","v":0},null,0,0,0,0,0,0,0,0,0,0,0,0,{"$f":"SUM($EO$17:$EZ$17)","v":0},null,0,0,0,0,0,0,0,0,0,0,0,0,{"$f":"SUM($FC$17:$FN$17)","v":0}]
[{"$f":"C17&D18","v":"ÁguaR"},null,null,"R",null,null,null,null,null,null,null,null,null,null,null,null,{"$f":"SUM($E$18:$P$18)","v":0},null,null,null,null,null,null,null,null,null,null,null,null,null,{"$f":"SUM($S$18:$AD$18)","v":0},null,null,null,null,null,null,null,null,null,null,null,null,null,{"$f":"SUM($AG$18:$AR$18)","v":0},null,null,null,null,null,null,null,null,null,null,null,null,null,{"$f":"SUM($AU$18:$BF$18)","v":0},null,null,null,null,null,null,null,null,null,null,null,null,null,{"$f":"SUM($BI$18:$BT$18)","v":0},null,null,null,null,null,null,null,null,null,null,null,null,null,{"$f":"SUM($BW$18:$CH$18)","v":0},null,null,null,null,null,null,null,null,null,null,null,null,null,{"$f":"SUM($CK$18:$CV$18)","v":0},null,null,null,null,null,null,null,null,null,null,null,null,null,{"$f":"SUM($CY$18:$DJ$18)","v":0},null,null,null,null,null,null,null,null,null,null,null,null,null,{"$f":"SUM($DM$18:$DX$18)","v":0},null,null,null,null,null,null,null,null,null,null,null,null,null,{"$f":"SUM($EA$18:$EL$18)","v":0},null,null,null,null,null,null,null,null,null,null,null,null,null,{"$f":"SUM($EO$18:$EZ$18)","v":0},null,null,null,null,null,null,null,null,null,null,null,null,null,{"$f":"SUM($FC$18:$FN$18)","v":0}]
[{"$f":"C19&D19","v":"LuzP"},null,"Luz","P",0,0,0,0,0,0,0,0,0,0,0,0,{"$f":"SUM($E$19:$P$19)","v":0},null,0,0,0,0,0,0,0,0,0,0,0,0,{"$f":"SUM($S$19:$AD$19)","v":0},null,0,0,0,0,0,0,0,0,0,0,0,0,{"$f":"SUM($AG$19:$AR$19)","v":0},null,0,0,0,0,0,0,0,0,0,0,0,0,{"$f":"SUM($AU$19:$BF$19)","v":0},null,0,0,0,0,0,0,0,0,0,0,0,0,{"$f":"SUM($BI$19:$BT$19)","v":0},null,0,0,0,0,0,0,0,0,0,0,0,0,{"$f":"SUM($BW$19:$CH$19)","v":0},null,0,0,0,0,0,0,0,0,0,0,0,0,{"$f":"SUM($CK$19:$CV$19)","v":0},null,0,0,0,0,0,0,0,0,0,0,0,0,{"$f":"SUM($CY$19:$DJ$19)","v":0},null,0,0,0,0,0,0,0,0,0,0,0,0,{"$f":"SUM($DM$19:$DX$19)","v":0},null,0,0,0,0,0,0,0,0,0,0,0,0,{"$f":"SUM($EA$19:$EL$19)","v":0},null,0,0,0,0,0,0,0,0,0,0,0,0,{"$f":"SUM($EO$19:$EZ$19)","v":0},null,0,0,0,0,0,0,0,0,0,0,0,0,{"$f":"SUM($FC$19:$FN$19)","v":0}]
[{"$f":"C19&D20","v":"LuzR"},null,null,"R",null,null,null,null,null,null,null,null,null,null,null,null,{"$f":"SUM($E$20:$P$20)","v":0},null,null,null,null,null,null,null,null,null,null,null,null,null,{"$f":"SUM($S$20:$AD$20)","v":0},null,null,null,null,null,null,null,null,null,null,null,null,null,{"$f":"SUM($AG$20:$AR$20)","v":0},null,null,null,null,null,null,null,null,null,null,null,null,null,{"$f":"SUM($AU$20:$BF$20)","v":0},null,null,null,null,null,null,null,null,null,null,null,null,null,{"$f":"SUM($BI$20:$BT$20)","v":0},null,null,null,null,null,null,null,null,null,null,null,null,null,{"$f":"SUM($BW$20:$CH$20)","v":0},null,null,null,null,null,null,null,null,null,null,null,null,null,{"$f":"SUM($CK$20:$CV$20)","v":0},null,null,null,null,null,null,null,null,null,null,null,null,null,{"$f":"SUM($CY$20:$DJ$20)","v":0},null,null,null,null,null,null,null,null,null,null,null,null,null,{"$f":"SUM($DM$20:$DX$20)","v":0},null,null,null,null,null,null,null,null,null,null,null,null,null,{"$f":"SUM($EA$20:$EL$20)","v":0},null,null,null,null,null,null,null,null,null,null,null,null,null,{"$f":"SUM($EO$20:$EZ$20)","v":0},null,null,null,null,null,null,null,null,null,null,null,null,null,{"$f":"SUM($FC$20:$FN$20)","v":0}]
[{"$f":"C21&D21","v":"Bens de consumoP"},null,"Bens de consumo","P",0,0,0,0,0,0,0,0,0,0,0,0,{"$f":"SUM($E$21:$P$21)","v":0},null,0,0,0,0,0,0,0,0,0,0,0,0,{"$f":"SUM($S$21:$AD$21)","v":0},null,0,0,0,0,0,0,0,0,0,0,0,0,{"$f":"SUM($AG$21:$AR$21)","v":0},null,0,0,0,0,0,0,0,0,0,0,0,0,{"$f":"SUM($AU$21:$BF$21)","v":0},null,0,0,0,0,0,0,0,0,0,0,0,0,{"$f":"SUM($BI$21:$BT$21)","v":0},null,0,0,0,0,0,0,0,0,0,0,0,0,{"$f":"SUM($BW$21:$CH$21)","v":0},null,0,0,0,0,0,0,0,0,0,0,0,0,{"$f":"SUM($CK$21:$CV$21)","v":0},null,0,0,0,0,0,0,0,0,0,0,0,0,{"$f":"SUM($CY$21:$DJ$21)","v":0},null,0,0,0,0,0,0,0,0,0,0,0,0,{"$f":"SUM($DM$21:$DX$21)","v":0},null,0,0,0,0,0,0,0,0,0,0,0,0,{"$f":"SUM($EA$21:$EL$21)","v":0},null,0,0,0,0,0,0,0,0,0,0,0,0,{"$f":"SUM($EO$21:$EZ$21)","v":0},null,0,0,0,0,0,0,0,0,0,0,0,0,{"$f":"SUM($FC$21:$FN$21)","v":0}]
[{"$f":"C21&D22","v":"Bens de consumoR"},null,null,"R",null,null,null,null,null,null,null,null,null,null,null,null,{"$f":"SUM($E$22:$P$22)","v":0},null,null,null,null,null,null,null,null,null,null,null,null,null,{"$f":"SUM($S$22:$AD$22)","v":0},null,null,null,null,null,null,null,null,null,null,null,null,null,{"$f":"SUM($AG$22:$AR$22)","v":0},null,null,null,null,null,null,null,null,null,null,null,null,null,{"$f":"SUM($AU$22:$BF$22)","v":0},null,null,null,null,null,null,null,null,null,null,null,null,null,{"$f":"SUM($BI$22:$BT$22)","v":0},null,null,null,null,null,null,null,null,null,null,null,null,null,{"$f":"SUM($BW$22:$CH$22)","v":0},null,null,null,null,null,null,null,null,null,null,null,null,null,{"$f":"SUM($CK$22:$CV$22)","v":0},null,null,null,null,null,null,null,null,null,null,null,null,null,{"$f":"SUM($CY$22:$DJ$22)","v":0},null,null,null,null,null,null,null,null,null,null,null,null,null,{"$f":"SUM($DM$22:$DX$22)","v":0},null,null,null,null,null,null,null,null,null,null,null,null,null,{"$f":"SUM($EA$22:$EL$22)","v":0},null,null,null,null,null,null,null,null,null,null,null,null,null,{"$f":"SUM($EO$22:$EZ$22)","v":0},null,null,null,null,null,null,null,null,null,null,null,null,null,{"$f":"SUM($FC$22:$FN$22)","v":0}]
[{"$f":"C23&D23","v":"ManutençãoP"},null,"Manutenção","P",0,0,0,0,0,0,0,0,0,0,0,0,{"$f":"SUM($E$23:$P$23)","v":0},null,0,0,0,0,0,0,0,0,0,0,0,0,{"$f":"SUM($S$23:$AD$23)","v":0},null,0,0,0,0,0,0,0,0,0,0,0,0,{"$f":"SUM($AG$23:$AR$23)","v":0},null,0,0,0,0,0,0,0,0,0,0,0,0,{"$f":"SUM($AU$23:$BF$23)","v":0},null,0,0,0,0,0,0,0,0,0,0,0,0,{"$f":"SUM($BI$23:$BT$23)","v":0},null,0,0,0,0,0,0,0,0,0,0,0,0,{"$f":"SUM($BW$23:$CH$23)","v":0},null,0,0,0,0,0,0,0,0,0,0,0,0,{"$f":"SUM($CK$23:$CV$23)","v":0},null,0,0,0,0,0,0,0,0,0,0,0,0,{"$f":"SUM($CY$23:$DJ$23)","v":0},null,0,0,0,0,0,0,0,0,0,0,0,0,{"$f":"SUM($DM$23:$DX$23)","v":0},null,0,0,0,0,0,0,0,0,0,0,0,0,{"$f":"SUM($EA$23:$EL$23)","v":0},null,0,0,0,0,0,0,0,0,0,0,0,0,{"$f":"SUM($EO$23:$EZ$23)","v":0},null,0,0,0,0,0,0,0,0,0,0,0,0,{"$f":"SUM($FC$23:$FN$23)","v":0}]
[{"$f":"C23&D24","v":"ManutençãoR"},null,null,"R",null,null,null,null,null,null,null,null,null,null,null,null,{"$f":"SUM($E$24:$P$24)","v":0},null,null,null,null,null,null,null,null,null,null,null,null,null,{"$f":"SUM($S$24:$AD$24)","v":0},null,null,null,null,null,null,null,null,null,null,null,null,null,{"$f":"SUM($AG$24:$AR$24)","v":0},null,null,null,null,null,null,null,null,null,null,null,null,null,{"$f":"SUM($AU$24:$BF$24)","v":0},null,null,null,null,null,null,null,null,null,null,null,null,null,{"$f":"SUM($BI$24:$BT$24)","v":0},null,null,null,null,null,null,null,null,null,null,null,null,null,{"$f":"SUM($BW$24:$CH$24)","v":0},null,null,null,null,null,null,null,null,null,null,null,null,null,{"$f":"SUM($CK$24:$CV$24)","v":0},null,null,null,null,null,null,null,null,null,null,null,null,null,{"$f":"SUM($CY$24:$DJ$24)","v":0},null,null,null,null,null,null,null,null,null,null,null,null,null,{"$f":"SUM($DM$24:$DX$24)","v":0},null,null,null,null,null,null,null,null,null,null,null,null,null,{"$f":"SUM($EA$24:$EL$24)","v":0},null,null,null,null,null,null,null,null,null,null,null,null,null,{"$f":"SUM($EO$24:$EZ$24)","v":0},null,null,null,null,null,null,null,null,null,null,null,null,null,{"$f":"SUM($FC$24:$FN$24)","v":0}]
[{"$f":"C25&D25","v":"Seguro da residênciaP"},null,"Seguro da residência","P",0,0,0,0,0,0,0,0,0,0,0,0,{"$f":"SUM($E$25:$P$25)","v":0},null,0,0,0,0,0,0,0,0,0,0,0,0,{"$f":"SUM($S$25:$AD$25)","v":0},null,0,0,0,0,0,0,0,0,0,0,0,0,{"$f":"SUM($AG$25:$AR$25)","v":0},null,0,0,0,0,0,0,0,0,0,0,0,0,{"$f":"SUM($AU$25:$BF$25)","v":0},null,0,0,0,0,0,0,0,0,0,0,0,0,{"$f":"SUM($BI$25:$BT$25)","v":0},null,0,0,0,0,0,0,0,0,0,0,0,0,{"$f":"SUM($BW$25:$CH$25)","v":0},null,0,0,0,0,0,0,0,0,0,0,0,0,{"$f":"SUM($CK$25:$CV$25)","v":0},null,0,0,0,0,0,0,0,0,0,0,0,0,{"$f":"SUM($CY$25:$DJ$25)","v":0},null,0,0,0,0,0,0,0,0,0,0,0,0,{"$f":"SUM($DM$25:$DX$25)","v":0},null,0,0,0,0,0,0,0,0,0,0,0,0,{"$f":"SUM($EA$25:$EL$25)","v":0},null,0,0,0,0,0,0,0,0,0,0,0,0,{"$f":"SUM($EO$25:$EZ$25)","v":0},null,0,0,0,0,0,0,0,0,0,0,0,0,{"$f":"SUM($FC$25:$FN$25)","v":0}]
[{"$f":"C25&D26","v":"Seguro da residênciaR"},null,null,"R",null,null,null,null,null,null,null,null,null,null,null,null,{"$f":"SUM($E$26:$P$26)","v":0},null,null,null,null,null,null,null,null,null,null,null,null,null,{"$f":"SUM($S$26:$AD$26)","v":0},null,null,null,null,null,null,null,null,null,null,null,null,null,{"$f":"SUM($AG$26:$AR$26)","v":0},null,null,null,null,null,null,null,null,null,null,null,null,null,{"$f":"SUM($AU$26:$BF$26)","v":0},null,null,null,null,null,null,null,null,null,null,null,null,null,{"$f":"SUM($BI$26:$BT$26)","v":0},null,null,null,null,null,null,null,null,null,null,null,null,null,{"$f":"SUM($BW$26:$CH$26)","v":0},null,null,null,null,null,null,null,null,null,null,null,null,null,{"$f":"SUM($CK$26:$CV$26)","v":0},null,null,null,null,null,null,null,null,null,null,null,null,null,{"$f":"SUM($CY$26:$DJ$26)","v":0},null,null,null,null,null,null,null,null,null,null,null,null,null,{"$f":"SUM($DM$26:$DX$26)","v":0},null,null,null,null,null,null,null,null,null,null,null,null,null,{"$f":"SUM($EA$26:$EL$26)","v":0},null,null,null,null,null,null,null,null,null,null,null,null,null,{"$f":"SUM($EO$26:$EZ$26)","v":0},null,null,null,null,null,null,null,null,null,null,null,null,null,{"$f":"SUM($FC$26:$FN$26)","v":0}]
[{"$f":"C27&D27","v":"AP"},null,"A","P",0,0,0,0,0,0,0,0,0,0,0,0,{"$f":"SUM($E$27:$P$27)","v":0},null,0,0,0,0,0,0,0,0,0,0,0,0,{"$f":"SUM($S$27:$AD$27)","v":0},null,0,0,0,0,0,0,0,0,0,0,0,0,{"$f":"SUM($AG$27:$AR$27)","v":0},null,0,0,0,0,0,0,0,0,0,0,0,0,{"$f":"SUM($AU$27:$BF$27)","v":0},null,0,0,0,0,0,0,0,0,0,0,0,0,{"$f":"SUM($BI$27:$BT$27)","v":0},null,0,0,0,0,0,0,0,0,0,0,0,0,{"$f":"SUM($BW$27:$CH$27)","v":0},null,0,0,0,0,0,0,0,0,0,0,0,0,{"$f":"SUM($CK$27:$CV$27)","v":0},null,0,0,0,0,0,0,0,0,0,0,0,0,{"$f":"SUM($CY$27:$DJ$27)","v":0},null,0,0,0,0,0,0,0,0,0,0,0,0,{"$f":"SUM($DM$27:$DX$27)","v":0},null,0,0,0,0,0,0,0,0,0,0,0,0,{"$f":"SUM($EA$27:$EL$27)","v":0},null,0,0,0,0,0,0,0,0,0,0,0,0,{"$f":"SUM($EO$27:$EZ$27)","v":0},null,0,0,0,0,0,0,0,0,0,0,0,0,{"$f":"SUM($FC$27:$FN$27)","v":0}]
[{"$f":"C27&D28","v":"AR"},null,null,"R",null,null,null,null,null,null,null,null,null,null,null,null,{"$f":"SUM($E$28:$P$28)","v":0},null,null,null,null,null,null,null,null,null,null,null,null,null,{"$f":"SUM($S$28:$AD$28)","v":0},null,null,null,null,null,null,null,null,null,null,null,null,null,{"$f":"SUM($AG$28:$AR$28)","v":0},null,null,null,null,null,null,null,null,null,null,null,null,null,{"$f":"SUM($AU$28:$BF$28)","v":0},null,null,null,null,null,null,null,null,null,null,null,null,null,{"$f":"SUM($BI$28:$BT$28)","v":0},null,null,null,null,null,null,null,null,null,null,null,null,null,{"$f":"SUM($BW$28:$CH$28)","v":0},null,null,null,null,null,null,null,null,null,null,null,null,null,{"$f":"SUM($CK$28:$CV$28)","v":0},null,null,null,null,null,null,null,null,null,null,null,null,null,{"$f":"SUM($CY$28:$DJ$28)","v":0},null,null,null,null,null,null,null,null,null,null,null,null,null,{"$f":"SUM($DM$28:$DX$28)","v":0},null,null,null,null,null,null,null,null,null,null,null,null,null,{"$f":"SUM($EA$28:$EL$28)","v":0},null,null,null,null,null,null,null,null,null,null,null,null,null,{"$f":"SUM($EO$28:$EZ$28)","v":0},null,null,null,null,null,null,null,null,null,null,null,null,null,{"$f":"SUM($FC$28:$FN$28)","v":0}]
[{"$f":"C29&D29","v":"BP"},null,"B","P",0,0,0,0,0,0,0,0,0,0,0,0,{"$f":"SUM($E$29:$P$29)","v":0},null,0,0,0,0,0,0,0,0,0,0,0,0,{"$f":"SUM($S$29:$AD$29)","v":0},null,0,0,0,0,0,0,0,0,0,0,0,0,{"$f":"SUM($AG$29:$AR$29)","v":0},null,0,0,0,0,0,0,0,0,0,0,0,0,{"$f":"SUM($AU$29:$BF$29)","v":0},null,0,0,0,0,0,0,0,0,0,0,0,0,{"$f":"SUM($BI$29:$BT$29)","v":0},null,0,0,0,0,0,0,0,0,0,0,0,0,{"$f":"SUM($BW$29:$CH$29)","v":0},null,0,0,0,0,0,0,0,0,0,0,0,0,{"$f":"SUM($CK$29:$CV$29)","v":0},null,0,0,0,0,0,0,0,0,0,0,0,0,{"$f":"SUM($CY$29:$DJ$29)","v":0},null,0,0,0,0,0,0,0,0,0,0,0,0,{"$f":"SUM($DM$29:$DX$29)","v":0},null,0,0,0,0,0,0,0,0,0,0,0,0,{"$f":"SUM($EA$29:$EL$29)","v":0},null,0,0,0,0,0,0,0,0,0,0,0,0,{"$f":"SUM($EO$29:$EZ$29)","v":0},null,0,0,0,0,0,0,0,0,0,0,0,0,{"$f":"SUM($FC$29:$FN$29)","v":0}]
[{"$f":"C29&D30","v":"BR"},null,null,"R",null,null,null,null,null,null,null,null,null,null,null,null,{"$f":"SUM($E$30:$P$30)","v":0},null,null,null,null,null,null,null,null,null,null,null,null,null,{"$f":"SUM($S$30:$AD$30)","v":0},null,null,null,null,null,null,null,null,null,null,null,null,null,{"$f":"SUM($AG$30:$AR$30)","v":0},null,null,null,null,null,null,null,null,null,null,null,null,null,{"$f":"SUM($AU$30:$BF$30)","v":0},null,null,null,null,null,null,null,null,null,null,null,null,null,{"$f":"SUM($BI$30:$BT$30)","v":0},null,null,null,null,null,null,null,null,null,null,null,null,null,{"$f":"SUM($BW$30:$CH$30)","v":0},null,null,null,null,null,null,null,null,null,null,null,null,null,{"$f":"SUM($CK$30:$CV$30)","v":0},null,null,null,null,null,null,null,null,null,null,null,null,null,{"$f":"SUM($CY$30:$DJ$30)","v":0},null,null,null,null,null,null,null,null,null,null,null,null,null,{"$f":"SUM($DM$30:$DX$30)","v":0},null,null,null,null,null,null,null,null,null,null,null,null,null,{"$f":"SUM($EA$30:$EL$30)","v":0},null,null,null,null,null,null,null,null,null,null,null,null,null,{"$f":"SUM($EO$30:$EZ$30)","v":0},null,null,null,null,null,null,null,null,null,null,null,null,null,{"$f":"SUM($FC$30:$FN$30)","v":0}]
[{"$f":"C31&D31","v":"CP"},null,"C","P",0,0,0,0,0,0,0,0,0,0,0,0,{"$f":"SUM($E$31:$P$31)","v":0},null,0,0,0,0,0,0,0,0,0,0,0,0,{"$f":"SUM($S$31:$AD$31)","v":0},null,0,0,0,0,0,0,0,0,0,0,0,0,{"$f":"SUM($AG$31:$AR$31)","v":0},null,0,0,0,0,0,0,0,0,0,0,0,0,{"$f":"SUM($AU$31:$BF$31)","v":0},null,0,0,0,0,0,0,0,0,0,0,0,0,{"$f":"SUM($BI$31:$BT$31)","v":0},null,0,0,0,0,0,0,0,0,0,0,0,0,{"$f":"SUM($BW$31:$CH$31)","v":0},null,0,0,0,0,0,0,0,0,0,0,0,0,{"$f":"SUM($CK$31:$CV$31)","v":0},null,0,0,0,0,0,0,0,0,0,0,0,0,{"$f":"SUM($CY$31:$DJ$31)","v":0},null,0,0,0,0,0,0,0,0,0,0,0,0,{"$f":"SUM($DM$31:$DX$31)","v":0},null,0,0,0,0,0,0,0,0,0,0,0,0,{"$f":"SUM($EA$31:$EL$31)","v":0},null,0,0,0,0,0,0,0,0,0,0,0,0,{"$f":"SUM($EO$31:$EZ$31)","v":0},null,0,0,0,0,0,0,0,0,0,0,0,0,{"$f":"SUM($FC$31:$FN$31)","v":0}]
[{"$f":"C31&D32","v":"CR"},null,null,"R",null,null,null,null,null,null,null,null,null,null,null,null,{"$f":"SUM($E$32:$P$32)","v":0},null,null,null,null,null,null,null,null,null,null,null,null,null,{"$f":"SUM($S$32:$AD$32)","v":0},null,null,null,null,null,null,null,null,null,null,null,null,null,{"$f":"SUM($AG$32:$AR$32)","v":0},null,null,null,null,null,null,null,null,null,null,null,null,null,{"$f":"SUM($AU$32:$BF$32)","v":0},null,null,null,null,null,null,null,null,null,null,null,null,null,{"$f":"SUM($BI$32:$BT$32)","v":0},null,null,null,null,null,null,null,null,null,null,null,null,null,{"$f":"SUM($BW$32:$CH$32)","v":0},null,null,null,null,null,null,null,null,null,null,null,null,null,{"$f":"SUM($CK$32:$CV$32)","v":0},null,null,null,null,null,null,null,null,null,null,null,null,null,{"$f":"SUM($CY$32:$DJ$32)","v":0},null,null,null,null,null,null,null,null,null,null,null,null,null,{"$f":"SUM($DM$32:$DX$32)","v":0},null,null,null,null,null,null,null,null,null,null,null,null,null,{"$f":"SUM($EA$32:$EL$32)","v":0},null,null,null,null,null,null,null,null,null,null,null,null,null,{"$f":"SUM($EO$32:$EZ$32)","v":0},null,null,null,null,null,null,null,null,null,null,null,null,null,{"$f":"SUM($FC$32:$FN$32)","v":0}]
["DP",null,"D","P",0,0,0,0,0,0,0,0,0,0,0,0,{"$f":"SUM($E$33:$P$33)","v":0},null,0,0,0,0,0,0,0,0,0,0,0,0,{"$f":"SUM($S$33:$AD$33)","v":0},null,0,0,0,0,0,0,0,0,0,0,0,0,{"$f":"SUM($AG$33:$AR$33)","v":0},null,0,0,0,0,0,0,0,0,0,0,0,0,{"$f":"SUM($AU$33:$BF$33)","v":0},null,0,0,0,0,0,0,0,0,0,0,0,0,{"$f":"SUM($BI$33:$BT$33)","v":0},null,0,0,0,0,0,0,0,0,0,0,0,0,{"$f":"SUM($BW$33:$CH$33)","v":0},null,0,0,0,0,0,0,0,0,0,0,0,0,{"$f":"SUM($CK$33:$CV$33)","v":0},null,0,0,0,0,0,0,0,0,0,0,0,0,{"$f":"SUM($CY$33:$DJ$33)","v":0},null,0,0,0,0,0,0,0,0,0,0,0,0,{"$f":"SUM($DM$33:$DX$33)","v":0},null,0,0,0,0,0,0,0,0,0,0,0,0,{"$f":"SUM($EA$33:$EL$33)","v":0},null,0,0,0,0,0,0,0,0,0,0,0,0,{"$f":"SUM($EO$33:$EZ$33)","v":0},null,0,0,0,0,0,0,0,0,0,0,0,0,{"$f":"SUM($FC$33:$FN$33)","v":0}]
["DR",null,null,"R",null,null,null,null,null,null,null,null,null,null,null,null,{"$f":"SUM($E$34:$P$34)","v":0},null,null,null,null,null,null,null,null,null,null,null,null,null,{"$f":"SUM($S$34:$AD$34)","v":0},null,null,null,null,null,null,null,null,null,null,null,null,null,{"$f":"SUM($AG$34:$AR$34)","v":0},null,null,null,null,null,null,null,null,null,null,null,null,null,{"$f":"SUM($AU$34:$BF$34)","v":0},null,null,null,null,null,null,null,null,null,null,null,null,null,{"$f":"SUM($BI$34:$BT$34)","v":0},null,null,null,null,null,null,null,null,null,null,null,null,null,{"$f":"SUM($BW$34:$CH$34)","v":0},null,null,null,null,null,null,null,null,null,null,null,null,null,{"$f":"SUM($CK$34:$CV$34)","v":0},null,null,null,null,null,null,null,null,null,null,null,null,null,{"$f":"SUM($CY$34:$DJ$34)","v":0},null,null,null,null,null,null,null,null,null,null,null,null,null,{"$f":"SUM($DM$34:$DX$34)","v":0},null,null,null,null,null,null,null,null,null,null,null,null,null,{"$f":"SUM($EA$34:$EL$34)","v":0},null,null,null,null,null,null,null,null,null,null,null,null,null,{"$f":"SUM($EO$34:$EZ$34)","v":0},null,null,null,null,null,null,null,null,null,null,null,null,null,{"$f":"SUM($FC$34:$FN$34)","v":0}]
["EP",null,"E","P",0,0,0,0,0,0,0,0,0,0,0,0,{"$f":"SUM($E$35:$P$35)","v":0},null,0,0,0,0,0,0,0,0,0,0,0,0,{"$f":"SUM($S$35:$AD$35)","v":0},null,0,0,0,0,0,0,0,0,0,0,0,0,{"$f":"SUM($AG$35:$AR$35)","v":0},null,0,0,0,0,0,0,0,0,0,0,0,0,{"$f":"SUM($AU$35:$BF$35)","v":0},null,0,0,0,0,0,0,0,0,0,0,0,0,{"$f":"SUM($BI$35:$BT$35)","v":0},null,0,0,0,0,0,0,0,0,0,0,0,0,{"$f":"SUM($BW$35:$CH$35)","v":0},null,0,0,0,0,0,0,0,0,0,0,0,0,{"$f":"SUM($CK$35:$CV$35)","v":0},null,0,0,0,0,0,0,0,0,0,0,0,0,{"$f":"SUM($CY$35:$DJ$35)","v":0},null,0,0,0,0,0,0,0,0,0,0,0,0,{"$f":"SUM($DM$35:$DX$35)","v":0},null,0,0,0,0,0,0,0,0,0,0,0,0,{"$f":"SUM($EA$35:$EL$35)","v":0},null,0,0,0,0,0,0,0,0,0,0,0,0,{"$f":"SUM($EO$35:$EZ$35)","v":0},null,0,0,0,0,0,0,0,0,0,0,0,0,{"$f":"SUM($FC$35:$FN$35)","v":0}]
["ER",null,null,"R",null,null,null,null,null,null,null,null,null,null,null,null,{"$f":"SUM($E$36:$P$36)","v":0},null,null,null,null,null,null,null,null,null,null,null,null,null,{"$f":"SUM($S$36:$AD$36)","v":0},null,null,null,null,null,null,null,null,null,null,null,null,null,{"$f":"SUM($AG$36:$AR$36)","v":0},null,null,null,null,null,null,null,null,null,null,null,null,null,{"$f":"SUM($AU$36:$BF$36)","v":0},null,null,null,null,null,null,null,null,null,null,null,null,null,{"$f":"SUM($BI$36:$BT$36)","v":0},null,null,null,null,null,null,null,null,null,null,null,null,null,{"$f":"SUM($BW$36:$CH$36)","v":0},null,null,null,null,null,null,null,null,null,null,null,null,null,{"$f":"SUM($CK$36:$CV$36)","v":0},null,null,null,null,null,null,null,null,null,null,null,null,null,{"$f":"SUM($CY$36:$DJ$36)","v":0},null,null,null,null,null,null,null,null,null,null,null,null,null,{"$f":"SUM($DM$36:$DX$36)","v":0},null,null,null,null,null,null,null,null,null,null,null,null,null,{"$f":"SUM($EA$36:$EL$36)","v":0},null,null,null,null,null,null,null,null,null,null,null,null,null,{"$f":"SUM($EO$36:$EZ$36)","v":0},null,null,null,null,null,null,null,null,null,null,null,null,null,{"$f":"SUM($FC$36:$FN$36)","v":0}]
["FP",null,"F","P",0,0,0,0,0,0,0,0,0,0,0,0,{"$f":"SUM($E$37:$P$37)","v":0},null,0,0,0,0,0,0,0,0,0,0,0,0,{"$f":"SUM($S$37:$AD$37)","v":0},null,0,0,0,0,0,0,0,0,0,0,0,0,{"$f":"SUM($AG$37:$AR$37)","v":0},null,0,0,0,0,0,0,0,0,0,0,0,0,{"$f":"SUM($AU$37:$BF$37)","v":0},null,0,0,0,0,0,0,0,0,0,0,0,0,{"$f":"SUM($BI$37:$BT$37)","v":0},null,0,0,0,0,0,0,0,0,0,0,0,0,{"$f":"SUM($BW$37:$CH$37)","v":0},null,0,0,0,0,0,0,0,0,0,0,0,0,{"$f":"SUM($CK$37:$CV$37)","v":0},null,0,0,0,0,0,0,0,0,0,0,0,0,{"$f":"SUM($CY$37:$DJ$37)","v":0},null,0,0,0,0,0,0,0,0,0,0,0,0,{"$f":"SUM($DM$37:$DX$37)","v":0},null,0,0,0,0,0,0,0,0,0,0,0,0,{"$f":"SUM($EA$37:$EL$37)","v":0},null,0,0,0,0,0,0,0,0,0,0,0,0,{"$f":"SUM($EO$37:$EZ$37)","v":0},null,0,0,0,0,0,0,0,0,0,0,0,0,{"$f":"SUM($FC$37:$FN$37)","v":0}]
["FR",null,null,"R",null,null,null,null,null,null,null,null,null,null,null,null,{"$f":"SUM($E$38:$P$38)","v":0},null,null,null,null,null,null,null,null,null,null,null,null,null,{"$f":"SUM($S$38:$AD$38)","v":0},null,null,null,null,null,null,null,null,null,null,null,null,null,{"$f":"SUM($AG$38:$AR$38)","v":0},null,null,null,null,null,null,null,null,null,null,null,null,null,{"$f":"SUM($AU$38:$BF$38)","v":0},null,null,null,null,null,null,null,null,null,null,null,null,null,{"$f":"SUM($BI$38:$BT$38)","v":0},null,null,null,null,null,null,null,null,null,null,null,null,null,{"$f":"SUM($BW$38:$CH$38)","v":0},null,null,null,null,null,null,null,null,null,null,null,null,null,{"$f":"SUM($CK$38:$CV$38)","v":0},null,null,null,null,null,null,null,null,null,null,null,null,null,{"$f":"SUM($CY$38:$DJ$38)","v":0},null,null,null,null,null,null,null,null,null,null,null,null,null,{"$f":"SUM($DM$38:$DX$38)","v":0},null,null,null,null,null,null,null,null,null,null,null,null,null,{"$f":"SUM($EA$38:$EL$38)","v":0},null,null,null,null,null,null,null,null,null,null,null,null,null,{"$f":"SUM($EO$38:$EZ$38)","v":0},null,null,null,null,null,null,null,null,null,null,null,null,null,{"$f":"SUM($FC$38:$FN$38)","v":0}]
["GP",null,"G","P",0,0,0,0,0,0,0,0,0,0,0,0,{"$f":"SUM($E$39:$P$39)","v":0},null,0,0,0,0,0,0,0,0,0,0,0,0,{"$f":"SUM($S$39:$AD$39)","v":0},null,0,0,0,0,0,0,0,0,0,0,0,0,{"$f":"SUM($AG$39:$AR$39)","v":0},null,0,0,0,0,0,0,0,0,0,0,0,0,{"$f":"SUM($AU$39:$BF$39)","v":0},null,0,0,0,0,0,0,0,0,0,0,0,0,{"$f":"SUM($BI$39:$BT$39)","v":0},null,0,0,0,0,0,0,0,0,0,0,0,0,{"$f":"SUM($BW$39:$CH$39)","v":0},null,0,0,0,0,0,0,0,0,0,0,0,0,{"$f":"SUM($CK$39:$CV$39)","v":0},null,0,0,0,0,0,0,0,0,0,0,0,0,{"$f":"SUM($CY$39:$DJ$39)","v":0},null,0,0,0,0,0,0,0,0,0,0,0,0,{"$f":"SUM($DM$39:$DX$39)","v":0},null,0,0,0,0,0,0,0,0,0,0,0,0,{"$f":"SUM($EA$39:$EL$39)","v":0},null,0,0,0,0,0,0,0,0,0,0,0,0,{"$f":"SUM($EO$39:$EZ$39)","v":0},null,0,0,0,0,0,0,0,0,0,0,0,0,{"$f":"SUM($FC$39:$FN$39)","v":0}]
["GR",null,null,"R",null,null,null,null,null,null,null,null,null,null,null,null,{"$f":"SUM($E$40:$P$40)","v":0},null,null,null,null,null,null,null,null,null,null,null,null,null,{"$f":"SUM($S$40:$AD$40)","v":0},null,null,null,null,null,null,null,null,null,null,null,null,null,{"$f":"SUM($AG$40:$AR$40)","v":0},null,null,null,null,null,null,null,null,null,null,null,null,null,{"$f":"SUM($AU$40:$BF$40)","v":0},null,null,null,null,null,null,null,null,null,null,null,null,null,{"$f":"SUM($BI$40:$BT$40)","v":0},null,null,null,null,null,null,null,null,null,null,null,null,null,{"$f":"SUM($BW$40:$CH$40)","v":0},null,null,null,null,null,null,null,null,null,null,null,null,null,{"$f":"SUM($CK$40:$CV$40)","v":0},null,null,null,null,null,null,null,null,null,null,null,null,null,{"$f":"SUM($CY$40:$DJ$40)","v":0},null,null,null,null,null,null,null,null,null,null,null,null,null,{"$f":"SUM($DM$40:$DX$40)","v":0},null,null,null,null,null,null,null,null,null,null,null,null,null,{"$f":"SUM($EA$40:$EL$40)","v":0},null,null,null,null,null,null,null,null,null,null,null,null,null,{"$f":"SUM($EO$40:$EZ$40)","v":0},null,null,null,null,null,null,null,null,null,null,null,null,null,{"$f":"SUM($FC$40:$FN$40)","v":0}]
["HP",null,"H","P",0,0,0,0,0,0,0,0,0,0,0,0,{"$f":"SUM($E$41:$P$41)","v":0},null,0,0,0,0,0,0,0,0,0,0,0,0,{"$f":"SUM($S$41:$AD$41)","v":0},null,0,0,0,0,0,0,0,0,0,0,0,0,{"$f":"SUM($AG$41:$AR$41)","v":0},null,0,0,0,0,0,0,0,0,0,0,0,0,{"$f":"SUM($AU$41:$BF$41)","v":0},null,0,0,0,0,0,0,0,0,0,0,0,0,{"$f":"SUM($BI$41:$BT$41)","v":0},null,0,0,0,0,0,0,0,0,0,0,0,0,{"$f":"SUM($BW$41:$CH$41)","v":0},null,0,0,0,0,0,0,0,0,0,0,0,0,{"$f":"SUM($CK$41:$CV$41)","v":0},null,0,0,0,0,0,0,0,0,0,0,0,0,{"$f":"SUM($CY$41:$DJ$41)","v":0},null,0,0,0,0,0,0,0,0,0,0,0,0,{"$f":"SUM($DM$41:$DX$41)","v":0},null,0,0,0,0,0,0,0,0,0,0,0,0,{"$f":"SUM($EA$41:$EL$41)","v":0},null,0,0,0,0,0,0,0,0,0,0,0,0,{"$f":"SUM($EO$41:$EZ$41)","v":0},null,0,0,0,0,0,0,0,0,0,0,0,0,{"$f":"SUM($FC$41:$FN$41)","v":0}]
["HR",null,null,"R",null,null,null,null,null,null,null,null,null,null,null,null,{"$f":"SUM($E$42:$P$42)","v":0},null,null,null,null,null,null,null,null,null,null,null,null,null,{"$f":"SUM($S$42:$AD$42)","v":0},null,null,null,null,null,null,null,null,null,null,null,null,null,{"$f":"SUM($AG$42:$AR$42)","v":0},null,null,null,null,null,null,null,null,null,null,null,null,null,{"$f":"SUM($AU$42:$BF$42)","v":0},null,null,null,null,null,null,null,null,null,null,null,null,null,{"$f":"SUM($BI$42:$BT$42)","v":0},null,null,null,null,null,null,null,null,null,null,null,null,null,{"$f":"SUM($BW$42:$CH$42)","v":0},null,null,null,null,null,null,null,null,null,null,null,null,null,{"$f":"SUM($CK$42:$CV$42)","v":0},null,null,null,null,null,null,null,null,null,null,null,null,null,{"$f":"SUM($CY$42:$DJ$42)","v":0},null,null,null,null,null,null,null,null,null,null,null,null,null,{"$f":"SUM($DM$42:$DX$42)","v":0},null,null,null,null,null,null,null,null,null,null,null,null,null,{"$f":"SUM($EA$42:$EL$42)","v":0},null,null,null,null,null,null,null,null,null,null,null,null,null,{"$f":"SUM($EO$42:$EZ$42)","v":0},null,null,null,null,null,null,null,null,null,null,null,null,null,{"$f":"SUM($FC$42:$FN$42)","v":0}]
[{"$f":"C43&D43","v":"IP"},null,"I","P",0,0,0,0,0,0,0,0,0,0,0,0,{"$f":"SUM($E$43:$P$43)","v":0},null,0,0,0,0,0,0,0,0,0,0,0,0,{"$f":"SUM($S$43:$AD$43)","v":0},null,0,0,0,0,0,0,0,0,0,0,0,0,{"$f":"SUM($AG$43:$AR$43)","v":0},null,0,0,0,0,0,0,0,0,0,0,0,0,{"$f":"SUM($AU$43:$BF$43)","v":0},null,0,0,0,0,0,0,0,0,0,0,0,0,{"$f":"SUM($BI$43:$BT$43)","v":0},null,0,0,0,0,0,0,0,0,0,0,0,0,{"$f":"SUM($BW$43:$CH$43)","v":0},null,0,0,0,0,0,0,0,0,0,0,0,0,{"$f":"SUM($CK$43:$CV$43)","v":0},null,0,0,0,0,0,0,0,0,0,0,0,0,{"$f":"SUM($CY$43:$DJ$43)","v":0},null,0,0,0,0,0,0,0,0,0,0,0,0,{"$f":"SUM($DM$43:$DX$43)","v":0},null,0,0,0,0,0,0,0,0,0,0,0,0,{"$f":"SUM($EA$43:$EL$43)","v":0},null,0,0,0,0,0,0,0,0,0,0,0,0,{"$f":"SUM($EO$43:$EZ$43)","v":0},null,0,0,0,0,0,0,0,0,0,0,0,0,{"$f":"SUM($FC$43:$FN$43)","v":0}]
[{"$f":"C43&D44","v":"IR"},null,null,"R",null,null,null,null,null,null,null,null,null,null,null,null,{"$f":"SUM($E$44:$P$44)","v":0},null,null,null,null,null,null,null,null,null,null,null,null,null,{"$f":"SUM($S$44:$AD$44)","v":0},null,null,null,null,null,null,null,null,null,null,null,null,null,{"$f":"SUM($AG$44:$AR$44)","v":0},null,null,null,null,null,null,null,null,null,null,null,null,null,{"$f":"SUM($AU$44:$BF$44)","v":0},null,null,null,null,null,null,null,null,null,null,null,null,null,{"$f":"SUM($BI$44:$BT$44)","v":0},null,null,null,null,null,null,null,null,null,null,null,null,null,{"$f":"SUM($BW$44:$CH$44)","v":0},null,null,null,null,null,null,null,null,null,null,null,null,null,{"$f":"SUM($CK$44:$CV$44)","v":0},null,null,null,null,null,null,null,null,null,null,null,null,null,{"$f":"SUM($CY$44:$DJ$44)","v":0},null,null,null,null,null,null,null,null,null,null,null,null,null,{"$f":"SUM($DM$44:$DX$44)","v":0},null,null,null,null,null,null,null,null,null,null,null,null,null,{"$f":"SUM($EA$44:$EL$44)","v":0},null,null,null,null,null,null,null,null,null,null,null,null,null,{"$f":"SUM($EO$44:$EZ$44)","v":0},null,null,null,null,null,null,null,null,null,null,null,null,null,{"$f":"SUM($FC$44:$FN$44)","v":0}]
[{"$f":"C45&D45","v":"Total SaídasP"},null,"Total Saídas","P",{"$f":"SUMIF($D$5:$D$44,$D45,E$5:E$44)","v":0},{"$f":"SUMIF($D$5:$D$44,$D45,F$5:F$44)","v":0},{"$f":"SUMIF($D$5:$D$44,$D45,G$5:G$44)","v":0},0,0,0,0,0,0,0,0,0,0,null,{"$f":"SUMIF($D$5:$D$44,$D45,S$5:S$44)","v":0},0,0,0,0,0,0,0,0,0,0,0,0,null,{"$f":"SUMIF($D$5:$D$44,$D45,AG$5:AG$44)","v":0},0,0,0,0,0,0,0,0,0,0,0,0,null,{"$f":"SUMIF($D$5:$D$44,$D45,AU$5:AU$44)","v":0},0,0,0,0,0,0,0,0,0,0,0,0,null,{"$f":"SUMIF($D$5:$D$44,$D45,BI$5:BI$44)","v":0},0,0,0,0,0,0,0,0,0,0,0,0,null,{"$f":"SUMIF($D$5:$D$44,$D45,BW$5:BW$44)","v":0},0,0,0,0,0,0,0,0,0,0,0,0,null,{"$f":"SUMIF($D$5:$D$44,$D45,CK$5:CK$44)","v":0},0,0,0,0,0,0,0,0,0,0,0,0,null,{"$f":"SUMIF($D$5:$D$44,$D45,CY$5:CY$44)","v":0},0,0,0,0,0,0,0,0,0,0,0,0,null,{"$f":"SUMIF($D$5:$D$44,$D45,DM$5:DM$44)","v":0},0,0,0,0,0,0,0,0,0,0,0,0,null,{"$f":"SUMIF($D$5:$D$44,$D45,EA$5:EA$44)","v":0},0,0,0,0,0,0,0,0,0,0,0,0,null,{"$f":"SUMIF($D$5:$D$44,$D45,EO$5:EO$44)","v":0},0,0,0,0,0,0,0,0,0,0,0,0,null,{"$f":"SUMIF($D$5:$D$44,$D45,FC$5:FC$44)","v":0},0,0,0,0,0,0,0,0,0,0,0,0]
[{"$f":"C45&D46","v":"Total SaídasR"},null,null,"R",0,0,0,0,0,0,0,0,0,0,0,0,0,null,0,0,0,0,0,0,0,0,0,0,0,0,0,null,0,0,0,0,0,0,0,0,0,0,0,0,0,null,0,0,0,0,0,0,0,0,0,0,0,0,0,null,0,0,0,0,0,0,0,0,0,0,0,0,0,null,0,0,0,0,0,0,0,0,0,0,0,0,0,null,0,0,0,0,0,0,0,0,0,0,0,0,0,null,0,0,0,0,0,0,0,0,0,0,0,0,0,null,0,0,0,0,0,0,0,0,0,0,0,0,0,null,0,0,0,0,0,0,0,0,0,0,0,0,0,null,0,0,0,0,0,0,0,0,0,0,0,0,0,null,0,0,0,0,0,0,0,0,0,0,0,0,0]
[{"$f":"C47&D47","v":""}]
[{"$f":"C47&D48","v":""}]
[{"$f":"C49&D49","v":"SaláriosP"},"Entrada de Caixa","Salários","P",0,0,0,0,0,0,0,0,0,0,0,0,{"$f":"SUM($E$49:$P$49)","v":0},null,0,0,0,0,0,0,0,0,0,0,0,0,{"$f":"SUM($S$49:$AD$49)","v":0},null,0,0,0,0,0,0,0,0,0,0,0,0,{"$f":"SUM($AG$49:$AR$49)","v":0},null,0,0,0,0,0,0,0,0,0,0,0,0,{"$f":"SUM($AU$49:$BF$49)","v":0},null,0,0,0,0,0,0,0,0,0,0,0,0,{"$f":"SUM($BI$49:$BT$49)","v":0},null,0,0,0,0,0,0,0,0,0,0,0,0,{"$f":"SUM($BW$49:$CH$49)","v":0},null,0,0,0,0,0,0,0,0,0,0,0,0,{"$f":"SUM($CK$49:$CV$49)","v":0},null,0,0,0,0,0,0,0,0,0,0,0,0,{"$f":"SUM($CY$49:$DJ$49)","v":0},null,0,0,0,0,0,0,0,0,0,0,0,0,{"$f":"SUM($DM$49:$DX$49)","v":0},null,0,0,0,0,0,0,0,0,0,0,0,0,{"$f":"SUM($EA$49:$EL$49)","v":0},null,0,0,0,0,0,0,0,0,0,0,0,0,{"$f":"SUM($EO$49:$EZ$49)","v":0},null,0,0,0,0,0,0,0,0,0,0,0,0,{"$f":"SUM($FC$49:$FN$49)","v":0}]
[{"$f":"C49&D50","v":"SaláriosR"},null,null,"R",null,null,null,null,null,null,null,null,null,null,null,null,{"$f":"SUM($E$50:$P$50)","v":0},null,null,null,null,null,null,null,null,null,null,null,null,null,{"$f":"SUM($S$50:$AD$50)","v":0},null,null,null,null,null,null,null,null,null,null,null,null,null,{"$f":"SUM($AG$50:$AR$50)","v":0},null,null,null,null,null,null,null,null,null,null,null,null,null,{"$f":"SUM($AU$50:$BF$50)","v":0},null,null,null,null,null,null,null,null,null,null,null,null,null,{"$f":"SUM($BI$50:$BT$50)","v":0},null,null,null,null,null,null,null,null,null,null,null,null,null,{"$f":"SUM($BW$50:$CH$50)","v":0},null,null,null,null,null,null,null,null,null,null,null,null,null,{"$f":"SUM($CK$50:$CV$50)","v":0},null,null,null,null,null,null,null,null,null,null,null,null,null,{"$f":"SUM($CY$50:$DJ$50)","v":0},null,null,null,null,null,null,null,null,null,null,null,null,null,{"$f":"SUM($DM$50:$DX$50)","v":0},null,null,null,null,null,null,null,null,null,null,null,null,null,{"$f":"SUM($EA$50:$EL$50)","v":0},null,null,null,null,null,null,null,null,null,null,null,null,null,{"$f":"SUM($EO$50:$EZ$50)","v":0},null,null,null,null,null,null,null,null,null,null,null,null,null,{"$f":"SUM($FC$50:$FN$50)","v":0}]
[{"$f":"C51&D51","v":"Aposentadorias/PensãoP"},null,"Aposentadorias/Pensão","P",0,0,0,0,0,0,0,0,0,0,0,0,{"$f":"SUM($E$51:$P$51)","v":0},null,0,0,0,0,0,0,0,0,0,0,0,0,{"$f":"SUM($S$51:$AD$51)","v":0},null,0,0,0,0,0,0,0,0,0,0,0,0,{"$f":"SUM($AG$51:$AR$51)","v":0},null,0,0,0,0,0,0,0,0,0,0,0,0,{"$f":"SUM($AU$51:$BF$51)","v":0},null,0,0,0,0,0,0,0,0,0,0,0,0,{"$f":"SUM($BI$51:$BT$51)","v":0},null,0,0,0,0,0,0,0,0,0,0,0,0,{"$f":"SUM($BW$51:$CH$51)","v":0},null,0,0,0,0,0,0,0,0,0,0,0,0,{"$f":"SUM($CK$51:$CV$51)","v":0},null,0,0,0,0,0,0,0,0,0,0,0,0,{"$f":"SUM($CY$51:$DJ$51)","v":0},null,0,0,0,0,0,0,0,0,0,0,0,0,{"$f":"SUM($DM$51:$DX$51)","v":0},null,0,0,0,0,0,0,0,0,0,0,0,0,{"$f":"SUM($EA$51:$EL$51)","v":0},null,0,0,0,0,0,0,0,0,0,0,0,0,{"$f":"SUM($EO$51:$EZ$51)","v":0},null,0,0,0,0,0,0,0,0,0,0,0,0,{"$f":"SUM($FC$51:$FN$51)","v":0}]
[{"$f":"C51&D52","v":"Aposentadorias/PensãoR"},null,null,"R",null,null,null,null,null,null,null,null,null,null,null,null,{"$f":"SUM($E$52:$P$52)","v":0},null,null,null,null,null,null,null,null,null,null,null,null,null,{"$f":"SUM($S$52:$AD$52)","v":0},null,null,null,null,null,null,null,null,null,null,null,null,null,{"$f":"SUM($AG$52:$AR$52)","v":0},null,null,null,null,null,null,null,null,null,null,null,null,null,{"$f":"SUM($AU$52:$BF$52)","v":0},null,null,null,null,null,null,null,null,null,null,null,null,null,{"$f":"SUM($BI$52:$BT$52)","v":0},null,null,null,null,null,null,null,null,null,null,null,null,null,{"$f":"SUM($BW$52:$CH$52)","v":0},null,null,null,null,null,null,null,null,null,null,null,null,null,{"$f":"SUM($CK$52:$CV$52)","v":0},null,null,null,null,null,null,null,null,null,null,null,null,null,{"$f":"SUM($CY$52:$DJ$52)","v":0},null,null,null,null,null,null,null,null,null,null,null,null,null,{"$f":"SUM($DM$52:$DX$52)","v":0},null,null,null,null,null,null,null,null,null,null,null,null,null,{"$f":"SUM($EA$52:$EL$52)","v":0},null,null,null,null,null,null,null,null,null,null,null,null,null,{"$f":"SUM($EO$52:$EZ$52)","v":0},null,null,null,null,null,null,null,null,null,null,null,null,null,{"$f":"SUM($FC$52:$FN$52)","v":0}]
[{"$f":"C53&D53","v":"AP"},null,"A","P",0,0,0,0,0,0,0,0,0,0,0,0,{"$f":"SUM($E$53:$P$53)","v":0},null,0,0,0,0,0,0,0,0,0,0,0,0,{"$f":"SUM($S$53:$AD$53)","v":0},null,0,0,0,0,0,0,0,0,0,0,0,0,{"$f":"SUM($AG$53:$AR$53)","v":0},null,0,0,0,0,0,0,0,0,0,0,0,0,{"$f":"SUM($AU$53:$BF$53)","v":0},null,0,0,0,0,0,0,0,0,0,0,0,0,{"$f":"SUM($BI$53:$BT$53)","v":0},null,0,0,0,0,0,0,0,0,0,0,0,0,{"$f":"SUM($BW$53:$CH$53)","v":0},null,0,0,0,0,0,0,0,0,0,0,0,0,{"$f":"SUM($CK$53:$CV$53)","v":0},null,0,0,0,0,0,0,0,0,0,0,0,0,{"$f":"SUM($CY$53:$DJ$53)","v":0},null,0,0,0,0,0,0,0,0,0,0,0,0,{"$f":"SUM($DM$53:$DX$53)","v":0},null,0,0,0,0,0,0,0,0,0,0,0,0,{"$f":"SUM($EA$53:$EL$53)","v":0},null,0,0,0,0,0,0,0,0,0,0,0,0,{"$f":"SUM($EO$53:$EZ$53)","v":0},null,0,0,0,0,0,0,0,0,0,0,0,0,{"$f":"SUM($FC$53:$FN$53)","v":0}]
[{"$f":"C53&D54","v":"AR"},null,null,"R",null,null,null,null,null,null,null,null,null,null,null,null,{"$f":"SUM($E$54:$P$54)","v":0},null,null,null,null,null,null,null,null,null,null,null,null,null,{"$f":"SUM($S$54:$AD$54)","v":0},null,null,null,null,null,null,null,null,null,null,null,null,null,{"$f":"SUM($AG$54:$AR$54)","v":0},null,null,null,null,null,null,null,null,null,null,null,null,null,{"$f":"SUM($AU$54:$BF$54)","v":0},null,null,null,null,null,null,null,null,null,null,null,null,null,{"$f":"SUM($BI$54:$BT$54)","v":0},null,null,null,null,null,null,null,null,null,null,null,null,null,{"$f":"SUM($BW$54:$CH$54)","v":0},null,null,null,null,null,null,null,null,null,null,null,null,null,{"$f":"SUM($CK$54:$CV$54)","v":0},null,null,null,null,null,null,null,null,null,null,null,null,null,{"$f":"SUM($CY$54:$DJ$54)","v":0},null,null,null,null,null,null,null,null,null,null,null,null,null,{"$f":"SUM($DM$54:$DX$54)","v":0},null,null,null,null,null,null,null,null,null,null,null,null,null,{"$f":"SUM($EA$54:$EL$54)","v":0},null,null,null,null,null,null,null,null,null,null,null,null,null,{"$f":"SUM($EO$54:$EZ$54)","v":0},null,null,null,null,null,null,null,null,null,null,null,null,null,{"$f":"SUM($FC$54:$FN$54)","v":0}]
[{"$f":"C55&D55","v":"AluguéisP"},null,"Aluguéis","P",0,0,0,0,0,0,0,0,0,0,0,0,{"$f":"SUM($E$55:$P$55)","v":0},null,0,0,0,0,0,0,0,0,0,0,0,0,{"$f":"SUM($S$55:$AD$55)","v":0},null,0,0,0,0,0,0,0,0,0,0,0,0,{"$f":"SUM($AG$55:$AR$55)","v":0},null,0,0,0,0,0,0,0,0,0,0,0,0,{"$f":"SUM($AU$55:$BF$55)","v":0},null,0,0,0,0,0,0,0,0,0,0,0,0,{"$f":"SUM($BI$55:$BT$55)","v":0},null,0,0,0,0,0,0,0,0,0,0,0,0,{"$f":"SUM($BW$55:$CH$55)","v":0},null,0,0,0,0,0,0,0,0,0,0,0,0,{"$f":"SUM($CK$55:$CV$55)","v":0},null,0,0,0,0,0,0,0,0,0,0,0,0,{"$f":"SUM($CY$55:$DJ$55)","v":0},null,0,0,0,0,0,0,0,0,0,0,0,0,{"$f":"SUM($DM$55:$DX$55)","v":0},null,0,0,0,0,0,0,0,0,0,0,0,0,{"$f":"SUM($EA$55:$EL$55)","v":0},null,0,0,0,0,0,0,0,0,0,0,0,0,{"$f":"SUM($EO$55:$EZ$55)","v":0},null,0,0,0,0,0,0,0,0,0,0,0,0,{"$f":"SUM($FC$55:$FN$55)","v":0}]
[{"$f":"C55&D56","v":"AluguéisR"},null,null,"R",null,null,null,null,null,null,null,null,null,null,null,null,{"$f":"SUM($E$56:$P$56)","v":0},null,null,null,null,null,null,null,null,null,null,null,null,null,{"$f":"SUM($S$56:$AD$56)","v":0},null,null,null,null,null,null,null,null,null,null,null,null,null,{"$f":"SUM($AG$56:$AR$56)","v":0},null,null,null,null,null,null,null,null,null,null,null,null,null,{"$f":"SUM($AU$56:$BF$56)","v":0},null,null,null,null,null,null,null,null,null,null,null,null,null,{"$f":"SUM($BI$56:$BT$56)","v":0},null,null,null,null,null,null,null,null,null,null,null,null,null,{"$f":"SUM($BW$56:$CH$56)","v":0},null,null,null,null,null,null,null,null,null,null,null,null,null,{"$f":"SUM($CK$56:$CV$56)","v":0},null,null,null,null,null,null,null,null,null,null,null,null,null,{"$f":"SUM($CY$56:$DJ$56)","v":0},null,null,null,null,null,null,null,null,null,null,null,null,null,{"$f":"SUM($DM$56:$DX$56)","v":0},null,null,null,null,null,null,null,null,null,null,null,null,null,{"$f":"SUM($EA$56:$EL$56)","v":0},null,null,null,null,null,null,null,null,null,null,null,null,null,{"$f":"SUM($EO$56:$EZ$56)","v":0},null,null,null,null,null,null,null,null,null,null,null,null,null,{"$f":"SUM($FC$56:$FN$56)","v":0}]
[{"$f":"C57&D57","v":"Total EntradasP"},null,"Total Entradas","P",{"$f":"SUMIF($D$49:$D$56,$D57,E49:E56)","v":0},{"$f":"SUMIF($D$49:$D$56,$D57,F49:F56)","v":0},{"$f":"SUMIF($D$49:$D$56,$D57,G49:G56)","v":0},0,0,0,0,0,0,0,0,0,0,null,{"$f":"SUMIF($D$49:$D$56,$D57,S49:S56)","v":0},{"$f":"SUMIF($D$49:$D$56,$D57,T49:T56)","v":0},{"$f":"SUMIF($D$49:$D$56,$D57,U49:U56)","v":0},0,0,0,0,0,0,0,0,0,0,null,{"$f":"SUMIF($D$49:$D$56,$D57,AG49:AG56)","v":0},{"$f":"SUMIF($D$49:$D$56,$D57,AH49:AH56)","v":0},{"$f":"SUMIF($D$49:$D$56,$D57,AI49:AI56)","v":0},0,0,0,0,0,0,0,0,0,0,null,{"$f":"SUMIF($D$49:$D$56,$D57,AU49:AU56)","v":0},{"$f":"SUMIF($D$49:$D$56,$D57,AV49:AV56)","v":0},{"$f":"SUMIF($D$49:$D$56,$D57,AW49:AW56)","v":0},0,0,0,0,0,0,0,0,0,0,null,{"$f":"SUMIF($D$49:$D$56,$D57,BI49:BI56)","v":0},{"$f":"SUMIF($D$49:$D$56,$D57,BJ49:BJ56)","v":0},{"$f":"SUMIF($D$49:$D$56,$D57,BK49:BK56)","v":0},0,0,0,0,0,0,0,0,0,0,null,{"$f":"SUMIF($D$49:$D$56,$D57,BW49:BW56)","v":0},{"$f":"SUMIF($D$49:$D$56,$D57,BX49:BX56)","v":0},{"$f":"SUMIF($D$49:$D$56,$D57,BY49:BY56)","v":0},0,0,0,0,0,0,0,0,0,0,null,{"$f":"SUMIF($D$49:$D$56,$D57,CK49:CK56)","v":0},{"$f":"SUMIF($D$49:$D$56,$D57,CL49:CL56)","v":0},{"$f":"SUMIF($D$49:$D$56,$D57,CM49:CM56)","v":0},0,0,0,0,0,0,0,0,0,0,null,{"$f":"SUMIF($D$49:$D$56,$D57,CY49:CY56)","v":0},{"$f":"SUMIF($D$49:$D$56,$D57,CZ49:CZ56)","v":0},{"$f":"SUMIF($D$49:$D$56,$D57,DA49:DA56)","v":0},0,0,0,0,0,0,0,0,0,0,null,{"$f":"SUMIF($D$49:$D$56,$D57,DM49:DM56)","v":0},{"$f":"SUMIF($D$49:$D$56,$D57,DN49:DN56)","v":0},{"$f":"SUMIF($D$49:$D$56,$D57,DO49:DO56)","v":0},0,0,0,0,0,0,0,0,0,0,null,{"$f":"SUMIF($D$49:$D$56,$D57,EA49:EA56)","v":0},{"$f":"SUMIF($D$49:$D$56,$D57,EB49:EB56)","v":0},{"$f":"SUMIF($D$49:$D$56,$D57,EC49:EC56)","v":0},0,0,0,0,0,0,0,0,0,0,null,{"$f":"SUMIF($D$49:$D$56,$D57,EO49:EO56)","v":0},{"$f":"SUMIF($D$49:$D$56,$D57,EP49:EP56)","v":0},{"$f":"SUMIF($D$49:$D$56,$D57,EQ49:EQ56)","v":0},0,0,0,0,0,0,0,0,0,0,null,{"$f":"SUMIF($D$49:$D$56,$D57,FC49:FC56)","v":0},{"$f":"SUMIF($D$49:$D$56,$D57,FD49:FD56)","v":0},{"$f":"SUMIF($D$49:$D$56,$D57,FE49:FE56)","v":0},0,0,0,0,0,0,0,0,0,0]
[{"$f":"C57&D58","v":"Total EntradasR"},null,null,"R",{"$f":"SUMIF($D$49:$D$56,$D58,E$49:E$56)","v":0},{"$f":"SUMIF($D$49:$D$56,$D58,F$49:F$56)","v":0},0,0,0,0,0,0,0,0,0,0,0,null,{"$f":"SUMIF($D$49:$D$56,$D58,S$49:S$56)","v":0},{"$f":"SUMIF($D$49:$D$56,$D58,T$49:T$56)","v":0},0,0,0,0,0,0,0,0,0,0,0,null,{"$f":"SUMIF($D$49:$D$56,$D58,AG$49:AG$56)","v":0},{"$f":"SUMIF($D$49:$D$56,$D58,AH$49:AH$56)","v":0},0,0,0,0,0,0,0,0,0,0,0,null,{"$f":"SUMIF($D$49:$D$56,$D58,AU$49:AU$56)","v":0},{"$f":"SUMIF($D$49:$D$56,$D58,AV$49:AV$56)","v":0},0,0,0,0,0,0,0,0,0,0,0,null,{"$f":"SUMIF($D$49:$D$56,$D58,BI$49:BI$56)","v":0},{"$f":"SUMIF($D$49:$D$56,$D58,BJ$49:BJ$56)","v":0},0,0,0,0,0,0,0,0,0,0,0,null,{"$f":"SUMIF($D$49:$D$56,$D58,BW$49:BW$56)","v":0},{"$f":"SUMIF($D$49:$D$56,$D58,BX$49:BX$56)","v":0},0,0,0,0,0,0,0,0,0,0,0,null,{"$f":"SUMIF($D$49:$D$56,$D58,CK$49:CK$56)","v":0},{"$f":"SUMIF($D$49:$D$56,$D58,CL$49:CL$56)","v":0},0,0,0,0,0,0,0,0,0,0,0,null,{"$f":"SUMIF($D$49:$D$56,$D58,CY$49:CY$56)","v":0},{"$f":"SUMIF($D$49:$D$56,$D58,CZ$49:CZ$56)","v":0},0,0,0,0,0,0,0,0,0,0,0,null,{"$f":"SUMIF($D$49:$D$56,$D58,DM$49:DM$56)","v":0},{"$f":"SUMIF($D$49:$D$56,$D58,DN$49:DN$56)","v":0},0,0,0,0,0,0,0,0,0,0,0,null,{"$f":"SUMIF($D$49:$D$56,$D58,EA$49:EA$56)","v":0},{"$f":"SUMIF($D$49:$D$56,$D58,EB$49:EB$56)","v":0},0,0,0,0,0,0,0,0,0,0,0,null,{"$f":"SUMIF($D$49:$D$56,$D58,EO$49:EO$56)","v":0},{"$f":"SUMIF($D$49:$D$56,$D58,EP$49:EP$56)","v":0},0,0,0,0,0,0,0,0,0,0,0,null,{"$f":"SUMIF($D$49:$D$56,$D58,FC$49:FC$56)","v":0},{"$f":"SUMIF($D$49:$D$56,$D58,FD$49:FD$56)","v":0},0,0,0,0,0,0,0,0,0,0,0]
[{"$f":"C59&D59","v":""}]
[{"$f":"C59&D60","v":""},"Saldo de Exercícios Anteriores"]
[{"$f":"B61&D61","v":"Saldo de Caixa MensalP"},"Saldo de Caixa Mensal",null,"P",{"$f":"E57-E45","v":0},0,0,0,0,0,0,0,0,0,0,0,0,null,{"$f":"S57-S45","v":0},0,0,0,0,0,0,0,0,0,0,0,0,null,{"$f":"AG57-AG45","v":0},0,0,0,0,0,0,0,0,0,0,0,0,null,{"$f":"AU57-AU45","v":0},0,0,0,0,0,0,0,0,0,0,0,0,null,{"$f":"BI57-BI45","v":0},0,0,0,0,0,0,0,0,0,0,0,0,null,{"$f":"BW57-BW45","v":0},0,0,0,0,0,0,0,0,0,0,0,0,null,{"$f":"CK57-CK45","v":0},0,0,0,0,0,0,0,0,0,0,0,0,null,{"$f":"CY57-CY45","v":0},0,0,0,0,0,0,0,0,0,0,0,0,null,{"$f":"DM57-DM45","v":0},0,0,0,0,0,0,0,0,0,0,0,0,null,{"$f":"EA57-EA45","v":0},0,0,0,0,0,0,0,0,0,0,0,0,null,{"$f":"EO57-EO45","v":0},0,0,0,0,0,0,0,0,0,0,0,0,null,{"$f":"FC57-FC45","v":0},0,0,0,0,0,0,0,0,0,0,0,0]
[{"$f":"B61&D62","v":"Saldo de Caixa MensalR"},null,null,"R",{"$f":"E58-E46","v":0},0,0,0,0,0,0,0,0,0,0,0,0,null,{"$f":"S58-S46","v":0},0,0,0,0,0,0,0,0,0,0,0,0,null,{"$f":"AG58-AG46","v":0},0,0,0,0,0,0,0,0,0,0,0,0,null,{"$f":"AU58-AU46","v":0},0,0,0,0,0,0,0,0,0,0,0,0,null,{"$f":"BI58-BI46","v":0},0,0,0,0,0,0,0,0,0,0,0,0,null,{"$f":"BW58-BW46","v":0},0,0,0,0,0,0,0,0,0,0,0,0,null,{"$f":"CK58-CK46","v":0},0,0,0,0,0,0,0,0,0,0,0,0,null,{"$f":"CY58-CY46","v":0},0,0,0,0,0,0,0,0,0,0,0,0,null,{"$f":"DM58-DM46","v":0},0,0,0,0,0,0,0,0,0,0,0,0,null,{"$f":"EA58-EA46","v":0},0,0,0,0,0,0,0,0,0,0,0,0,null,{"$f":"EO58-EO46","v":0},0,0,0,0,0,0,0,0,0,0,0,0,null,{"$f":"FC58-FC46","v":0},0,0,0,0,0,0,0,0,0,0,0,0]
[{"$f":"B63&D63","v":"Caixa AcumuladoP"},"Caixa Acumulado",null,"P",{"$f":"E61","v":0},{"$f":"F61+E63","v":0},{"$f":"G61+F63","v":0},0,0,0,{"$f":"K61+J63","v":0},0,0,0,0,0,null,null,{"$f":"S61+P63","v":0},{"$f":"T61+S63","v":0},{"$f":"U61+T63","v":0},0,0,0,0,0,0,0,0,{"$f":"AD61+AC63","v":0},null,null,{"$f":"AG61+AD63","v":0},{"$f":"AH61+AG63","v":0},{"$f":"AI61+AH63","v":0},0,0,0,0,0,0,0,0,{"$f":"AR61+AQ63","v":0},null,null,{"$f":"AU61+AR63","v":0},{"$f":"AV61+AU63","v":0},{"$f":"AW61+AV63","v":0},0,0,0,0,0,0,0,0,{"$f":"BF61+BE63","v":0},null,null,{"$f":"BI61+BF63","v":0},{"$f":"BJ61+BI63","v":0},{"$f":"BK61+BJ63","v":0},0,0,0,0,0,0,0,0,{"$f":"BT61+BS63","v":0},null,null,{"$f":"BW61+BT63","v":0},{"$f":"BX61+BW63","v":0},{"$f":"BY61+BX63","v":0},0,0,0,0,0,0,0,0,{"$f":"CH61+CG63","v":0},null,null,{"$f":"CK61+CH63","v":0},{"$f":"CL61+CK63","v":0},{"$f":"CM61+CL63","v":0},0,0,0,0,0,0,0,0,{"$f":"CV61+CU63","v":0},null,null,{"$f":"CY61+CV63","v":0},{"$f":"CZ61+CY63","v":0},{"$f":"DA61+CZ63","v":0},0,0,0,0,0,0,0,0,{"$f":"DJ61+DI63","v":0},null,null,{"$f":"DM61+DJ63","v":0},{"$f":"DN61+DM63","v":0},{"$f":"DO61+DN63","v":0},0,0,0,0,0,0,0,0,{"$f":"DX61+DW63","v":0},null,null,{"$f":"EA61+DX63","v":0},{"$f":"EB61+EA63","v":0},{"$f":"EC61+EB63","v":0},0,0,0,0,0,0,0,0,{"$f":"EL61+EK63","v":0},null,null,{"$f":"EO61+EL63","v":0},{"$f":"EP61+EO63","v":0},{"$f":"EQ61+EP63","v":0},0,0,0,0,0,0,0,0,{"$f":"EZ61+EY63","v":0},null,null,{"$f":"FC61+EZ63","v":0},{"$f":"FD61+FC63","v":0},{"$f":"FE61+FD63","v":0},0,0,0,0,0,0,0,0,{"$f":"FN61+FM63","v":0}]
[{"$f":"B63&D64","v":"Caixa AcumuladoR"},null,null,"R",{"$f":"E60+E62","v":0},{"$f":"E64+F62","v":0},{"$f":"F64+G62","v":0},0,0,0,0,0,0,0,0,0,null,null,{"$f":"S62+P64","v":0},{"$f":"T62+S64","v":0},0,0,0,0,0,0,0,0,0,0,null,null,{"$f":"AG62+AD64","v":0},{"$f":"AH62+AG64","v":0},0,0,0,0,0,0,0,0,0,0,null,null,{"$f":"AU62+AR64","v":0},{"$f":"AV62+AU64","v":0},0,0,0,0,0,0,0,0,0,0,null,null,{"$f":"BI62+BF64","v":0},{"$f":"BJ62+BI64","v":0},0,0,0,0,0,0,0,0,0,0,null,null,{"$f":"BW62+BT64","v":0},{"$f":"BX62+BW64","v":0},0,0,0,0,0,0,0,0,0,0,null,null,{"$f":"CK62+CH64","v":0},{"$f":"CL62+CK64","v":0},0,0,0,0,0,0,0,0,0,0,null,null,{"$f":"CY62+CV64","v":0},{"$f":"CZ62+CY64","v":0},0,0,0,0,0,0,0,0,0,0,null,null,{"$f":"DM62+DJ64","v":0},{"$f":"DN62+DM64","v":0},0,0,0,0,0,0,0,0,0,0,null,null,{"$f":"EA62+DX64","v":0},{"$f":"EB62+EA64","v":0},0,0,0,0,0,0,0,0,0,0,null,null,{"$f":"EO62+EL64","v":0},{"$f":"EP62+EO64","v":0},0,0,0,0,0,0,0,0,0,0,null,null,{"$f":"FC62+EZ64","v":0},{"$f":"FD62+FC64","v":0},0,0,0,0,0,0,0,0,0,0]

{"sheet":"Gerais","index":12,"n_rows":64,"n_cols":183,"rows_kept":64,"cut":false,"hidden":false,"merged":[[0,158,1,170],[2,130,2,142],[2,144,2,156],[2,158,2,170],[2,116,2,128],[0,116,1,128],[0,130,1,142],[0,144,1,156],[0,60,1,72],[0,74,1,86],[0,88,1,100],[0,102,1,114],[38,2,39,2],[2,60,2,72],[2,74,2,86],[2,88,2,100],[2,102,2,114],[2,4,2,16],[2,18,2,30],[2,32,2,44],[2,46,2,58],[0,4,1,16],[0,18,1,30],[0,32,1,44],[0,46,1,58],[4,1,45,1],[4,2,5,2],[6,2,7,2],[8,2,9,2],[10,2,11,2],[12,2,13,2],[14,2,15,2],[26,2,27,2],[28,2,29,2],[30,2,31,2],[32,2,33,2],[34,2,35,2],[36,2,37,2],[40,2,41,2],[42,2,43,2],[60,1,61,2],[62,1,63,2],[59,1,59,2],[44,2,45,2],[48,1,57,1],[48,2,49,2],[50,2,51,2],[54,2,55,2],[56,2,57,2],[52,2,53,2],[16,2,17,2],[18,2,19,2],[20,2,21,2],[22,2,23,2],[24,2,25,2]]}
[null,null,null,null,"Diversos",null,null,null,null,null,null,null,null,null,null,null,null,null,"Diversos",null,null,null,null,null,null,null,null,null,null,null,null,null,"Diversos",null,null,null,null,null,null,null,null,null,null,null,null,null,"Diversos",null,null,null,null,null,null,null,null,null,null,null,null,null,"Diversos",null,null,null,null,null,null,null,null,null,null,null,null,null,"Diversos",null,null,null,null,null,null,null,null,null,null,null,null,null,"Diversos",null,null,null,null,null,null,null,null,null,null,null,null,null,"Diversos",null,null,null,null,null,null,null,null,null,null,null,null,null,"Diversos",null,null,null,null,null,null,null,null,null,null,null,null,null,"Diversos",null,null,null,null,null,null,null,null,null,null,null,null,null,"Diversos",null,null,null,null,null,null,null,null,null,null,null,null,null,"Diversos"]
[null,null,null,null,null,null,null,null,null,null,null,null,null,null,null,null,null,null,null,null,null,null,null,null,null,null,null,null,null,null,null,null,null,null,null,null,null,null,null,null,null,null,null,null,null,null,null,null,null,null,null,null,null,null,null,null,null,null,null,null,null,null,null,null,null,null,null,null,null,null,null,null,null,null,null,null,null,null,null,null,null,null,null,null,null,null,null,null,null,null,null,null,null,null,null,null,null,null,null,null,null,null,null,null,null,null,null,null,null,null,null,null,null,null,null,null,null,null,null,null,null,null,null,null,null,null,null,null,null,null,null,null,null,null,null,null,null,null,null,null,null,null,null,null,null,null,null,null,null,null,null,null,null,null,null,null,null,null,null,null,null,null,null,null,null,null,null,null,null,null,null,null,null,null,null,null,null,null,6,1,{"$f":"VLOOKUP(FX2,FX3:FY14,2,0)","v":2017},{"$f":"VLOOKUP(FY2,$FY$3:$FZ$14,2,0)","v":"R3C5"},6]
[null,null,null,null,{"$f":"MENU!F6","v":0},null,null,null,null,null,null,null,null,null,null,null,null,null,{"$f":"E3+1","v":1},null,null,null,null,null,null,null,null,null,null,null,null,null,{"$f":"S3+1","v":2},null,null,null,null,null,null,null,null,null,null,null,null,null,{"$f":"AG3+1","v":3},null,null,null,null,null,null,null,null,null,null,null,null,null,{"$f":"AU3+1","v":4},null,null,null,null,null,null,null,null,null,null,null,null,null,{"$f":"BI3+1","v":5},null,null,null,null,null,null,null,null,null,null,null,null,null,{"$f":"BW3+1","v":6},null,null,null,null,null,null,null,null,null,null,null,null,null,{"$f":"CK3+1","v":7},null,null,null,null,null,null,null,null,null,null,null,null,null,{"$f":"CY3+1","v":8},null,null,null,null,null,null,null,null,null,null,null,null,null,{"$f":"DM3+1","v":9},null,null,null,null,null,null,null,null,null,null,null,null,null,{"$f":"EA3+1","v":10},null,null,null,null,null,null,null,null,null,null,null,null,null,{"$f":"EO3+1","v":11},null,null,null,null,null,null,null,null,null,null,null,null,null,null,null,null,null,null,null,null,1,2017,"R3C5"]
[null,null,"Descrição de Despesa",null,"Jan","Fev","Mar","Abr","Mai","Jun","Jul","Ago","Set","Out","Nov","Dez","Total",null,"Jan","Fev","Mar","Abr","Mai","Jun","Jul","Ago","Set","Out","Nov","Dez","Total",null,"Jan","Fev","Mar","Abr","Mai","Jun","Jul","Ago","Set","Out","Nov","Dez","Total",null,"Jan","Fev","Mar","Abr","Mai","Jun","Jul","Ago","Set","Out","Nov","Dez","Total",null,"Jan","Fev","Mar","Abr","Mai","Jun","Jul","Ago","Set","Out","Nov","Dez","Total",null,"Jan","Fev","Mar","Abr","Mai","Jun","Jul","Ago","Set","Out","Nov","Dez","Total",null,"Jan","Fev","Mar","Abr","Mai","Jun","Jul","Ago","Set","Out","Nov","Dez","Total",null,"Jan","Fev","Mar","Abr","Mai","Jun","Jul","Ago","Set","Out","Nov","Dez","Total",null,"Jan","Fev","Mar","Abr","Mai","Jun","Jul","Ago","Set","Out","Nov","Dez","Total",null,"Jan","Fev","Mar","Abr","Mai","Jun","Jul","Ago","Set","Out","Nov","Dez","Total",null,"Jan","Fev","Mar","Abr","Mai","Jun","Jul","Ago","Set","Out","Nov","Dez","Total",null,"Jan","Fev","Mar","Abr","Mai","Jun","Jul","Ago","Set","Out","Nov","Dez","Total",null,null,null,null,null,null,null,null,2,2018,"R3C19"]
[{"$f":"C5&D5","v":"SegurosP"},"Saídas de Caixa","Seguros","P",0,0,0,0,0,0,0,0,0,0,0,0,{"$f":"SUM($E$5:$P$5)","v":0},null,0,0,0,0,0,0,0,0,0,0,0,0,{"$f":"SUM($S$5:$AD$5)","v":0},null,0,0,0,0,0,0,0,0,0,0,0,0,{"$f":"SUM($AG$5:$AR$5)","v":0},null,0,0,0,0,0,0,0,0,0,0,0,0,{"$f":"SUM($AU$5:$BF$5)","v":0},null,0,0,0,0,0,0,0,0,0,0,0,0,{"$f":"SUM($BI$5:$BT$5)","v":0},null,0,0,0,0,0,0,0,0,0,0,0,0,{"$f":"SUM($BW$5:$CH$5)","v":0},null,0,0,0,0,0,0,0,0,0,0,0,0,{"$f":"SUM($CK$5:$CV$5)","v":0},null,0,0,0,0,0,0,0,0,0,0,0,0,{"$f":"SUM($CY$5:$DJ$5)","v":0},null,0,0,0,0,0,0,0,0,0,0,0,0,{"$f":"SUM($DM$5:$DX$5)","v":0},null,0,0,0,0,0,0,0,0,0,0,0,0,{"$f":"SUM($EA$5:$EL$5)","v":0},null,0,0,0,0,0,0,0,0,0,0,0,0,{"$f":"SUM($EO$5:$EZ$5)","v":0},null,0,0,0,0,0,0,0,0,0,0,0,0,{"$f":"SUM($FC$5:$FN$5)","v":0},null,null,null,null,null,null,null,null,3,2019,"R3C33"]
[{"$f":"C5&D6","v":"SegurosR"},null,null,"R",null,null,null,null,null,null,null,null,null,null,null,null,{"$f":"SUM($E$6:$P$6)","v":0},null,null,null,null,null,null,null,null,null,null,null,null,null,{"$f":"SUM($S$6:$AD$6)","v":0},null,null,null,null,null,null,null,null,null,null,null,null,null,{"$f":"SUM($AG$6:$AR$6)","v":0},null,null,null,null,null,null,null,null,null,null,null,null,null,{"$f":"SUM($AU$6:$BF$6)","v":0},null,null,null,null,null,null,null,null,null,null,null,null,null,{"$f":"SUM($BI$6:$BT$6)","v":0},null,null,null,null,null,null,null,null,null,null,null,null,null,{"$f":"SUM($BW$6:$CH$6)","v":0},null,null,null,null,null,null,null,null,null,null,null,null,null,{"$f":"SUM($CK$6:$CV$6)","v":0},null,null,null,null,null,null,null,null,null,null,null,null,null,{"$f":"SUM($CY$6:$DJ$6)","v":0},null,null,null,null,null,null,null,null,null,null,null,null,null,{"$f":"SUM($DM$6:$DX$6)","v":0},null,null,null,null,null,null,null,null,null,null,null,null,null,{"$f":"SUM($EA$6:$EL$6)","v":0},null,null,null,null,null,null,null,null,null,null,null,null,null,{"$f":"SUM($EO$6:$EZ$6)","v":0},null,null,null,null,null,null,null,null,null,null,null,null,null,{"$f":"SUM($FC$6:$FN$6)","v":0},null,null,null,null,null,null,null,null,4,2020,"R3C47"]
[{"$f":"C7&D7","v":"ContabilidadeP"},null,"Contabilidade","P",0,0,0,0,0,0,0,0,0,0,0,0,{"$f":"SUM($E$7:$P$7)","v":0},null,0,0,0,0,0,0,0,0,0,0,0,0,{"$f":"SUM($S$7:$AD$7)","v":0},null,0,0,0,0,0,0,0,0,0,0,0,0,{"$f":"SUM($AG$7:$AR$7)","v":0},null,0,0,0,0,0,0,0,0,0,0,0,0,{"$f":"SUM($AU$7:$BF$7)","v":0},null,0,0,0,0,0,0,0,0,0,0,0,0,{"$f":"SUM($BI$7:$BT$7)","v":0},null,0,0,0,0,0,0,0,0,0,0,0,0,{"$f":"SUM($BW$7:$CH$7)","v":0},null,0,0,0,0,0,0,0,0,0,0,0,0,{"$f":"SUM($CK$7:$CV$7)","v":0},null,0,0,0,0,0,0,0,0,0,0,0,0,{"$f":"SUM($CY$7:$DJ$7)","v":0},null,0,0,0,0,0,0,0,0,0,0,0,0,{"$f":"SUM($DM$7:$DX$7)","v":0},null,0,0,0,0,0,0,0,0,0,0,0,0,{"$f":"SUM($EA$7:$EL$7)","v":0},null,0,0,0,0,0,0,0,0,0,0,0,0,{"$f":"SUM($EO$7:$EZ$7)","v":0},null,0,0,0,0,0,0,0,0,0,0,0,0,{"$f":"SUM($FC$7:$FN$7)","v":0},null,null,null,null,null,null,null,null,5,2021,"R3C61"]
[{"$f":"C7&D8","v":"ContabilidadeR"},null,null,"R",null,null,null,null,null,null,null,null,null,null,null,null,{"$f":"SUM($E$8:$P$8)","v":0},null,null,null,null,null,null,null,null,null,null,null,null,null,{"$f":"SUM($S$8:$AD$8)","v":0},null,null,null,null,null,null,null,null,null,null,null,null,null,{"$f":"SUM($AG$8:$AR$8)","v":0},null,null,null,null,null,null,null,null,null,null,null,null,null,{"$f":"SUM($AU$8:$BF$8)","v":0},null,null,null,null,null,null,null,null,null,null,null,null,null,{"$f":"SUM($BI$8:$BT$8)","v":0},null,null,null,null,null,null,null,null,null,null,null,null,null,{"$f":"SUM($BW$8:$CH$8)","v":0},null,null,null,null,null,null,null,null,null,null,null,null,null,{"$f":"SUM($CK$8:$CV$8)","v":0},null,null,null,null,null,null,null,null,null,null,null,null,null,{"$f":"SUM($CY$8:$DJ$8)","v":0},null,null,null,null,null,null,null,null,null,null,null,null,null,{"$f":"SUM($DM$8:$DX$8)","v":0},null,null,null,null,null,null,null,null,null,null,null,null,null,{"$f":"SUM($EA$8:$EL$8)","v":0},null,null,null,null,null,null,null,null,null,null,null,null,null,{"$f":"SUM($EO$8:$EZ$8)","v":0},null,null,null,null,null,null,null,null,null,null,null,null,null,{"$f":"SUM($FC$8:$FN$8)","v":0},null,null,null,null,null,null,null,null,6,2022,"R3C75"]
[{"$f":"C9&D9","v":"Despesas com veículosP"},null,"Despesas com veículos","P",0,0,0,0,0,0,0,0,0,0,0,0,{"$f":"SUM($E$9:$P$9)","v":0},null,0,0,0,0,0,0,0,0,0,0,0,0,{"$f":"SUM($S$9:$AD$9)","v":0},null,0,0,0,0,0,0,0,0,0,0,0,0,{"$f":"SUM($AG$9:$AR$9)","v":0},null,0,0,0,0,0,0,0,0,0,0,0,0,{"$f":"SUM($AU$9:$BF$9)","v":0},null,0,0,0,0,0,0,0,0,0,0,0,0,{"$f":"SUM($BI$9:$BT$9)","v":0},null,0,0,0,0,0,0,0,0,0,0,0,0,{"$f":"SUM($BW$9:$CH$9)","v":0},null,0,0,0,0,0,0,0,0,0,0,0,0,{"$f":"SUM($CK$9:$CV$9)","v":0},null,0,0,0,0,0,0,0,0,0,0,0,0,{"$f":"SUM($CY$9:$DJ$9)","v":0},null,0,0,0,0,0,0,0,0,0,0,0,0,{"$f":"SUM($DM$9:$DX$9)","v":0},null,0,0,0,0,0,0,0,0,0,0,0,0,{"$f":"SUM($EA$9:$EL$9)","v":0},null,0,0,0,0,0,0,0,0,0,0,0,0,{"$f":"SUM($EO$9:$EZ$9)","v":0},null,0,0,0,0,0,0,0,0,0,0,0,0,{"$f":"SUM($FC$9:$FN$9)","v":0},null,null,null,null,null,null,null,null,7,2023,"R3C89"]
[{"$f":"C9&D10","v":"Despesas com veículosR"},null,null,"R",null,null,null,null,null,null,null,null,null,null,null,null,{"$f":"SUM($E$10:$P$10)","v":0},null,null,null,null,null,null,null,null,null,null,null,null,null,{"$f":"SUM($S$10:$AD$10)","v":0},null,null,null,null,null,null,null,null,null,null,null,null,null,{"$f":"SUM($AG$10:$AR$10)","v":0},null,null,null,null,null,null,null,null,null,null,null,null,null,{"$f":"SUM($AU$10:$BF$10)","v":0},null,null,null,null,null,null,null,null,null,null,null,null,null,{"$f":"SUM($BI$10:$BT$10)","v":0},null,null,null,null,null,null,null,null,null,null,null,null,null,{"$f":"SUM($BW$10:$CH$10)","v":0},null,null,null,null,null,null,null,null,null,null,null,null,null,{"$f":"SUM($CK$10:$CV$10)","v":0},null,null,null,null,null,null,null,null,null,null,null,null,null,{"$f":"SUM($CY$10:$DJ$10)","v":0},null,null,null,null,null,null,null,null,null,null,null,null,null,{"$f":"SUM($DM$10:$DX$10)","v":0},null,null,null,null,null,null,null,null,null,null,null,null,null,{"$f":"SUM($EA$10:$EL$10)","v":0},null,null,null,null,null,null,null,null,null,null,null,null,null,{"$f":"SUM($EO$10:$EZ$10)","v":0},null,null,null,null,null,null,null,null,null,null,null,null,null,{"$f":"SUM($FC$10:$FN$10)","v":0},null,null,null,null,null,null,null,null,8,2024,"R3C103"]
[{"$f":"C11&D11","v":"Manutenção benfeitoriasP"},null,"Manutenção benfeitorias","P",0,0,0,0,0,0,0,0,0,0,0,0,{"$f":"SUM($E$11:$P$11)","v":0},null,0,0,0,0,0,0,0,0,0,0,0,0,{"$f":"SUM($S$11:$AD$11)","v":0},null,0,0,0,0,0,0,0,0,0,0,0,0,{"$f":"SUM($AG$11:$AR$11)","v":0},null,0,0,0,0,0,0,0,0,0,0,0,0,{"$f":"SUM($AU$11:$BF$11)","v":0},null,0,0,0,0,0,0,0,0,0,0,0,0,{"$f":"SUM($BI$11:$BT$11)","v":0},null,0,0,0,0,0,0,0,0,0,0,0,0,{"$f":"SUM($BW$11:$CH$11)","v":0},null,0,0,0,0,0,0,0,0,0,0,0,0,{"$f":"SUM($CK$11:$CV$11)","v":0},null,0,0,0,0,0,0,0,0,0,0,0,0,{"$f":"SUM($CY$11:$DJ$11)","v":0},null,0,0,0,0,0,0,0,0,0,0,0,0,{"$f":"SUM($DM$11:$DX$11)","v":0},null,0,0,0,0,0,0,0,0,0,0,0,0,{"$f":"SUM($EA$11:$EL$11)","v":0},null,0,0,0,0,0,0,0,0,0,0,0,0,{"$f":"SUM($EO$11:$EZ$11)","v":0},null,0,0,0,0,0,0,0,0,0,0,0,0,{"$f":"SUM($FC$11:$FN$11)","v":0},null,null,null,null,null,null,null,null,9,2025,"R3C117"]
[{"$f":"C11&D12","v":"Manutenção benfeitoriasR"},null,null,"R",null,null,null,null,null,null,null,null,null,null,null,null,{"$f":"SUM($E$12:$P$12)","v":0},null,null,null,null,null,null,null,null,null,null,null,null,null,{"$f":"SUM($S$12:$AD$12)","v":0},null,null,null,null,null,null,null,null,null,null,null,null,null,{"$f":"SUM($AG$12:$AR$12)","v":0},null,null,null,null,null,null,null,null,null,null,null,null,null,{"$f":"SUM($AU$12:$BF$12)","v":0},null,null,null,null,null,null,null,null,null,null,null,null,null,{"$f":"SUM($BI$12:$BT$12)","v":0},null,null,null,null,null,null,null,null,null,null,null,null,null,{"$f":"SUM($BW$12:$CH$12)","v":0},null,null,null,null,null,null,null,null,null,null,null,null,null,{"$f":"SUM($CK$12:$CV$12)","v":0},null,null,null,null,null,null,null,null,null,null,null,null,null,{"$f":"SUM($CY$12:$DJ$12)","v":0},null,null,null,null,null,null,null,null,null,null,null,null,null,{"$f":"SUM($DM$12:$DX$12)","v":0},null,null,null,null,null,null,null,null,null,null,null,null,null,{"$f":"SUM($EA$12:$EL$12)","v":0},null,null,null,null,null,null,null,null,null,null,null,null,null,{"$f":"SUM($EO$12:$EZ$12)","v":0},null,null,null,null,null,null,null,null,null,null,null,null,null,{"$f":"SUM($FC$12:$FN$12)","v":0},null,null,null,null,null,null,null,null,10,2026,"R3C131"]
[{"$f":"C13&D13","v":"Associações/ sindicatoP"},null,"Associações/ sindicato","P",0,0,0,0,0,0,0,0,0,0,0,0,{"$f":"SUM($E$13:$P$13)","v":0},null,0,0,0,0,0,0,0,0,0,0,0,0,{"$f":"SUM($S$13:$AD$13)","v":0},null,0,0,0,0,0,0,0,0,0,0,0,0,{"$f":"SUM($AG$13:$AR$13)","v":0},null,0,0,0,0,0,0,0,0,0,0,0,0,{"$f":"SUM($AU$13:$BF$13)","v":0},null,0,0,0,0,0,0,0,0,0,0,0,0,{"$f":"SUM($BI$13:$BT$13)","v":0},null,0,0,0,0,0,0,0,0,0,0,0,0,{"$f":"SUM($BW$13:$CH$13)","v":0},null,0,0,0,0,0,0,0,0,0,0,0,0,{"$f":"SUM($CK$13:$CV$13)","v":0},null,0,0,0,0,0,0,0,0,0,0,0,0,{"$f":"SUM($CY$13:$DJ$13)","v":0},null,0,0,0,0,0,0,0,0,0,0,0,0,{"$f":"SUM($DM$13:$DX$13)","v":0},null,0,0,0,0,0,0,0,0,0,0,0,0,{"$f":"SUM($EA$13:$EL$13)","v":0},null,0,0,0,0,0,0,0,0,0,0,0,0,{"$f":"SUM($EO$13:$EZ$13)","v":0},null,0,0,0,0,0,0,0,0,0,0,0,0,{"$f":"SUM($FC$13:$FN$13)","v":0},null,null,null,null,null,null,null,null,11,2027,"R3C145"]
[{"$f":"C13&D14","v":"Associações/ sindicatoR"},null,null,"R",null,null,null,null,null,null,null,null,null,null,null,null,{"$f":"SUM($E$14:$P$14)","v":0},null,null,null,null,null,null,null,null,null,null,null,null,null,{"$f":"SUM($S$14:$AD$14)","v":0},null,null,null,null,null,null,null,null,null,null,null,null,null,{"$f":"SUM($AG$14:$AR$14)","v":0},null,null,null,null,null,null,null,null,null,null,null,null,null,{"$f":"SUM($AU$14:$BF$14)","v":0},null,null,null,null,null,null,null,null,null,null,null,null,null,{"$f":"SUM($BI$14:$BT$14)","v":0},null,null,null,null,null,null,null,null,null,null,null,null,null,{"$f":"SUM($BW$14:$CH$14)","v":0},null,null,null,null,null,null,null,null,null,null,null,null,null,{"$f":"SUM($CK$14:$CV$14)","v":0},null,null,null,null,null,null,null,null,null,null,null,null,null,{"$f":"SUM($CY$14:$DJ$14)","v":0},null,null,null,null,null,null,null,null,null,null,null,null,null,{"$f":"SUM($DM$14:$DX$14)","v":0},null,null,null,null,null,null,null,null,null,null,null,null,null,{"$f":"SUM($EA$14:$EL$14)","v":0},null,null,null,null,null,null,null,null,null,null,null,null,null,{"$f":"SUM($EO$14:$EZ$14)","v":0},null,null,null,null,null,null,null,null,null,null,null,null,null,{"$f":"SUM($FC$14:$FN$14)","v":0},null,null,null,null,null,null,null,null,12,2028,"R3C159"]
[{"$f":"C15&D15","v":"Impostos (ITR/IR....)P"},null,"Impostos (ITR/IR....)","P",0,0,0,0,0,0,0,0,0,0,0,0,{"$f":"SUM($E$15:$P$15)","v":0},null,0,0,0,0,0,0,0,0,0,0,0,0,{"$f":"SUM($S$15:$AD$15)","v":0},null,0,0,0,0,0,0,0,0,0,0,0,0,{"$f":"SUM($AG$15:$AR$15)","v":0},null,0,0,0,0,0,0,0,0,0,0,0,0,{"$f":"SUM($AU$15:$BF$15)","v":0},null,0,0,0,0,0,0,0,0,0,0,0,0,{"$f":"SUM($BI$15:$BT$15)","v":0},null,0,0,0,0,0,0,0,0,0,0,0,0,{"$f":"SUM($BW$15:$CH$15)","v":0},null,0,0,0,0,0,0,0,0,0,0,0,0,{"$f":"SUM($CK$15:$CV$15)","v":0},null,0,0,0,0,0,0,0,0,0,0,0,0,{"$f":"SUM($CY$15:$DJ$15)","v":0},null,0,0,0,0,0,0,0,0,0,0,0,0,{"$f":"SUM($DM$15:$DX$15)","v":0},null,0,0,0,0,0,0,0,0,0,0,0,0,{"$f":"SUM($EA$15:$EL$15)","v":0},null,0,0,0,0,0,0,0,0,0,0,0,0,{"$f":"SUM($EO$15:$EZ$15)","v":0},null,0,0,0,0,0,0,0,0,0,0,0,0,{"$f":"SUM($FC$15:$FN$15)","v":0}]
[{"$f":"C15&D16","v":"Impostos (ITR/IR....)R"},null,null,"R",null,null,null,null,null,null,null,null,null,null,null,null,{"$f":"SUM($E$16:$P$16)","v":0},null,null,null,null,null,null,null,null,null,null,null,null,null,{"$f":"SUM($S$16:$AD$16)","v":0},null,null,null,null,null,null,null,null,null,null,null,null,null,{"$f":"SUM($AG$16:$AR$16)","v":0},null,null,null,null,null,null,null,null,null,null,null,null,null,{"$f":"SUM($AU$16:$BF$16)","v":0},null,null,null,null,null,null,null,null,null,null,null,null,null,{"$f":"SUM($BI$16:$BT$16)","v":0},null,null,null,null,null,null,null,null,null,null,null,null,null,{"$f":"SUM($BW$16:$CH$16)","v":0},null,null,null,null,null,null,null,null,null,null,null,null,null,{"$f":"SUM($CK$16:$CV$16)","v":0},null,null,null,null,null,null,null,null,null,null,null,null,null,{"$f":"SUM($CY$16:$DJ$16)","v":0},null,null,null,null,null,null,null,null,null,null,null,null,null,{"$f":"SUM($DM$16:$DX$16)","v":0},null,null,null,null,null,null,null,null,null,null,null,null,null,{"$f":"SUM($EA$16:$EL$16)","v":0},null,null,null,null,null,null,null,null,null,null,null,null,null,{"$f":"SUM($EO$16:$EZ$16)","v":0},null,null,null,null,null,null,null,null,null,null,null,null,null,{"$f":"SUM($FC$16:$FN$16)","v":0}]
["AP",null,"A","P",0,0,0,0,0,0,0,0,0,0,0,0,{"$f":"SUM($E$17:$P$17)","v":0},null,0,0,0,0,0,0,0,0,0,0,0,0,{"$f":"SUM($S$17:$AD$17)","v":0},null,0,0,0,0,0,0,0,0,0,0,0,0,{"$f":"SUM($AG$17:$AR$17)","v":0},null,0,0,0,0,0,0,0,0,0,0,0,0,{"$f":"SUM($AU$17:$BF$17)","v":0},null,0,0,0,0,0,0,0,0,0,0,0,0,{"$f":"SUM($BI$17:$BT$17)","v":0},null,0,0,0,0,0,0,0,0,0,0,0,0,{"$f":"SUM($BW$17:$CH$17)","v":0},null,0,0,0,0,0,0,0,0,0,0,0,0,{"$f":"SUM($CK$17:$CV$17)","v":0},null,0,0,0,0,0,0,0,0,0,0,0,0,{"$f":"SUM($CY$17:$DJ$17)","v":0},null,0,0,0,0,0,0,0,0,0,0,0,0,{"$f":"SUM($DM$17:$DX$17)","v":0},null,0,0,0,0,0,0,0,0,0,0,0,0,{"$f":"SUM($EA$17:$EL$17)","v":0},null,0,0,0,0,0,0,0,0,0,0,0,0,{"$f":"SUM($EO$17:$EZ$17)","v":0},null,0,0,0,0,0,0,0,0,0,0,0,0,{"$f":"SUM($FC$17:$FN$17)","v":0}]
["AR",null,null,"R",null,null,null,null,null,null,null,null,null,null,null,null,{"$f":"SUM($E$18:$P$18)","v":0},null,null,null,null,null,null,null,null,null,null,null,null,null,{"$f":"SUM($S$18:$AD$18)","v":0},null,null,null,null,null,null,null,null,null,null,null,null,null,{"$f":"SUM($AG$18:$AR$18)","v":0},null,null,null,null,null,null,null,null,null,null,null,null,null,{"$f":"SUM($AU$18:$BF$18)","v":0},null,null,null,null,null,null,null,null,null,null,null,null,null,{"$f":"SUM($BI$18:$BT$18)","v":0},null,null,null,null,null,null,null,null,null,null,null,null,null,{"$f":"SUM($BW$18:$CH$18)","v":0},null,null,null,null,null,null,null,null,null,null,null,null,null,{"$f":"SUM($CK$18:$CV$18)","v":0},null,null,null,null,null,null,null,null,null,null,null,null,null,{"$f":"SUM($CY$18:$DJ$18)","v":0},null,null,null,null,null,null,null,null,null,null,null,null,null,{"$f":"SUM($DM$18:$DX$18)","v":0},null,null,null,null,null,null,null,null,null,null,null,null,null,{"$f":"SUM($EA$18:$EL$18)","v":0},null,null,null,null,null,null,null,null,null,null,null,null,null,{"$f":"SUM($EO$18:$EZ$18)","v":0},null,null,null,null,null,null,null,null,null,null,null,null,null,{"$f":"SUM($FC$18:$FN$18)","v":0}]
["BP",null,"B","P",0,0,0,0,0,0,0,0,0,0,0,0,{"$f":"SUM($E$19:$P$19)","v":0},null,0,0,0,0,0,0,0,0,0,0,0,0,{"$f":"SUM($S$19:$AD$19)","v":0},null,0,0,0,0,0,0,0,0,0,0,0,0,{"$f":"SUM($AG$19:$AR$19)","v":0},null,0,0,0,0,0,0,0,0,0,0,0,0,{"$f":"SUM($AU$19:$BF$19)","v":0},null,0,0,0,0,0,0,0,0,0,0,0,0,{"$f":"SUM($BI$19:$BT$19)","v":0},null,0,0,0,0,0,0,0,0,0,0,0,0,{"$f":"SUM($BW$19:$CH$19)","v":0},null,0,0,0,0,0,0,0,0,0,0,0,0,{"$f":"SUM($CK$19:$CV$19)","v":0},null,0,0,0,0,0,0,0,0,0,0,0,0,{"$f":"SUM($CY$19:$DJ$19)","v":0},null,0,0,0,0,0,0,0,0,0,0,0,0,{"$f":"SUM($DM$19:$DX$19)","v":0},null,0,0,0,0,0,0,0,0,0,0,0,0,{"$f":"SUM($EA$19:$EL$19)","v":0},null,0,0,0,0,0,0,0,0,0,0,0,0,{"$f":"SUM($EO$19:$EZ$19)","v":0},null,0,0,0,0,0,0,0,0,0,0,0,0,{"$f":"SUM($FC$19:$FN$19)","v":0}]
["BR",null,null,"R",null,null,null,null,null,null,null,null,null,null,null,null,{"$f":"SUM($E$20:$P$20)","v":0},null,null,null,null,null,null,null,null,null,null,null,null,null,{"$f":"SUM($S$20:$AD$20)","v":0},null,null,null,null,null,null,null,null,null,null,null,null,null,{"$f":"SUM($AG$20:$AR$20)","v":0},null,null,null,null,null,null,null,null,null,null,null,null,null,{"$f":"SUM($AU$20:$BF$20)","v":0},null,null,null,null,null,null,null,null,null,null,null,null,null,{"$f":"SUM($BI$20:$BT$20)","v":0},null,null,null,null,null,null,null,null,null,null,null,null,null,{"$f":"SUM($BW$20:$CH$20)","v":0},null,null,null,null,null,null,null,null,null,null,null,null,null,{"$f":"SUM($CK$20:$CV$20)","v":0},null,null,null,null,null,null,null,null,null,null,null,null,null,{"$f":"SUM($CY$20:$DJ$20)","v":0},null,null,null,null,null,null,null,null,null,null,null,null,null,{"$f":"SUM($DM$20:$DX$20)","v":0},null,null,null,null,null,null,null,null,null,null,null,null,null,{"$f":"SUM($EA$20:$EL$20)","v":0},null,null,null,null,null,null,null,null,null,null,null,null,null,{"$f":"SUM($EO$20:$EZ$20)","v":0},null,null,null,null,null,null,null,null,null,null,null,null,null,{"$f":"SUM($FC$20:$FN$20)","v":0}]
["CP",null,"C","P",0,0,0,0,0,0,0,0,0,0,0,0,{"$f":"SUM($E$21:$P$21)","v":0},null,0,0,0,0,0,0,0,0,0,0,0,0,{"$f":"SUM($S$21:$AD$21)","v":0},null,0,0,0,0,0,0,0,0,0,0,0,0,{"$f":"SUM($AG$21:$AR$21)","v":0},null,0,0,0,0,0,0,0,0,0,0,0,0,{"$f":"SUM($AU$21:$BF$21)","v":0},null,0,0,0,0,0,0,0,0,0,0,0,0,{"$f":"SUM($BI$21:$BT$21)","v":0},null,0,0,0,0,0,0,0,0,0,0,0,0,{"$f":"SUM($BW$21:$CH$21)","v":0},null,0,0,0,0,0,0,0,0,0,0,0,0,{"$f":"SUM($CK$21:$CV$21)","v":0},null,0,0,0,0,0,0,0,0,0,0,0,0,{"$f":"SUM($CY$21:$DJ$21)","v":0},null,0,0,0,0,0,0,0,0,0,0,0,0,{"$f":"SUM($DM$21:$DX$21)","v":0},null,0,0,0,0,0,0,0,0,0,0,0,0,{"$f":"SUM($EA$21:$EL$21)","v":0},null,0,0,0,0,0,0,0,0,0,0,0,0,{"$f":"SUM($EO$21:$EZ$21)","v":0},null,0,0,0,0,0,0,0,0,0,0,0,0,{"$f":"SUM($FC$21:$FN$21)","v":0}]
["CR",null,null,"R",null,null,null,null,null,null,null,null,null,null,null,null,{"$f":"SUM($E$22:$P$22)","v":0},null,null,null,null,null,null,null,null,null,null,null,null,null,{"$f":"SUM($S$22:$AD$22)","v":0},null,null,null,null,null,null,null,null,null,null,null,null,null,{"$f":"SUM($AG$22:$AR$22)","v":0},null,null,null,null,null,null,null,null,null,null,null,null,null,{"$f":"SUM($AU$22:$BF$22)","v":0},null,null,null,null,null,null,null,null,null,null,null,null,null,{"$f":"SUM($BI$22:$BT$22)","v":0},null,null,null,null,null,null,null,null,null,null,null,null,null,{"$f":"SUM($BW$22:$CH$22)","v":0},null,null,null,null,null,null,null,null,null,null,null,null,null,{"$f":"SUM($CK$22:$CV$22)","v":0},null,null,null,null,null,null,null,null,null,null,null,null,null,{"$f":"SUM($CY$22:$DJ$22)","v":0},null,null,null,null,null,null,null,null,null,null,null,null,null,{"$f":"SUM($DM$22:$DX$22)","v":0},null,null,null,null,null,null,null,null,null,null,null,null,null,{"$f":"SUM($EA$22:$EL$22)","v":0},null,null,null,null,null,null,null,null,null,null,null,null,null,{"$f":"SUM($EO$22:$EZ$22)","v":0},null,null,null,null,null,null,null,null,null,null,null,null,null,{"$f":"SUM($FC$22:$FN$22)","v":0}]
["DP",null,"D","P",0,0,0,0,0,0,0,0,0,0,0,0,{"$f":"SUM($E$23:$P$23)","v":0},null,0,0,0,0,0,0,0,0,0,0,0,0,{"$f":"SUM($S$23:$AD$23)","v":0},null,0,0,0,0,0,0,0,0,0,0,0,0,{"$f":"SUM($AG$23:$AR$23)","v":0},null,0,0,0,0,0,0,0,0,0,0,0,0,{"$f":"SUM($AU$23:$BF$23)","v":0},null,0,0,0,0,0,0,0,0,0,0,0,0,{"$f":"SUM($BI$23:$BT$23)","v":0},null,0,0,0,0,0,0,0,0,0,0,0,0,{"$f":"SUM($BW$23:$CH$23)","v":0},null,0,0,0,0,0,0,0,0,0,0,0,0,{"$f":"SUM($CK$23:$CV$23)","v":0},null,0,0,0,0,0,0,0,0,0,0,0,0,{"$f":"SUM($CY$23:$DJ$23)","v":0},null,0,0,0,0,0,0,0,0,0,0,0,0,{"$f":"SUM($DM$23:$DX$23)","v":0},null,0,0,0,0,0,0,0,0,0,0,0,0,{"$f":"SUM($EA$23:$EL$23)","v":0},null,0,0,0,0,0,0,0,0,0,0,0,0,{"$f":"SUM($EO$23:$EZ$23)","v":0},null,0,0,0,0,0,0,0,0,0,0,0,0,{"$f":"SUM($FC$23:$FN$23)","v":0}]
["DR",null,null,"R",null,null,null,null,null,null,null,null,null,null,null,null,{"$f":"SUM($E$24:$P$24)","v":0},null,null,null,null,null,null,null,null,null,null,null,null,null,{"$f":"SUM($S$24:$AD$24)","v":0},null,null,null,null,null,null,null,null,null,null,null,null,null,{"$f":"SUM($AG$24:$AR$24)","v":0},null,null,null,null,null,null,null,null,null,null,null,null,null,{"$f":"SUM($AU$24:$BF$24)","v":0},null,null,null,null,null,null,null,null,null,null,null,null,null,{"$f":"SUM($BI$24:$BT$24)","v":0},null,null,null,null,null,null,null,null,null,null,null,null,null,{"$f":"SUM($BW$24:$CH$24)","v":0},null,null,null,null,null,null,null,null,null,null,null,null,null,{"$f":"SUM($CK$24:$CV$24)","v":0},null,null,null,null,null,null,null,null,null,null,null,null,null,{"$f":"SUM($CY$24:$DJ$24)","v":0},null,null,null,null,null,null,null,null,null,null,null,null,null,{"$f":"SUM($DM$24:$DX$24)","v":0},null,null,null,null,null,null,null,null,null,null,null,null,null,{"$f":"SUM($EA$24:$EL$24)","v":0},null,null,null,null,null,null,null,null,null,null,null,null,null,{"$f":"SUM($EO$24:$EZ$24)","v":0},null,null,null,null,null,null,null,null,null,null,null,null,null,{"$f":"SUM($FC$24:$FN$24)","v":0}]
["EP",null,"E","P",0,0,0,0,0,0,0,0,0,0,0,0,{"$f":"SUM($E$25:$P$25)","v":0},null,0,0,0,0,0,0,0,0,0,0,0,0,{"$f":"SUM($S$25:$AD$25)","v":0},null,0,0,0,0,0,0,0,0,0,0,0,0,{"$f":"SUM($AG$25:$AR$25)","v":0},null,0,0,0,0,0,0,0,0,0,0,0,0,{"$f":"SUM($AU$25:$BF$25)","v":0},null,0,0,0,0,0,0,0,0,0,0,0,0,{"$f":"SUM($BI$25:$BT$25)","v":0},null,0,0,0,0,0,0,0,0,0,0,0,0,{"$f":"SUM($BW$25:$CH$25)","v":0},null,0,0,0,0,0,0,0,0,0,0,0,0,{"$f":"SUM($CK$25:$CV$25)","v":0},null,0,0,0,0,0,0,0,0,0,0,0,0,{"$f":"SUM($CY$25:$DJ$25)","v":0},null,0,0,0,0,0,0,0,0,0,0,0,0,{"$f":"SUM($DM$25:$DX$25)","v":0},null,0,0,0,0,0,0,0,0,0,0,0,0,{"$f":"SUM($EA$25:$EL$25)","v":0},null,0,0,0,0,0,0,0,0,0,0,0,0,{"$f":"SUM($EO$25:$EZ$25)","v":0},null,0,0,0,0,0,0,0,0,0,0,0,0,{"$f":"SUM($FC$25:$FN$25)","v":0}]
["ER",null,null,"R",null,null,null,null,null,null,null,null,null,null,null,null,{"$f":"SUM($E$26:$P$26)","v":0},null,null,null,null,null,null,null,null,null,null,null,null,null,{"$f":"SUM($S$26:$AD$26)","v":0},null,null,null,null,null,null,null,null,null,null,null,null,null,{"$f":"SUM($AG$26:$AR$26)","v":0},null,null,null,null,null,null,null,null,null,null,null,null,null,{"$f":"SUM($AU$26:$BF$26)","v":0},null,null,null,null,null,null,null,null,null,null,null,null,null,{"$f":"SUM($BI$26:$BT$26)","v":0},null,null,null,null,null,null,null,null,null,null,null,null,null,{"$f":"SUM($BW$26:$CH$26)","v":0},null,null,null,null,null,null,null,null,null,null,null,null,null,{"$f":"SUM($CK$26:$CV$26)","v":0},null,null,null,null,null,null,null,null,null,null,null,null,null,{"$f":"SUM($CY$26:$DJ$26)","v":0},null,null,null,null,null,null,null,null,null,null,null,null,null,{"$f":"SUM($DM$26:$DX$26)","v":0},null,null,null,null,null,null,null,null,null,null,null,null,null,{"$f":"SUM($EA$26:$EL$26)","v":0},null,null,null,null,null,null,null,null,null,null,null,null,null,{"$f":"SUM($EO$26:$EZ$26)","v":0},null,null,null,null,null,null,null,null,null,null,null,null,null,{"$f":"SUM($FC$26:$FN$26)","v":0}]
[{"$f":"C27&D27","v":"FP"},null,"F","P",0,0,0,0,0,0,0,0,0,0,0,0,{"$f":"SUM($E$27:$P$27)","v":0},null,0,0,0,0,0,0,0,0,0,0,0,0,{"$f":"SUM($S$27:$AD$27)","v":0},null,0,0,0,0,0,0,0,0,0,0,0,0,{"$f":"SUM($AG$27:$AR$27)","v":0},null,0,0,0,0,0,0,0,0,0,0,0,0,{"$f":"SUM($AU$27:$BF$27)","v":0},null,0,0,0,0,0,0,0,0,0,0,0,0,{"$f":"SUM($BI$27:$BT$27)","v":0},null,0,0,0,0,0,0,0,0,0,0,0,0,{"$f":"SUM($BW$27:$CH$27)","v":0},null,0,0,0,0,0,0,0,0,0,0,0,0,{"$f":"SUM($CK$27:$CV$27)","v":0},null,0,0,0,0,0,0,0,0,0,0,0,0,{"$f":"SUM($CY$27:$DJ$27)","v":0},null,0,0,0,0,0,0,0,0,0,0,0,0,{"$f":"SUM($DM$27:$DX$27)","v":0},null,0,0,0,0,0,0,0,0,0,0,0,0,{"$f":"SUM($EA$27:$EL$27)","v":0},null,0,0,0,0,0,0,0,0,0,0,0,0,{"$f":"SUM($EO$27:$EZ$27)","v":0},null,0,0,0,0,0,0,0,0,0,0,0,0,{"$f":"SUM($FC$27:$FN$27)","v":0}]
[{"$f":"C27&D28","v":"FR"},null,null,"R",null,null,null,null,null,null,null,null,null,null,null,null,{"$f":"SUM($E$28:$P$28)","v":0},null,null,null,null,null,null,null,null,null,null,null,null,null,{"$f":"SUM($S$28:$AD$28)","v":0},null,null,null,null,null,null,null,null,null,null,null,null,null,{"$f":"SUM($AG$28:$AR$28)","v":0},null,null,null,null,null,null,null,null,null,null,null,null,null,{"$f":"SUM($AU$28:$BF$28)","v":0},null,null,null,null,null,null,null,null,null,null,null,null,null,{"$f":"SUM($BI$28:$BT$28)","v":0},null,null,null,null,null,null,null,null,null,null,null,null,null,{"$f":"SUM($BW$28:$CH$28)","v":0},null,null,null,null,null,null,null,null,null,null,null,null,null,{"$f":"SUM($CK$28:$CV$28)","v":0},null,null,null,null,null,null,null,null,null,null,null,null,null,{"$f":"SUM($CY$28:$DJ$28)","v":0},null,null,null,null,null,null,null,null,null,null,null,null,null,{"$f":"SUM($DM$28:$DX$28)","v":0},null,null,null,null,null,null,null,null,null,null,null,null,null,{"$f":"SUM($EA$28:$EL$28)","v":0},null,null,null,null,null,null,null,null,null,null,null,null,null,{"$f":"SUM($EO$28:$EZ$28)","v":0},null,null,null,null,null,null,null,null,null,null,null,null,null,{"$f":"SUM($FC$28:$FN$28)","v":0}]
[{"$f":"C29&D29","v":"GP"},null,"G","P",0,0,0,0,0,0,0,0,0,0,0,0,{"$f":"SUM($E$29:$P$29)","v":0},null,0,0,0,0,0,0,0,0,0,0,0,0,{"$f":"SUM($S$29:$AD$29)","v":0},null,0,0,0,0,0,0,0,0,0,0,0,0,{"$f":"SUM($AG$29:$AR$29)","v":0},null,0,0,0,0,0,0,0,0,0,0,0,0,{"$f":"SUM($AU$29:$BF$29)","v":0},null,0,0,0,0,0,0,0,0,0,0,0,0,{"$f":"SUM($BI$29:$BT$29)","v":0},null,0,0,0,0,0,0,0,0,0,0,0,0,{"$f":"SUM($BW$29:$CH$29)","v":0},null,0,0,0,0,0,0,0,0,0,0,0,0,{"$f":"SUM($CK$29:$CV$29)","v":0},null,0,0,0,0,0,0,0,0,0,0,0,0,{"$f":"SUM($CY$29:$DJ$29)","v":0},null,0,0,0,0,0,0,0,0,0,0,0,0,{"$f":"SUM($DM$29:$DX$29)","v":0},null,0,0,0,0,0,0,0,0,0,0,0,0,{"$f":"SUM($EA$29:$EL$29)","v":0},null,0,0,0,0,0,0,0,0,0,0,0,0,{"$f":"SUM($EO$29:$EZ$29)","v":0},null,0,0,0,0,0,0,0,0,0,0,0,0,{"$f":"SUM($FC$29:$FN$29)","v":0}]
[{"$f":"C29&D30","v":"GR"},null,null,"R",null,null,null,null,null,null,null,null,null,null,null,null,{"$f":"SUM($E$30:$P$30)","v":0},null,null,null,null,null,null,null,null,null,null,null,null,null,{"$f":"SUM($S$30:$AD$30)","v":0},null,null,null,null,null,null,null,null,null,null,null,null,null,{"$f":"SUM($AG$30:$AR$30)","v":0},null,null,null,null,null,null,null,null,null,null,null,null,null,{"$f":"SUM($AU$30:$BF$30)","v":0},null,null,null,null,null,null,null,null,null,null,null,null,null,{"$f":"SUM($BI$30:$BT$30)","v":0},null,null,null,null,null,null,null,null,null,null,null,null,null,{"$f":"SUM($BW$30:$CH$30)","v":0},null,null,null,null,null,null,null,null,null,null,null,null,null,{"$f":"SUM($CK$30:$CV$30)","v":0},null,null,null,null,null,null,null,null,null,null,null,null,null,{"$f":"SUM($CY$30:$DJ$30)","v":0},null,null,null,null,null,null,null,null,null,null,null,null,null,{"$f":"SUM($DM$30:$DX$30)","v":0},null,null,null,null,null,null,null,null,null,null,null,null,null,{"$f":"SUM($EA$30:$EL$30)","v":0},null,null,null,null,null,null,null,null,null,null,null,null,null,{"$f":"SUM($EO$30:$EZ$30)","v":0},null,null,null,null,null,null,null,null,null,null,null,null,null,{"$f":"SUM($FC$30:$FN$30)","v":0}]
[{"$f":"C31&D31","v":"HP"},null,"H","P",0,0,0,0,0,0,0,0,0,0,0,0,{"$f":"SUM($E$31:$P$31)","v":0},null,0,0,0,0,0,0,0,0,0,0,0,0,{"$f":"SUM($S$31:$AD$31)","v":0},null,0,0,0,0,0,0,0,0,0,0,0,0,{"$f":"SUM($AG$31:$AR$31)","v":0},null,0,0,0,0,0,0,0,0,0,0,0,0,{"$f":"SUM($AU$31:$BF$31)","v":0},null,0,0,0,0,0,0,0,0,0,0,0,0,{"$f":"SUM($BI$31:$BT$31)","v":0},null,0,0,0,0,0,0,0,0,0,0,0,0,{"$f":"SUM($BW$31:$CH$31)","v":0},null,0,0,0,0,0,0,0,0,0,0,0,0,{"$f":"SUM($CK$31:$CV$31)","v":0},null,0,0,0,0,0,0,0,0,0,0,0,0,{"$f":"SUM($CY$31:$DJ$31)","v":0},null,0,0,0,0,0,0,0,0,0,0,0,0,{"$f":"SUM($DM$31:$DX$31)","v":0},null,0,0,0,0,0,0,0,0,0,0,0,0,{"$f":"SUM($EA$31:$EL$31)","v":0},null,0,0,0,0,0,0,0,0,0,0,0,0,{"$f":"SUM($EO$31:$EZ$31)","v":0},null,0,0,0,0,0,0,0,0,0,0,0,0,{"$f":"SUM($FC$31:$FN$31)","v":0}]
[{"$f":"C31&D32","v":"HR"},null,null,"R",null,null,null,null,null,null,null,null,null,null,null,null,{"$f":"SUM($E$32:$P$32)","v":0},null,null,null,null,null,null,null,null,null,null,null,null,null,{"$f":"SUM($S$32:$AD$32)","v":0},null,null,null,null,null,null,null,null,null,null,null,null,null,{"$f":"SUM($AG$32:$AR$32)","v":0},null,null,null,null,null,null,null,null,null,null,null,null,null,{"$f":"SUM($AU$32:$BF$32)","v":0},null,null,null,null,null,null,null,null,null,null,null,null,null,{"$f":"SUM($BI$32:$BT$32)","v":0},null,null,null,null,null,null,null,null,null,null,null,null,null,{"$f":"SUM($BW$32:$CH$32)","v":0},null,null,null,null,null,null,null,null,null,null,null,null,null,{"$f":"SUM($CK$32:$CV$32)","v":0},null,null,null,null,null,null,null,null,null,null,null,null,null,{"$f":"SUM($CY$32:$DJ$32)","v":0},null,null,null,null,null,null,null,null,null,null,null,null,null,{"$f":"SUM($DM$32:$DX$32)","v":0},null,null,null,null,null,null,null,null,null,null,null,null,null,{"$f":"SUM($EA$32:$EL$32)","v":0},null,null,null,null,null,null,null,null,null,null,null,null,null,{"$f":"SUM($EO$32:$EZ$32)","v":0},null,null,null,null,null,null,null,null,null,null,null,null,null,{"$f":"SUM($FC$32:$FN$32)","v":0}]
[{"$f":"C33&D33","v":"IP"},null,"I","P",0,0,0,0,0,0,0,0,0,0,0,0,{"$f":"SUM($E$33:$P$33)","v":0},null,0,0,0,0,0,0,0,0,0,0,0,0,{"$f":"SUM($S$33:$AD$33)","v":0},null,0,0,0,0,0,0,0,0,0,0,0,0,{"$f":"SUM($AG$33:$AR$33)","v":0},null,0,0,0,0,0,0,0,0,0,0,0,0,{"$f":"SUM($AU$33:$BF$33)","v":0},null,0,0,0,0,0,0,0,0,0,0,0,0,{"$f":"SUM($BI$33:$BT$33)","v":0},null,0,0,0,0,0,0,0,0,0,0,0,0,{"$f":"SUM($BW$33:$CH$33)","v":0},null,0,0,0,0,0,0,0,0,0,0,0,0,{"$f":"SUM($CK$33:$CV$33)","v":0},null,0,0,0,0,0,0,0,0,0,0,0,0,{"$f":"SUM($CY$33:$DJ$33)","v":0},null,0,0,0,0,0,0,0,0,0,0,0,0,{"$f":"SUM($DM$33:$DX$33)","v":0},null,0,0,0,0,0,0,0,0,0,0,0,0,{"$f":"SUM($EA$33:$EL$33)","v":0},null,0,0,0,0,0,0,0,0,0,0,0,0,{"$f":"SUM($EO$33:$EZ$33)","v":0},null,0,0,0,0,0,0,0,0,0,0,0,0,{"$f":"SUM($FC$33:$FN$33)","v":0}]
[{"$f":"C33&D34","v":"IR"},null,null,"R",null,null,null,null,null,null,null,null,null,null,null,null,{"$f":"SUM($E$34:$P$34)","v":0},null,null,null,null,null,null,null,null,null,null,null,null,null,{"$f":"SUM($S$34:$AD$34)","v":0},null,null,null,null,null,null,null,null,null,null,null,null,null,{"$f":"SUM($AG$34:$AR$34)","v":0},null,null,null,null,null,null,null,null,null,null,null,null,null,{"$f":"SUM($AU$34:$BF$34)","v":0},null,null,null,null,null,null,null,null,null,null,null,null,null,{"$f":"SUM($BI$34:$BT$34)","v":0},null,null,null,null,null,null,null,null,null,null,null,null,null,{"$f":"SUM($BW$34:$CH$34)","v":0},null,null,null,null,null,null,null,null,null,null,null,null,null,{"$f":"SUM($CK$34:$CV$34)","v":0},null,null,null,null,null,null,null,null,null,null,null,null,null,{"$f":"SUM($CY$34:$DJ$34)","v":0},null,null,null,null,null,null,null,null,null,null,null,null,null,{"$f":"SUM($DM$34:$DX$34)","v":0},null,null,null,null,null,null,null,null,null,null,null,null,null,{"$f":"SUM($EA$34:$EL$34)","v":0},null,null,null,null,null,null,null,null,null,null,null,null,null,{"$f":"SUM($EO$34:$EZ$34)","v":0},null,null,null,null,null,null,null,null,null,null,null,null,null,{"$f":"SUM($FC$34:$FN$34)","v":0}]
[{"$f":"C35&D35","v":"JP"},null,"J","P",0,0,0,0,0,0,0,0,0,0,0,0,{"$f":"SUM($E$35:$P$35)","v":0},null,0,0,0,0,0,0,0,0,0,0,0,0,{"$f":"SUM($S$35:$AD$35)","v":0},null,0,0,0,0,0,0,0,0,0,0,0,0,{"$f":"SUM($AG$35:$AR$35)","v":0},null,0,0,0,0,0,0,0,0,0,0,0,0,{"$f":"SUM($AU$35:$BF$35)","v":0},null,0,0,0,0,0,0,0,0,0,0,0,0,{"$f":"SUM($BI$35:$BT$35)","v":0},null,0,0,0,0,0,0,0,0,0,0,0,0,{"$f":"SUM($BW$35:$CH$35)","v":0},null,0,0,0,0,0,0,0,0,0,0,0,0,{"$f":"SUM($CK$35:$CV$35)","v":0},null,0,0,0,0,0,0,0,0,0,0,0,0,{"$f":"SUM($CY$35:$DJ$35)","v":0},null,0,0,0,0,0,0,0,0,0,0,0,0,{"$f":"SUM($DM$35:$DX$35)","v":0},null,0,0,0,0,0,0,0,0,0,0,0,0,{"$f":"SUM($EA$35:$EL$35)","v":0},null,0,0,0,0,0,0,0,0,0,0,0,0,{"$f":"SUM($EO$35:$EZ$35)","v":0},null,0,0,0,0,0,0,0,0,0,0,0,0,{"$f":"SUM($FC$35:$FN$35)","v":0}]
[{"$f":"C35&D36","v":"JR"},null,null,"R",null,null,null,null,null,null,null,null,null,null,null,null,{"$f":"SUM($E$36:$P$36)","v":0},null,null,null,null,null,null,null,null,null,null,null,null,null,{"$f":"SUM($S$36:$AD$36)","v":0},null,null,null,null,null,null,null,null,null,null,null,null,null,{"$f":"SUM($AG$36:$AR$36)","v":0},null,null,null,null,null,null,null,null,null,null,null,null,null,{"$f":"SUM($AU$36:$BF$36)","v":0},null,null,null,null,null,null,null,null,null,null,null,null,null,{"$f":"SUM($BI$36:$BT$36)","v":0},null,null,null,null,null,null,null,null,null,null,null,null,null,{"$f":"SUM($BW$36:$CH$36)","v":0},null,null,null,null,null,null,null,null,null,null,null,null,null,{"$f":"SUM($CK$36:$CV$36)","v":0},null,null,null,null,null,null,null,null,null,null,null,null,null,{"$f":"SUM($CY$36:$DJ$36)","v":0},null,null,null,null,null,null,null,null,null,null,null,null,null,{"$f":"SUM($DM$36:$DX$36)","v":0},null,null,null,null,null,null,null,null,null,null,null,null,null,{"$f":"SUM($EA$36:$EL$36)","v":0},null,null,null,null,null,null,null,null,null,null,null,null,null,{"$f":"SUM($EO$36:$EZ$36)","v":0},null,null,null,null,null,null,null,null,null,null,null,null,null,{"$f":"SUM($FC$36:$FN$36)","v":0}]
[{"$f":"C37&D37","v":"KP"},null,"K","P",0,0,0,0,0,0,0,0,0,0,0,0,{"$f":"SUM($E$37:$P$37)","v":0},null,0,0,0,0,0,0,0,0,0,0,0,0,{"$f":"SUM($S$37:$AD$37)","v":0},null,0,0,0,0,0,0,0,0,0,0,0,0,{"$f":"SUM($AG$37:$AR$37)","v":0},null,0,0,0,0,0,0,0,0,0,0,0,0,{"$f":"SUM($AU$37:$BF$37)","v":0},null,0,0,0,0,0,0,0,0,0,0,0,0,{"$f":"SUM($BI$37:$BT$37)","v":0},null,0,0,0,0,0,0,0,0,0,0,0,0,{"$f":"SUM($BW$37:$CH$37)","v":0},null,0,0,0,0,0,0,0,0,0,0,0,0,{"$f":"SUM($CK$37:$CV$37)","v":0},null,0,0,0,0,0,0,0,0,0,0,0,0,{"$f":"SUM($CY$37:$DJ$37)","v":0},null,0,0,0,0,0,0,0,0,0,0,0,0,{"$f":"SUM($DM$37:$DX$37)","v":0},null,0,0,0,0,0,0,0,0,0,0,0,0,{"$f":"SUM($EA$37:$EL$37)","v":0},null,0,0,0,0,0,0,0,0,0,0,0,0,{"$f":"SUM($EO$37:$EZ$37)","v":0},null,0,0,0,0,0,0,0,0,0,0,0,0,{"$f":"SUM($FC$37:$FN$37)","v":0}]
[{"$f":"C37&D38","v":"KR"},null,null,"R",null,null,null,null,null,null,null,null,null,null,null,null,{"$f":"SUM($E$38:$P$38)","v":0},null,null,null,null,null,null,null,null,null,null,null,null,null,{"$f":"SUM($S$38:$AD$38)","v":0},null,null,null,null,null,null,null,null,null,null,null,null,null,{"$f":"SUM($AG$38:$AR$38)","v":0},null,null,null,null,null,null,null,null,null,null,null,null,null,{"$f":"SUM($AU$38:$BF$38)","v":0},null,null,null,null,null,null,null,null,null,null,null,null,null,{"$f":"SUM($BI$38:$BT$38)","v":0},null,null,null,null,null,null,null,null,null,null,null,null,null,{"$f":"SUM($BW$38:$CH$38)","v":0},null,null,null,null,null,null,null,null,null,null,null,null,null,{"$f":"SUM($CK$38:$CV$38)","v":0},null,null,null,null,null,null,null,null,null,null,null,null,null,{"$f":"SUM($CY$38:$DJ$38)","v":0},null,null,null,null,null,null,null,null,null,null,null,null,null,{"$f":"SUM($DM$38:$DX$38)","v":0},null,null,null,null,null,null,null,null,null,null,null,null,null,{"$f":"SUM($EA$38:$EL$38)","v":0},null,null,null,null,null,null,null,null,null,null,null,null,null,{"$f":"SUM($EO$38:$EZ$38)","v":0},null,null,null,null,null,null,null,null,null,null,null,null,null,{"$f":"SUM($FC$38:$FN$38)","v":0}]
[{"$f":"C39&D39","v":"LP"},null,"L","P",0,0,0,0,0,0,0,0,0,0,0,0,{"$f":"SUM($E$39:$P$39)","v":0},null,0,0,0,0,0,0,0,0,0,0,0,0,{"$f":"SUM($S$39:$AD$39)","v":0},null,0,0,0,0,0,0,0,0,0,0,0,0,{"$f":"SUM($AG$39:$AR$39)","v":0},null,0,0,0,0,0,0,0,0,0,0,0,0,{"$f":"SUM($AU$39:$BF$39)","v":0},null,0,0,0,0,0,0,0,0,0,0,0,0,{"$f":"SUM($BI$39:$BT$39)","v":0},null,0,0,0,0,0,0,0,0,0,0,0,0,{"$f":"SUM($BW$39:$CH$39)","v":0},null,0,0,0,0,0,0,0,0,0,0,0,0,{"$f":"SUM($CK$39:$CV$39)","v":0},null,0,0,0,0,0,0,0,0,0,0,0,0,{"$f":"SUM($CY$39:$DJ$39)","v":0},null,0,0,0,0,0,0,0,0,0,0,0,0,{"$f":"SUM($DM$39:$DX$39)","v":0},null,0,0,0,0,0,0,0,0,0,0,0,0,{"$f":"SUM($EA$39:$EL$39)","v":0},null,0,0,0,0,0,0,0,0,0,0,0,0,{"$f":"SUM($EO$39:$EZ$39)","v":0},null,0,0,0,0,0,0,0,0,0,0,0,0,{"$f":"SUM($FC$39:$FN$39)","v":0}]
[{"$f":"C39&D40","v":"LR"},null,null,"R",null,null,null,null,null,null,null,null,null,null,null,null,{"$f":"SUM($E$40:$P$40)","v":0},null,null,null,null,null,null,null,null,null,null,null,null,null,{"$f":"SUM($S$40:$AD$40)","v":0},null,null,null,null,null,null,null,null,null,null,null,null,null,{"$f":"SUM($AG$40:$AR$40)","v":0},null,null,null,null,null,null,null,null,null,null,null,null,null,{"$f":"SUM($AU$40:$BF$40)","v":0},null,null,null,null,null,null,null,null,null,null,null,null,null,{"$f":"SUM($BI$40:$BT$40)","v":0},null,null,null,null,null,null,null,null,null,null,null,null,null,{"$f":"SUM($BW$40:$CH$40)","v":0},null,null,null,null,null,null,null,null,null,null,null,null,null,{"$f":"SUM($CK$40:$CV$40)","v":0},null,null,null,null,null,null,null,null,null,null,null,null,null,{"$f":"SUM($CY$40:$DJ$40)","v":0},null,null,null,null,null,null,null,null,null,null,null,null,null,{"$f":"SUM($DM$40:$DX$40)","v":0},null,null,null,null,null,null,null,null,null,null,null,null,null,{"$f":"SUM($EA$40:$EL$40)","v":0},null,null,null,null,null,null,null,null,null,null,null,null,null,{"$f":"SUM($EO$40:$EZ$40)","v":0},null,null,null,null,null,null,null,null,null,null,null,null,null,{"$f":"SUM($FC$40:$FN$40)","v":0}]
[{"$f":"C41&D41","v":"MP"},null,"M","P",0,0,0,0,0,0,0,0,0,0,0,0,{"$f":"SUM($E$41:$P$41)","v":0},null,0,0,0,0,0,0,0,0,0,0,0,0,{"$f":"SUM($S$41:$AD$41)","v":0},null,0,0,0,0,0,0,0,0,0,0,0,0,{"$f":"SUM($AG$41:$AR$41)","v":0},null,0,0,0,0,0,0,0,0,0,0,0,0,{"$f":"SUM($AU$41:$BF$41)","v":0},null,0,0,0,0,0,0,0,0,0,0,0,0,{"$f":"SUM($BI$41:$BT$41)","v":0},null,0,0,0,0,0,0,0,0,0,0,0,0,{"$f":"SUM($BW$41:$CH$41)","v":0},null,0,0,0,0,0,0,0,0,0,0,0,0,{"$f":"SUM($CK$41:$CV$41)","v":0},null,0,0,0,0,0,0,0,0,0,0,0,0,{"$f":"SUM($CY$41:$DJ$41)","v":0},null,0,0,0,0,0,0,0,0,0,0,0,0,{"$f":"SUM($DM$41:$DX$41)","v":0},null,0,0,0,0,0,0,0,0,0,0,0,0,{"$f":"SUM($EA$41:$EL$41)","v":0},null,0,0,0,0,0,0,0,0,0,0,0,0,{"$f":"SUM($EO$41:$EZ$41)","v":0},null,0,0,0,0,0,0,0,0,0,0,0,0,{"$f":"SUM($FC$41:$FN$41)","v":0}]
[{"$f":"C41&D42","v":"MR"},null,null,"R",null,null,null,null,null,null,null,null,null,null,null,null,{"$f":"SUM($E$42:$P$42)","v":0},null,null,null,null,null,null,null,null,null,null,null,null,null,{"$f":"SUM($S$42:$AD$42)","v":0},null,null,null,null,null,null,null,null,null,null,null,null,null,{"$f":"SUM($AG$42:$AR$42)","v":0},null,null,null,null,null,null,null,null,null,null,null,null,null,{"$f":"SUM($AU$42:$BF$42)","v":0},null,null,null,null,null,null,null,null,null,null,null,null,null,{"$f":"SUM($BI$42:$BT$42)","v":0},null,null,null,null,null,null,null,null,null,null,null,null,null,{"$f":"SUM($BW$42:$CH$42)","v":0},null,null,null,null,null,null,null,null,null,null,null,null,null,{"$f":"SUM($CK$42:$CV$42)","v":0},null,null,null,null,null,null,null,null,null,null,null,null,null,{"$f":"SUM($CY$42:$DJ$42)","v":0},null,null,null,null,null,null,null,null,null,null,null,null,null,{"$f":"SUM($DM$42:$DX$42)","v":0},null,null,null,null,null,null,null,null,null,null,null,null,null,{"$f":"SUM($EA$42:$EL$42)","v":0},null,null,null,null,null,null,null,null,null,null,null,null,null,{"$f":"SUM($EO$42:$EZ$42)","v":0},null,null,null,null,null,null,null,null,null,null,null,null,null,{"$f":"SUM($FC$42:$FN$42)","v":0}]
[{"$f":"C43&D43","v":"Parcela Financiamento/ CusteioP"},null,"Parcela Financiamento/ Custeio","P",0,0,0,0,0,0,0,0,0,0,0,0,{"$f":"SUM($E$43:$P$43)","v":0},null,0,0,0,0,0,0,0,0,0,0,0,0,{"$f":"SUM($S$43:$AD$43)","v":0},null,0,0,0,0,0,0,0,0,0,0,0,0,{"$f":"SUM($AG$43:$AR$43)","v":0},null,0,0,0,0,0,0,0,0,0,0,0,0,{"$f":"SUM($AU$43:$BF$43)","v":0},null,0,0,0,0,0,0,0,0,0,0,0,0,{"$f":"SUM($BI$43:$BT$43)","v":0},null,0,0,0,0,0,0,0,0,0,0,0,0,{"$f":"SUM($BW$43:$CH$43)","v":0},null,0,0,0,0,0,0,0,0,0,0,0,0,{"$f":"SUM($CK$43:$CV$43)","v":0},null,0,0,0,0,0,0,0,0,0,0,0,0,{"$f":"SUM($CY$43:$DJ$43)","v":0},null,0,0,0,0,0,0,0,0,0,0,0,0,{"$f":"SUM($DM$43:$DX$43)","v":0},null,0,0,0,0,0,0,0,0,0,0,0,0,{"$f":"SUM($EA$43:$EL$43)","v":0},null,0,0,0,0,0,0,0,0,0,0,0,0,{"$f":"SUM($EO$43:$EZ$43)","v":0},null,0,0,0,0,0,0,0,0,0,0,0,0,{"$f":"SUM($FC$43:$FN$43)","v":0}]
[{"$f":"C43&D44","v":"Parcela Financiamento/ CusteioR"},null,null,"R",null,null,null,null,null,null,null,null,null,null,null,null,{"$f":"SUM($E$44:$P$44)","v":0},null,null,null,null,null,null,null,null,null,null,null,null,null,{"$f":"SUM($S$44:$AD$44)","v":0},null,null,null,null,null,null,null,null,null,null,null,null,null,{"$f":"SUM($AG$44:$AR$44)","v":0},null,null,null,null,null,null,null,null,null,null,null,null,null,{"$f":"SUM($AU$44:$BF$44)","v":0},null,null,null,null,null,null,null,null,null,null,null,null,null,{"$f":"SUM($BI$44:$BT$44)","v":0},null,null,null,null,null,null,null,null,null,null,null,null,null,{"$f":"SUM($BW$44:$CH$44)","v":0},null,null,null,null,null,null,null,null,null,null,null,null,null,{"$f":"SUM($CK$44:$CV$44)","v":0},null,null,null,null,null,null,null,null,null,null,null,null,null,{"$f":"SUM($CY$44:$DJ$44)","v":0},null,null,null,null,null,null,null,null,null,null,null,null,null,{"$f":"SUM($DM$44:$DX$44)","v":0},null,null,null,null,null,null,null,null,null,null,null,null,null,{"$f":"SUM($EA$44:$EL$44)","v":0},null,null,null,null,null,null,null,null,null,null,null,null,null,{"$f":"SUM($EO$44:$EZ$44)","v":0},null,null,null,null,null,null,null,null,null,null,null,null,null,{"$f":"SUM($FC$44:$FN$44)","v":0}]
[{"$f":"C45&D45","v":"Total SaídasP"},null,"Total Saídas","P",{"$f":"SUMIF($D$5:$D$44,$D45,E$5:E$44)","v":0},{"$f":"SUMIF($D$5:$D$44,$D45,F$5:F$44)","v":0},{"$f":"SUMIF($D$5:$D$44,$D45,G$5:G$44)","v":0},0,0,0,0,0,0,0,0,0,0,null,{"$f":"SUMIF($D$5:$D$44,$D45,S$5:S$44)","v":0},0,0,0,0,0,0,0,0,0,0,0,0,null,{"$f":"SUMIF($D$5:$D$44,$D45,AG$5:AG$44)","v":0},0,0,0,0,0,0,0,0,0,0,0,0,null,{"$f":"SUMIF($D$5:$D$44,$D45,AU$5:AU$44)","v":0},0,0,0,0,0,0,0,0,0,0,0,0,null,{"$f":"SUMIF($D$5:$D$44,$D45,BI$5:BI$44)","v":0},0,0,0,0,0,0,0,0,0,0,0,0,null,{"$f":"SUMIF($D$5:$D$44,$D45,BW$5:BW$44)","v":0},0,0,0,0,0,0,0,0,0,0,0,0,null,{"$f":"SUMIF($D$5:$D$44,$D45,CK$5:CK$44)","v":0},0,0,0,0,0,0,0,0,0,0,0,0,null,{"$f":"SUMIF($D$5:$D$44,$D45,CY$5:CY$44)","v":0},0,0,0,0,0,0,0,0,0,0,0,0,null,{"$f":"SUMIF($D$5:$D$44,$D45,DM$5:DM$44)","v":0},0,0,0,0,0,0,0,0,0,0,0,0,null,{"$f":"SUMIF($D$5:$D$44,$D45,EA$5:EA$44)","v":0},0,0,0,0,0,0,0,0,0,0,0,0,null,{"$f":"SUMIF($D$5:$D$44,$D45,EO$5:EO$44)","v":0},0,0,0,0,0,0,0,0,0,0,0,0,null,{"$f":"SUMIF($D$5:$D$44,$D45,FC$5:FC$44)","v":0},0,0,0,0,0,0,0,0,0,0,0,0]
[{"$f":"C45&D46","v":"Total SaídasR"},null,null,"R",0,0,0,0,0,0,0,0,0,0,0,0,0,null,0,0,0,0,0,0,0,0,0,0,0,0,0,null,0,0,0,0,0,0,0,0,0,0,0,0,0,null,0,0,0,0,0,0,0,0,0,0,0,0,0,null,0,0,0,0,0,0,0,0,0,0,0,0,0,null,0,0,0,0,0,0,0,0,0,0,0,0,0,null,0,0,0,0,0,0,0,0,0,0,0,0,0,null,0,0,0,0,0,0,0,0,0,0,0,0,0,null,0,0,0,0,0,0,0,0,0,0,0,0,0,null,0,0,0,0,0,0,0,0,0,0,0,0,0,null,0,0,0,0,0,0,0,0,0,0,0,0,0,null,0,0,0,0,0,0,0,0,0,0,0,0,0]
[{"$f":"C47&D47","v":""}]
[{"$f":"C47&D48","v":""}]
[{"$f":"C49&D49","v":"Arrendamentos/AluguéisP"},"Entrada de Caixa","Arrendamentos/Aluguéis","P",0,0,0,0,0,0,0,0,0,0,0,0,{"$f":"SUM($E$49:$P$49)","v":0},null,0,0,0,0,0,0,0,0,0,0,0,0,{"$f":"SUM($S$49:$AD$49)","v":0},null,0,0,0,0,0,0,0,0,0,0,0,0,{"$f":"SUM($AG$49:$AR$49)","v":0},null,0,0,0,0,0,0,0,0,0,0,0,0,{"$f":"SUM($AU$49:$BF$49)","v":0},null,0,0,0,0,0,0,0,0,0,0,0,0,{"$f":"SUM($BI$49:$BT$49)","v":0},null,0,0,0,0,0,0,0,0,0,0,0,0,{"$f":"SUM($BW$49:$CH$49)","v":0},null,0,0,0,0,0,0,0,0,0,0,0,0,{"$f":"SUM($CK$49:$CV$49)","v":0},null,0,0,0,0,0,0,0,0,0,0,0,0,{"$f":"SUM($CY$49:$DJ$49)","v":0},null,0,0,0,0,0,0,0,0,0,0,0,0,{"$f":"SUM($DM$49:$DX$49)","v":0},null,0,0,0,0,0,0,0,0,0,0,0,0,{"$f":"SUM($EA$49:$EL$49)","v":0},null,0,0,0,0,0,0,0,0,0,0,0,0,{"$f":"SUM($EO$49:$EZ$49)","v":0},null,0,0,0,0,0,0,0,0,0,0,0,0,{"$f":"SUM($FC$49:$FN$49)","v":0}]
[{"$f":"C49&D50","v":"Arrendamentos/AluguéisR"},null,null,"R",null,null,null,null,null,null,null,null,null,null,null,null,{"$f":"SUM($E$50:$P$50)","v":0},null,null,null,null,null,null,null,null,null,null,null,null,null,{"$f":"SUM($S$50:$AD$50)","v":0},null,null,null,null,null,null,null,null,null,null,null,null,null,{"$f":"SUM($AG$50:$AR$50)","v":0},null,null,null,null,null,null,null,null,null,null,null,null,null,{"$f":"SUM($AU$50:$BF$50)","v":0},null,null,null,null,null,null,null,null,null,null,null,null,null,{"$f":"SUM($BI$50:$BT$50)","v":0},null,null,null,null,null,null,null,null,null,null,null,null,null,{"$f":"SUM($BW$50:$CH$50)","v":0},null,null,null,null,null,null,null,null,null,null,null,null,null,{"$f":"SUM($CK$50:$CV$50)","v":0},null,null,null,null,null,null,null,null,null,null,null,null,null,{"$f":"SUM($CY$50:$DJ$50)","v":0},null,null,null,null,null,null,null,null,null,null,null,null,null,{"$f":"SUM($DM$50:$DX$50)","v":0},null,null,null,null,null,null,null,null,null,null,null,null,null,{"$f":"SUM($EA$50:$EL$50)","v":0},null,null,null,null,null,null,null,null,null,null,null,null,null,{"$f":"SUM($EO$50:$EZ$50)","v":0},null,null,null,null,null,null,null,null,null,null,null,null,null,{"$f":"SUM($FC$50:$FN$50)","v":0}]
[{"$f":"C51&D51","v":"Prestação de ServiçosP"},null,"Prestação de Serviços","P",0,0,0,0,0,0,0,0,0,0,0,0,{"$f":"SUM($E$51:$P$51)","v":0},null,0,0,0,0,0,0,0,0,0,0,0,0,{"$f":"SUM($S$51:$AD$51)","v":0},null,0,0,0,0,0,0,0,0,0,0,0,0,{"$f":"SUM($AG$51:$AR$51)","v":0},null,0,0,0,0,0,0,0,0,0,0,0,0,{"$f":"SUM($AU$51:$BF$51)","v":0},null,0,0,0,0,0,0,0,0,0,0,0,0,{"$f":"SUM($BI$51:$BT$51)","v":0},null,0,0,0,0,0,0,0,0,0,0,0,0,{"$f":"SUM($BW$51:$CH$51)","v":0},null,0,0,0,0,0,0,0,0,0,0,0,0,{"$f":"SUM($CK$51:$CV$51)","v":0},null,0,0,0,0,0,0,0,0,0,0,0,0,{"$f":"SUM($CY$51:$DJ$51)","v":0},null,0,0,0,0,0,0,0,0,0,0,0,0,{"$f":"SUM($DM$51:$DX$51)","v":0},null,0,0,0,0,0,0,0,0,0,0,0,0,{"$f":"SUM($EA$51:$EL$51)","v":0},null,0,0,0,0,0,0,0,0,0,0,0,0,{"$f":"SUM($EO$51:$EZ$51)","v":0},null,0,0,0,0,0,0,0,0,0,0,0,0,{"$f":"SUM($FC$51:$FN$51)","v":0}]
[{"$f":"C51&D52","v":"Prestação de ServiçosR"},null,null,"R",null,null,null,null,null,null,null,null,null,null,null,null,{"$f":"SUM($E$52:$P$52)","v":0},null,null,null,null,null,null,null,null,null,null,null,null,null,{"$f":"SUM($S$52:$AD$52)","v":0},null,null,null,null,null,null,null,null,null,null,null,null,null,{"$f":"SUM($AG$52:$AR$52)","v":0},null,null,null,null,null,null,null,null,null,null,null,null,null,{"$f":"SUM($AU$52:$BF$52)","v":0},null,null,null,null,null,null,null,null,null,null,null,null,null,{"$f":"SUM($BI$52:$BT$52)","v":0},null,null,null,null,null,null,null,null,null,null,null,null,null,{"$f":"SUM($BW$52:$CH$52)","v":0},null,null,null,null,null,null,null,null,null,null,null,null,null,{"$f":"SUM($CK$52:$CV$52)","v":0},null,null,null,null,null,null,null,null,null,null,null,null,null,{"$f":"SUM($CY$52:$DJ$52)","v":0},null,null,null,null,null,null,null,null,null,null,null,null,null,{"$f":"SUM($DM$52:$DX$52)","v":0},null,null,null,null,null,null,null,null,null,null,null,null,null,{"$f":"SUM($EA$52:$EL$52)","v":0},null,null,null,null,null,null,null,null,null,null,null,null,null,{"$f":"SUM($EO$52:$EZ$52)","v":0},null,null,null,null,null,null,null,null,null,null,null,null,null,{"$f":"SUM($FC$52:$FN$52)","v":0}]
[{"$f":"C53&D53","v":"AP"},null,"A","P",0,0,0,0,0,0,0,0,0,0,0,0,{"$f":"SUM($E$53:$P$53)","v":0},null,0,0,0,0,0,0,0,0,0,0,0,0,{"$f":"SUM($S$53:$AD$53)","v":0},null,0,0,0,0,0,0,0,0,0,0,0,0,{"$f":"SUM($AG$53:$AR$53)","v":0},null,0,0,0,0,0,0,0,0,0,0,0,0,{"$f":"SUM($AU$53:$BF$53)","v":0},null,0,0,0,0,0,0,0,0,0,0,0,0,{"$f":"SUM($BI$53:$BT$53)","v":0},null,0,0,0,0,0,0,0,0,0,0,0,0,{"$f":"SUM($BW$53:$CH$53)","v":0},null,0,0,0,0,0,0,0,0,0,0,0,0,{"$f":"SUM($CK$53:$CV$53)","v":0},null,0,0,0,0,0,0,0,0,0,0,0,0,{"$f":"SUM($CY$53:$DJ$53)","v":0},null,0,0,0,0,0,0,0,0,0,0,0,0,{"$f":"SUM($DM$53:$DX$53)","v":0},null,0,0,0,0,0,0,0,0,0,0,0,0,{"$f":"SUM($EA$53:$EL$53)","v":0},null,0,0,0,0,0,0,0,0,0,0,0,0,{"$f":"SUM($EO$53:$EZ$53)","v":0},null,0,0,0,0,0,0,0,0,0,0,0,0,{"$f":"SUM($FC$53:$FN$53)","v":0}]
[{"$f":"C53&D54","v":"AR"},null,null,"R",null,null,null,null,null,null,null,null,null,null,null,null,{"$f":"SUM($E$54:$P$54)","v":0},null,null,null,null,null,null,null,null,null,null,null,null,null,{"$f":"SUM($S$54:$AD$54)","v":0},null,null,null,null,null,null,null,null,null,null,null,null,null,{"$f":"SUM($AG$54:$AR$54)","v":0},null,null,null,null,null,null,null,null,null,null,null,null,null,{"$f":"SUM($AU$54:$BF$54)","v":0},null,null,null,null,null,null,null,null,null,null,null,null,null,{"$f":"SUM($BI$54:$BT$54)","v":0},null,null,null,null,null,null,null,null,null,null,null,null,null,{"$f":"SUM($BW$54:$CH$54)","v":0},null,null,null,null,null,null,null,null,null,null,null,null,null,{"$f":"SUM($CK$54:$CV$54)","v":0},null,null,null,null,null,null,null,null,null,null,null,null,null,{"$f":"SUM($CY$54:$DJ$54)","v":0},null,null,null,null,null,null,null,null,null,null,null,null,null,{"$f":"SUM($DM$54:$DX$54)","v":0},null,null,null,null,null,null,null,null,null,null,null,null,null,{"$f":"SUM($EA$54:$EL$54)","v":0},null,null,null,null,null,null,null,null,null,null,null,null,null,{"$f":"SUM($EO$54:$EZ$54)","v":0},null,null,null,null,null,null,null,null,null,null,null,null,null,{"$f":"SUM($FC$54:$FN$54)","v":0}]
[{"$f":"C55&D55","v":"Entrada Financiamento/ CusteioP"},null,"Entrada Financiamento/ Custeio","P",0,0,0,0,0,0,0,0,0,0,0,0,{"$f":"SUM($E$55:$P$55)","v":0},null,0,0,0,0,0,0,0,0,0,0,0,0,{"$f":"SUM($S$55:$AD$55)","v":0},null,0,0,0,0,0,0,0,0,0,0,0,0,{"$f":"SUM($AG$55:$AR$55)","v":0},null,0,0,0,0,0,0,0,0,0,0,0,0,{"$f":"SUM($AU$55:$BF$55)","v":0},null,0,0,0,0,0,0,0,0,0,0,0,0,{"$f":"SUM($BI$55:$BT$55)","v":0},null,0,0,0,0,0,0,0,0,0,0,0,0,{"$f":"SUM($BW$55:$CH$55)","v":0},null,0,0,0,0,0,0,0,0,0,0,0,0,{"$f":"SUM($CK$55:$CV$55)","v":0},null,0,0,0,0,0,0,0,0,0,0,0,0,{"$f":"SUM($CY$55:$DJ$55)","v":0},null,0,0,0,0,0,0,0,0,0,0,0,0,{"$f":"SUM($DM$55:$DX$55)","v":0},null,0,0,0,0,0,0,0,0,0,0,0,0,{"$f":"SUM($EA$55:$EL$55)","v":0},null,0,0,0,0,0,0,0,0,0,0,0,0,{"$f":"SUM($EO$55:$EZ$55)","v":0},null,0,0,0,0,0,0,0,0,0,0,0,0,{"$f":"SUM($FC$55:$FN$55)","v":0}]
[{"$f":"C55&D56","v":"Entrada Financiamento/ CusteioR"},null,null,"R",null,null,null,null,null,null,null,null,null,null,null,null,{"$f":"SUM($E$56:$P$56)","v":0},null,null,null,null,null,null,null,null,null,null,null,null,null,{"$f":"SUM($S$56:$AD$56)","v":0},null,null,null,null,null,null,null,null,null,null,null,null,null,{"$f":"SUM($AG$56:$AR$56)","v":0},null,null,null,null,null,null,null,null,null,null,null,null,null,{"$f":"SUM($AU$56:$BF$56)","v":0},null,null,null,null,null,null,null,null,null,null,null,null,null,{"$f":"SUM($BI$56:$BT$56)","v":0},null,null,null,null,null,null,null,null,null,null,null,null,null,{"$f":"SUM($BW$56:$CH$56)","v":0},null,null,null,null,null,null,null,null,null,null,null,null,null,{"$f":"SUM($CK$56:$CV$56)","v":0},null,null,null,null,null,null,null,null,null,null,null,null,null,{"$f":"SUM($CY$56:$DJ$56)","v":0},null,null,null,null,null,null,null,null,null,null,null,null,null,{"$f":"SUM($DM$56:$DX$56)","v":0},null,null,null,null,null,null,null,null,null,null,null,null,null,{"$f":"SUM($EA$56:$EL$56)","v":0},null,null,null,null,null,null,null,null,null,null,null,null,null,{"$f":"SUM($EO$56:$EZ$56)","v":0},null,null,null,null,null,null,null,null,null,null,null,null,null,{"$f":"SUM($FC$56:$FN$56)","v":0}]
[{"$f":"C57&D57","v":"Total EntradasP"},null,"Total Entradas","P",{"$f":"SUMIF($D$49:$D$56,$D57,E49:E56)","v":0},{"$f":"SUMIF($D$49:$D$56,$D57,F49:F56)","v":0},{"$f":"SUMIF($D$49:$D$56,$D57,G49:G56)","v":0},0,0,0,0,0,0,0,0,0,0,null,{"$f":"SUMIF($D$49:$D$56,$D57,S49:S56)","v":0},{"$f":"SUMIF($D$49:$D$56,$D57,T49:T56)","v":0},{"$f":"SUMIF($D$49:$D$56,$D57,U49:U56)","v":0},0,0,0,0,0,0,0,0,0,0,null,{"$f":"SUMIF($D$49:$D$56,$D57,AG49:AG56)","v":0},{"$f":"SUMIF($D$49:$D$56,$D57,AH49:AH56)","v":0},{"$f":"SUMIF($D$49:$D$56,$D57,AI49:AI56)","v":0},0,0,0,0,0,0,0,0,0,0,null,{"$f":"SUMIF($D$49:$D$56,$D57,AU49:AU56)","v":0},{"$f":"SUMIF($D$49:$D$56,$D57,AV49:AV56)","v":0},{"$f":"SUMIF($D$49:$D$56,$D57,AW49:AW56)","v":0},0,0,0,0,0,0,0,0,0,0,null,{"$f":"SUMIF($D$49:$D$56,$D57,BI49:BI56)","v":0},{"$f":"SUMIF($D$49:$D$56,$D57,BJ49:BJ56)","v":0},{"$f":"SUMIF($D$49:$D$56,$D57,BK49:BK56)","v":0},0,0,0,0,0,0,0,0,0,0,null,{"$f":"SUMIF($D$49:$D$56,$D57,BW49:BW56)","v":0},{"$f":"SUMIF($D$49:$D$56,$D57,BX49:BX56)","v":0},{"$f":"SUMIF($D$49:$D$56,$D57,BY49:BY56)","v":0},0,0,0,0,0,0,0,0,0,0,null,{"$f":"SUMIF($D$49:$D$56,$D57,CK49:CK56)","v":0},{"$f":"SUMIF($D$49:$D$56,$D57,CL49:CL56)","v":0},{"$f":"SUMIF($D$49:$D$56,$D57,CM49:CM56)","v":0},0,0,0,0,0,0,0,0,0,0,null,{"$f":"SUMIF($D$49:$D$56,$D57,CY49:CY56)","v":0},{"$f":"SUMIF($D$49:$D$56,$D57,CZ49:CZ56)","v":0},{"$f":"SUMIF($D$49:$D$56,$D57,DA49:DA56)","v":0},0,0,0,0,0,0,0,0,0,0,null,{"$f":"SUMIF($D$49:$D$56,$D57,DM49:DM56)","v":0},{"$f":"SUMIF($D$49:$D$56,$D57,DN49:DN56)","v":0},{"$f":"SUMIF($D$49:$D$56,$D57,DO49:DO56)","v":0},0,0,0,0,0,0,0,0,0,0,null,{"$f":"SUMIF($D$49:$D$56,$D57,EA49:EA56)","v":0},{"$f":"SUMIF($D$49:$D$56,$D57,EB49:EB56)","v":0},{"$f":"SUMIF($D$49:$D$56,$D57,EC49:EC56)","v":0},0,0,0,0,0,0,0,0,0,0,null,{"$f":"SUMIF($D$49:$D$56,$D57,EO49:EO56)","v":0},{"$f":"SUMIF($D$49:$D$56,$D57,EP49:EP56)","v":0},{"$f":"SUMIF($D$49:$D$56,$D57,EQ49:EQ56)","v":0},0,0,0,0,0,0,0,0,0,0,null,{"$f":"SUMIF($D$49:$D$56,$D57,FC49:FC56)","v":0},{"$f":"SUMIF($D$49:$D$56,$D57,FD49:FD56)","v":0},{"$f":"SUMIF($D$49:$D$56,$D57,FE49:FE56)","v":0},0,0,0,0,0,0,0,0,0,0]
[{"$f":"C57&D58","v":"Total EntradasR"},null,null,"R",{"$f":"SUMIF($D$49:$D$56,$D58,E$49:E$56)","v":0},{"$f":"SUMIF($D$49:$D$56,$D58,F$49:F$56)","v":0},0,0,0,0,0,0,0,0,0,0,0,null,{"$f":"SUMIF($D$49:$D$56,$D58,S$49:S$56)","v":0},{"$f":"SUMIF($D$49:$D$56,$D58,T$49:T$56)","v":0},0,0,0,0,0,0,0,0,0,0,0,null,{"$f":"SUMIF($D$49:$D$56,$D58,AG$49:AG$56)","v":0},{"$f":"SUMIF($D$49:$D$56,$D58,AH$49:AH$56)","v":0},0,0,0,0,0,0,0,0,0,0,0,null,{"$f":"SUMIF($D$49:$D$56,$D58,AU$49:AU$56)","v":0},{"$f":"SUMIF($D$49:$D$56,$D58,AV$49:AV$56)","v":0},0,0,0,0,0,0,0,0,0,0,0,null,{"$f":"SUMIF($D$49:$D$56,$D58,BI$49:BI$56)","v":0},{"$f":"SUMIF($D$49:$D$56,$D58,BJ$49:BJ$56)","v":0},0,0,0,0,0,0,0,0,0,0,0,null,{"$f":"SUMIF($D$49:$D$56,$D58,BW$49:BW$56)","v":0},{"$f":"SUMIF($D$49:$D$56,$D58,BX$49:BX$56)","v":0},0,0,0,0,0,0,0,0,0,0,0,null,{"$f":"SUMIF($D$49:$D$56,$D58,CK$49:CK$56)","v":0},{"$f":"SUMIF($D$49:$D$56,$D58,CL$49:CL$56)","v":0},0,0,0,0,0,0,0,0,0,0,0,null,{"$f":"SUMIF($D$49:$D$56,$D58,CY$49:CY$56)","v":0},{"$f":"SUMIF($D$49:$D$56,$D58,CZ$49:CZ$56)","v":0},0,0,0,0,0,0,0,0,0,0,0,null,{"$f":"SUMIF($D$49:$D$56,$D58,DM$49:DM$56)","v":0},{"$f":"SUMIF($D$49:$D$56,$D58,DN$49:DN$56)","v":0},0,0,0,0,0,0,0,0,0,0,0,null,{"$f":"SUMIF($D$49:$D$56,$D58,EA$49:EA$56)","v":0},{"$f":"SUMIF($D$49:$D$56,$D58,EB$49:EB$56)","v":0},0,0,0,0,0,0,0,0,0,0,0,null,{"$f":"SUMIF($D$49:$D$56,$D58,EO$49:EO$56)","v":0},{"$f":"SUMIF($D$49:$D$56,$D58,EP$49:EP$56)","v":0},0,0,0,0,0,0,0,0,0,0,0,null,{"$f":"SUMIF($D$49:$D$56,$D58,FC$49:FC$56)","v":0},{"$f":"SUMIF($D$49:$D$56,$D58,FD$49:FD$56)","v":0},0,0,0,0,0,0,0,0,0,0,0]
[{"$f":"C59&D59","v":""}]
[{"$f":"C59&D60","v":""},"Saldo de Exercícios Anteriores"]
[{"$f":"B61&D61","v":"Saldo de Caixa MensalP"},"Saldo de Caixa Mensal",null,"P",{"$f":"E57-E45","v":0},0,0,0,0,0,0,0,0,0,0,0,0,null,{"$f":"S57-S45","v":0},0,0,0,0,0,0,0,0,0,0,0,0,null,{"$f":"AG57-AG45","v":0},0,0,0,0,0,0,0,0,0,0,0,0,null,{"$f":"AU57-AU45","v":0},0,0,0,0,0,0,0,0,0,0,0,0,null,{"$f":"BI57-BI45","v":0},0,0,0,0,0,0,0,0,0,0,0,0,null,{"$f":"BW57-BW45","v":0},0,0,0,0,0,0,0,0,0,0,0,0,null,{"$f":"CK57-CK45","v":0},0,0,0,0,0,0,0,0,0,0,0,0,null,{"$f":"CY57-CY45","v":0},0,0,0,0,0,0,0,0,0,0,0,0,null,{"$f":"DM57-DM45","v":0},0,0,0,0,0,0,0,0,0,0,0,0,null,{"$f":"EA57-EA45","v":0},0,0,0,0,0,0,0,0,0,0,0,0,null,{"$f":"EO57-EO45","v":0},0,0,0,0,0,0,0,0,0,0,0,0,null,{"$f":"FC57-FC45","v":0},0,0,0,0,0,0,0,0,0,0,0,0]
[{"$f":"B61&D62","v":"Saldo de Caixa MensalR"},null,null,"R",{"$f":"E58-E46","v":0},0,0,0,0,0,0,0,0,0,0,0,0,null,{"$f":"S58-S46","v":0},0,0,0,0,0,0,0,0,0,0,0,0,null,{"$f":"AG58-AG46","v":0},0,0,0,0,0,0,0,0,0,0,0,0,null,{"$f":"AU58-AU46","v":0},0,0,0,0,0,0,0,0,0,0,0,0,null,{"$f":"BI58-BI46","v":0},0,0,0,0,0,0,0,0,0,0,0,0,null,{"$f":"BW58-BW46","v":0},0,0,0,0,0,0,0,0,0,0,0,0,null,{"$f":"CK58-CK46","v":0},0,0,0,0,0,0,0,0,0,0,0,0,null,{"$f":"CY58-CY46","v":0},0,0,0,0,0,0,0,0,0,0,0,0,null,{"$f":"DM58-DM46","v":0},0,0,0,0,0,0,0,0,0,0,0,0,null,{"$f":"EA58-EA46","v":0},0,0,0,0,0,0,0,0,0,0,0,0,null,{"$f":"EO58-EO46","v":0},0,0,0,0,0,0,0,0,0,0,0,0,null,{"$f":"FC58-FC46","v":0},0,0,0,0,0,0,0,0,0,0,0,0]
[{"$f":"B63&D63","v":"Caixa AcumuladoP"},"Caixa Acumulado",null,"P",{"$f":"E61","v":0},{"$f":"F61+E63","v":0},{"$f":"G61+F63","v":0},0,0,0,{"$f":"K61+J63","v":0},0,0,0,0,0,null,null,{"$f":"S61+P63","v":0},{"$f":"T61+S63","v":0},{"$f":"U61+T63","v":0},0,0,0,0,0,0,0,0,{"$f":"AD61+AC63","v":0},null,null,{"$f":"AG61+AD63","v":0},{"$f":"AH61+AG63","v":0},{"$f":"AI61+AH63","v":0},0,0,0,0,0,0,0,0,{"$f":"AR61+AQ63","v":0},null,null,{"$f":"AU61+AR63","v":0},{"$f":"AV61+AU63","v":0},{"$f":"AW61+AV63","v":0},0,0,0,0,0,0,0,0,{"$f":"BF61+BE63","v":0},null,null,{"$f":"BI61+BF63","v":0},{"$f":"BJ61+BI63","v":0},{"$f":"BK61+BJ63","v":0},0,0,0,0,0,0,0,0,{"$f":"BT61+BS63","v":0},null,null,{"$f":"BW61+BT63","v":0},{"$f":"BX61+BW63","v":0},{"$f":"BY61+BX63","v":0},0,0,0,0,0,0,0,0,{"$f":"CH61+CG63","v":0},null,null,{"$f":"CK61+CH63","v":0},{"$f":"CL61+CK63","v":0},{"$f":"CM61+CL63","v":0},0,0,0,0,0,0,0,0,{"$f":"CV61+CU63","v":0},null,null,{"$f":"CY61+CV63","v":0},{"$f":"CZ61+CY63","v":0},{"$f":"DA61+CZ63","v":0},0,0,0,0,0,0,0,0,{"$f":"DJ61+DI63","v":0},null,null,{"$f":"DM61+DJ63","v":0},{"$f":"DN61+DM63","v":0},{"$f":"DO61+DN63","v":0},0,0,0,0,0,0,0,0,{"$f":"DX61+DW63","v":0},null,null,{"$f":"EA61+DX63","v":0},{"$f":"EB61+EA63","v":0},{"$f":"EC61+EB63","v":0},0,0,0,0,0,0,0,0,{"$f":"EL61+EK63","v":0},null,null,{"$f":"EO61+EL63","v":0},{"$f":"EP61+EO63","v":0},{"$f":"EQ61+EP63","v":0},0,0,0,0,0,0,0,0,{"$f":"EZ61+EY63","v":0},null,null,{"$f":"FC61+EZ63","v":0},{"$f":"FD61+FC63","v":0},{"$f":"FE61+FD63","v":0},0,0,0,0,0,0,0,0,{"$f":"FN61+FM63","v":0}]
[{"$f":"B63&D64","v":"Caixa AcumuladoR"},null,null,"R",{"$f":"E60+E62","v":0},{"$f":"E64+F62","v":0},{"$f":"F64+G62","v":0},0,0,0,0,0,0,0,0,0,null,null,{"$f":"S62+P64","v":0},{"$f":"T62+S64","v":0},0,0,0,0,0,0,0,0,0,0,null,null,{"$f":"AG62+AD64","v":0},{"$f":"AH62+AG64","v":0},0,0,0,0,0,0,0,0,0,0,null,null,{"$f":"AU62+AR64","v":0},{"$f":"AV62+AU64","v":0},0,0,0,0,0,0,0,0,0,0,null,null,{"$f":"BI62+BF64","v":0},{"$f":"BJ62+BI64","v":0},0,0,0,0,0,0,0,0,0,0,null,null,{"$f":"BW62+BT64","v":0},{"$f":"BX62+BW64","v":0},0,0,0,0,0,0,0,0,0,0,null,null,{"$f":"CK62+CH64","v":0},{"$f":"CL62+CK64","v":0},0,0,0,0,0,0,0,0,0,0,null,null,{"$f":"CY62+CV64","v":0},{"$f":"CZ62+CY64","v":0},0,0,0,0,0,0,0,0,0,0,null,null,{"$f":"DM62+DJ64","v":0},{"$f":"DN62+DM64","v":0},0,0,0,0,0,0,0,0,0,0,null,null,{"$f":"EA62+DX64","v":0},{"$f":"EB62+EA64","v":0},0,0,0,0,0,0,0,0,0,0,null,null,{"$f":"EO62+EL64","v":0},{"$f":"EP62+EO64","v":0},0,0,0,0,0,0,0,0,0,0,null,null,{"$f":"FC62+EZ64","v":0},{"$f":"FD62+FC64","v":0},0,0,0,0,0,0,0,0,0,0]

{"sheet":"Sugestões de custos","index":13,"n_rows":32,"n_cols":11,"rows_kept":32,"cut":false,"hidden":false,"merged":[[2,0,2,4],[2,6,2,10],[7,10,8,10],[5,0,6,0],[5,2,6,2],[5,4,6,4],[5,6,6,6],[5,8,6,8],[5,10,6,10],[7,0,8,0],[7,2,8,2],[7,4,8,4],[7,6,8,6],[7,8,8,8],[11,10,12,10],[9,0,10,0],[9,2,10,2],[9,4,10,4],[9,6,10,6],[9,8,10,8],[9,10,10,10],[11,0,12,0],[11,2,12,2],[11,4,12,4],[11,6,12,6],[11,8,12,8],[15,10,16,10],[13,0,14,0],[13,2,14,2],[13,4,14,4],[13,6,14,6],[13,8,14,8],[13,10,14,10],[15,0,16,0],[15,2,16,2],[15,4,16,4],[15,6,16,6],[15,8,16,8],[19,10,20,10],[17,0,18,0],[17,2,18,2],[17,4,18,4],[17,6,18,6],[17,8,18,8],[17,10,18,10],[19,0,20,0],[19,2,20,2],[19,4,20,4],[19,6,20,6],[19,8,20,8],[23,10,24,10],[21,0,22,0],[21,2,22,2],[21,4,22,4],[21,6,22,6],[21,8,22,8],[21,10,22,10],[23,0,24,0],[23,2,24,2],[23,4,24,4],[23,6,24,6],[23,8,24,8],[27,10,28,10],[25,0,26,0],[25,2,26,2],[25,4,26,4],[25,6,26,6],[25,8,26,8],[25,10,26,10],[27,0,28,0],[27,2,28,2],[27,4,28,4],[27,6,28,6],[27,8,28,8],[31,10,32,10],[29,0,30,0],[29,2,30,2],[29,4,30,4],[29,6,30,6],[29,8,30,8],[29,10,30,10],[31,0,32,0],[31,2,32,2],[31,4,32,4],[31,6,32,6],[31,8,32,8]]}
[]
[]
["SUGESTÕES DE CUSTOS",null,null,null,null,null,"SUGESTÕES DE CUSTOS"]
[]
["Fruticultura",null,"Olericultura",null,"Reflorestamento",null,"Arroz",null,"Trigo",null,"Fumo"]
["Mão de obra paga",null,"Mão de obra paga",null,"Mão de obra paga",null,"Mão de obra paga",null,"Mão de obra paga",null,"Mão de obra paga"]
[]
["Fungicida",null,"Fungicida",null,"Formicida",null,"Semente",null,"Semente",null,"Sementes"]
[]
["Insetidida",null,"Insetidida",null,"Mudas",null,"Adubação orgânica",null,"Adubação orgânica",null,"Bandejas"]
[]
["Formicida",null,"Formicida",null,"Adubo",null,"Adubação química",null,"Adubação química",null,"Estufas"]
[]
["Adubo químico",null,"Adubo químico",null,"Reparo e Manutenção de Máquinas e Benfeitorias",null,"Fungicida",null,"Fungicida",null,"Substrato"]
[]
["Adubo orgânico",null,"Adubo orgânico",null,"Seguro",null,"Inseticida",null,"Inseticida",null,"Abubação"]
[]
["Mudas de reposição",null,"Mudas",null,"Reinvestimento",null,"Herbicida",null,"Herbicida",null,"Lenha"]
[]
["Manutenção",null,"Reparo e Manutenção de Máquinas e Benfeitorias",null,null,null,"Diesel",null,"Diesel",null,"Defensivos Agrícolas"]
[]
["Seguro",null,"Seguro",null,null,null,"Pagamento de hora-máquina",null,"Pagamento de hora-máquina",null,"Herbicidas"]
[]
["Caixas",null,"Reinvestimento",null,null,null,"Seguro",null,"Seguro",null,"Seguro"]
[]
["Reparo e Manutenção de Máquinas e Benfeitorias",null,null,null,null,null,"Reparo e Manutenção de Máquinas e Benfeitorias",null,"Reparo e Manutenção de Máquinas e Benfeitorias",null,"Reparo e Manutenção de Máquinas e Benfeitorias"]
[]
["Seguro",null,null,null,null,null,"Reinvestimento",null,"Reinvestimento",null,"Reinvestimento"]
[]
["Reinvestimento",null,null,null,null,null,"Outros",null,"Outros",null,"Outros"]
[]
["Parcela Financiamento",null,"Parcela Financiamento",null,"Parcela Financiamento",null,"Pagamento Custeio",null,"Pagamento Custeio",null,"Pagamento Custeio"]

{"sheet":"Instruções","index":14,"n_rows":256,"n_cols":2,"rows_kept":256,"cut":false,"hidden":false,"merged":[]}
[]
[]
[null,"O que é Fluxo de Caixa"]
[null,"Configuração da Planilha"]
[null,"Preenchimento de Dados da Propriedade"]
[null,"Impressão"]
[null,"Como preencher o Fluxo de Caixa"]
[null,"Saídas de Caixa"]
[null,"Entradas de caixa"]
[null,"Rateio"]
[null,"Reparo e Manutenção de Máquinas e Benfeitorias"]
[null,"Reinvestimento"]
[null,"Qual a diferença entre Previsto e Realizado"]
[null,"1. Previsto"]
[null,"2. Realizado"]
[null,"O que é Caixa Mensal e Caixa Acumulado"]
[null,"Caixa Mensal"]
[null,"Caixa Acumulado"]
[null,"Qual a diferença entre Pessoais e Diversos?"]
[null,"Pessoais"]
[null,"Diversos"]
[null,"Resumo da propriedade"]
[null,"Como visualizar os Gráficos"]
[]
[null,"FLUXO DE CAIXA"]
[null,"O fluxo de caixa é uma ferramenta que permite o controle da movimentação financeira da propriedade em determinado período."]
[null,"A principal utilidade do Fluxo de Caixa é auxiliar na gestão da propriedade fornecendo informações de saldo disponível para manutenção, reinvestimentos, apontamento de contas a pagar (a parcela do financiamento, por exemplo) e contas a receber."]
[]
[]
[]
[]
[null,"CONFIGURAÇÃO DA PLANILHA"]
[null,"Para a utilização de todos os recursos da planilha de forma perfeita, configure seu Excel da seguinte forma:"]
[null,"Clique em \"ARQUIVO\" no canto superior esquerdo da tela, em seguida vá em \"Opções\" na barra do lado esquerdo. Feito isso, abra a aba \"Avançado\" na caixa de \"Opções do Excel\" e desabilite a opção \"Habilitar alça de preenchimento e arrastar-e-soltar célula\" conforme indicado abaixo. Clique em OK para finalizar."]
[]
[]
[]
[]
[]
[]
[]
[]
[]
[]
[]
[]
[]
[]
[]
[]
[]
[]
[]
[]
[]
[]
[]
[]
[]
[]
[]
[null,"PREENCHIMENTO DE DADOS DA PROPRIEDADE"]
[null,"Para identificação da propriedade, preencha os campos: \"Produtor(a)\", \"Município\" e \"Área da Propriedade\"."]
[null,"Para iniciar o controle de fluxo de caixa anual, estabeleça o ano inicial no campo \"ANO INÍCIO DA ATIVIDADE\". Após início do acompanhamento da atividade, é recomendável manter o ano inicial pré estabelecido."]
[null,"No campo \"ÍNDICE\" as atividades devem ser listadas de acordo com o acompanhamento feito pelo produtor(a)."]
[null,"IMPORTANTE: Sempre fazer a atualização dos dados de \"ANO\" e \"ATIVIDADE\" após inserir ou alterar esses campos."]
[null,"Obs.: Para alterar a atividade e/ou o ano inicial da atividade, digite a informação desejada. Clique com o botão \"ATUALIZAR ANO\" ou \"ATUALIZAR ATIVIDADE\"."]
[]
[null,"IMPRESSÃO"]
[null,"Para imprimir o fluxo de caixa de uma atividade/ano em uma única página, utilize o botão."]
[null,"Na aba de Impressão, selecione a impressora que deseja utilizar. Em seguida configure para \"Imprimir Seleção\" e \"Orientação Paisagem\", como indicado abaixo. Após realizado o procedimento é só imprimir."]
[null,"A partir do ano 2, após o uso do botão \"SELEÇÃO PARA IMPRESSÃO\", para visualizar novamente a planilha completa com todos os anos, clique no botão: "]
[null,"Como preencher o Fluxo de Caixa"]
[null,"Uma característica muito importante do fluxo de caixa é que as entradas e saídas devem ser registradas no momento em que o desembolso ocorre. Por exemplo: se você contratou (no mês de janeiro) um seguro (R$ 1.700,00) e parcelou o pagamento do prêmio em 04 parcelas mensais (R$ 425,00 em cada mês) o lançamento será feito da seguinte forma: R$ 425,00 em cada um dos meses de janeiro a abril. Da mesma forma, a compra dos insumos para pagamento ‘na safra’ ou na venda no lote, devem ser lançados no mês em que o pagamento é efetivamente realizado. "]
[]
[]
[]
[]
[]
[]
[]
[]
[]
[]
[]
[]
[]
[]
[]
[]
[]
[]
[]
[]
[]
[]
[null,"As células de valores devem ser preenchidas com algarismos indo-arábicos com separação de virgula para números decimais. A tentativa de preenchimento com outros tipos de caractéres será negada."]
[null,"Obs.: Nas linhas referentes as despesas os valores realizados forem maiores do que os totalizadores dos valores previstos, então a planilha os destacará em vermelho."]
[null,"Obs.: Na linha referente aos pagamentos de parcela de Financiamento, se o valor relizado for menor do que o previsto, então a planilha o destacará em laranja. Porém se o valor relizado for condizente com o valor previsto, então a planilha o destacará em verde."]
[null,"Saídas de Caixa"]
[null,"As saídas de caixa se referem ao pagamento de todos os insumos empregados no processo de produção da atividade, a amortização de parcelas de financiamento e a manutenção das estruturas, equipamentos e máquinas."]
[null,"O pagamento de despesas familiares, como os gastos com supermercado e despesas com veículos também são saídas de caixa e devem ser lançados em separado conforme orientação."]
[null,"É muito importante alocar cada despesa na atividade que realmente a consome, para não superestimar as despesas em uma e minimizar em outra. Itens que são compartilhados entre mais de uma atividade podem ser alocados proporcionalmente conforme uso em cada uma. Por exemplo: o salário de um funcionário que trabalha em mais de uma atividade deve ser dividido proporcionalmente entre as atividades entres as quais atua. Para isso, sugerimos o rateio conforme explicação abaixo."]
[]
[null,"Entradas de caixa"]
[null,"São todas as entradas de recursos oriundas da venda dos produtos e subprodutos produzidos em cada uma das atividades exercidas na propriedade."]
[null,"Em alguns casos pode haver prestação de serviço (como por exemplo, horas máquinas trabalhadas para terceiros) que também geram renda, essas devem ser alocadas na atividade principal onde está alocado o insumo que gerou a renda. Aposentadorias, pensões e auxílios também são entradas de caixa e devem ser lançados no item \"Pessoal\". Aluguéis e arrendamentos pode ser lançados em \"Diversos\"."]
[]
[null,"Rateio"]
[null,"O rateio é a divisão do custo de um insumo entre as atividades na qual é empregado. Vamos pensar no salário de um funcionário que trabalha em duas atividades da propriedade: se ele trabalha 60% do tempo numa atividade (leite) e 40% na outra (hortaliças) o seu salário deve ser dividido nessas proporções entre ambos os produtos."]
[]
[null,"Reparo e Manutenção de Máquinas e Benfeitorias"]
[null,"Os reparos ou mesmo a substituição periódica de máquinas e equipamentos empregados na atividade. Ou seja, são todas as despesas para manter, sustentar, conservar ou consertar para garantir o bom e correto funcionamento de maquinas e equipamentos. Por exemplo: a substituição dos pneus desgastados do trator, a troca de discos de uma semeadora, a troca de cortinas do aviário, a reforma da fornalha ou a substituição de peças do sistema de ordenha. "]
[null,"Manutenção de máquinas e equipamentos que são utilizados em várias atividades podem são lançados no item \"Diversos\"."]
[]
[null,"Reinvestimento"]
[null,"Quando se realiza a substituição de itens, ainda em condições de uso, por outros de maior nível tecnológico ou maior eficiência. Na avicultura é muito comum a substituição dos sistemas de alimentação manual por sistema automático, essa substituição é um reinvestimento. Outro exemplo é a troca do resfriador de leite por imersão pelo sistema de expansão."]
[null,"Outro tipo de reinvestimento é a aplicação de recursos para aumentar a capacidade produtiva da atividade. Por exemplo: a compra de animais, vacas, bezerras e reprodutores, na atividade de bovinocultura de leite. A troca de um trator por outro de maior capacidade também é considerado um reinvestimento."]
[]
[null,"Qual a diferença entre Previsto e Realizado?"]
[null,"Para preencher a ferramenta corretamente, é necessário avaliar dois casos distintos:"]
[null,"1. Previsto "]
[null,"É a previsão mensal, semestral ou anual das entradas e saídas que irão ocorrer em cada uma das atividades. Pode-se lançar valores imutáveis (como pagamento de financiamento) e variáveis (contas de água/luz e etc.). A compra de sementes, fertilizantes, defensivos, combustíveis também podem ser previstos durante o planejamento da próxima safra agrícola. Os medicamentos rotineiros para o tratamento animal como vermífugos, carrapaticidas também são facilmente previstos. No caso de aves os consumos de lenha e de substrato de cama, além do consumo de luz, também podem ser previstos."]
[null,"Embora seja mais difícil, também é adequado fazer a previsão das entradas, apesar dessas variarem em função da quantidade efetivamente produzida e do preço no momento da venda. Como sugestão, basear-se no recente histórico realizado na propriedade afim de prever. "]
[null,"2. Realizado"]
[null,"É o valor que foi efetivamente desembolsado para determinada conta e o valor efetivamente recebido pela venda de produtos e subprodutos."]
[null,"Não é recomendado haver grande variação entre esses valores, pois o orçamento bem feito dá visão de lucro futuro que possibilita mais investimentos e economias. "]
[null,"Pode haver casos em que há despesas não previstas, devido à ocorrência de eventos atípicos, como a doença de um animal que precisa de tratamento ou a quebra de uma máquina que demanda reparo."]
[]
[null,"O que é Caixa Mensal e Caixa Acumulado?"]
[null,"Caixa Mensal"]
[null,"O caixa mensal representa a diferença entre as entradas e as saídas no referido mês. Em atividades que não tem entradas mensais, como a produção de grãos, é possível ter vários meses de caixa mensal negativo, quando são realizados os pagamentos dos insumos utilizados no processo de produção."]
[null,"Caixa Acumulado"]
[null,"O caixa acumulado é o quanto à atividade gerou de resultado durante o período."]
[null,"É importante analisar e perceber que pagamentos já agendados, como o financiamento irão ocorrer mesmo sem renda naquele mês. Com estudo do caixa acumulado, é possível perceber se haverá dinheiro para pagamento da conta, verificando se o valor que aparece é positivo."]
[]
[null,"Qual a diferença entre Pessoais e Diversos?"]
[null,"Pessoais"]
[null,"Todas as despesas familiares como alimentação, vestuários, despesas médicas ou laser, despesas de automóveis, devem ser alocadas no item \"Pessoais\""]
[null,"Os recebimentos como aposentadoria, pensão, aluguel e outros também são entradas de recursos e devem ser lançadas nesse item."]
[null,"Diversos"]
[null,"As saídas e entradas que pertencem a mais de uma atividade e que são de difícil rateio podem ser alocadas como \"Diversos\", são exemplos: seguros, impostos, taxas. O mesmo vale para veículo que é utilizado tanto para o laser quanto para o trabalho."]
[null,"Importante: a parcela de financiamentos de itens que são empregados em várias atividades, como por exemplo, um trator que é utilizado no cultivo da soja, milho e trigo, pode ser lançado nesse item, quando é difícil determinar o correto rateio."]
[]
[null,"Resumo da propriedade"]
[null,"O resumo da propriedade apresenta as entradas e saídas de cada uma das atividades mês a mês. O saldo mensal da propriedade é a soma do saldo mensal de todas as atividades e representa o valor disponível em caixa naquele mês."]
[null,"O saldo acumulado da propriedade é a soma do saldo mensal da propriedade e representa a soma de valores que estão disponíveis na propriedade para horar compromissos, como as parcelas de financiamento e contas a vencer, ou para reinvestimento, por exemplo."]
[null,"Nessa aba aparece o resumo das entradas e saídas dos itens \"Pessoais\" e \"Diversos\"."]
[]
[]
[]
[]
[]
[]
[]
[]
[]
[]
[]
[]
[]
[null,"Como visualizar os Gráficos"]
[null,"Os gráficos são úteis para ter um visão geral cada atividade ou da propriedade e, também das despesas pessoais e diversos. "]
[null,"Como selecionar uma \"atividade\", \"mês\" ou \"ano\"?"]
[null,"Para selecionar a \"ATIVIDADE\" o \"MÊS\" e o \"ANO\" deve-se utilizar as caixinhas na parte superior da Planilha. Uma vez selecionado uma \"ATIVIDADE\" um \"MÊS\" e um \"ANO\" os \"gráficos de distribuição\" e \"saldo\" são construidos para os itens selecionados."]
[null,"Para ver o soma das Saídas de uma atividade deve-se selecionar o \"TOTAL\" na caixinha \"MÊS\""]
[]
[]
[]
[]
[]
[]
[]
[]
[]
[]
[]
[]
[]
[]
[]
[]
[]
[]
[]
[]
[]
[]
[]
[]
[]
[]
[]
[]
[]
[]
[]
[]
[]
[]
[]
[]
[]
[]
[]
[]
[]
[]
[]
[]
[]
[]
[]
[]
[]
[]
[]
[]
[]
[]
[]
[]
[]
[]
[]
[]
[]
[]
[]
[]
[]
[]
[]
[]
[]
[]
[]
[]
[]
[]
[]
[]
[]
[]
[]
[]
[]
[]
[]
[]
[]
[]
[]
[]
[]
[null,"Os gráficos de \"Resumo da Propriedade\" alteram-se conforme totalizadores presentes na planilha de controle de cada atividade."]

{"sheet":"GRÁFICO","index":15,"n_rows":1048576,"n_cols":16384,"rows_kept":4500,"cut":true,"hidden":false,"merged":[[26,1,30,1],[3,1,3,4],[1,12,1,18],[13,12,13,18],[13,7,13,11],[1,7,1,11]],"bounds":{"rows_first":2000,"rows_last":500,"rows_between":2000,"halvings":0}}
[]
[null,null,null,null,null,{"$f":"\"Distribuição das Saídas Realizadas \"&$AI$6&\" \"&$AF$6&\" : \"&$AM$6","v":"Distribuição das Saídas Realizadas (Tudo) (Tudo) : Avicultura"},{"$f":"\"Distribuição das Saídas (%) \"&$AI$6&\" \"&$AF$6&\" : \"&$AM$6","v":"Distribuição das Saídas (%) (Tudo) (Tudo) : Avicultura"},{"$f":"\"Comparativo Anual de Entrada: \"&$AM$6","v":"Comparativo Anual de Entrada: Avicultura"},null,null,null,null,{"$f":"\"Comparativo Acumulado Anual de Entrada: \"&$AM$6","v":"Comparativo Acumulado Anual de Entrada: Avicultura"},null,null,null,null,null,null,{"$f":"\"Caixa Acumulado (Realizado) \"&$AF$6&\" : \"&$AM$6","v":"Caixa Acumulado (Realizado) (Tudo) : Avicultura"},"Comparativo Acumulado Anual de Saída: Resumo Propriedade",null,null,null,null,null,null,null,null,null,null,null,null,null,null,null,null,null,null,null,null,null,null,null,null,null,null,1,{"$f":"VLOOKUP(AV2,AV3:AW6,2,0)","v":"Total Despesas"}]
[null,null,null,null,null,null,null,null,null,null,null,null,null,null,null,null,null,null,null,null,null,null,null,null,null,null,null,null,null,null,null,null,null,null,null,null,null,null,null,null,null,{"$f":"IF(AI6=\"TOTAL\",\"TOTAL\"&\"/\"&AF6,$AI$6&\"/\"&$AF$6)","v":"(Tudo)/(Tudo)"},{"$f":"VLOOKUP(AP3,AP6:AQ558,2,0)","v":{"$error":"#N/A"}},null,null,null,null,1,"Total Despesas"]
[null,"DISTRIBUIÇÃO DE SAÍDAS: mostra todas as saídas mês a mês, para cada uma das atividades. O \"TOTAL\" na caixinha \"MÊS\" é a soma de valor da despesas em todos os meses",null,null,null,null,null,null,null,null,null,null,null,null,null,null,null,null,null,null,null,null,null,null,null,null,null,null,null,null,null,null,null,null,null,null,null,null,null,null,null,"Mês/Ano","Coluna",null,null,null,null,2,"Total Receitas"]
[null,"Item","Descrição de Despesa","REALIZADO","PREVISTO",null,null,null,null,null,null,null,null,null,null,null,null,null,null,null,null,null,null,null,null,null,null,null,null,null,null,null,null,null,null,null,null,"Indireto",{"$f":"VLOOKUP(AM6,AL7:AM18,2,0)","v":"At_um"},null,null,null,null,null,null,null,null,3,"Saldo de Caixa Mensal",null,null,null,"Traz a referência para PROCH das Descrições de Despesa"]
[null,1,{"$f":"IF(HLOOKUP($C$5,INDIRECT($AM$5),$BA6,0)=\"\",\"\",HLOOKUP($C$5,INDIRECT($AM$5),$BA6,0))","v":"Mão de Obra Paga"},{"$f":"IFERROR(VLOOKUP(C6&\"R\",INDIRECT($AM$5),$AQ$3,0),\"\")","v":""},{"$f":"IFERROR(VLOOKUP(C6&\"P\",INDIRECT($AM$5),$AQ$3,0),\"\")","v":""},null,null,null,null,null,null,null,null,null,null,null,null,null,null,null,null,null,null,null,null,null,null,null,null,null,"ANO","(Tudo)",null,"MÊS","(Tudo)",null,null,"ATIVIDADE","Avicultura",null,null,{"$f":"TEXT(AI8,\"00000000000000\")&\"/\"&TEXT($AF$8,\"0000\")","v":"Janeiro/0000"},5,null,null,null,null,4,"Caixa Acumulado",null,null,null,2]
[null,2,"Substrato para cama",{"$f":"IFERROR(VLOOKUP(C7&\"R\",INDIRECT($AM$5),$AQ$3,0),\"\")","v":""},"",null,null,null,null,null,null,null,null,null,null,null,null,null,null,null,null,null,null,null,null,null,null,null,null,null,null,"ANO",null,null,"MÊS",null,null,"ATIVIDADE","NOME ",null,null,{"$f":"TEXT(AI9,\"00000000000000\")&\"/\"&TEXT($AF$8,\"0000\")","v":"Fevereiro/0000"},6,null,null,null,null,null,null,null,null,null,4]
[null,3,"Gás","","",null,null,null,null,null,null,null,null,null,null,null,null,null,null,null,null,null,null,null,null,null,null,null,null,null,null,{"$f":"MENU!F6","v":0},null,null,"Janeiro",null,null,{"$f":"MENU!C25","v":"Avicultura"},"At_um",null,null,"Março/0000",7,null,null,null,null,null,null,null,null,null,6]
[null,4,"Lenha","","",null,null,null,null,null,null,null,null,null,null,null,null,null,null,null,null,null,null,null,null,null,null,null,null,null,null,{"$f":"AF8+1","v":1},null,null,"Fevereiro",null,null,{"$f":"MENU!C26","v":"Suinocultura"},"At_dois",null,null,"Abril/0000",8,null,null,null,null,null,null,null,null,null,8]
[null,5,"Cal",{"$f":"IFERROR(VLOOKUP(C10&\"R\",INDIRECT($AM$5),$AQ$3,0),\"\")","v":""},"",null,null,null,null,null,null,null,null,null,null,null,null,null,null,{"$f":"\"Comparativo de Saldo: \"&$AM$6","v":"Comparativo de Saldo: Avicultura"},null,null,null,null,null,null,null,null,null,null,null,{"$f":"AF9+1","v":2},null,null,"Março",null,null,{"$f":"MENU!C27","v":"Lavoura de Soja"},"At_tres",null,null,"Maio/0000",9,null,null,null,null,null,null,null,null,null,10]
[null,6,"Papel de Pintera","","",null,null,null,null,null,null,null,null,null,null,null,null,null,null,null,null,null,null,null,null,null,null,null,null,null,null,3,null,null,"Abril",null,null,{"$f":"MENU!C28","v":"Lavoura de Milho"},"At_quatro",null,null,"Junho/0000",10,null,null,null,null,null,null,null,null,null,12]
[null,7,"Energia elétrica","","",null,null,null,null,null,null,null,null,null,null,null,null,null,null,null,null,null,null,null,null,null,null,null,null,null,null,4,null,null,"Maio",null,null,{"$f":"MENU!C29","v":"Bovinocultura de Leite"},"At_cinco",null,null,"Julho/0000",11,null,null,null,null,null,null,null,null,null,14]
[null,8,"Seguro","",{"$f":"IFERROR(VLOOKUP(C13&\"P\",INDIRECT($AM$5),$AQ$3,0),\"\")","v":""},null,null,null,null,null,null,null,null,null,null,null,null,null,null,null,null,null,null,null,null,null,null,null,null,null,null,5,null,null,"Junho",null,null,{"$f":"MENU!C30","v":"Bovinocultura de Corte"},"At_seis",null,null,"Agosto/0000",12,null,null,null,null,null,null,null,null,null,16]
[null,9,"Reparo e Manutenção de Máquinas e Benfeitorias","","",{"$f":"\"Distribuição das Saídas Prevista \"&$AI$6&\" \"&$AF$6&\" : \"&$AM$6","v":"Distribuição das Saídas Prevista (Tudo) (Tudo) : Avicultura"},null,{"$f":"\"Comparativo Anual de Saída: \"&$AM$6","v":"Comparativo Anual de Saída: Avicultura"},null,null,null,null,{"$f":"\"Comparativo Acumulado Anual de Saída: \"&$AM$6","v":"Comparativo Acumulado Anual de Saída: Avicultura"},null,null,null,null,null,null,null,"Comparativo Acumulado Anual de Entrada: Resumo Propriedade",null,null,null,null,null,null,null,null,null,null,6,null,null,"Julho",null,null,{"$f":"MENU!C31","v":"Atividade"},"At_sete",null,null,"Setembro/0000",13,null,null,null,null,null,null,null,null,null,18]
[null,10,"Reinvestimento","","",null,null,null,null,null,null,null,null,null,null,null,null,null,null,null,null,null,null,null,null,null,null,null,null,null,null,7,null,null,"Agosto",null,null,{"$f":"MENU!C32","v":"Atividade"},"At_oito",null,null,"Outubro/0000",14,null,null,null,null,null,null,null,null,null,20]
[null,11,"Reflorestamento","","",null,null,null,null,null,null,null,null,null,null,null,null,null,null,null,null,null,null,null,null,null,null,null,null,null,null,8,null,null,"Setembro",null,null,{"$f":"MENU!C33","v":"Atividade"},"At_nove",null,null,"Novembro/0000",15,null,null,null,null,null,null,null,null,null,22]
[null,12,"A","","",null,null,null,null,null,null,null,null,null,null,null,null,null,null,null,null,null,null,null,null,null,null,null,null,null,null,9,null,null,"Outubro",null,null,"Pessoais","Pessoais",null,null,"Dezembro/0000",16,null,null,null,null,null,null,null,null,null,24]
[null,13,"B","","",null,null,null,null,null,null,null,null,null,null,null,null,null,null,null,null,null,null,null,null,null,null,null,null,null,null,10,null,null,"Novembro",null,null,"Diversos","Diversos",null,null,null,null,null,null,null,null,null,null,null,null,null,26]
[null,14,"C","","",null,null,null,null,null,null,null,null,null,null,null,null,null,null,null,null,null,null,null,null,null,null,null,null,null,null,11,null,null,"Dezembro",null,null,null,null,null,null,{"$f":"TEXT($AI$6,\"0000000000000\")&\"/\"&TEXT($AF$8,\"0000\")","v":"(Tudo)/0000"},17,null,null,null,null,null,null,null,null,null,28]
[null,15,"D","","",null,null,null,null,null,null,null,null,null,null,null,null,null,null,null,null,null,null,null,null,null,null,null,null,null,null,null,null,null,"TOTAL",null,null,null,null,null,null,null,null,null,null,null,null,null,null,null,null,null,30]
[null,16,"E",{"$f":"IFERROR(VLOOKUP(C21&\"R\",INDIRECT($AM$5),$AQ$3,0),\"\")","v":""},{"$f":"IFERROR(VLOOKUP(C21&\"P\",INDIRECT($AM$5),$AQ$3,0),\"\")","v":""},null,null,null,null,null,null,null,null,null,null,null,null,null,null,null,null,null,null,null,null,null,null,null,null,null,null,null,null,null,null,null,null,null,null,null,null,{"$f":"TEXT(AI8,\"00000000000000\")&\"/\"&TEXT($AF$9,\"0000\")","v":"Janeiro/0001"},19,null,null,null,null,null,null,null,null,null,32]
[null,17,"F",{"$f":"IFERROR(VLOOKUP(C22&\"R\",INDIRECT($AM$5),$AQ$3,0),\"\")","v":""},{"$f":"IFERROR(VLOOKUP(C22&\"P\",INDIRECT($AM$5),$AQ$3,0),\"\")","v":""},null,null,null,null,null,null,null,null,null,null,null,null,null,null,null,null,null,null,null,null,null,null,null,null,null,null,null,null,null,null,null,null,null,null,null,null,"Fevereiro/0001",20,null,null,null,null,null,null,null,null,null,34]
[null,18,"G",{"$f":"IFERROR(VLOOKUP(C23&\"R\",INDIRECT($AM$5),$AQ$3,0),\"\")","v":""},{"$f":"IFERROR(VLOOKUP(C23&\"P\",INDIRECT($AM$5),$AQ$3,0),\"\")","v":""},null,null,null,null,null,null,null,null,null,null,null,null,null,null,null,null,null,null,null,null,null,null,null,null,null,null,null,null,null,null,null,null,null,null,null,null,"Março/0001",21,null,null,null,null,null,null,null,null,null,36]
[null,19,"H",{"$f":"IFERROR(VLOOKUP(C24&\"R\",INDIRECT($AM$5),$AQ$3,0),\"\")","v":""},{"$f":"IFERROR(VLOOKUP(C24&\"P\",INDIRECT($AM$5),$AQ$3,0),\"\")","v":""},null,null,null,null,null,null,null,null,null,null,null,null,null,null,null,null,null,null,null,null,null,null,null,null,null,null,null,null,null,null,null,null,null,null,null,null,"Abril/0001",22,null,null,null,null,null,null,null,null,null,38]
[null,20,"Parcela Financiamento/Custeio",{"$f":"IFERROR(VLOOKUP(C25&\"R\",INDIRECT($AM$5),$AQ$3,0),\"\")","v":""},{"$f":"IFERROR(VLOOKUP(C25&\"P\",INDIRECT($AM$5),$AQ$3,0),\"\")","v":""},null,null,null,null,null,null,null,null,null,null,null,null,null,null,null,null,null,null,null,null,null,null,null,null,null,null,null,null,null,null,null,null,null,null,null,null,"Maio/0001",23,null,null,null,null,null,null,null,null,null,40]
[null,5,null,null,null,null,null,null,null,null,null,null,null,null,null,null,null,null,null,null,null,null,null,null,null,null,null,null,null,null,null,null,null,null,null,null,null,null,null,null,null,"Junho/0001",24]
[null,{"$f":"AM6","v":"Avicultura"},"Total Saídas",{"$f":"IFERROR(VLOOKUP(C27&\"R\",INDIRECT($AM$5),$AQ$3,0),\"\")","v":""},{"$f":"IFERROR(VLOOKUP(C27&\"P\",INDIRECT($AM$5),$AQ$3,0),\"\")","v":""},null,null,null,null,null,null,null,null,null,null,null,null,null,null,null,null,null,null,null,null,null,null,null,null,null,null,null,null,null,null,null,null,null,null,null,null,"Julho/0001",25]
[null,null,null,null,null,null,null,null,null,null,null,null,null,null,null,null,null,null,null,null,null,null,null,null,null,null,null,null,null,null,null,null,null,null,null,null,null,null,null,null,null,"Agosto/0001",26]
[null,null,"Total Entradas",{"$f":"IFERROR(VLOOKUP(C29&\"R\",INDIRECT($AM$5),$AQ$3,0),\"\")","v":""},{"$f":"IFERROR(VLOOKUP(C29&\"P\",INDIRECT($AM$5),$AQ$3,0),\"\")","v":""},null,null,null,null,null,null,null,null,null,null,null,null,null,null,null,null,null,null,null,null,null,null,null,null,null,null,null,null,null,null,null,null,null,null,null,null,"Setembro/0001",27,null,null,null,null,null,null,null,null,null,"Janeiro","Fevereiro","Março","Abril","Maio","Junho","Julho","Agosto","Setembro","Outubro","Novembro","Dezembro"]
[null,null,null,null,null,null,null,null,null,null,null,null,null,null,null,null,null,null,null,null,null,null,null,null,null,null,null,null,null,null,null,null,null,null,null,null,null,null,null,null,null,"Outubro/0001",28,null,null,null,null,null,null,null,null,"Total Saídas",{"$f":"VLOOKUP($AZ30&\"R\",INDIRECT($AM$5),VLOOKUP(BA34,$AP:$AQ,2,0),0)","v":{"$error":"#N/A"}},{"$f":"VLOOKUP($AZ30&\"R\",INDIRECT($AM$5),VLOOKUP(BB34,$AP:$AQ,2,0),0)","v":{"$error":"#N/A"}},{"$error":"#N/A"},{"$error":"#N/A"},{"$error":"#N/A"},{"$error":"#N/A"},{"$error":"#N/A"},{"$error":"#N/A"},{"$error":"#N/A"},{"$error":"#N/A"},{"$error":"#N/A"},{"$error":"#N/A"}]
[null,null,"Saldo",{"$f":"IFERROR((D29-D27),\"-\")","v":"-"},{"$f":"IFERROR((E29-E27),\"-\")","v":"-"},null,null,null,null,null,null,null,null,null,null,null,null,null,null,null,null,null,null,null,null,null,null,null,null,null,null,null,null,null,null,null,null,null,null,null,null,"Novembro/0001",29,null,null,null,null,null,null,null,null,"Total Entradas",{"$f":"VLOOKUP($AZ31&\"R\",INDIRECT($AM$5),VLOOKUP(BA34,$AP:$AQ,2,0),0)","v":{"$error":"#N/A"}},{"$error":"#N/A"},{"$error":"#N/A"},{"$error":"#N/A"},{"$error":"#N/A"},{"$error":"#N/A"},{"$error":"#N/A"},{"$error":"#N/A"},{"$error":"#N/A"},{"$error":"#N/A"},{"$error":"#N/A"},{"$error":"#N/A"}]
[null,null,null,null,null,null,null,null,null,null,null,null,null,null,null,null,null,null,null,null,null,null,null,null,null,null,null,null,null,null,null,null,null,null,null,null,null,null,null,null,null,"Dezembro/0001",30,null,null,null,null,null,null,null,null,"Saldo de Caixa Mensal",{"$f":"VLOOKUP($AZ32&\"R\",INDIRECT($AM$5),VLOOKUP(BA34,$AP:$AQ,2,0),0)","v":{"$error":"#N/A"}},{"$error":"#N/A"},{"$error":"#N/A"},{"$error":"#N/A"},{"$error":"#N/A"},{"$error":"#N/A"},{"$error":"#N/A"},{"$error":"#N/A"},{"$error":"#N/A"},{"$error":"#N/A"},{"$error":"#N/A"},{"$error":"#N/A"}]
[null,null,null,null,null,null,null,null,null,null,null,null,null,null,null,null,null,null,null,null,null,null,null,null,null,null,null,null,null,null,null,null,null,null,null,null,null,null,null,null,null,null,null,null,null,null,null,null,null,null,null,"Caixa Acumulado",{"$f":"VLOOKUP($AZ33&\"R\",INDIRECT($AM$5),VLOOKUP(BA34,$AP:$AQ,2,0),0)","v":{"$error":"#N/A"}},{"$error":"#N/A"},{"$error":"#N/A"},{"$error":"#N/A"},{"$error":"#N/A"},{"$error":"#N/A"},{"$error":"#N/A"},{"$error":"#N/A"},{"$error":"#N/A"},{"$error":"#N/A"},{"$error":"#N/A"},{"$error":"#N/A"}]
[null,null,null,null,null,null,null,null,null,null,null,null,null,null,null,null,null,null,null,null,null,null,null,null,null,null,null,null,null,null,null,null,null,null,null,null,null,null,null,null,null,{"$f":"TEXT($AI$6,\"0000000000000\")&TEXT($AF$9,\"0000\")","v":"(Tudo)0001"},31,null,null,null,null,null,null,null,null,null,{"$f":"BA29&\"/\"&$AF$6","v":"Janeiro/(Tudo)"},{"$f":"BB29&\"/\"&$AF$6","v":"Fevereiro/(Tudo)"},{"$f":"BC29&\"/\"&$AF$6","v":"Março/(Tudo)"},"Abril/(Tudo)","Maio/(Tudo)","Junho/(Tudo)","Julho/(Tudo)","Agosto/(Tudo)","Setembro/(Tudo)","Outubro/(Tudo)","Novembro/(Tudo)","Dezembro/(Tudo)"]
[]
[null,null,null,null,null,null,null,null,null,null,null,null,null,null,null,null,null,null,null,null,null,null,null,null,null,null,null,null,null,null,null,null,null,null,null,null,null,null,null,null,null,null,null,null,null,null,null,null,null,null,null,null,{"$f":"MENU!F6","v":0},{"$f":"BA36+1","v":1},{"$f":"BB36+1","v":2},3,4,5,6,7,8,9,10]
[null,null,null,null,null,null,null,null,null,null,null,null,null,null,null,null,null,null,null,null,null,null,null,null,null,null,null,null,null,null,null,null,null,null,null,null,null,null,null,null,null,{"$f":"TEXT(AI8,\"00000000000000\")&\"/\"&TEXT($AF$10,\"0000\")","v":"Janeiro/0002"},33,null,null,null,null,null,null,null,null,"Total Saídas",{"$f":"VLOOKUP($AZ37&\"R\",INDIRECT($AM$5),VLOOKUP(BA$40,$AP:$AQ,2,0),0)","v":{"$error":"#N/A"}},{"$error":"#N/A"},{"$error":"#N/A"},{"$error":"#N/A"},{"$error":"#N/A"},{"$error":"#N/A"},{"$error":"#N/A"},{"$error":"#N/A"},{"$error":"#N/A"},{"$f":"VLOOKUP($AZ37&\"R\",INDIRECT($AM$5),VLOOKUP(BJ$40,$AP:$AQ,2,0),0)","v":{"$error":"#N/A"}},{"$error":"#N/A"}]
[null,null,null,null,null,null,null,null,null,null,null,null,null,null,null,null,null,null,null,null,null,null,null,null,null,null,null,null,null,null,null,null,null,null,null,null,null,null,null,null,null,"Fevereiro/0002",34,null,null,null,null,null,null,null,null,"Total Entradas",{"$f":"VLOOKUP($AZ38&\"R\",INDIRECT($AM$5),VLOOKUP(BA$40,$AP:$AQ,2,0),0)","v":{"$error":"#N/A"}},{"$f":"VLOOKUP($AZ38&\"R\",INDIRECT($AM$5),VLOOKUP(BB$40,$AP:$AQ,2,0),0)","v":{"$error":"#N/A"}},{"$f":"VLOOKUP($AZ37&\"R\",INDIRECT($AM$5),VLOOKUP(BC$40,$AP:$AQ,2,0),0)","v":{"$error":"#N/A"}},{"$error":"#N/A"},{"$error":"#N/A"},{"$error":"#N/A"},{"$error":"#N/A"},{"$error":"#N/A"},{"$error":"#N/A"},{"$error":"#N/A"},{"$error":"#N/A"}]
[null,null,null,null,null,null,null,null,null,null,null,null,null,null,null,null,null,null,null,null,null,null,null,null,null,null,null,null,null,null,null,null,null,null,null,null,null,null,null,null,null,"Março/0002",35,null,null,null,null,null,null,null,null,"Saldo de Caixa Anual",{"$f":"VLOOKUP($AZ32&\"R\",INDIRECT($AM$5),VLOOKUP(BA$40,$AP:$AQ,2,0),0)","v":{"$error":"#N/A"}},{"$error":"#N/A"},{"$error":"#N/A"},{"$error":"#N/A"},{"$error":"#N/A"},{"$error":"#N/A"},{"$error":"#N/A"},{"$error":"#N/A"},{"$error":"#N/A"},{"$error":"#N/A"},{"$error":"#N/A"}]
[null,null,null,null,null,null,null,null,null,null,null,null,null,null,null,null,null,null,null,null,null,null,null,null,null,null,null,null,null,null,null,null,null,null,null,null,null,null,null,null,null,"Abril/0002",36,null,null,null,null,null,null,null,null,null,{"$f":"\"(Tudo)\"&\"/\"&BA36","v":"(Tudo)/0"},{"$f":"\"(Tudo)\"&BB36","v":"(Tudo)1"},{"$f":"\"(Tudo)\"&BC36","v":"(Tudo)2"},{"$f":"\"(Tudo)\"&BD36","v":"(Tudo)3"},{"$f":"\"(Tudo)\"&BE36","v":"(Tudo)4"},{"$f":"\"TOTAL\"&BF36","v":"TOTAL5"},"TOTAL6","TOTAL7","TOTAL8","TOTAL9","TOTAL10"]
[null,null,null,null,null,null,null,null,null,null,null,null,null,null,null,null,null,null,null,null,null,null,null,null,null,null,null,null,null,null,null,null,null,null,null,null,null,null,null,null,null,"Maio/0002",37]
[null,null,null,null,null,null,null,null,null,null,null,null,null,null,null,null,null,null,null,null,null,null,null,null,null,null,null,null,null,null,null,null,null,null,null,null,null,null,null,null,null,"Junho/0002",38,null,null,null,null,null,null,null,null,null,"Jan","Fev","Mar","Abr","Mai","Jun","Jul","Ago","Set","Out","Nov","Dez"]
[null,null,null,null,null,null,null,null,null,null,null,null,null,null,null,null,null,null,null,null,null,null,null,null,null,null,null,null,null,null,null,null,null,null,null,null,null,null,null,null,null,"Julho/0002",39,null,null,null,null,null,null,null,"Total Saídas",{"$f":"MENU!F6","v":0},{"$f":"VLOOKUP($AY$43&\"r\",INDIRECT($AM$5),VLOOKUP(BA89,$AP:$AQ,2,0),0)","v":0},0,0,0,0,0,0,0,0,0,0,0]
[null,null,null,null,null,null,null,null,null,null,null,null,null,null,null,null,null,null,null,null,null,null,null,null,null,null,null,null,null,null,null,null,null,null,null,null,null,null,null,null,null,"Agosto/0002",40,null,null,null,null,null,null,null,null,{"$f":"AZ43+1","v":1},{"$f":"VLOOKUP($AY$43&\"r\",INDIRECT($AM$5),VLOOKUP(BA90,$AP:$AQ,2,0),0)","v":0},0,0,0,0,0,0,0,0,0,0,0]
[null,null,null,null,null,null,null,null,null,null,null,null,null,null,null,null,null,null,null,null,null,null,null,null,null,null,null,null,null,null,null,null,null,null,null,null,null,null,null,null,null,"Setembro/0002",41,null,null,null,null,null,null,null,null,{"$f":"AZ44+1","v":2},{"$f":"VLOOKUP($AY$43&\"r\",INDIRECT($AM$5),VLOOKUP(BA91,$AP:$AQ,2,0),0)","v":0},0,0,0,0,0,0,0,0,0,0,0]
[null,null,null,null,null,null,null,null,null,null,null,null,null,null,null,null,null,null,null,null,null,null,null,null,null,null,null,null,null,null,null,null,null,null,null,null,null,null,null,null,null,"Outubro/0002",42,null,null,null,null,null,null,null,null,3,{"$f":"VLOOKUP($AY$43&\"r\",INDIRECT($AM$5),VLOOKUP(BA92,$AP:$AQ,2,0),0)","v":0},0,0,0,0,0,0,0,0,0,0,0]
[null,null,null,null,null,null,null,null,null,null,null,null,null,null,null,null,null,null,null,null,null,null,null,null,null,null,null,null,null,null,null,null,null,null,null,null,null,null,null,null,null,"Novembro/0002",43,null,null,null,null,null,null,null,null,4,{"$f":"VLOOKUP($AY$43&\"r\",INDIRECT($AM$5),VLOOKUP(BA93,$AP:$AQ,2,0),0)","v":0},0,0,0,0,0,0,0,0,0,0,0]
[null,null,null,null,null,null,null,null,null,null,null,null,null,null,null,null,null,null,null,null,null,null,null,null,null,null,null,null,null,null,null,null,null,null,null,null,null,null,null,null,null,"Dezembro/0002",44,null,null,null,null,null,null,null,null,5,{"$f":"VLOOKUP($AY$43&\"r\",INDIRECT($AM$5),VLOOKUP(BA94,$AP:$AQ,2,0),0)","v":0},0,0,0,0,0,0,0,0,0,0,0]
[null,null,null,null,null,null,null,null,null,null,null,null,null,null,null,null,null,null,null,null,null,null,null,null,null,null,null,null,null,null,null,null,null,null,null,null,null,null,null,null,null,null,null,null,null,null,null,null,null,null,null,6,{"$f":"VLOOKUP($AY$43&\"r\",INDIRECT($AM$5),VLOOKUP(BA95,$AP:$AQ,2,0),0)","v":0},0,0,0,0,0,0,0,0,0,0,0]
[null,null,null,null,null,null,null,null,null,null,null,null,null,null,null,null,null,null,null,null,null,null,null,null,null,null,null,null,null,null,null,null,null,null,null,null,null,null,null,null,null,{"$f":"TEXT($AI$6,\"0000000000000\")&TEXT($AF$10,\"0000\")","v":"(Tudo)0002"},45,null,null,null,null,null,null,null,null,7,{"$f":"VLOOKUP($AY$43&\"r\",INDIRECT($AM$5),VLOOKUP(BA96,$AP:$AQ,2,0),0)","v":0},0,0,0,0,0,0,0,0,0,0,0]
[null,null,null,null,null,null,null,null,null,null,null,null,null,null,null,null,null,null,null,null,null,null,null,null,null,null,null,null,null,null,null,null,null,null,null,null,null,null,null,null,null,null,null,null,null,null,null,null,null,null,null,8,{"$f":"VLOOKUP($AY$43&\"r\",INDIRECT($AM$5),VLOOKUP(BA97,$AP:$AQ,2,0),0)","v":0},0,0,0,0,0,0,0,0,0,0,0]
[null,null,null,null,null,null,null,null,null,null,null,null,null,null,null,null,null,null,null,null,null,null,null,null,null,null,null,null,null,null,null,null,null,null,null,null,null,null,null,null,null,{"$f":"TEXT(AI8,\"00000000000000\")&\"/\"&TEXT($AF$11,\"0000\")","v":"Janeiro/0003"},47,null,null,null,null,null,null,null,null,9,{"$f":"VLOOKUP($AY$43&\"r\",INDIRECT($AM$5),VLOOKUP(BA98,$AP:$AQ,2,0),0)","v":0},0,0,0,0,0,0,0,0,0,0,0]
[null,null,null,null,null,null,null,null,null,null,null,null,null,null,null,null,null,null,null,null,null,null,null,null,null,null,null,null,null,null,null,null,null,null,null,null,null,null,null,null,null,"Fevereiro/0003",48,null,null,null,null,null,null,null,null,10,{"$f":"VLOOKUP($AY$43&\"r\",INDIRECT($AM$5),VLOOKUP(BA99,$AP:$AQ,2,0),0)","v":0},0,0,0,0,0,0,0,0,0,0,0]
[null,null,null,null,null,null,null,null,null,null,null,null,null,null,null,null,null,null,null,null,null,null,null,null,null,null,null,null,null,null,null,null,null,null,null,null,null,null,null,null,null,"Março/0003",49,null,null,null,null,null,null,null,null,11,{"$f":"VLOOKUP($AY$43&\"r\",INDIRECT($AM$5),VLOOKUP(BA100,$AP:$AQ,2,0),0)","v":0},0,0,0,0,0,0,0,0,0,0,0]
[null,null,null,null,null,null,null,null,null,null,null,null,null,null,null,null,null,null,null,null,null,null,null,null,null,null,null,null,null,null,null,null,null,null,null,null,null,null,null,null,null,"Abril/0003",50]
[null,null,32,null,null,null,null,null,null,null,null,null,null,null,null,null,null,null,null,null,null,null,null,null,null,null,null,null,null,null,null,null,null,null,null,null,null,null,null,null,null,"Maio/0003",51,null,null,null,null,null,null,null,null,null,"Jan","Fev","Mar","Abr","Mai","Jun","Jul","Ago","Set","Out","Nov","Dez"]
[null,null,null,null,null,null,null,null,null,null,null,null,null,null,null,null,null,null,null,null,null,null,null,null,null,null,null,null,null,null,null,null,null,null,null,null,null,null,null,null,null,"Junho/0003",52,null,null,null,null,null,null,null,"Total Entradas",{"$f":"AZ43","v":0},{"$f":"VLOOKUP($AY$57&\"r\",INDIRECT($AM$5),VLOOKUP(BA89,$AP:$AQ,2,0),0)","v":0},{"$f":"VLOOKUP($AY$57&\"r\",INDIRECT($AM$5),VLOOKUP(BB89,$AP:$AQ,2,0),0)","v":0},0,0,0,0,0,0,0,0,0,0]
[null,null,null,null,null,null,null,null,null,null,null,null,null,null,null,null,null,null,null,null,null,null,null,null,null,null,null,null,null,null,null,null,null,null,null,null,null,null,null,null,null,"Julho/0003",53,null,null,null,null,null,null,null,null,{"$f":"AZ44","v":1},{"$f":"VLOOKUP($AY$57&\"r\",INDIRECT($AM$5),VLOOKUP(BA90,$AP:$AQ,2,0),0)","v":0},0,0,0,0,0,0,0,0,0,0,0]
[null,null,null,null,null,null,null,null,null,null,null,null,null,null,null,null,null,null,null,null,null,null,null,null,null,null,null,null,null,null,null,null,null,null,null,null,null,null,null,null,null,"Agosto/0003",54,null,null,null,null,null,null,null,null,{"$f":"AZ45","v":2},{"$f":"VLOOKUP($AY$57&\"r\",INDIRECT($AM$5),VLOOKUP(BA91,$AP:$AQ,2,0),0)","v":0},0,0,0,0,0,0,0,0,0,0,0]
[null,null,null,null,null,null,null,null,null,null,null,null,null,null,null,null,null,null,null,null,null,null,null,null,null,null,null,null,null,null,null,null,null,null,null,null,null,null,null,null,null,"Setembro/0003",55,null,null,null,null,null,null,null,null,3,{"$f":"VLOOKUP($AY$57&\"r\",INDIRECT($AM$5),VLOOKUP(BA92,$AP:$AQ,2,0),0)","v":0},0,0,0,0,0,0,0,0,0,0,0]
[null,null,null,null,null,null,null,null,null,null,null,null,null,null,null,null,null,null,null,null,null,null,null,null,null,null,null,null,null,null,null,null,null,null,null,null,null,null,null,null,null,"Outubro/0003",56,null,null,null,null,null,null,null,null,4,{"$f":"VLOOKUP($AY$57&\"r\",INDIRECT($AM$5),VLOOKUP(BA93,$AP:$AQ,2,0),0)","v":0},0,0,0,0,0,0,0,0,0,0,0]
[null,null,null,null,null,null,null,null,null,null,null,null,null,null,null,null,null,null,null,null,null,null,null,null,null,null,null,null,null,null,null,null,null,null,null,null,null,null,null,null,null,"Novembro/0003",57,null,null,null,null,null,null,null,null,5,{"$f":"VLOOKUP($AY$57&\"r\",INDIRECT($AM$5),VLOOKUP(BA94,$AP:$AQ,2,0),0)","v":0},0,0,0,0,0,0,0,0,0,0,0]
[null,null,null,null,null,null,null,null,null,null,null,null,null,null,null,null,null,null,null,null,null,null,null,null,null,null,null,null,null,null,null,null,null,null,null,null,null,null,null,null,null,"Dezembro/0003",58,null,null,null,null,null,null,null,null,6,{"$f":"VLOOKUP($AY$57&\"r\",INDIRECT($AM$5),VLOOKUP(BA95,$AP:$AQ,2,0),0)","v":0},0,0,0,0,0,0,0,0,0,0,0]
[null,null,null,null,null,null,null,null,null,null,null,null,null,null,null,null,null,null,null,null,null,null,null,null,null,null,null,null,null,null,null,null,null,null,null,null,null,null,null,null,null,null,null,null,null,null,null,null,null,null,null,7,{"$f":"VLOOKUP($AY$57&\"r\",INDIRECT($AM$5),VLOOKUP(BA96,$AP:$AQ,2,0),0)","v":0},0,0,0,0,0,0,0,0,0,0,0]
[null,null,null,null,null,null,null,null,null,null,null,null,null,null,null,null,null,null,null,null,null,null,null,null,null,null,null,null,null,null,null,null,null,null,null,null,null,null,null,null,null,{"$f":"TEXT($AI$6,\"0000000000000\")&TEXT($AF$11,\"0000\")","v":"(Tudo)0003"},59,null,null,null,null,null,null,null,null,8,{"$f":"VLOOKUP($AY$57&\"r\",INDIRECT($AM$5),VLOOKUP(BA97,$AP:$AQ,2,0),0)","v":0},0,0,0,0,0,0,0,0,0,0,0]
[null,null,null,null,null,null,null,null,null,null,null,null,null,null,null,null,null,null,null,null,null,null,null,null,null,null,null,null,null,null,null,null,null,null,null,null,null,null,null,null,null,null,null,null,null,null,null,null,null,null,null,9,{"$f":"VLOOKUP($AY$57&\"r\",INDIRECT($AM$5),VLOOKUP(BA98,$AP:$AQ,2,0),0)","v":0},0,0,0,0,0,0,0,0,0,0,0]
[null,null,null,null,null,null,null,null,null,null,null,null,null,null,null,null,null,null,null,null,null,null,null,null,null,null,null,null,null,null,null,null,null,null,null,null,null,null,null,null,null,{"$f":"TEXT(AI8,\"00000000000000\")&\"/\"&TEXT($AF$12,\"0000\")","v":"Janeiro/0004"},61,null,null,null,null,null,null,null,null,10,{"$f":"VLOOKUP($AY$57&\"r\",INDIRECT($AM$5),VLOOKUP(BA99,$AP:$AQ,2,0),0)","v":0},0,0,0,0,0,0,0,0,0,0,0]
[null,null,null,null,null,null,null,null,null,null,null,null,null,null,null,null,null,null,null,null,null,null,null,null,null,null,null,null,null,null,null,null,null,null,null,null,null,null,null,null,null,"Fevereiro/0004",62,null,null,null,null,null,null,null,null,11,{"$f":"VLOOKUP($AY$57&\"r\",INDIRECT($AM$5),VLOOKUP(BA100,$AP:$AQ,2,0),0)","v":0},0,0,0,0,0,0,0,0,0,0,0]
[null,null,null,null,null,null,null,null,null,null,null,null,null,null,null,null,null,null,null,null,null,null,null,null,null,null,null,null,null,null,null,null,null,null,null,null,null,null,null,null,null,"Março/0004",63]
[null,null,null,null,null,null,null,null,null,null,null,null,null,null,null,null,null,null,null,null,null,null,null,null,null,null,null,null,null,null,null,null,null,null,null,null,null,null,null,null,null,"Abril/0004",64,null,null,null,null,null,null,null,null,null,"Jan","Fev","Mar","Abr","Mai","Jun","Jul","Ago","Set","Out","Nov","Dez"]
[null,null,null,null,null,null,null,null,null,null,null,null,null,null,null,null,null,null,null,null,null,null,null,null,null,null,null,null,null,null,null,null,null,null,null,null,null,null,null,null,null,"Maio/0004",65,null,null,null,null,null,null,null,"Saldo de Caixa Mensal",{"$f":"AZ57","v":0},{"$f":"VLOOKUP($AY$71&\"r\",INDIRECT($AM$5),VLOOKUP(BA89,$AP:$AQ,2,0),0)","v":0},0,0,0,0,0,0,0,0,0,0,0]
[null,null,null,null,null,null,null,null,null,null,null,null,null,null,null,null,null,null,null,null,null,null,null,null,null,null,null,null,null,null,null,null,null,null,null,null,null,null,null,null,null,"Junho/0004",66,null,null,null,null,null,null,null,null,{"$f":"AZ58","v":1},{"$f":"VLOOKUP($AY$71&\"r\",INDIRECT($AM$5),VLOOKUP(BA90,$AP:$AQ,2,0),0)","v":0},0,0,0,0,0,0,0,0,0,0,0]
[null,null,null,null,null,null,null,null,null,null,null,null,null,null,null,null,null,null,null,null,null,null,null,null,null,null,null,null,null,null,null,null,null,null,null,null,null,null,null,null,null,"Julho/0004",67,null,null,null,null,null,null,null,null,2,{"$f":"VLOOKUP($AY$71&\"r\",INDIRECT($AM$5),VLOOKUP(BA91,$AP:$AQ,2,0),0)","v":0},0,0,0,0,0,0,0,0,0,0,0]
[null,null,null,null,null,null,null,null,null,null,null,null,null,null,null,null,null,null,null,null,null,null,null,null,null,null,null,null,null,null,null,null,null,null,null,null,null,null,null,null,null,"Agosto/0004",68,null,null,null,null,null,null,null,null,3,{"$f":"VLOOKUP($AY$71&\"r\",INDIRECT($AM$5),VLOOKUP(BA92,$AP:$AQ,2,0),0)","v":0},0,0,0,0,0,0,0,0,0,0,0]
[null,null,null,null,null,null,null,null,null,null,null,null,null,null,null,null,null,null,null,null,null,null,null,null,null,null,null,null,null,null,null,null,null,null,null,null,null,null,null,null,null,"Setembro/0004",69,null,null,null,null,null,null,null,null,4,{"$f":"VLOOKUP($AY$71&\"r\",INDIRECT($AM$5),VLOOKUP(BA93,$AP:$AQ,2,0),0)","v":0},0,0,0,0,0,0,0,0,0,0,0]
[null,null,null,null,null,null,null,null,null,null,null,null,null,null,null,null,null,null,null,null,null,null,null,null,null,null,null,null,null,null,null,null,null,null,null,null,null,null,null,null,null,"Outubro/0004",70,null,null,null,null,null,null,null,null,5,{"$f":"VLOOKUP($AY$71&\"r\",INDIRECT($AM$5),VLOOKUP(BA94,$AP:$AQ,2,0),0)","v":0},0,0,0,0,0,0,0,0,0,0,0]
[null,null,null,null,null,null,null,null,null,null,null,null,null,null,null,null,null,null,null,null,null,null,null,null,null,null,null,null,null,null,null,null,null,null,null,null,null,null,null,null,null,"Novembro/0004",71,null,null,null,null,null,null,null,null,6,{"$f":"VLOOKUP($AY$71&\"r\",INDIRECT($AM$5),VLOOKUP(BA95,$AP:$AQ,2,0),0)","v":0},0,0,0,0,0,0,0,0,0,0,0]
[null,null,null,null,null,null,null,null,null,null,null,null,null,null,null,null,null,null,null,null,null,null,null,null,null,null,null,null,null,null,null,null,null,null,null,null,null,null,null,null,null,"Dezembro/0004",72,null,null,null,null,null,null,null,null,7,{"$f":"VLOOKUP($AY$71&\"r\",INDIRECT($AM$5),VLOOKUP(BA96,$AP:$AQ,2,0),0)","v":0},0,0,0,0,0,0,0,0,0,0,0]
[null,null,null,null,null,null,null,null,null,null,null,null,null,null,null,null,null,null,null,null,null,null,null,null,null,null,null,null,null,null,null,null,null,null,null,null,null,null,null,null,null,null,null,null,null,null,null,null,null,null,null,8,{"$f":"VLOOKUP($AY$71&\"r\",INDIRECT($AM$5),VLOOKUP(BA97,$AP:$AQ,2,0),0)","v":0},0,0,0,0,0,0,0,0,0,0,0]
[null,null,null,null,null,null,null,null,null,null,null,null,null,null,null,null,null,null,null,null,null,null,null,null,null,null,null,null,null,null,null,null,null,null,null,null,null,null,null,null,null,{"$f":"TEXT($AI$6,\"0000000000000\")&TEXT($AF$12,\"0000\")","v":"(Tudo)0004"},73,null,null,null,null,null,null,null,null,9,{"$f":"VLOOKUP($AY$71&\"r\",INDIRECT($AM$5),VLOOKUP(BA98,$AP:$AQ,2,0),0)","v":0},0,0,0,0,0,0,0,0,0,0,0]
[null,null,null,null,null,null,null,null,null,null,null,null,null,null,null,null,null,null,null,null,null,null,null,null,null,null,null,null,null,null,null,null,null,null,null,null,null,null,null,null,null,null,null,null,null,null,null,null,null,null,null,10,{"$f":"VLOOKUP($AY$71&\"r\",INDIRECT($AM$5),VLOOKUP(BA99,$AP:$AQ,2,0),0)","v":0},0,0,0,0,0,0,0,0,0,0,0]
[null,null,null,null,null,null,null,null,null,null,null,null,null,null,null,null,null,null,null,null,null,null,null,null,null,null,null,null,null,null,null,null,null,null,null,null,null,null,null,null,null,{"$f":"TEXT(AI8,\"00000000000000\")&\"/\"&TEXT($AF$13,\"0000\")","v":"Janeiro/0005"},75,null,null,null,null,null,null,null,null,11,{"$f":"VLOOKUP($AY$71&\"r\",INDIRECT($AM$5),VLOOKUP(BA100,$AP:$AQ,2,0),0)","v":0},0,0,0,0,0,0,0,0,0,0,0]
[null,null,null,null,null,null,null,null,null,null,null,null,null,null,null,null,null,null,null,null,null,null,null,null,null,null,null,null,null,null,null,null,null,null,null,null,null,null,null,null,null,"Fevereiro/0005",76]
[null,null,null,null,null,null,null,null,null,null,null,null,null,null,null,null,null,null,null,null,null,null,null,null,null,null,null,null,null,null,null,null,null,null,null,null,null,null,null,null,null,"Março/0005",77]
[null,null,null,null,null,null,null,null,null,null,null,null,null,null,null,null,null,null,null,null,null,null,null,null,null,null,null,null,null,null,null,null,null,null,null,null,null,null,null,null,null,"Abril/0005",78]
[null,null,null,null,null,null,null,null,null,null,null,null,null,null,null,null,null,null,null,null,null,null,null,null,null,null,null,null,null,null,null,null,null,null,null,null,null,null,null,null,null,"Maio/0005",79]
[null,null,null,null,null,null,null,null,null,null,null,null,null,null,null,null,null,null,null,null,null,null,null,null,null,null,null,null,null,null,null,null,null,null,null,null,null,null,null,null,null,"Junho/0005",80]
[null,null,null,null,null,null,null,null,null,null,null,null,null,null,null,null,null,null,null,null,null,null,null,null,null,null,null,null,null,null,null,null,null,null,null,null,null,null,null,null,null,"Julho/0005",81]
[null,null,null,null,null,null,null,null,null,null,null,null,null,null,null,null,null,null,null,null,null,null,null,null,null,null,null,null,null,null,null,null,null,null,null,null,null,null,null,null,null,"Agosto/0005",82,null,null,null,null,null,null,null,null,null,"Jan/2017","Fev/2017","Mar/2017","Abr/2017","Mai/2017","Jun/2017","Jul/2017","Ago/2017","Set/2017","Out/2017","Nov/2017","Dez/2017"]
[null,null,null,null,null,null,null,null,null,null,null,null,null,null,null,null,null,null,null,null,null,null,null,null,null,null,null,null,null,null,null,null,null,null,null,null,null,null,null,null,null,"Setembro/0005",83,null,null,null,null,null,null,null,null,null,"Jan/2018","Fev/2018","Mar/2018","Abr/2018","Mai/2018","Jun/2018","Jul/2018","Ago/2018","Set/2018","Out/2018","Nov/2018","Dez/2018"]
[null,null,null,null,null,null,null,null,null,null,null,null,null,null,null,null,null,null,null,null,null,null,null,null,null,null,null,null,null,null,null,null,null,null,null,null,null,null,null,null,null,"Outubro/0005",84,null,null,null,null,null,null,null,null,null,"Jan/2019","Fev/2019","Mar/2019","Abr/2019","Mai/2019","Jun/2019","Jul/2019","Ago/2019","Set/2019","Out/2019","Nov/2019","Dez/2019"]
[null,null,null,null,null,null,null,null,null,null,null,null,null,null,null,null,null,null,null,null,null,null,null,null,null,null,null,null,null,null,null,null,null,null,null,null,null,null,null,null,null,"Novembro/0005",85,null,null,null,null,null,null,null,null,null,"Jan/2020","Fev/2020","Mar/2020","Abr/2020","Mai/2020","Jun/2020","Jul/2020","Ago/2020","Set/2020","Out/2020","Nov/2020","Dez/2020"]
[null,null,null,null,null,null,null,null,null,null,null,null,null,null,null,null,null,null,null,null,null,null,null,null,null,null,null,null,null,null,null,null,null,null,null,null,null,null,null,null,null,"Dezembro/0005",86,null,null,null,null,null,null,null,null,null,"Jan/2021","Fev/2021","Mar/2021","Abr/2021","Mai/2021","Jun/2021","Jul/2021","Ago/2021","Set/2021","Out/2021","Nov/2021","Dez/2021"]
[null,null,null,null,null,null,null,null,null,null,null,null,null,null,null,null,null,null,null,null,null,null,null,null,null,null,null,null,null,null,null,null,null,null,null,null,null,null,null,null,null,null,null,null,null,null,null,null,null,null,null,null,"Jan/2022","Fev/2022","Mar/2022","Abr/2022","Mai/2022","Jun/2022","Jul/2022","Ago/2022","Set/2022","Out/2022","Nov/2022","Dez/2022"]
[null,null,null,null,null,null,null,null,null,null,null,null,null,null,null,null,null,null,null,null,null,null,null,null,null,null,null,null,null,null,null,null,null,null,null,null,null,null,null,null,null,"TOTAL2022",87,null,null,null,null,null,null,null,null,null,"Jan/2023","Fev/2023","Mar/2023","Abr/2023","Mai/2023","Jun/2023","Jul/2023","Ago/2023","Set/2023","Out/2023","Nov/2023","Dez/2023"]
[null,null,null,null,null,null,null,null,null,null,null,null,null,null,null,null,null,null,null,null,null,null,null,null,null,null,null,null,null,null,null,null,null,null,null,null,null,null,null,null,null,null,null,null,null,null,null,null,null,null,null,null,"Jan/2024","Fev/2024","Mar/2024","Abr/2024","Mai/2024","Jun/2024","Jul/2024","Ago/2024","Set/2024","Out/2024","Nov/2024","Dez/2024"]
[null,null,null,null,null,null,null,null,null,null,null,null,null,null,null,null,null,null,null,null,null,null,null,null,null,null,null,null,null,null,null,null,null,null,null,null,null,null,null,null,null,"2023-01-01",89,null,null,null,null,null,null,null,null,null,"Jan/2025","Fev/2025","Mar/2025","Abr/2025","Mai/2025","Jun/2025","Jul/2025","Ago/2025","Set/2025","Out/2025","Nov/2025","Dez/2025"]
[null,null,null,null,null,null,null,null,null,null,null,null,null,null,null,null,null,null,null,null,null,null,null,null,null,null,null,null,null,null,null,null,null,null,null,null,null,null,null,null,null,"2023-02-01",90,null,null,null,null,null,null,null,null,null,"Jan/2026","Fev/2026","Mar/2026","Abr/2026","Mai/2026","Jun/2026","Jul/2026","Ago/2026","Set/2026","Out/2026","Nov/2026","Dez/2026"]
[null,null,null,null,null,null,null,null,null,null,null,null,null,null,null,null,null,null,null,null,null,null,null,null,null,null,null,null,null,null,null,null,null,null,null,null,null,null,null,null,null,"2023-03-01",91,null,null,null,null,null,null,null,null,null,"Jan/2027","Fev/2027","Mar/2027","Abr/2027","Mai/2027","Jun/2027","Jul/2027","Ago/2027","Set/2027","Out/2027","Nov/2027","Dez/2027"]
[null,null,null,null,null,null,null,null,null,null,null,null,null,null,null,null,null,null,null,null,null,null,null,null,null,null,null,null,null,null,null,null,null,null,null,null,null,null,null,null,null,"2023-04-01",92,null,null,null,null,null,null,null,null,null,"Jan/2028","Fev/2028","Mar/2028","Abr/2028","Mai/2028","Jun/2028","Jul/2028","Ago/2028","Set/2028","Out/2028","Nov/2028","Dez/2028"]
[null,null,null,null,null,null,null,null,null,null,null,null,null,null,null,null,null,null,null,null,null,null,null,null,null,null,null,null,null,null,null,null,null,null,null,null,null,null,null,null,null,"2023-05-01",93]
[null,null,null,null,null,null,null,null,null,null,null,null,null,null,null,null,null,null,null,null,null,null,null,null,null,null,null,null,null,null,null,null,null,null,null,null,null,null,null,null,null,"2023-06-01",94]
[null,null,null,null,null,null,null,null,null,null,null,null,null,null,null,null,null,null,null,null,null,null,null,null,null,null,null,null,null,null,null,null,null,null,null,null,null,null,null,null,null,"2023-07-01",95]
[null,null,null,null,null,null,null,null,null,null,null,null,null,null,null,null,null,null,null,null,null,null,null,null,null,null,null,null,null,null,null,null,null,null,null,null,null,null,null,null,null,"2023-08-01",96]
[null,null,null,null,null,null,null,null,null,null,null,null,null,null,null,null,null,null,null,null,null,null,null,null,null,null,null,null,null,null,null,null,null,null,null,null,null,null,null,null,null,"2023-09-01",97]
[null,null,null,null,null,null,null,null,null,null,null,null,null,null,null,null,null,null,null,null,null,null,null,null,null,null,null,null,null,null,null,null,null,null,null,null,null,null,null,null,null,"2023-10-01",98]
[null,null,null,null,null,null,null,null,null,null,null,null,null,null,null,null,null,null,null,null,null,null,null,null,null,null,null,null,null,null,null,null,null,null,null,null,null,null,null,null,null,"2023-11-01",99]
[null,null,null,null,null,null,null,null,null,null,null,null,null,null,null,null,null,null,null,null,null,null,null,null,null,null,null,null,null,null,null,null,null,null,null,null,null,null,null,null,null,"2023-12-01",100]
[]
[null,null,null,null,null,null,null,null,null,null,null,null,null,null,null,null,null,null,null,null,null,null,null,null,null,null,null,null,null,null,null,null,null,null,null,null,null,null,null,null,null,"TOTAL2023",101]
[]
[null,null,null,null,null,null,null,null,null,null,null,null,null,null,null,null,null,null,null,null,null,null,null,null,null,null,null,null,null,null,null,null,null,null,null,null,null,null,null,null,null,"2024-01-01",103]
[null,null,null,null,null,null,null,null,null,null,null,null,null,null,null,null,null,null,null,null,null,null,null,null,null,null,null,null,null,null,null,null,null,null,null,null,null,null,null,null,null,"2024-02-01",104]
[null,null,null,null,null,null,null,null,null,null,null,null,null,null,null,null,null,null,null,null,null,null,null,null,null,null,null,null,null,null,null,null,null,null,null,null,null,null,null,null,null,"2024-03-01",105]
[null,null,null,null,null,null,null,null,null,null,null,null,null,null,null,null,null,null,null,null,null,null,null,null,null,null,null,null,null,null,null,null,null,null,null,null,null,null,null,null,null,"2024-04-01",106]
[null,null,null,null,null,null,null,null,null,null,null,null,null,null,null,null,null,null,null,null,null,null,null,null,null,null,null,null,null,null,null,null,null,null,null,null,null,null,null,null,null,"2024-05-01",107]
[null,null,null,null,null,null,null,null,null,null,null,null,null,null,null,null,null,null,null,null,null,null,null,null,null,null,null,null,null,null,null,null,null,null,null,null,null,null,null,null,null,"2024-06-01",108]
[null,null,null,null,null,null,null,null,null,null,null,null,null,null,null,null,null,null,null,null,null,null,null,null,null,null,null,null,null,null,null,null,null,null,null,null,null,null,null,null,null,"2024-07-01",109]
[null,null,null,null,null,null,null,null,null,null,null,null,null,null,null,null,null,null,null,null,null,null,null,null,null,null,null,null,null,null,null,null,null,null,null,null,null,null,null,null,null,"2024-08-01",110]
[null,null,null,null,null,null,null,null,null,null,null,null,null,null,null,null,null,null,null,null,null,null,null,null,null,null,null,null,null,null,null,null,null,null,null,null,null,null,null,null,null,"2024-09-01",111]
[null,null,null,null,null,null,null,null,null,null,null,null,null,null,null,null,null,null,null,null,null,null,null,null,null,null,null,null,null,null,null,null,null,null,null,null,null,null,null,null,null,"2024-10-01",112]
[null,null,null,null,null,null,null,null,null,null,null,null,null,null,null,null,null,null,null,null,null,null,null,null,null,null,null,null,null,null,null,null,null,null,null,null,null,null,null,null,null,"2024-11-01",113]
[null,null,null,null,null,null,null,null,null,null,null,null,null,null,null,null,null,null,null,null,null,null,null,null,null,null,null,null,null,null,null,null,null,null,null,null,null,null,null,null,null,"2024-12-01",114]
[]
[null,null,null,null,null,null,null,null,null,null,null,null,null,null,null,null,null,null,null,null,null,null,null,null,null,null,null,null,null,null,null,null,null,null,null,null,null,null,null,null,null,"TOTAL2024",115]
[]
[null,null,null,null,null,null,null,null,null,null,null,null,null,null,null,null,null,null,null,null,null,null,null,null,null,null,null,null,null,null,null,null,null,null,null,null,null,null,null,null,null,"2025-01-01",117]
[null,null,null,null,null,null,null,null,null,null,null,null,null,null,null,null,null,null,null,null,null,null,null,null,null,null,null,null,null,null,null,null,null,null,null,null,null,null,null,null,null,"2025-02-01",118]
[null,null,null,null,null,null,null,null,null,null,null,null,null,null,null,null,null,null,null,null,null,null,null,null,null,null,null,null,null,null,null,null,null,null,null,null,null,null,null,null,null,"2025-03-01",119]
[null,null,null,null,null,null,null,null,null,null,null,null,null,null,null,null,null,null,null,null,null,null,null,null,null,null,null,null,null,null,null,null,null,null,null,null,null,null,null,null,null,"2025-04-01",120]
[null,null,null,null,null,null,null,null,null,null,null,null,null,null,null,null,null,null,null,null,null,null,null,null,null,null,null,null,null,null,null,null,null,null,null,null,null,null,null,null,null,"2025-05-01",121]
[null,null,null,null,null,null,null,null,null,null,null,null,null,null,null,null,null,null,null,null,null,null,null,null,null,null,null,null,null,null,null,null,null,null,null,null,null,null,null,null,null,"2025-06-01",122]
[null,null,null,null,null,null,null,null,null,null,null,null,null,null,null,null,null,null,null,null,null,null,null,null,null,null,null,null,null,null,null,null,null,null,null,null,null,null,null,null,null,"2025-07-01",123]
[null,null,null,null,null,null,null,null,null,null,null,null,null,null,null,null,null,null,null,null,null,null,null,null,null,null,null,null,null,null,null,null,null,null,null,null,null,null,null,null,null,"2025-08-01",124]
[null,null,null,null,null,null,null,null,null,null,null,null,null,null,null,null,null,null,null,null,null,null,null,null,null,null,null,null,null,null,null,null,null,null,null,null,null,null,null,null,null,"2025-09-01",125]
[null,null,null,null,null,null,null,null,null,null,null,null,null,null,null,null,null,null,null,null,null,null,null,null,null,null,null,null,null,null,null,null,null,null,null,null,null,null,null,null,null,"2025-10-01",126]
[null,null,null,null,null,null,null,null,null,null,null,null,null,null,null,null,null,null,null,null,null,null,null,null,null,null,null,null,null,null,null,null,null,null,null,null,null,null,null,null,null,"2025-11-01",127]
[null,null,null,null,null,null,null,null,null,null,null,null,null,null,null,null,null,null,null,null,null,null,null,null,null,null,null,null,null,null,null,null,null,null,null,null,null,null,null,null,null,"2025-12-01",128]
[]
[null,null,null,null,null,null,null,null,null,null,null,null,null,null,null,null,null,null,null,null,null,null,null,null,null,null,null,null,null,null,null,null,null,null,null,null,null,null,null,null,null,"TOTAL2025",129]
[]
[null,null,null,null,null,null,null,null,null,null,null,null,null,null,null,null,null,null,null,null,null,null,null,null,null,null,null,null,null,null,null,null,null,null,null,null,null,null,null,null,null,"2026-01-01",131]
[null,null,null,null,null,null,null,null,null,null,null,null,null,null,null,null,null,null,null,null,null,null,null,null,null,null,null,null,null,null,null,null,null,null,null,null,null,null,null,null,null,"2026-02-01",132]
[null,null,null,null,null,null,null,null,null,null,null,null,null,null,null,null,null,null,null,null,null,null,null,null,null,null,null,null,null,null,null,null,null,null,null,null,null,null,null,null,null,"2026-03-01",133]
[null,null,null,null,null,null,null,null,null,null,null,null,null,null,null,null,null,null,null,null,null,null,null,null,null,null,null,null,null,null,null,null,null,null,null,null,null,null,null,null,null,"2026-04-01",134]
[null,null,null,null,null,null,null,null,null,null,null,null,null,null,null,null,null,null,null,null,null,null,null,null,null,null,null,null,null,null,null,null,null,null,null,null,null,null,null,null,null,"2026-05-01",135]
[null,null,null,null,null,null,null,null,null,null,null,null,null,null,null,null,null,null,null,null,null,null,null,null,null,null,null,null,null,null,null,null,null,null,null,null,null,null,null,null,null,"2026-06-01",136]
[null,null,null,null,null,null,null,null,null,null,null,null,null,null,null,null,null,null,null,null,null,null,null,null,null,null,null,null,null,null,null,null,null,null,null,null,null,null,null,null,null,"2026-07-01",137]
[null,null,null,null,null,null,null,null,null,null,null,null,null,null,null,null,null,null,null,null,null,null,null,null,null,null,null,null,null,null,null,null,null,null,null,null,null,null,null,null,null,"2026-08-01",138]
[null,null,null,null,null,null,null,null,null,null,null,null,null,null,null,null,null,null,null,null,null,null,null,null,null,null,null,null,null,null,null,null,null,null,null,null,null,null,null,null,null,"2026-09-01",139]
[null,null,null,null,null,null,null,null,null,null,null,null,null,null,null,null,null,null,null,null,null,null,null,null,null,null,null,null,null,null,null,null,null,null,null,null,null,null,null,null,null,"2026-10-01",140]
[null,null,null,null,null,null,null,null,null,null,null,null,null,null,null,null,null,null,null,null,null,null,null,null,null,null,null,null,null,null,null,null,null,null,null,null,null,null,null,null,null,"2026-11-01",141]
[null,null,null,null,null,null,null,null,null,null,null,null,null,null,null,null,null,null,null,null,null,null,null,null,null,null,null,null,null,null,null,null,null,null,null,null,null,null,null,null,null,"2026-12-01",142]
[]
[null,null,null,null,null,null,null,null,null,null,null,null,null,null,null,null,null,null,null,null,null,null,null,null,null,null,null,null,null,null,null,null,null,null,null,null,null,null,null,null,null,"TOTAL2026",143]
[]
[null,null,null,null,null,null,null,null,null,null,null,null,null,null,null,null,null,null,null,null,null,null,null,null,null,null,null,null,null,null,null,null,null,null,null,null,null,null,null,null,null,"2027-01-01",145]
[null,null,null,null,null,null,null,null,null,null,null,null,null,null,null,null,null,null,null,null,null,null,null,null,null,null,null,null,null,null,null,null,null,null,null,null,null,null,null,null,null,"2027-02-01",146]
[null,null,null,null,null,null,null,null,null,null,null,null,null,null,null,null,null,null,null,null,null,null,null,null,null,null,null,null,null,null,null,null,null,null,null,null,null,null,null,null,null,"2027-03-01",147]
[null,null,null,null,null,null,null,null,null,null,null,null,null,null,null,null,null,null,null,null,null,null,null,null,null,null,null,null,null,null,null,null,null,null,null,null,null,null,null,null,null,"2027-04-01",148]
[null,null,null,null,null,null,null,null,null,null,null,null,null,null,null,null,null,null,null,null,null,null,null,null,null,null,null,null,null,null,null,null,null,null,null,null,null,null,null,null,null,"2027-05-01",149]
[null,null,null,null,null,null,null,null,null,null,null,null,null,null,null,null,null,null,null,null,null,null,null,null,null,null,null,null,null,null,null,null,null,null,null,null,null,null,null,null,null,"2027-06-01",150]
[null,null,null,null,null,null,null,null,null,null,null,null,null,null,null,null,null,null,null,null,null,null,null,null,null,null,null,null,null,null,null,null,null,null,null,null,null,null,null,null,null,"2027-07-01",151]
[null,null,null,null,null,null,null,null,null,null,null,null,null,null,null,null,null,null,null,null,null,null,null,null,null,null,null,null,null,null,null,null,null,null,null,null,null,null,null,null,null,"2027-08-01",152]
[null,null,null,null,null,null,null,null,null,null,null,null,null,null,null,null,null,null,null,null,null,null,null,null,null,null,null,null,null,null,null,null,null,null,null,null,null,null,null,null,null,"2027-09-01",153]
[null,null,null,null,null,null,null,null,null,null,null,null,null,null,null,null,null,null,null,null,null,null,null,null,null,null,null,null,null,null,null,null,null,null,null,null,null,null,null,null,null,"2027-10-01",154]
[null,null,null,null,null,null,null,null,null,null,null,null,null,null,null,null,null,null,null,null,null,null,null,null,null,null,null,null,null,null,null,null,null,null,null,null,null,null,null,null,null,"2027-11-01",155]
[null,null,null,null,null,null,null,null,null,null,null,null,null,null,null,null,null,null,null,null,null,null,null,null,null,null,null,null,null,null,null,null,null,null,null,null,null,null,null,null,null,"2027-12-01",156]
[]
[null,null,null,null,null,null,null,null,null,null,null,null,null,null,null,null,null,null,null,null,null,null,null,null,null,null,null,null,null,null,null,null,null,null,null,null,null,null,null,null,null,"TOTAL2027",157]
[]
[null,null,null,null,null,null,null,null,null,null,null,null,null,null,null,null,null,null,null,null,null,null,null,null,null,null,null,null,null,null,null,null,null,null,null,null,null,null,null,null,null,"2028-01-01",159]
[null,null,null,null,null,null,null,null,null,null,null,null,null,null,null,null,null,null,null,null,null,null,null,null,null,null,null,null,null,null,null,null,null,null,null,null,null,null,null,null,null,"2028-02-01",160]
[null,null,null,null,null,null,null,null,null,null,null,null,null,null,null,null,null,null,null,null,null,null,null,null,null,null,null,null,null,null,null,null,null,null,null,null,null,null,null,null,null,"2028-03-01",161]
[null,null,null,null,null,null,null,null,null,null,null,null,null,null,null,null,null,null,null,null,null,null,null,null,null,null,null,null,null,null,null,null,null,null,null,null,null,null,null,null,null,"2028-04-01",162]
[null,null,null,null,null,null,null,null,null,null,null,null,null,null,null,null,null,null,null,null,null,null,null,null,null,null,null,null,null,null,null,null,null,null,null,null,null,null,null,null,null,"2028-05-01",163]
[null,null,null,null,null,null,null,null,null,null,null,null,null,null,null,null,null,null,null,null,null,null,null,null,null,null,null,null,null,null,null,null,null,null,null,null,null,null,null,null,null,"2028-06-01",164]
[null,null,null,null,null,null,null,null,null,null,null,null,null,null,null,null,null,null,null,null,null,null,null,null,null,null,null,null,null,null,null,null,null,null,null,null,null,null,null,null,null,"2028-07-01",165]
[null,null,null,null,null,null,null,null,null,null,null,null,null,null,null,null,null,null,null,null,null,null,null,null,null,null,null,null,null,null,null,null,null,null,null,null,null,null,null,null,null,"2028-08-01",166]
[null,null,null,null,null,null,null,null,null,null,null,null,null,null,null,null,null,null,null,null,null,null,null,null,null,null,null,null,null,null,null,null,null,null,null,null,null,null,null,null,null,"2028-09-01",167]
[null,null,null,null,null,null,null,null,null,null,null,null,null,null,null,null,null,null,null,null,null,null,null,null,null,null,null,null,null,null,null,null,null,null,null,null,null,null,null,null,null,"2028-10-01",168]
[null,null,null,null,null,null,null,null,null,null,null,null,null,null,null,null,null,null,null,null,null,null,null,null,null,null,null,null,null,null,null,null,null,null,null,null,null,null,null,null,null,"2028-11-01",169]
[null,null,null,null,null,null,null,null,null,null,null,null,null,null,null,null,null,null,null,null,null,null,null,null,null,null,null,null,null,null,null,null,null,null,null,null,null,null,null,null,null,"2028-12-01",170]
[]
[null,null,null,null,null,null,null,null,null,null,null,null,null,null,null,null,null,null,null,null,null,null,null,null,null,null,null,null,null,null,null,null,null,null,null,null,null,null,null,null,null,"TOTAL2028",171]
[]
[null,null,null,null,null,null,null,null,null,null,null,null,null,null,null,null,null,null,null,null,null,null,null,null,null,null,null,null,null,null,null,null,null,null,null,null,null,null,null,null,null,"Jan/2017",5]
[null,null,null,null,null,null,null,null,null,null,null,null,null,null,null,null,null,null,null,null,null,null,null,null,null,null,null,null,null,null,null,null,null,null,null,null,null,null,null,null,null,"Fev/2017",6]
[null,null,null,null,null,null,null,null,null,null,null,null,null,null,null,null,null,null,null,null,null,null,null,null,null,null,null,null,null,null,null,null,null,null,null,null,null,null,null,null,null,"Mar/2017",7]
[null,null,null,null,null,null,null,null,null,null,null,null,null,null,null,null,null,null,null,null,null,null,null,null,null,null,null,null,null,null,null,null,null,null,null,null,null,null,null,null,null,"Abr/2017",8]
[null,null,null,null,null,null,null,null,null,null,null,null,null,null,null,null,null,null,null,null,null,null,null,null,null,null,null,null,null,null,null,null,null,null,null,null,null,null,null,null,null,"Mai/2017",9]
[null,null,null,null,null,null,null,null,null,null,null,null,null,null,null,null,null,null,null,null,null,null,null,null,null,null,null,null,null,null,null,null,null,null,null,null,null,null,null,null,null,"Jun/2017",10]
[null,null,null,null,null,null,null,null,null,null,null,null,null,null,null,null,null,null,null,null,null,null,null,null,null,null,null,null,null,null,null,null,null,null,null,null,null,null,null,null,null,"Jul/2017",11]
[null,null,null,null,null,null,null,null,null,null,null,null,null,null,null,null,null,null,null,null,null,null,null,null,null,null,null,null,null,null,null,null,null,null,null,null,null,null,null,null,null,"Ago/2017",12]
[null,null,null,null,null,null,null,null,null,null,null,null,null,null,null,null,null,null,null,null,null,null,null,null,null,null,null,null,null,null,null,null,null,null,null,null,null,null,null,null,null,"Set/2017",13]
[null,null,null,null,null,null,null,null,null,null,null,null,null,null,null,null,null,null,null,null,null,null,null,null,null,null,null,null,null,null,null,null,null,null,null,null,null,null,null,null,null,"Out/2017",14]
[null,null,null,null,null,null,null,null,null,null,null,null,null,null,null,null,null,null,null,null,null,null,null,null,null,null,null,null,null,null,null,null,null,null,null,null,null,null,null,null,null,"Nov/2017",15]
[null,null,null,null,null,null,null,null,null,null,null,null,null,null,null,null,null,null,null,null,null,null,null,null,null,null,null,null,null,null,null,null,null,null,null,null,null,null,null,null,null,"Dez/2017",16]
[]
[null,null,null,null,null,null,null,null,null,null,null,null,null,null,null,null,null,null,null,null,null,null,null,null,null,null,null,null,null,null,null,null,null,null,null,null,null,null,null,null,null,"TOTAL2017",17]
[]
[null,null,null,null,null,null,null,null,null,null,null,null,null,null,null,null,null,null,null,null,null,null,null,null,null,null,null,null,null,null,null,null,null,null,null,null,null,null,null,null,null,"Jan/2018",19]
[null,null,null,null,null,null,null,null,null,null,null,null,null,null,null,null,null,null,null,null,null,null,null,null,null,null,null,null,null,null,null,null,null,null,null,null,null,null,null,null,null,"Fev/2018",20]
[null,null,null,null,null,null,null,null,null,null,null,null,null,null,null,null,null,null,null,null,null,null,null,null,null,null,null,null,null,null,null,null,null,null,null,null,null,null,null,null,null,"Mar/2018",21]
[null,null,null,null,null,null,null,null,null,null,null,null,null,null,null,null,null,null,null,null,null,null,null,null,null,null,null,null,null,null,null,null,null,null,null,null,null,null,null,null,null,"Abr/2018",22]
[null,null,null,null,null,null,null,null,null,null,null,null,null,null,null,null,null,null,null,null,null,null,null,null,null,null,null,null,null,null,null,null,null,null,null,null,null,null,null,null,null,"Mai/2018",23]
[null,null,null,null,null,null,null,null,null,null,null,null,null,null,null,null,null,null,null,null,null,null,null,null,null,null,null,null,null,null,null,null,null,null,null,null,null,null,null,null,null,"Jun/2018",24]
[null,null,null,null,null,null,null,null,null,null,null,null,null,null,null,null,null,null,null,null,null,null,null,null,null,null,null,null,null,null,null,null,null,null,null,null,null,null,null,null,null,"Jul/2018",25]
[null,null,null,null,null,null,null,null,null,null,null,null,null,null,null,null,null,null,null,null,null,null,null,null,null,null,null,null,null,null,null,null,null,null,null,null,null,null,null,null,null,"Ago/2018",26]
[null,null,null,null,null,null,null,null,null,null,null,null,null,null,null,null,null,null,null,null,null,null,null,null,null,null,null,null,null,null,null,null,null,null,null,null,null,null,null,null,null,"Set/2018",27]
[null,null,null,null,null,null,null,null,null,null,null,null,null,null,null,null,null,null,null,null,null,null,null,null,null,null,null,null,null,null,null,null,null,null,null,null,null,null,null,null,null,"Out/2018",28]
[null,null,null,null,null,null,null,null,null,null,null,null,null,null,null,null,null,null,null,null,null,null,null,null,null,null,null,null,null,null,null,null,null,null,null,null,null,null,null,null,null,"Nov/2018",29]
[null,null,null,null,null,null,null,null,null,null,null,null,null,null,null,null,null,null,null,null,null,null,null,null,null,null,null,null,null,null,null,null,null,null,null,null,null,null,null,null,null,"Dez/2018",30]
[]
[null,null,null,null,null,null,null,null,null,null,null,null,null,null,null,null,null,null,null,null,null,null,null,null,null,null,null,null,null,null,null,null,null,null,null,null,null,null,null,null,null,"TOTAL2018",31]
[]
[null,null,null,null,null,null,null,null,null,null,null,null,null,null,null,null,null,null,null,null,null,null,null,null,null,null,null,null,null,null,null,null,null,null,null,null,null,null,null,null,null,"Jan/2019",33]
[null,null,null,null,null,null,null,null,null,null,null,null,null,null,null,null,null,null,null,null,null,null,null,null,null,null,null,null,null,null,null,null,null,null,null,null,null,null,null,null,null,"Fev/2019",34]
[null,null,null,null,null,null,null,null,null,null,null,null,null,null,null,null,null,null,null,null,null,null,null,null,null,null,null,null,null,null,null,null,null,null,null,null,null,null,null,null,null,"Mar/2019",35]
[null,null,null,null,null,null,null,null,null,null,null,null,null,null,null,null,null,null,null,null,null,null,null,null,null,null,null,null,null,null,null,null,null,null,null,null,null,null,null,null,null,"Abr/2019",36]
[null,null,null,null,null,null,null,null,null,null,null,null,null,null,null,null,null,null,null,null,null,null,null,null,null,null,null,null,null,null,null,null,null,null,null,null,null,null,null,null,null,"Mai/2019",37]
[null,null,null,null,null,null,null,null,null,null,null,null,null,null,null,null,null,null,null,null,null,null,null,null,null,null,null,null,null,null,null,null,null,null,null,null,null,null,null,null,null,"Jun/2019",38]
[null,null,null,null,null,null,null,null,null,null,null,null,null,null,null,null,null,null,null,null,null,null,null,null,null,null,null,null,null,null,null,null,null,null,null,null,null,null,null,null,null,"Jul/2019",39]
[null,null,null,null,null,null,null,null,null,null,null,null,null,null,null,null,null,null,null,null,null,null,null,null,null,null,null,null,null,null,null,null,null,null,null,null,null,null,null,null,null,"Ago/2019",40]
[null,null,null,null,null,null,null,null,null,null,null,null,null,null,null,null,null,null,null,null,null,null,null,null,null,null,null,null,null,null,null,null,null,null,null,null,null,null,null,null,null,"Set/2019",41]
[null,null,null,null,null,null,null,null,null,null,null,null,null,null,null,null,null,null,null,null,null,null,null,null,null,null,null,null,null,null,null,null,null,null,null,null,null,null,null,null,null,"Out/2019",42]
[null,null,null,null,null,null,null,null,null,null,null,null,null,null,null,null,null,null,null,null,null,null,null,null,null,null,null,null,null,null,null,null,null,null,null,null,null,null,null,null,null,"Nov/2019",43]
[null,null,null,null,null,null,null,null,null,null,null,null,null,null,null,null,null,null,null,null,null,null,null,null,null,null,null,null,null,null,null,null,null,null,null,null,null,null,null,null,null,"Dez/2019",44]
[]
[null,null,null,null,null,null,null,null,null,null,null,null,null,null,null,null,null,null,null,null,null,null,null,null,null,null,null,null,null,null,null,null,null,null,null,null,null,null,null,null,null,"TOTAL2019",45]
[]
[null,null,null,null,null,null,null,null,null,null,null,null,null,null,null,null,null,null,null,null,null,null,null,null,null,null,null,null,null,null,null,null,null,null,null,null,null,null,null,null,null,"Jan/2020",47]
[null,null,null,null,null,null,null,null,null,null,null,null,null,null,null,null,null,null,null,null,null,null,null,null,null,null,null,null,null,null,null,null,null,null,null,null,null,null,null,null,null,"Fev/2020",48]
[null,null,null,null,null,null,null,null,null,null,null,null,null,null,null,null,null,null,null,null,null,null,null,null,null,null,null,null,null,null,null,null,null,null,null,null,null,null,null,null,null,"Mar/2020",49]
[null,null,null,null,null,null,null,null,null,null,null,null,null,null,null,null,null,null,null,null,null,null,null,null,null,null,null,null,null,null,null,null,null,null,null,null,null,null,null,null,null,"Abr/2020",50]
[null,null,null,null,null,null,null,null,null,null,null,null,null,null,null,null,null,null,null,null,null,null,null,null,null,null,null,null,null,null,null,null,null,null,null,null,null,null,null,null,null,"Mai/2020",51]
[null,null,null,null,null,null,null,null,null,null,null,null,null,null,null,null,null,null,null,null,null,null,null,null,null,null,null,null,null,null,null,null,null,null,null,null,null,null,null,null,null,"Jun/2020",52]
[null,null,null,null,null,null,null,null,null,null,null,null,null,null,null,null,null,null,null,null,null,null,null,null,null,null,null,null,null,null,null,null,null,null,null,null,null,null,null,null,null,"Jul/2020",53]
[null,null,null,null,null,null,null,null,null,null,null,null,null,null,null,null,null,null,null,null,null,null,null,null,null,null,null,null,null,null,null,null,null,null,null,null,null,null,null,null,null,"Ago/2020",54]
[null,null,null,null,null,null,null,null,null,null,null,null,null,null,null,null,null,null,null,null,null,null,null,null,null,null,null,null,null,null,null,null,null,null,null,null,null,null,null,null,null,"Set/2020",55]
[null,null,null,null,null,null,null,null,null,null,null,null,null,null,null,null,null,null,null,null,null,null,null,null,null,null,null,null,null,null,null,null,null,null,null,null,null,null,null,null,null,"Out/2020",56]
[null,null,null,null,null,null,null,null,null,null,null,null,null,null,null,null,null,null,null,null,null,null,null,null,null,null,null,null,null,null,null,null,null,null,null,null,null,null,null,null,null,"Nov/2020",57]
[null,null,null,null,null,null,null,null,null,null,null,null,null,null,null,null,null,null,null,null,null,null,null,null,null,null,null,null,null,null,null,null,null,null,null,null,null,null,null,null,null,"Dez/2020",58]
[]
[null,null,null,null,null,null,null,null,null,null,null,null,null,null,null,null,null,null,null,null,null,null,null,null,null,null,null,null,null,null,null,null,null,null,null,null,null,null,null,null,null,"TOTAL2020",59]
[]
[null,null,null,null,null,null,null,null,null,null,null,null,null,null,null,null,null,null,null,null,null,null,null,null,null,null,null,null,null,null,null,null,null,null,null,null,null,null,null,null,null,"Jan/2021",61]
[null,null,null,null,null,null,null,null,null,null,null,null,null,null,null,null,null,null,null,null,null,null,null,null,null,null,null,null,null,null,null,null,null,null,null,null,null,null,null,null,null,"Fev/2021",62]
[null,null,null,null,null,null,null,null,null,null,null,null,null,null,null,null,null,null,null,null,null,null,null,null,null,null,null,null,null,null,null,null,null,null,null,null,null,null,null,null,null,"Mar/2021",63]
[null,null,null,null,null,null,null,null,null,null,null,null,null,null,null,null,null,null,null,null,null,null,null,null,null,null,null,null,null,null,null,null,null,null,null,null,null,null,null,null,null,"Abr/2021",64]
[null,null,null,null,null,null,null,null,null,null,null,null,null,null,null,null,null,null,null,null,null,null,null,null,null,null,null,null,null,null,null,null,null,null,null,null,null,null,null,null,null,"Mai/2021",65]
[null,null,null,null,null,null,null,null,null,null,null,null,null,null,null,null,null,null,null,null,null,null,null,null,null,null,null,null,null,null,null,null,null,null,null,null,null,null,null,null,null,"Jun/2021",66]
[null,null,null,null,null,null,null,null,null,null,null,null,null,null,null,null,null,null,null,null,null,null,null,null,null,null,null,null,null,null,null,null,null,null,null,null,null,null,null,null,null,"Jul/2021",67]
[null,null,null,null,null,null,null,null,null,null,null,null,null,null,null,null,null,null,null,null,null,null,null,null,null,null,null,null,null,null,null,null,null,null,null,null,null,null,null,null,null,"Ago/2021",68]
[null,null,null,null,null,null,null,null,null,null,null,null,null,null,null,null,null,null,null,null,null,null,null,null,null,null,null,null,null,null,null,null,null,null,null,null,null,null,null,null,null,"Set/2021",69]
[null,null,null,null,null,null,null,null,null,null,null,null,null,null,null,null,null,null,null,null,null,null,null,null,null,null,null,null,null,null,null,null,null,null,null,null,null,null,null,null,null,"Out/2021",70]
[null,null,null,null,null,null,null,null,null,null,null,null,null,null,null,null,null,null,null,null,null,null,null,null,null,null,null,null,null,null,null,null,null,null,null,null,null,null,null,null,null,"Nov/2021",71]
[null,null,null,null,null,null,null,null,null,null,null,null,null,null,null,null,null,null,null,null,null,null,null,null,null,null,null,null,null,null,null,null,null,null,null,null,null,null,null,null,null,"Dez/2021",72]
[]
[null,null,null,null,null,null,null,null,null,null,null,null,null,null,null,null,null,null,null,null,null,null,null,null,null,null,null,null,null,null,null,null,null,null,null,null,null,null,null,null,null,"TOTAL2021",73]
[]
[null,null,null,null,null,null,null,null,null,null,null,null,null,null,null,null,null,null,null,null,null,null,null,null,null,null,null,null,null,null,null,null,null,null,null,null,null,null,null,null,null,"Jan/2022",75]
[null,null,null,null,null,null,null,null,null,null,null,null,null,null,null,null,null,null,null,null,null,null,null,null,null,null,null,null,null,null,null,null,null,null,null,null,null,null,null,null,null,"Fev/2022",76]
[null,null,null,null,null,null,null,null,null,null,null,null,null,null,null,null,null,null,null,null,null,null,null,null,null,null,null,null,null,null,null,null,null,null,null,null,null,null,null,null,null,"Mar/2022",77]
[null,null,null,null,null,null,null,null,null,null,null,null,null,null,null,null,null,null,null,null,null,null,null,null,null,null,null,null,null,null,null,null,null,null,null,null,null,null,null,null,null,"Abr/2022",78]
[null,null,null,null,null,null,null,null,null,null,null,null,null,null,null,null,null,null,null,null,null,null,null,null,null,null,null,null,null,null,null,null,null,null,null,null,null,null,null,null,null,"Mai/2022",79]
[null,null,null,null,null,null,null,null,null,null,null,null,null,null,null,null,null,null,null,null,null,null,null,null,null,null,null,null,null,null,null,null,null,null,null,null,null,null,null,null,null,"Jun/2022",80]
[null,null,null,null,null,null,null,null,null,null,null,null,null,null,null,null,null,null,null,null,null,null,null,null,null,null,null,null,null,null,null,null,null,null,null,null,null,null,null,null,null,"Jul/2022",81]
[null,null,null,null,null,null,null,null,null,null,null,null,null,null,null,null,null,null,null,null,null,null,null,null,null,null,null,null,null,null,null,null,null,null,null,null,null,null,null,null,null,"Ago/2022",82]
[null,null,null,null,null,null,null,null,null,null,null,null,null,null,null,null,null,null,null,null,null,null,null,null,null,null,null,null,null,null,null,null,null,null,null,null,null,null,null,null,null,"Set/2022",83]
[null,null,null,null,null,null,null,null,null,null,null,null,null,null,null,null,null,null,null,null,null,null,null,null,null,null,null,null,null,null,null,null,null,null,null,null,null,null,null,null,null,"Out/2022",84]
[null,null,null,null,null,null,null,null,null,null,null,null,null,null,null,null,null,null,null,null,null,null,null,null,null,null,null,null,null,null,null,null,null,null,null,null,null,null,null,null,null,"Nov/2022",85]
[null,null,null,null,null,null,null,null,null,null,null,null,null,null,null,null,null,null,null,null,null,null,null,null,null,null,null,null,null,null,null,null,null,null,null,null,null,null,null,null,null,"Dez/2022",86]
[]
[null,null,null,null,null,null,null,null,null,null,null,null,null,null,null,null,null,null,null,null,null,null,null,null,null,null,null,null,null,null,null,null,null,null,null,null,null,null,null,null,null,"TOTAL2022",87]
[]
[null,null,null,null,null,null,null,null,null,null,null,null,null,null,null,null,null,null,null,null,null,null,null,null,null,null,null,null,null,null,null,null,null,null,null,null,null,null,null,null,null,"Jan/2023",89]
[null,null,null,null,null,null,null,null,null,null,null,null,null,null,null,null,null,null,null,null,null,null,null,null,null,null,null,null,null,null,null,null,null,null,null,null,null,null,null,null,null,"Fev/2023",90]
[null,null,null,null,null,null,null,null,null,null,null,null,null,null,null,null,null,null,null,null,null,null,null,null,null,null,null,null,null,null,null,null,null,null,null,null,null,null,null,null,null,"Mar/2023",91]
[null,null,null,null,null,null,null,null,null,null,null,null,null,null,null,null,null,null,null,null,null,null,null,null,null,null,null,null,null,null,null,null,null,null,null,null,null,null,null,null,null,"Abr/2023",92]
[null,null,null,null,null,null,null,null,null,null,null,null,null,null,null,null,null,null,null,null,null,null,null,null,null,null,null,null,null,null,null,null,null,null,null,null,null,null,null,null,null,"Mai/2023",93]
[null,null,null,null,null,null,null,null,null,null,null,null,null,null,null,null,null,null,null,null,null,null,null,null,null,null,null,null,null,null,null,null,null,null,null,null,null,null,null,null,null,"Jun/2023",94]
[null,null,null,null,null,null,null,null,null,null,null,null,null,null,null,null,null,null,null,null,null,null,null,null,null,null,null,null,null,null,null,null,null,null,null,null,null,null,null,null,null,"Jul/2023",95]
[null,null,null,null,null,null,null,null,null,null,null,null,null,null,null,null,null,null,null,null,null,null,null,null,null,null,null,null,null,null,null,null,null,null,null,null,null,null,null,null,null,"Ago/2023",96]
[null,null,null,null,null,null,null,null,null,null,null,null,null,null,null,null,null,null,null,null,null,null,null,null,null,null,null,null,null,null,null,null,null,null,null,null,null,null,null,null,null,"Set/2023",97]
[null,null,null,null,null,null,null,null,null,null,null,null,null,null,null,null,null,null,null,null,null,null,null,null,null,null,null,null,null,null,null,null,null,null,null,null,null,null,null,null,null,"Out/2023",98]
[null,null,null,null,null,null,null,null,null,null,null,null,null,null,null,null,null,null,null,null,null,null,null,null,null,null,null,null,null,null,null,null,null,null,null,null,null,null,null,null,null,"Nov/2023",99]
[null,null,null,null,null,null,null,null,null,null,null,null,null,null,null,null,null,null,null,null,null,null,null,null,null,null,null,null,null,null,null,null,null,null,null,null,null,null,null,null,null,"Dez/2023",100]
[]
[null,null,null,null,null,null,null,null,null,null,null,null,null,null,null,null,null,null,null,null,null,null,null,null,null,null,null,null,null,null,null,null,null,null,null,null,null,null,null,null,null,"TOTAL2023",101]
[]
[null,null,null,null,null,null,null,null,null,null,null,null,null,null,null,null,null,null,null,null,null,null,null,null,null,null,null,null,null,null,null,null,null,null,null,null,null,null,null,null,null,"Jan/2024",103]
[null,null,null,null,null,null,null,null,null,null,null,null,null,null,null,null,null,null,null,null,null,null,null,null,null,null,null,null,null,null,null,null,null,null,null,null,null,null,null,null,null,"Fev/2024",104]
[null,null,null,null,null,null,null,null,null,null,null,null,null,null,null,null,null,null,null,null,null,null,null,null,null,null,null,null,null,null,null,null,null,null,null,null,null,null,null,null,null,"Mar/2024",105]
[null,null,null,null,null,null,null,null,null,null,null,null,null,null,null,null,null,null,null,null,null,null,null,null,null,null,null,null,null,null,null,null,null,null,null,null,null,null,null,null,null,"Abr/2024",106]
[null,null,null,null,null,null,null,null,null,null,null,null,null,null,null,null,null,null,null,null,null,null,null,null,null,null,null,null,null,null,null,null,null,null,null,null,null,null,null,null,null,"Mai/2024",107]
[null,null,null,null,null,null,null,null,null,null,null,null,null,null,null,null,null,null,null,null,null,null,null,null,null,null,null,null,null,null,null,null,null,null,null,null,null,null,null,null,null,"Jun/2024",108]
[null,null,null,null,null,null,null,null,null,null,null,null,null,null,null,null,null,null,null,null,null,null,null,null,null,null,null,null,null,null,null,null,null,null,null,null,null,null,null,null,null,"Jul/2024",109]
[null,null,null,null,null,null,null,null,null,null,null,null,null,null,null,null,null,null,null,null,null,null,null,null,null,null,null,null,null,null,null,null,null,null,null,null,null,null,null,null,null,"Ago/2024",110]
[null,null,null,null,null,null,null,null,null,null,null,null,null,null,null,null,null,null,null,null,null,null,null,null,null,null,null,null,null,null,null,null,null,null,null,null,null,null,null,null,null,"Set/2024",111]
[null,null,null,null,null,null,null,null,null,null,null,null,null,null,null,null,null,null,null,null,null,null,null,null,null,null,null,null,null,null,null,null,null,null,null,null,null,null,null,null,null,"Out/2024",112]
[null,null,null,null,null,null,null,null,null,null,null,null,null,null,null,null,null,null,null,null,null,null,null,null,null,null,null,null,null,null,null,null,null,null,null,null,null,null,null,null,null,"Nov/2024",113]
[null,null,null,null,null,null,null,null,null,null,null,null,null,null,null,null,null,null,null,null,null,null,null,null,null,null,null,null,null,null,null,null,null,null,null,null,null,null,null,null,null,"Dez/2024",114]
[]
[null,null,null,null,null,null,null,null,null,null,null,null,null,null,null,null,null,null,null,null,null,null,null,null,null,null,null,null,null,null,null,null,null,null,null,null,null,null,null,null,null,"TOTAL2024",115]
[]
[null,null,null,null,null,null,null,null,null,null,null,null,null,null,null,null,null,null,null,null,null,null,null,null,null,null,null,null,null,null,null,null,null,null,null,null,null,null,null,null,null,"Jan/2025",117]
[null,null,null,null,null,null,null,null,null,null,null,null,null,null,null,null,null,null,null,null,null,null,null,null,null,null,null,null,null,null,null,null,null,null,null,null,null,null,null,null,null,"Fev/2025",118]
[null,null,null,null,null,null,null,null,null,null,null,null,null,null,null,null,null,null,null,null,null,null,null,null,null,null,null,null,null,null,null,null,null,null,null,null,null,null,null,null,null,"Mar/2025",119]
[null,null,null,null,null,null,null,null,null,null,null,null,null,null,null,null,null,null,null,null,null,null,null,null,null,null,null,null,null,null,null,null,null,null,null,null,null,null,null,null,null,"Abr/2025",120]
[null,null,null,null,null,null,null,null,null,null,null,null,null,null,null,null,null,null,null,null,null,null,null,null,null,null,null,null,null,null,null,null,null,null,null,null,null,null,null,null,null,"Mai/2025",121]
[null,null,null,null,null,null,null,null,null,null,null,null,null,null,null,null,null,null,null,null,null,null,null,null,null,null,null,null,null,null,null,null,null,null,null,null,null,null,null,null,null,"Jun/2025",122]
[null,null,null,null,null,null,null,null,null,null,null,null,null,null,null,null,null,null,null,null,null,null,null,null,null,null,null,null,null,null,null,null,null,null,null,null,null,null,null,null,null,"Jul/2025",123]
[null,null,null,null,null,null,null,null,null,null,null,null,null,null,null,null,null,null,null,null,null,null,null,null,null,null,null,null,null,null,null,null,null,null,null,null,null,null,null,null,null,"Ago/2025",124]
[null,null,null,null,null,null,null,null,null,null,null,null,null,null,null,null,null,null,null,null,null,null,null,null,null,null,null,null,null,null,null,null,null,null,null,null,null,null,null,null,null,"Set/2025",125]
[null,null,null,null,null,null,null,null,null,null,null,null,null,null,null,null,null,null,null,null,null,null,null,null,null,null,null,null,null,null,null,null,null,null,null,null,null,null,null,null,null,"Out/2025",126]
[null,null,null,null,null,null,null,null,null,null,null,null,null,null,null,null,null,null,null,null,null,null,null,null,null,null,null,null,null,null,null,null,null,null,null,null,null,null,null,null,null,"Nov/2025",127]
[null,null,null,null,null,null,null,null,null,null,null,null,null,null,null,null,null,null,null,null,null,null,null,null,null,null,null,null,null,null,null,null,null,null,null,null,null,null,null,null,null,"Dez/2025",128]
[]
[null,null,null,null,null,null,null,null,null,null,null,null,null,null,null,null,null,null,null,null,null,null,null,null,null,null,null,null,null,null,null,null,null,null,null,null,null,null,null,null,null,"TOTAL2025",129]
[]
[null,null,null,null,null,null,null,null,null,null,null,null,null,null,null,null,null,null,null,null,null,null,null,null,null,null,null,null,null,null,null,null,null,null,null,null,null,null,null,null,null,"Jan/2026",131]
[null,null,null,null,null,null,null,null,null,null,null,null,null,null,null,null,null,null,null,null,null,null,null,null,null,null,null,null,null,null,null,null,null,null,null,null,null,null,null,null,null,"Fev/2026",132]
[null,null,null,null,null,null,null,null,null,null,null,null,null,null,null,null,null,null,null,null,null,null,null,null,null,null,null,null,null,null,null,null,null,null,null,null,null,null,null,null,null,"Mar/2026",133]
[null,null,null,null,null,null,null,null,null,null,null,null,null,null,null,null,null,null,null,null,null,null,null,null,null,null,null,null,null,null,null,null,null,null,null,null,null,null,null,null,null,"Abr/2026",134]
[null,null,null,null,null,null,null,null,null,null,null,null,null,null,null,null,null,null,null,null,null,null,null,null,null,null,null,null,null,null,null,null,null,null,null,null,null,null,null,null,null,"Mai/2026",135]
[null,null,null,null,null,null,null,null,null,null,null,null,null,null,null,null,null,null,null,null,null,null,null,null,null,null,null,null,null,null,null,null,null,null,null,null,null,null,null,null,null,"Jun/2026",136]
[null,null,null,null,null,null,null,null,null,null,null,null,null,null,null,null,null,null,null,null,null,null,null,null,null,null,null,null,null,null,null,null,null,null,null,null,null,null,null,null,null,"Jul/2026",137]
[null,null,null,null,null,null,null,null,null,null,null,null,null,null,null,null,null,null,null,null,null,null,null,null,null,null,null,null,null,null,null,null,null,null,null,null,null,null,null,null,null,"Ago/2026",138]
[null,null,null,null,null,null,null,null,null,null,null,null,null,null,null,null,null,null,null,null,null,null,null,null,null,null,null,null,null,null,null,null,null,null,null,null,null,null,null,null,null,"Set/2026",139]
[null,null,null,null,null,null,null,null,null,null,null,null,null,null,null,null,null,null,null,null,null,null,null,null,null,null,null,null,null,null,null,null,null,null,null,null,null,null,null,null,null,"Out/2026",140]
[null,null,null,null,null,null,null,null,null,null,null,null,null,null,null,null,null,null,null,null,null,null,null,null,null,null,null,null,null,null,null,null,null,null,null,null,null,null,null,null,null,"Nov/2026",141]
[null,null,null,null,null,null,null,null,null,null,null,null,null,null,null,null,null,null,null,null,null,null,null,null,null,null,null,null,null,null,null,null,null,null,null,null,null,null,null,null,null,"Dez/2026",142]
[]
[null,null,null,null,null,null,null,null,null,null,null,null,null,null,null,null,null,null,null,null,null,null,null,null,null,null,null,null,null,null,null,null,null,null,null,null,null,null,null,null,null,"TOTAL2026",143]
[]
[null,null,null,null,null,null,null,null,null,null,null,null,null,null,null,null,null,null,null,null,null,null,null,null,null,null,null,null,null,null,null,null,null,null,null,null,null,null,null,null,null,"Jan/2027",145]
[null,null,null,null,null,null,null,null,null,null,null,null,null,null,null,null,null,null,null,null,null,null,null,null,null,null,null,null,null,null,null,null,null,null,null,null,null,null,null,null,null,"Fev/2027",146]
[null,null,null,null,null,null,null,null,null,null,null,null,null,null,null,null,null,null,null,null,null,null,null,null,null,null,null,null,null,null,null,null,null,null,null,null,null,null,null,null,null,"Mar/2027",147]
[null,null,null,null,null,null,null,null,null,null,null,null,null,null,null,null,null,null,null,null,null,null,null,null,null,null,null,null,null,null,null,null,null,null,null,null,null,null,null,null,null,"Abr/2027",148]
[null,null,null,null,null,null,null,null,null,null,null,null,null,null,null,null,null,null,null,null,null,null,null,null,null,null,null,null,null,null,null,null,null,null,null,null,null,null,null,null,null,"Mai/2027",149]
[null,null,null,null,null,null,null,null,null,null,null,null,null,null,null,null,null,null,null,null,null,null,null,null,null,null,null,null,null,null,null,null,null,null,null,null,null,null,null,null,null,"Jun/2027",150]
[null,null,null,null,null,null,null,null,null,null,null,null,null,null,null,null,null,null,null,null,null,null,null,null,null,null,null,null,null,null,null,null,null,null,null,null,null,null,null,null,null,"Jul/2027",151]
[null,null,null,null,null,null,null,null,null,null,null,null,null,null,null,null,null,null,null,null,null,null,null,null,null,null,null,null,null,null,null,null,null,null,null,null,null,null,null,null,null,"Ago/2027",152]
[null,null,null,null,null,null,null,null,null,null,null,null,null,null,null,null,null,null,null,null,null,null,null,null,null,null,null,null,null,null,null,null,null,null,null,null,null,null,null,null,null,"Set/2027",153]
[null,null,null,null,null,null,null,null,null,null,null,null,null,null,null,null,null,null,null,null,null,null,null,null,null,null,null,null,null,null,null,null,null,null,null,null,null,null,null,null,null,"Out/2027",154]
[null,null,null,null,null,null,null,null,null,null,null,null,null,null,null,null,null,null,null,null,null,null,null,null,null,null,null,null,null,null,null,null,null,null,null,null,null,null,null,null,null,"Nov/2027",155]
[null,null,null,null,null,null,null,null,null,null,null,null,null,null,null,null,null,null,null,null,null,null,null,null,null,null,null,null,null,null,null,null,null,null,null,null,null,null,null,null,null,"Dez/2027",156]
[]
[null,null,null,null,null,null,null,null,null,null,null,null,null,null,null,null,null,null,null,null,null,null,null,null,null,null,null,null,null,null,null,null,null,null,null,null,null,null,null,null,null,"TOTAL2027",157]
[]
[null,null,null,null,null,null,null,null,null,null,null,null,null,null,null,null,null,null,null,null,null,null,null,null,null,null,null,null,null,null,null,null,null,null,null,null,null,null,null,null,null,"Jan/2028",159]
[null,null,null,null,null,null,null,null,null,null,null,null,null,null,null,null,null,null,null,null,null,null,null,null,null,null,null,null,null,null,null,null,null,null,null,null,null,null,null,null,null,"Fev/2028",160]
[null,null,null,null,null,null,null,null,null,null,null,null,null,null,null,null,null,null,null,null,null,null,null,null,null,null,null,null,null,null,null,null,null,null,null,null,null,null,null,null,null,"Mar/2028",161]
[null,null,null,null,null,null,null,null,null,null,null,null,null,null,null,null,null,null,null,null,null,null,null,null,null,null,null,null,null,null,null,null,null,null,null,null,null,null,null,null,null,"Abr/2028",162]
[null,null,null,null,null,null,null,null,null,null,null,null,null,null,null,null,null,null,null,null,null,null,null,null,null,null,null,null,null,null,null,null,null,null,null,null,null,null,null,null,null,"Mai/2028",163]
[null,null,null,null,null,null,null,null,null,null,null,null,null,null,null,null,null,null,null,null,null,null,null,null,null,null,null,null,null,null,null,null,null,null,null,null,null,null,null,null,null,"Jun/2028",164]
[null,null,null,null,null,null,null,null,null,null,null,null,null,null,null,null,null,null,null,null,null,null,null,null,null,null,null,null,null,null,null,null,null,null,null,null,null,null,null,null,null,"Jul/2028",165]
[null,null,null,null,null,null,null,null,null,null,null,null,null,null,null,null,null,null,null,null,null,null,null,null,null,null,null,null,null,null,null,null,null,null,null,null,null,null,null,null,null,"Ago/2028",166]
[null,null,null,null,null,null,null,null,null,null,null,null,null,null,null,null,null,null,null,null,null,null,null,null,null,null,null,null,null,null,null,null,null,null,null,null,null,null,null,null,null,"Set/2028",167]
[null,null,null,null,null,null,null,null,null,null,null,null,null,null,null,null,null,null,null,null,null,null,null,null,null,null,null,null,null,null,null,null,null,null,null,null,null,null,null,null,null,"Out/2028",168]
[null,null,null,null,null,null,null,null,null,null,null,null,null,null,null,null,null,null,null,null,null,null,null,null,null,null,null,null,null,null,null,null,null,null,null,null,null,null,null,null,null,"Nov/2028",169]
[null,null,null,null,null,null,null,null,null,null,null,null,null,null,null,null,null,null,null,null,null,null,null,null,null,null,null,null,null,null,null,null,null,null,null,null,null,null,null,null,null,"Dez/2028",170]
[]
[null,null,null,null,null,null,null,null,null,null,null,null,null,null,null,null,null,null,null,null,null,null,null,null,null,null,null,null,null,null,null,null,null,null,null,null,null,null,null,null,null,"TOTAL2028",171]
[null,null,null,null,null,null,null,null,null,null,null,null,null,null,null,null,null,null,null,null,null,null,null,null,null,null,null,null,null,null,null,null,null,null,null,null,null,null,null,"Janeiro",2017]
[null,null,null,null,null,null,null,null,null,null,null,null,null,null,null,null,null,null,null,null,null,null,null,null,null,null,null,null,null,null,null,null,null,null,null,null,null,null,null,"Fevereiro",{"$f":"AO366","v":2017},{"$f":"AN366&AO366","v":"Janeiro2017"},5]
[null,null,null,null,null,null,null,null,null,null,null,null,null,null,null,null,null,null,null,null,null,null,null,null,null,null,null,null,null,null,null,null,null,null,null,null,null,null,null,"Março",{"$f":"AO367","v":2017},"Fevereiro2017",6]
[null,null,null,null,null,null,null,null,null,null,null,null,null,null,null,null,null,null,null,null,null,null,null,null,null,null,null,null,null,null,null,null,null,null,null,null,null,null,null,"Abril",2017,"Março2017",7]
[null,null,null,null,null,null,null,null,null,null,null,null,null,null,null,null,null,null,null,null,null,null,null,null,null,null,null,null,null,null,null,null,null,null,null,null,null,null,null,"Maio",2017,"Abril2017",8]
[null,null,null,null,null,null,null,null,null,null,null,null,null,null,null,null,null,null,null,null,null,null,null,null,null,null,null,null,null,null,null,null,null,null,null,null,null,null,null,"Junho",2017,"Maio2017",9]
[null,null,null,null,null,null,null,null,null,null,null,null,null,null,null,null,null,null,null,null,null,null,null,null,null,null,null,null,null,null,null,null,null,null,null,null,null,null,null,"Julho",2017,"Junho2017",10]
[null,null,null,null,null,null,null,null,null,null,null,null,null,null,null,null,null,null,null,null,null,null,null,null,null,null,null,null,null,null,null,null,null,null,null,null,null,null,null,"Agosto",2017,"Julho2017",11]
[null,null,null,null,null,null,null,null,null,null,null,null,null,null,null,null,null,null,null,null,null,null,null,null,null,null,null,null,null,null,null,null,null,null,null,null,null,null,null,"Setembro",2017,"Agosto2017",12]
[null,null,null,null,null,null,null,null,null,null,null,null,null,null,null,null,null,null,null,null,null,null,null,null,null,null,null,null,null,null,null,null,null,null,null,null,null,null,null,"Outubro",2017,"Setembro2017",13]
[null,null,null,null,null,null,null,null,null,null,null,null,null,null,null,null,null,null,null,null,null,null,null,null,null,null,null,null,null,null,null,null,null,null,null,null,null,null,null,"Novembro",2017,"Outubro2017",14]
[null,null,null,null,null,null,null,null,null,null,null,null,null,null,null,null,null,null,null,null,null,null,null,null,null,null,null,null,null,null,null,null,null,null,null,null,null,null,null,"Dezembro",2017,"Novembro2017",15]
[null,null,null,null,null,null,null,null,null,null,null,null,null,null,null,null,null,null,null,null,null,null,null,null,null,null,null,null,null,null,null,null,null,null,null,null,null,null,null,null,null,"Dezembro2017",16]
[]
[null,null,null,null,null,null,null,null,null,null,null,null,null,null,null,null,null,null,null,null,null,null,null,null,null,null,null,null,null,null,null,null,null,null,null,null,null,null,null,null,null,"TOTAL2017",17]
[null,null,null,null,null,null,null,null,null,null,null,null,null,null,null,null,null,null,null,null,null,null,null,null,null,null,null,null,null,null,null,null,null,null,null,null,null,null,null,"Janeiro",2018]
[null,null,null,null,null,null,null,null,null,null,null,null,null,null,null,null,null,null,null,null,null,null,null,null,null,null,null,null,null,null,null,null,null,null,null,null,null,null,null,"Fevereiro",{"$f":"AO381","v":2018},{"$f":"AN381&AO381","v":"Janeiro2018"},19]
[null,null,null,null,null,null,null,null,null,null,null,null,null,null,null,null,null,null,null,null,null,null,null,null,null,null,null,null,null,null,null,null,null,null,null,null,null,null,null,"Março",{"$f":"AO382","v":2018},"Fevereiro2018",20]
[null,null,null,null,null,null,null,null,null,null,null,null,null,null,null,null,null,null,null,null,null,null,null,null,null,null,null,null,null,null,null,null,null,null,null,null,null,null,null,"Abril",2018,"Março2018",21]
[null,null,null,null,null,null,null,null,null,null,null,null,null,null,null,null,null,null,null,null,null,null,null,null,null,null,null,null,null,null,null,null,null,null,null,null,null,null,null,"Maio",2018,"Abril2018",22]
[null,null,null,null,null,null,null,null,null,null,null,null,null,null,null,null,null,null,null,null,null,null,null,null,null,null,null,null,null,null,null,null,null,null,null,null,null,null,null,"Junho",2018,"Maio2018",23]
[null,null,null,null,null,null,null,null,null,null,null,null,null,null,null,null,null,null,null,null,null,null,null,null,null,null,null,null,null,null,null,null,null,null,null,null,null,null,null,"Julho",2018,"Junho2018",24]
[null,null,null,null,null,null,null,null,null,null,null,null,null,null,null,null,null,null,null,null,null,null,null,null,null,null,null,null,null,null,null,null,null,null,null,null,null,null,null,"Agosto",2018,"Julho2018",25]
[null,null,null,null,null,null,null,null,null,null,null,null,null,null,null,null,null,null,null,null,null,null,null,null,null,null,null,null,null,null,null,null,null,null,null,null,null,null,null,"Setembro",2018,"Agosto2018",26]
[null,null,null,null,null,null,null,null,null,null,null,null,null,null,null,null,null,null,null,null,null,null,null,null,null,null,null,null,null,null,null,null,null,null,null,null,null,null,null,"Outubro",2018,"Setembro2018",27]
[null,null,null,null,null,null,null,null,null,null,null,null,null,null,null,null,null,null,null,null,null,null,null,null,null,null,null,null,null,null,null,null,null,null,null,null,null,null,null,"Novembro",2018,"Outubro2018",28]
[null,null,null,null,null,null,null,null,null,null,null,null,null,null,null,null,null,null,null,null,null,null,null,null,null,null,null,null,null,null,null,null,null,null,null,null,null,null,null,"Dezembro",2018,"Novembro2018",29]
[null,null,null,null,null,null,null,null,null,null,null,null,null,null,null,null,null,null,null,null,null,null,null,null,null,null,null,null,null,null,null,null,null,null,null,null,null,null,null,null,null,"Dezembro2018",30]
[]
[null,null,null,null,null,null,null,null,null,null,null,null,null,null,null,null,null,null,null,null,null,null,null,null,null,null,null,null,null,null,null,null,null,null,null,null,null,null,null,null,null,"TOTAL2018",31]
[null,null,null,null,null,null,null,null,null,null,null,null,null,null,null,null,null,null,null,null,null,null,null,null,null,null,null,null,null,null,null,null,null,null,null,null,null,null,null,"Janeiro",2019]
[null,null,null,null,null,null,null,null,null,null,null,null,null,null,null,null,null,null,null,null,null,null,null,null,null,null,null,null,null,null,null,null,null,null,null,null,null,null,null,"Fevereiro",{"$f":"AO396","v":2019},{"$f":"AN396&AO396","v":"Janeiro2019"},33]
[null,null,null,null,null,null,null,null,null,null,null,null,null,null,null,null,null,null,null,null,null,null,null,null,null,null,null,null,null,null,null,null,null,null,null,null,null,null,null,"Março",{"$f":"AO397","v":2019},"Fevereiro2019",34]
[null,null,null,null,null,null,null,null,null,null,null,null,null,null,null,null,null,null,null,null,null,null,null,null,null,null,null,null,null,null,null,null,null,null,null,null,null,null,null,"Abril",2019,"Março2019",35]
[null,null,null,null,null,null,null,null,null,null,null,null,null,null,null,null,null,null,null,null,null,null,null,null,null,null,null,null,null,null,null,null,null,null,null,null,null,null,null,"Maio",2019,"Abril2019",36]
[null,null,null,null,null,null,null,null,null,null,null,null,null,null,null,null,null,null,null,null,null,null,null,null,null,null,null,null,null,null,null,null,null,null,null,null,null,null,null,"Junho",2019,"Maio2019",37]
[null,null,null,null,null,null,null,null,null,null,null,null,null,null,null,null,null,null,null,null,null,null,null,null,null,null,null,null,null,null,null,null,null,null,null,null,null,null,null,"Julho",2019,"Junho2019",38]
[null,null,null,null,null,null,null,null,null,null,null,null,null,null,null,null,null,null,null,null,null,null,null,null,null,null,null,null,null,null,null,null,null,null,null,null,null,null,null,"Agosto",2019,"Julho2019",39]
[null,null,null,null,null,null,null,null,null,null,null,null,null,null,null,null,null,null,null,null,null,null,null,null,null,null,null,null,null,null,null,null,null,null,null,null,null,null,null,"Setembro",2019,"Agosto2019",40]
[null,null,null,null,null,null,null,null,null,null,null,null,null,null,null,null,null,null,null,null,null,null,null,null,null,null,null,null,null,null,null,null,null,null,null,null,null,null,null,"Outubro",2019,"Setembro2019",41]
[null,null,null,null,null,null,null,null,null,null,null,null,null,null,null,null,null,null,null,null,null,null,null,null,null,null,null,null,null,null,null,null,null,null,null,null,null,null,null,"Novembro",2019,"Outubro2019",42]
[null,null,null,null,null,null,null,null,null,null,null,null,null,null,null,null,null,null,null,null,null,null,null,null,null,null,null,null,null,null,null,null,null,null,null,null,null,null,null,"Dezembro",2019,"Novembro2019",43]
[null,null,null,null,null,null,null,null,null,null,null,null,null,null,null,null,null,null,null,null,null,null,null,null,null,null,null,null,null,null,null,null,null,null,null,null,null,null,null,null,null,"Dezembro2019",44]
[]
[null,null,null,null,null,null,null,null,null,null,null,null,null,null,null,null,null,null,null,null,null,null,null,null,null,null,null,null,null,null,null,null,null,null,null,null,null,null,null,null,null,"TOTAL2019",45]
[null,null,null,null,null,null,null,null,null,null,null,null,null,null,null,null,null,null,null,null,null,null,null,null,null,null,null,null,null,null,null,null,null,null,null,null,null,null,null,"Janeiro",2020]
[null,null,null,null,null,null,null,null,null,null,null,null,null,null,null,null,null,null,null,null,null,null,null,null,null,null,null,null,null,null,null,null,null,null,null,null,null,null,null,"Fevereiro",{"$f":"AO411","v":2020},{"$f":"AN411&AO411","v":"Janeiro2020"},47]
[null,null,null,null,null,null,null,null,null,null,null,null,null,null,null,null,null,null,null,null,null,null,null,null,null,null,null,null,null,null,null,null,null,null,null,null,null,null,null,"Março",{"$f":"AO412","v":2020},"Fevereiro2020",48]
[null,null,null,null,null,null,null,null,null,null,null,null,null,null,null,null,null,null,null,null,null,null,null,null,null,null,null,null,null,null,null,null,null,null,null,null,null,null,null,"Abril",2020,"Março2020",49]
[null,null,null,null,null,null,null,null,null,null,null,null,null,null,null,null,null,null,null,null,null,null,null,null,null,null,null,null,null,null,null,null,null,null,null,null,null,null,null,"Maio",2020,"Abril2020",50]
[null,null,null,null,null,null,null,null,null,null,null,null,null,null,null,null,null,null,null,null,null,null,null,null,null,null,null,null,null,null,null,null,null,null,null,null,null,null,null,"Junho",2020,"Maio2020",51]
[null,null,null,null,null,null,null,null,null,null,null,null,null,null,null,null,null,null,null,null,null,null,null,null,null,null,null,null,null,null,null,null,null,null,null,null,null,null,null,"Julho",2020,"Junho2020",52]
[null,null,null,null,null,null,null,null,null,null,null,null,null,null,null,null,null,null,null,null,null,null,null,null,null,null,null,null,null,null,null,null,null,null,null,null,null,null,null,"Agosto",2020,"Julho2020",53]
[null,null,null,null,null,null,null,null,null,null,null,null,null,null,null,null,null,null,null,null,null,null,null,null,null,null,null,null,null,null,null,null,null,null,null,null,null,null,null,"Setembro",2020,"Agosto2020",54]
[null,null,null,null,null,null,null,null,null,null,null,null,null,null,null,null,null,null,null,null,null,null,null,null,null,null,null,null,null,null,null,null,null,null,null,null,null,null,null,"Outubro",2020,"Setembro2020",55]
[null,null,null,null,null,null,null,null,null,null,null,null,null,null,null,null,null,null,null,null,null,null,null,null,null,null,null,null,null,null,null,null,null,null,null,null,null,null,null,"Novembro",2020,"Outubro2020",56]
[null,null,null,null,null,null,null,null,null,null,null,null,null,null,null,null,null,null,null,null,null,null,null,null,null,null,null,null,null,null,null,null,null,null,null,null,null,null,null,"Dezembro",2020,"Novembro2020",57]
[null,null,null,null,null,null,null,null,null,null,null,null,null,null,null,null,null,null,null,null,null,null,null,null,null,null,null,null,null,null,null,null,null,null,null,null,null,null,null,null,null,"Dezembro2020",58]
[]
[null,null,null,null,null,null,null,null,null,null,null,null,null,null,null,null,null,null,null,null,null,null,null,null,null,null,null,null,null,null,null,null,null,null,null,null,null,null,null,null,null,"TOTAL2020",59]
[null,null,null,null,null,null,null,null,null,null,null,null,null,null,null,null,null,null,null,null,null,null,null,null,null,null,null,null,null,null,null,null,null,null,null,null,null,null,null,"Janeiro",2021]
[null,null,null,null,null,null,null,null,null,null,null,null,null,null,null,null,null,null,null,null,null,null,null,null,null,null,null,null,null,null,null,null,null,null,null,null,null,null,null,"Fevereiro",{"$f":"AO426","v":2021},{"$f":"AN426&AO426","v":"Janeiro2021"},61]
[null,null,null,null,null,null,null,null,null,null,null,null,null,null,null,null,null,null,null,null,null,null,null,null,null,null,null,null,null,null,null,null,null,null,null,null,null,null,null,"Março",{"$f":"AO427","v":2021},"Fevereiro2021",62]
[null,null,null,null,null,null,null,null,null,null,null,null,null,null,null,null,null,null,null,null,null,null,null,null,null,null,null,null,null,null,null,null,null,null,null,null,null,null,null,"Abril",2021,"Março2021",63]
[null,null,null,null,null,null,null,null,null,null,null,null,null,null,null,null,null,null,null,null,null,null,null,null,null,null,null,null,null,null,null,null,null,null,null,null,null,null,null,"Maio",2021,"Abril2021",64]
[null,null,null,null,null,null,null,null,null,null,null,null,null,null,null,null,null,null,null,null,null,null,null,null,null,null,null,null,null,null,null,null,null,null,null,null,null,null,null,"Junho",2021,"Maio2021",65]
[null,null,null,null,null,null,null,null,null,null,null,null,null,null,null,null,null,null,null,null,null,null,null,null,null,null,null,null,null,null,null,null,null,null,null,null,null,null,null,"Julho",2021,"Junho2021",66]
[null,null,null,null,null,null,null,null,null,null,null,null,null,null,null,null,null,null,null,null,null,null,null,null,null,null,null,null,null,null,null,null,null,null,null,null,null,null,null,"Agosto",2021,"Julho2021",67]
[null,null,null,null,null,null,null,null,null,null,null,null,null,null,null,null,null,null,null,null,null,null,null,null,null,null,null,null,null,null,null,null,null,null,null,null,null,null,null,"Setembro",2021,"Agosto2021",68]
[null,null,null,null,null,null,null,null,null,null,null,null,null,null,null,null,null,null,null,null,null,null,null,null,null,null,null,null,null,null,null,null,null,null,null,null,null,null,null,"Outubro",2021,"Setembro2021",69]
[null,null,null,null,null,null,null,null,null,null,null,null,null,null,null,null,null,null,null,null,null,null,null,null,null,null,null,null,null,null,null,null,null,null,null,null,null,null,null,"Novembro",2021,"Outubro2021",70]
[null,null,null,null,null,null,null,null,null,null,null,null,null,null,null,null,null,null,null,null,null,null,null,null,null,null,null,null,null,null,null,null,null,null,null,null,null,null,null,"Dezembro",2021,"Novembro2021",71]
[null,null,null,null,null,null,null,null,null,null,null,null,null,null,null,null,null,null,null,null,null,null,null,null,null,null,null,null,null,null,null,null,null,null,null,null,null,null,null,null,null,"Dezembro2021",72]
[]
[null,null,null,null,null,null,null,null,null,null,null,null,null,null,null,null,null,null,null,null,null,null,null,null,null,null,null,null,null,null,null,null,null,null,null,null,null,null,null,null,null,"TOTAL2021",73]
[null,null,null,null,null,null,null,null,null,null,null,null,null,null,null,null,null,null,null,null,null,null,null,null,null,null,null,null,null,null,null,null,null,null,null,null,null,null,null,"Janeiro",2022]
[null,null,null,null,null,null,null,null,null,null,null,null,null,null,null,null,null,null,null,null,null,null,null,null,null,null,null,null,null,null,null,null,null,null,null,null,null,null,null,"Fevereiro",{"$f":"AO441","v":2022},{"$f":"AN441&AO441","v":"Janeiro2022"},75]
[null,null,null,null,null,null,null,null,null,null,null,null,null,null,null,null,null,null,null,null,null,null,null,null,null,null,null,null,null,null,null,null,null,null,null,null,null,null,null,"Março",{"$f":"AO442","v":2022},"Fevereiro2022",76]
[null,null,null,null,null,null,null,null,null,null,null,null,null,null,null,null,null,null,null,null,null,null,null,null,null,null,null,null,null,null,null,null,null,null,null,null,null,null,null,"Abril",2022,"Março2022",77]
[null,null,null,null,null,null,null,null,null,null,null,null,null,null,null,null,null,null,null,null,null,null,null,null,null,null,null,null,null,null,null,null,null,null,null,null,null,null,null,"Maio",2022,"Abril2022",78]
[null,null,null,null,null,null,null,null,null,null,null,null,null,null,null,null,null,null,null,null,null,null,null,null,null,null,null,null,null,null,null,null,null,null,null,null,null,null,null,"Junho",2022,"Maio2022",79]
[null,null,null,null,null,null,null,null,null,null,null,null,null,null,null,null,null,null,null,null,null,null,null,null,null,null,null,null,null,null,null,null,null,null,null,null,null,null,null,"Julho",2022,"Junho2022",80]
[null,null,null,null,null,null,null,null,null,null,null,null,null,null,null,null,null,null,null,null,null,null,null,null,null,null,null,null,null,null,null,null,null,null,null,null,null,null,null,"Agosto",2022,"Julho2022",81]
[null,null,null,null,null,null,null,null,null,null,null,null,null,null,null,null,null,null,null,null,null,null,null,null,null,null,null,null,null,null,null,null,null,null,null,null,null,null,null,"Setembro",2022,"Agosto2022",82]
[null,null,null,null,null,null,null,null,null,null,null,null,null,null,null,null,null,null,null,null,null,null,null,null,null,null,null,null,null,null,null,null,null,null,null,null,null,null,null,"Outubro",2022,"Setembro2022",83]
[null,null,null,null,null,null,null,null,null,null,null,null,null,null,null,null,null,null,null,null,null,null,null,null,null,null,null,null,null,null,null,null,null,null,null,null,null,null,null,"Novembro",2022,"Outubro2022",84]
[null,null,null,null,null,null,null,null,null,null,null,null,null,null,null,null,null,null,null,null,null,null,null,null,null,null,null,null,null,null,null,null,null,null,null,null,null,null,null,"Dezembro",2022,"Novembro2022",85]
[null,null,null,null,null,null,null,null,null,null,null,null,null,null,null,null,null,null,null,null,null,null,null,null,null,null,null,null,null,null,null,null,null,null,null,null,null,null,null,null,null,"Dezembro2022",86]
[]
[null,null,null,null,null,null,null,null,null,null,null,null,null,null,null,null,null,null,null,null,null,null,null,null,null,null,null,null,null,null,null,null,null,null,null,null,null,null,null,null,null,"TOTAL2022",87]
[null,null,null,null,null,null,null,null,null,null,null,null,null,null,null,null,null,null,null,null,null,null,null,null,null,null,null,null,null,null,null,null,null,null,null,null,null,null,null,"Janeiro",2023]
[null,null,null,null,null,null,null,null,null,null,null,null,null,null,null,null,null,null,null,null,null,null,null,null,null,null,null,null,null,null,null,null,null,null,null,null,null,null,null,"Fevereiro",{"$f":"AO456","v":2023},{"$f":"AN456&AO456","v":"Janeiro2023"},89]
[null,null,null,null,null,null,null,null,null,null,null,null,null,null,null,null,null,null,null,null,null,null,null,null,null,null,null,null,null,null,null,null,null,null,null,null,null,null,null,"Março",{"$f":"AO457","v":2023},"Fevereiro2023",90]
[null,null,null,null,null,null,null,null,null,null,null,null,null,null,null,null,null,null,null,null,null,null,null,null,null,null,null,null,null,null,null,null,null,null,null,null,null,null,null,"Abril",2023,"Março2023",91]
[null,null,null,null,null,null,null,null,null,null,null,null,null,null,null,null,null,null,null,null,null,null,null,null,null,null,null,null,null,null,null,null,null,null,null,null,null,null,null,"Maio",2023,"Abril2023",92]
[null,null,null,null,null,null,null,null,null,null,null,null,null,null,null,null,null,null,null,null,null,null,null,null,null,null,null,null,null,null,null,null,null,null,null,null,null,null,null,"Junho",2023,"Maio2023",93]
[null,null,null,null,null,null,null,null,null,null,null,null,null,null,null,null,null,null,null,null,null,null,null,null,null,null,null,null,null,null,null,null,null,null,null,null,null,null,null,"Julho",2023,"Junho2023",94]
[null,null,null,null,null,null,null,null,null,null,null,null,null,null,null,null,null,null,null,null,null,null,null,null,null,null,null,null,null,null,null,null,null,null,null,null,null,null,null,"Agosto",2023,"Julho2023",95]
[null,null,null,null,null,null,null,null,null,null,null,null,null,null,null,null,null,null,null,null,null,null,null,null,null,null,null,null,null,null,null,null,null,null,null,null,null,null,null,"Setembro",2023,"Agosto2023",96]
[null,null,null,null,null,null,null,null,null,null,null,null,null,null,null,null,null,null,null,null,null,null,null,null,null,null,null,null,null,null,null,null,null,null,null,null,null,null,null,"Outubro",2023,"Setembro2023",97]
[null,null,null,null,null,null,null,null,null,null,null,null,null,null,null,null,null,null,null,null,null,null,null,null,null,null,null,null,null,null,null,null,null,null,null,null,null,null,null,"Novembro",2023,"Outubro2023",98]
[null,null,null,null,null,null,null,null,null,null,null,null,null,null,null,null,null,null,null,null,null,null,null,null,null,null,null,null,null,null,null,null,null,null,null,null,null,null,null,"Dezembro",2023,"Novembro2023",99]
[null,null,null,null,null,null,null,null,null,null,null,null,null,null,null,null,null,null,null,null,null,null,null,null,null,null,null,null,null,null,null,null,null,null,null,null,null,null,null,null,null,"Dezembro2023",100]
[]
[null,null,null,null,null,null,null,null,null,null,null,null,null,null,null,null,null,null,null,null,null,null,null,null,null,null,null,null,null,null,null,null,null,null,null,null,null,null,null,null,null,"TOTAL2023",101]
[null,null,null,null,null,null,null,null,null,null,null,null,null,null,null,null,null,null,null,null,null,null,null,null,null,null,null,null,null,null,null,null,null,null,null,null,null,null,null,"Janeiro",2024]
[null,null,null,null,null,null,null,null,null,null,null,null,null,null,null,null,null,null,null,null,null,null,null,null,null,null,null,null,null,null,null,null,null,null,null,null,null,null,null,"Fevereiro",{"$f":"AO471","v":2024},{"$f":"AN471&AO471","v":"Janeiro2024"},103]
[null,null,null,null,null,null,null,null,null,null,null,null,null,null,null,null,null,null,null,null,null,null,null,null,null,null,null,null,null,null,null,null,null,null,null,null,null,null,null,"Março",{"$f":"AO472","v":2024},"Fevereiro2024",104]
[null,null,null,null,null,null,null,null,null,null,null,null,null,null,null,null,null,null,null,null,null,null,null,null,null,null,null,null,null,null,null,null,null,null,null,null,null,null,null,"Abril",2024,"Março2024",105]
[null,null,null,null,null,null,null,null,null,null,null,null,null,null,null,null,null,null,null,null,null,null,null,null,null,null,null,null,null,null,null,null,null,null,null,null,null,null,null,"Maio",2024,"Abril2024",106]
[null,null,null,null,null,null,null,null,null,null,null,null,null,null,null,null,null,null,null,null,null,null,null,null,null,null,null,null,null,null,null,null,null,null,null,null,null,null,null,"Junho",2024,"Maio2024",107]
[null,null,null,null,null,null,null,null,null,null,null,null,null,null,null,null,null,null,null,null,null,null,null,null,null,null,null,null,null,null,null,null,null,null,null,null,null,null,null,"Julho",2024,"Junho2024",108]
[null,null,null,null,null,null,null,null,null,null,null,null,null,null,null,null,null,null,null,null,null,null,null,null,null,null,null,null,null,null,null,null,null,null,null,null,null,null,null,"Agosto",2024,"Julho2024",109]
[null,null,null,null,null,null,null,null,null,null,null,null,null,null,null,null,null,null,null,null,null,null,null,null,null,null,null,null,null,null,null,null,null,null,null,null,null,null,null,"Setembro",2024,"Agosto2024",110]
[null,null,null,null,null,null,null,null,null,null,null,null,null,null,null,null,null,null,null,null,null,null,null,null,null,null,null,null,null,null,null,null,null,null,null,null,null,null,null,"Outubro",2024,"Setembro2024",111]
[null,null,null,null,null,null,null,null,null,null,null,null,null,null,null,null,null,null,null,null,null,null,null,null,null,null,null,null,null,null,null,null,null,null,null,null,null,null,null,"Novembro",2024,"Outubro2024",112]
[null,null,null,null,null,null,null,null,null,null,null,null,null,null,null,null,null,null,null,null,null,null,null,null,null,null,null,null,null,null,null,null,null,null,null,null,null,null,null,"Dezembro",2024,"Novembro2024",113]
[null,null,null,null,null,null,null,null,null,null,null,null,null,null,null,null,null,null,null,null,null,null,null,null,null,null,null,null,null,null,null,null,null,null,null,null,null,null,null,null,null,"Dezembro2024",114]
[]
[null,null,null,null,null,null,null,null,null,null,null,null,null,null,null,null,null,null,null,null,null,null,null,null,null,null,null,null,null,null,null,null,null,null,null,null,null,null,null,null,null,"TOTAL2024",115]
[null,null,null,null,null,null,null,null,null,null,null,null,null,null,null,null,null,null,null,null,null,null,null,null,null,null,null,null,null,null,null,null,null,null,null,null,null,null,null,"Janeiro",2025]
[null,null,null,null,null,null,null,null,null,null,null,null,null,null,null,null,null,null,null,null,null,null,null,null,null,null,null,null,null,null,null,null,null,null,null,null,null,null,null,"Fevereiro",{"$f":"AO486","v":2025},{"$f":"AN486&AO486","v":"Janeiro2025"},117]
[null,null,null,null,null,null,null,null,null,null,null,null,null,null,null,null,null,null,null,null,null,null,null,null,null,null,null,null,null,null,null,null,null,null,null,null,null,null,null,"Março",{"$f":"AO487","v":2025},"Fevereiro2025",118]
[null,null,null,null,null,null,null,null,null,null,null,null,null,null,null,null,null,null,null,null,null,null,null,null,null,null,null,null,null,null,null,null,null,null,null,null,null,null,null,"Abril",2025,"Março2025",119]
[null,null,null,null,null,null,null,null,null,null,null,null,null,null,null,null,null,null,null,null,null,null,null,null,null,null,null,null,null,null,null,null,null,null,null,null,null,null,null,"Maio",2025,"Abril2025",120]
[null,null,null,null,null,null,null,null,null,null,null,null,null,null,null,null,null,null,null,null,null,null,null,null,null,null,null,null,null,null,null,null,null,null,null,null,null,null,null,"Junho",2025,"Maio2025",121]
[null,null,null,null,null,null,null,null,null,null,null,null,null,null,null,null,null,null,null,null,null,null,null,null,null,null,null,null,null,null,null,null,null,null,null,null,null,null,null,"Julho",2025,"Junho2025",122]
[null,null,null,null,null,null,null,null,null,null,null,null,null,null,null,null,null,null,null,null,null,null,null,null,null,null,null,null,null,null,null,null,null,null,null,null,null,null,null,"Agosto",2025,"Julho2025",123]
[null,null,null,null,null,null,null,null,null,null,null,null,null,null,null,null,null,null,null,null,null,null,null,null,null,null,null,null,null,null,null,null,null,null,null,null,null,null,null,"Setembro",2025,"Agosto2025",124]
[null,null,null,null,null,null,null,null,null,null,null,null,null,null,null,null,null,null,null,null,null,null,null,null,null,null,null,null,null,null,null,null,null,null,null,null,null,null,null,"Outubro",2025,"Setembro2025",125]
[null,null,null,null,null,null,null,null,null,null,null,null,null,null,null,null,null,null,null,null,null,null,null,null,null,null,null,null,null,null,null,null,null,null,null,null,null,null,null,"Novembro",2025,"Outubro2025",126]
[null,null,null,null,null,null,null,null,null,null,null,null,null,null,null,null,null,null,null,null,null,null,null,null,null,null,null,null,null,null,null,null,null,null,null,null,null,null,null,"Dezembro",2025,"Novembro2025",127]
[null,null,null,null,null,null,null,null,null,null,null,null,null,null,null,null,null,null,null,null,null,null,null,null,null,null,null,null,null,null,null,null,null,null,null,null,null,null,null,null,null,"Dezembro2025",128]
[]
[null,null,null,null,null,null,null,null,null,null,null,null,null,null,null,null,null,null,null,null,null,null,null,null,null,null,null,null,null,null,null,null,null,null,null,null,null,null,null,null,null,"TOTAL2025",129]
[null,null,null,null,null,null,null,null,null,null,null,null,null,null,null,null,null,null,null,null,null,null,null,null,null,null,null,null,null,null,null,null,null,null,null,null,null,null,null,"Janeiro",2026]
[null,null,null,null,null,null,null,null,null,null,null,null,null,null,null,null,null,null,null,null,null,null,null,null,null,null,null,null,null,null,null,null,null,null,null,null,null,null,null,"Fevereiro",{"$f":"AO501","v":2026},{"$f":"AN501&AO501","v":"Janeiro2026"},131]
[null,null,null,null,null,null,null,null,null,null,null,null,null,null,null,null,null,null,null,null,null,null,null,null,null,null,null,null,null,null,null,null,null,null,null,null,null,null,null,"Março",{"$f":"AO502","v":2026},"Fevereiro2026",132]
[null,null,null,null,null,null,null,null,null,null,null,null,null,null,null,null,null,null,null,null,null,null,null,null,null,null,null,null,null,null,null,null,null,null,null,null,null,null,null,"Abril",2026,"Março2026",133]
[null,null,null,null,null,null,null,null,null,null,null,null,null,null,null,null,null,null,null,null,null,null,null,null,null,null,null,null,null,null,null,null,null,null,null,null,null,null,null,"Maio",2026,"Abril2026",134]
[null,null,null,null,null,null,null,null,null,null,null,null,null,null,null,null,null,null,null,null,null,null,null,null,null,null,null,null,null,null,null,null,null,null,null,null,null,null,null,"Junho",2026,"Maio2026",135]
[null,null,null,null,null,null,null,null,null,null,null,null,null,null,null,null,null,null,null,null,null,null,null,null,null,null,null,null,null,null,null,null,null,null,null,null,null,null,null,"Julho",2026,"Junho2026",136]
[null,null,null,null,null,null,null,null,null,null,null,null,null,null,null,null,null,null,null,null,null,null,null,null,null,null,null,null,null,null,null,null,null,null,null,null,null,null,null,"Agosto",2026,"Julho2026",137]
[null,null,null,null,null,null,null,null,null,null,null,null,null,null,null,null,null,null,null,null,null,null,null,null,null,null,null,null,null,null,null,null,null,null,null,null,null,null,null,"Setembro",2026,"Agosto2026",138]
[null,null,null,null,null,null,null,null,null,null,null,null,null,null,null,null,null,null,null,null,null,null,null,null,null,null,null,null,null,null,null,null,null,null,null,null,null,null,null,"Outubro",2026,"Setembro2026",139]
[null,null,null,null,null,null,null,null,null,null,null,null,null,null,null,null,null,null,null,null,null,null,null,null,null,null,null,null,null,null,null,null,null,null,null,null,null,null,null,"Novembro",2026,"Outubro2026",140]
[null,null,null,null,null,null,null,null,null,null,null,null,null,null,null,null,null,null,null,null,null,null,null,null,null,null,null,null,null,null,null,null,null,null,null,null,null,null,null,"Dezembro",2026,"Novembro2026",141]
[null,null,null,null,null,null,null,null,null,null,null,null,null,null,null,null,null,null,null,null,null,null,null,null,null,null,null,null,null,null,null,null,null,null,null,null,null,null,null,null,null,"Dezembro2026",142]
[]
[null,null,null,null,null,null,null,null,null,null,null,null,null,null,null,null,null,null,null,null,null,null,null,null,null,null,null,null,null,null,null,null,null,null,null,null,null,null,null,null,null,"TOTAL2026",143]
[null,null,null,null,null,null,null,null,null,null,null,null,null,null,null,null,null,null,null,null,null,null,null,null,null,null,null,null,null,null,null,null,null,null,null,null,null,null,null,"Janeiro",2027]
[null,null,null,null,null,null,null,null,null,null,null,null,null,null,null,null,null,null,null,null,null,null,null,null,null,null,null,null,null,null,null,null,null,null,null,null,null,null,null,"Fevereiro",{"$f":"AO516","v":2027},{"$f":"AN516&AO516","v":"Janeiro2027"},145]
[null,null,null,null,null,null,null,null,null,null,null,null,null,null,null,null,null,null,null,null,null,null,null,null,null,null,null,null,null,null,null,null,null,null,null,null,null,null,null,"Março",{"$f":"AO517","v":2027},"Fevereiro2027",146]
[null,null,null,null,null,null,null,null,null,null,null,null,null,null,null,null,null,null,null,null,null,null,null,null,null,null,null,null,null,null,null,null,null,null,null,null,null,null,null,"Abril",2027,"Março2027",147]
[null,null,null,null,null,null,null,null,null,null,null,null,null,null,null,null,null,null,null,null,null,null,null,null,null,null,null,null,null,null,null,null,null,null,null,null,null,null,null,"Maio",2027,"Abril2027",148]
[null,null,null,null,null,null,null,null,null,null,null,null,null,null,null,null,null,null,null,null,null,null,null,null,null,null,null,null,null,null,null,null,null,null,null,null,null,null,null,"Junho",2027,"Maio2027",149]
[null,null,null,null,null,null,null,null,null,null,null,null,null,null,null,null,null,null,null,null,null,null,null,null,null,null,null,null,null,null,null,null,null,null,null,null,null,null,null,"Julho",2027,"Junho2027",150]
[null,null,null,null,null,null,null,null,null,null,null,null,null,null,null,null,null,null,null,null,null,null,null,null,null,null,null,null,null,null,null,null,null,null,null,null,null,null,null,"Agosto",2027,"Julho2027",151]
[null,null,null,null,null,null,null,null,null,null,null,null,null,null,null,null,null,null,null,null,null,null,null,null,null,null,null,null,null,null,null,null,null,null,null,null,null,null,null,"Setembro",2027,"Agosto2027",152]
[null,null,null,null,null,null,null,null,null,null,null,null,null,null,null,null,null,null,null,null,null,null,null,null,null,null,null,null,null,null,null,null,null,null,null,null,null,null,null,"Outubro",2027,"Setembro2027",153]
[null,null,null,null,null,null,null,null,null,null,null,null,null,null,null,null,null,null,null,null,null,null,null,null,null,null,null,null,null,null,null,null,null,null,null,null,null,null,null,"Novembro",2027,"Outubro2027",154]
[null,null,null,null,null,null,null,null,null,null,null,null,null,null,null,null,null,null,null,null,null,null,null,null,null,null,null,null,null,null,null,null,null,null,null,null,null,null,null,"Dezembro",2027,"Novembro2027",155]
[null,null,null,null,null,null,null,null,null,null,null,null,null,null,null,null,null,null,null,null,null,null,null,null,null,null,null,null,null,null,null,null,null,null,null,null,null,null,null,null,null,"Dezembro2027",156]
[]
[null,null,null,null,null,null,null,null,null,null,null,null,null,null,null,null,null,null,null,null,null,null,null,null,null,null,null,null,null,null,null,null,null,null,null,null,null,null,null,null,null,"TOTAL2027",157]
[null,null,null,null,null,null,null,null,null,null,null,null,null,null,null,null,null,null,null,null,null,null,null,null,null,null,null,null,null,null,null,null,null,null,null,null,null,null,null,"Janeiro",2028]
[null,null,null,null,null,null,null,null,null,null,null,null,null,null,null,null,null,null,null,null,null,null,null,null,null,null,null,null,null,null,null,null,null,null,null,null,null,null,null,"Fevereiro",{"$f":"AO531","v":2028},{"$f":"AN531&AO531","v":"Janeiro2028"},159]
[null,null,null,null,null,null,null,null,null,null,null,null,null,null,null,null,null,null,null,null,null,null,null,null,null,null,null,null,null,null,null,null,null,null,null,null,null,null,null,"Março",{"$f":"AO532","v":2028},"Fevereiro2028",160]
[null,null,null,null,null,null,null,null,null,null,null,null,null,null,null,null,null,null,null,null,null,null,null,null,null,null,null,null,null,null,null,null,null,null,null,null,null,null,null,"Abril",2028,"Março2028",161]
[null,null,null,null,null,null,null,null,null,null,null,null,null,null,null,null,null,null,null,null,null,null,null,null,null,null,null,null,null,null,null,null,null,null,null,null,null,null,null,"Maio",2028,"Abril2028",162]
[null,null,null,null,null,null,null,null,null,null,null,null,null,null,null,null,null,null,null,null,null,null,null,null,null,null,null,null,null,null,null,null,null,null,null,null,null,null,null,"Junho",2028,"Maio2028",163]
[null,null,null,null,null,null,null,null,null,null,null,null,null,null,null,null,null,null,null,null,null,null,null,null,null,null,null,null,null,null,null,null,null,null,null,null,null,null,null,"Julho",2028,"Junho2028",164]
[null,null,null,null,null,null,null,null,null,null,null,null,null,null,null,null,null,null,null,null,null,null,null,null,null,null,null,null,null,null,null,null,null,null,null,null,null,null,null,"Agosto",2028,"Julho2028",165]
[null,null,null,null,null,null,null,null,null,null,null,null,null,null,null,null,null,null,null,null,null,null,null,null,null,null,null,null,null,null,null,null,null,null,null,null,null,null,null,"Setembro",2028,"Agosto2028",166]
[null,null,null,null,null,null,null,null,null,null,null,null,null,null,null,null,null,null,null,null,null,null,null,null,null,null,null,null,null,null,null,null,null,null,null,null,null,null,null,"Outubro",2028,"Setembro2028",167]
[null,null,null,null,null,null,null,null,null,null,null,null,null,null,null,null,null,null,null,null,null,null,null,null,null,null,null,null,null,null,null,null,null,null,null,null,null,null,null,"Novembro",2028,"Outubro2028",168]
[null,null,null,null,null,null,null,null,null,null,null,null,null,null,null,null,null,null,null,null,null,null,null,null,null,null,null,null,null,null,null,null,null,null,null,null,null,null,null,"Dezembro",2028,"Novembro2028",169]
[null,null,null,null,null,null,null,null,null,null,null,null,null,null,null,null,null,null,null,null,null,null,null,null,null,null,null,null,null,null,null,null,null,null,null,null,null,null,null,null,null,"Dezembro2028",170]
[]
[null,null,null,null,null,null,null,null,null,null,null,null,null,null,null,null,null,null,null,null,null,null,null,null,null,null,null,null,null,null,null,null,null,null,null,null,null,null,null,null,null,"TOTAL2028",171]
[null,null,null,null,null,null,null,null,null,null,null,null,null,null,null,null,null,null,null,null,null,null,null,null,null,null,null,null,null,null,null,null,null,null,null,null,null,null,null,"Janeiro",2029]
[null,null,null,null,null,null,null,null,null,null,null,null,null,null,null,null,null,null,null,null,null,null,null,null,null,null,null,null,null,null,null,null,null,null,null,null,null,null,null,"Fevereiro",{"$f":"AO546","v":2029},{"$f":"AN546&AO546","v":"Janeiro2029"},5]
[null,null,null,null,null,null,null,null,null,null,null,null,null,null,null,null,null,null,null,null,null,null,null,null,null,null,null,null,null,null,null,null,null,null,null,null,null,null,null,"Março",{"$f":"AO547","v":2029},"Fevereiro2029",6]
[null,null,null,null,null,null,null,null,null,null,null,null,null,null,null,null,null,null,null,null,null,null,null,null,null,null,null,null,null,null,null,null,null,null,null,null,null,null,null,"Abril",2029,"Março2029",7]
[null,null,null,null,null,null,null,null,null,null,null,null,null,null,null,null,null,null,null,null,null,null,null,null,null,null,null,null,null,null,null,null,null,null,null,null,null,null,null,"Maio",2029,"Abril2029",8]
[null,null,null,null,null,null,null,null,null,null,null,null,null,null,null,null,null,null,null,null,null,null,null,null,null,null,null,null,null,null,null,null,null,null,null,null,null,null,null,"Junho",2029,"Maio2029",9]
[null,null,null,null,null,null,null,null,null,null,null,null,null,null,null,null,null,null,null,null,null,null,null,null,null,null,null,null,null,null,null,null,null,null,null,null,null,null,null,"Julho",2029,"Junho2029",10]
[null,null,null,null,null,null,null,null,null,null,null,null,null,null,null,null,null,null,null,null,null,null,null,null,null,null,null,null,null,null,null,null,null,null,null,null,null,null,null,"Agosto",2029,"Julho2029",11]
[null,null,null,null,null,null,null,null,null,null,null,null,null,null,null,null,null,null,null,null,null,null,null,null,null,null,null,null,null,null,null,null,null,null,null,null,null,null,null,"Setembro",2029,"Agosto2029",12]
[null,null,null,null,null,null,null,null,null,null,null,null,null,null,null,null,null,null,null,null,null,null,null,null,null,null,null,null,null,null,null,null,null,null,null,null,null,null,null,"Outubro",2029,"Setembro2029",13]
[null,null,null,null,null,null,null,null,null,null,null,null,null,null,null,null,null,null,null,null,null,null,null,null,null,null,null,null,null,null,null,null,null,null,null,null,null,null,null,"Novembro",2029,"Outubro2029",14]
[null,null,null,null,null,null,null,null,null,null,null,null,null,null,null,null,null,null,null,null,null,null,null,null,null,null,null,null,null,null,null,null,null,null,null,null,null,null,null,"Dezembro",2029,"Novembro2029",15]
[null,null,null,null,null,null,null,null,null,null,null,null,null,null,null,null,null,null,null,null,null,null,null,null,null,null,null,null,null,null,null,null,null,null,null,null,null,null,null,null,null,"Dezembro2029",16]
[]
[]
[]
[]
[]
[]
[]
[]
[]
[]
[]
[]
[]
[]
[]
[]
[]
[]
[]
[]
[]
[]
[]
[]
[]
[]
[]
[]
[]
[]
[]
[]
[]
[]
[]
[]
[]
[]
[]
[]
[]
[]
[]
[]
[]
[]
[]
[]
[]
[]
[]
[]
[]
[]
[]
[]
[]
[]
[]
[]
[]
[]
[]
[]
[]
[]
[]
[]
[]
[]
[]
[]
[]
[]
[]
[]
[]
[]
[]
[]
[]
[]
[]
[]
[]
[]
[]
[]
[]
[]
[]
[]
[]
[]
[]
[]
[]
[]
[]
[]
[]
[]
[]
[]
[]
[]
[]
[]
[]
[]
[]
[]
[]
[]
[]
[]
[]
[]
[]
[]
[]
[]
[]
[]
[]
[]
[]
[]
[]
[]
[]
[]
[]
[]
[]
[]
[]
[]
[]
[]
[]
[]
[]
[]
[]
[]
[]
[]
[]
[]
[]
[]
[]
[]
[]
[]
[]
[]
[]
[]
[]
[]
[]
[]
[]
[]
[]
[]
[]
[]
[]
[]
[]
[]
[]
[]
[]
[]
[]
[]
[]
[]
[]
[]
[]
[]
[]
[]
[]
[]
[]
[]
[]
[]
[]
[]
[]
[]
[]
[]
[]
[]
[]
[]
[]
[]
[]
[]
[]
[]
[]
[]
[]
[]
[]
[]
[]
[]
[]
[]
[]
[]
[]
[]
[]
[]
[]
[]
[]
[]
[]
[]
[]
[]
[]
[]
[]
[]
[]
[]
[]
[]
[]
[]
[]
[]
[]
[]
[]
[]
[]
[]
[]
[]
[]
[]
[]
[]
[]
[]
[]
[]
[]
[]
[]
[]
[]
[]
[]
[]
[]
[]
[]
[]
[]
[]
[]
[]
[]
[]
[]
[]
[]
[]
[]
[]
[]
[]
[]
[]
[]
[]
[]
[]
[]
[]
[]
[]
[]
[]
[]
[]
[]
[]
[]
[]
[]
[]
[]
[]
[]
[]
[]
[]
[]
[]
[]
[]
[]
[]
[]
[]
[]
[]
[]
[]
[]
[]
[]
[]
[]
[]
[]
[]
[]
[]
[]
[]
[]
[]
[]
[]
[]
[]
[]
[]
[]
[]
[]
[]
[]
[]
[]
[]
[]
[]
[]
[]
[]
[]
[]
[]
[]
[]
[]
[]
[]
[]
[]
[]
[]
[]
[]
[]
[]
[]
[]
[]
[]
[]
[]
[]
[]
[]
[]
[]
[]
[]
[]
[]
[]
[]
[]
[]
[]
[]
[]
[]
[]
[]
[]
[]
[]
[]
[]
[]
[]
[]
[]
[]
[]
[]
[]
[]
[]
[]
[]
[]
[]
[]
[]
[]
[]
[]
[]
[]
[]
[]
[]
[]
[]
[]
[]
[]
[]
[]
[]
[]
[]
[]
[]
[]
[]
[]
[]
[]
[]
[]
[]
[]
[]
[]
[]
[]
[]
[]
[]
[]
[]
[]
[]
[]
[]
[]
[]
[]
[]
[]
[]
[]
[]
[]
[]
[]
[]
[]
[]
[]
[]
[]
[]
[]
[]
[]
[]
[]
[]
[]
[]
[]
[]
[]
[]
[]
[]
[]
[]
[]
[]
[]
[]
[]
[]
[]
[]
[]
[]
[]
[]
[]
[]
[]
[]
[]
[]
[]
[]
[]
[]
[]
[]
[]
[]
[]
[]
[]
[]
[]
[]
[]
[]
[]
[]
[]
[]
[]
[]
[]
[]
[]
[]
[]
[]
[]
[]
[]
[]
[]
[]
[]
[]
[]
[]
[]
[]
[]
[]
[]
[]
[]
[]
[]
[]
[]
[]
[]
[]
[]
[]
[]
[]
[]
[]
[]
[]
[]
[]
[]
[]
[]
[]
[]
[]
[]
[]
[]
[]
[]
[]
[]
[]
[]
[]
[]
[]
[]
[]
[]
[]
[]
[]
[]
[]
[]
[]
[]
[]
[]
[]
[]
[]
[]
[]
[]
[]
[]
[]
[]
[]
[]
[]
[]
[]
[]
[]
[]
[]
[]
[]
[]
[]
[]
[]
[]
[]
[]
[]
[]
[]
[]
[]
[]
[]
[]
[]
[]
[]
[]
[]
[]
[]
[]
[]
[]
[]
[]
[]
[]
[]
[]
[]
[]
[]
[]
[]
[]
[]
[]
[]
[]
[]
[]
[]
[]
[]
[]
[]
[]
[]
[]
[]
[]
[]
[]
[]
[]
[]
[]
[]
[]
[]
[]
[]
[]
[]
[]
[]
[]
[]
[]
[]
[]
[]
[]
[]
[]
[]
[]
[]
[]
[]
[]
[]
[]
[]
[]
[]
[]
[]
[]
[]
[]
[]
[]
[]
[]
[]
[]
[]
[]
[]
[]
[]
[]
[]
[]
[]
[]
[]
[]
[]
[]
[]
[]
[]
[]
[]
[]
[]
[]
[]
[]
[]
[]
[]
[]
[]
[]
[]
[]
[]
[]
[]
[]
[]
[]
[]
[]
[]
[]
[]
[]
[]
[]
[]
[]
[]
[]
[]
[]
[]
[]
[]
[]
[]
[]
[]
[]
[]
[]
[]
[]
[]
[]
[]
[]
[]
[]
[]
[]
[]
[]
[]
[]
[]
[]
[]
[]
[]
[]
[]
[]
[]
[]
[]
[]
[]
[]
[]
[]
[]
[]
[]
[]
[]
[]
[]
[]
[]
[]
[]
[]
[]
[]
[]
[]
[]
[]
[]
[]
[]
[]
[]
[]
[]
[]
[]
[]
[]
[]
[]
[]
[]
[]
[]
[]
[]
[]
[]
[]
[]
[]
[]
[]
[]
[]
[]
[]
[]
[]
[]
[]
[]
[]
[]
[]
[]
[]
[]
[]
[]
[]
[]
[]
[]
[]
[]
[]
[]
[]
[]
[]
[]
[]
[]
[]
[]
[]
[]
[]
[]
[]
[]
[]
[]
[]
[]
[]
[]
[]
[]
[]
[]
[]
[]
[]
[]
[]
[]
[]
[]
[]
[]
[]
[]
[]
[]
[]
[]
[]
[]
[]
[]
[]
[]
[]
[]
[]
[]
[]
[]
[]
[]
[]
[]
[]
[]
[]
[]
[]
[]
[]
[]
[]
[]
[]
[]
[]
[]
[]
[]
[]
[]
[]
[]
[]
[]
[]
[]
[]
[]
[]
[]
[]
[]
[]
[]
[]
[]
[]
[]
[]
[]
[]
[]
[]
[]
[]
[]
[]
[]
[]
[]
[]
[]
[]
[]
[]
[]
[]
[]
[]
[]
[]
[]
[]
[]
[]
[]
[]
[]
[]
[]
[]
[]
[]
[]
[]
[]
[]
[]
[]
[]
[]
[]
[]
[]
[]
[]
[]
[]
[]
[]
[]
[]
[]
[]
[]
[]
[]
[]
[]
[]
[]
[]
[]
[]
[]
[]
[]
[]
[]
[]
[]
[]
[]
[]
[]
[]
[]
[]
[]
[]
[]
[]
[]
[]
[]
[]
[]
[]
[]
[]
[]
[]
[]
[]
[]
[]
[]
[]
[]
[]
[]
[]
[]
[]
[]
[]
[]
[]
[]
[]
[]
[]
[]
[]
[]
[]
[]
[]
[]
[]
[]
[]
[]
[]
[]
[]
[]
[]
[]
[]
[]
[]
[]
[]
[]
[]
[]
[]
[]
[]
[]
[]
[]
[]
[]
[]
[]
[]
[]
[]
[]
[]
[]
[]
[]
[]
[]
[]
[]
[]
[]
[]
[]
[]
[]
[]
[]
[]
[]
[]
[]
[]
[]
[]
[]
[]
[]
[]
[]
[]
[]
[]
[]
[]
[]
[]
[]
[]
[]
[]
[]
[]
[]
[]
[]
[]
[]
[]
[]
[]
[]
[]
[]
[]
[]
[]
[]
[]
[]
[]
[]
[]
[]
[]
[]
[]
[]
[]
[]
[]
[]
[]
[]
[]
[]
[]
[]
[]
[]
[]
[]
[]
[]
[]
[]
[]
[]
[]
[]
[]
[]
[]
[]
[]
[]
[]
[]
[]
[]
[]
[]
[]
[]
[]
[]
[]
[]
[]
[]
[]
[]
[]
[]
[]
[]
[]
[]
[]
[]
[]
[]
[]
[]
[]
[]
[]
[]
[]
[]
[]
[]
[]
[]
[]
[]
[]
[]
[]
[]
[]
[]
[]
[]
[]
[]
[]
[]
[]
[]
[]
[]
[]
[]
[]
[]
[]
[]
[]
[]
[]
[]
[]
[]
[]
[]
[]
[]
[]
[]
[]
[]
[]
[]
[]
[]
[]
[]
[]
[]
[]
[]
[]
[]
[]
[]
[]
[]
[]
[]
[]
[]
[]
[]
[]
[]
[]
[]
[]
[]
[]
[]
[]
[]
[]
[]
[]
[]
[]
[]
[]
[]
[]
[]
[]
[]
[]
[]
[]
[]
[]
[]
[]
[]
[]
[]
[]
[]
[]
[]
[]
[]
[]
[]
[]
[]
[]
[]
[]
[]
[]
[]
[]
[]
[]
[]
[]
[]
[]
[]
[]
[]
[]
[]
[]
[]
[]
[]
[]
[]
[]
[]
[]
[]
[]
[]
[]
[]
[]
[]
[]
[]
[]
[]
[]
[]
[]
[]
[]
[]
[]
[]
[]
[]
[]
[]
[]
[]
[]
[]
[]
[]
[]
[]
[]
[]
[]
[]
[]
[]
[]
[]
[]
[]
[]
[]
[]
[]
[]
[]
[]
[]
[]
[]
[]
[]
[]
[]
[]
[]
[]
[]
[]
[]
[]
[]
[]
[]
[]
[]
[]
[]
[]
[]
[]
[]
[]
[]
[]
[]
[]
[]
[]
[]
[]
[]
[]
[]
[]
[]
[]
[]
[]
[]
[]
[]
[]
[]
[]
[]
[]
[]
[]
[]
[]
[]
[]
[]
[]
[]
[]
[]
[]
[]
[]
[]
[]
[]
[]
[]
[]
[]
[]
[]
[]
[]
[]
[]
[]
[]
[]
[]
[]
[]
[]
[]
[]
[]
[]
[]
[]
[]
[]
[]
[]
[]
[]
[]
[]
[]
[]
[]
[]
[]
[]
[]
[]
[]
[]
[]
[]
[]
[]
[]
[]
[]
[]
[]
[]
[]
[]
[]
[]
[]
[]
[]
[]
[]
[]
[]
[]
[]
[]
[]
[]
[]
[]
[]
[]
[]
[]
[]
[]
[]
[]
[]
[]
[]
[]
[]
[]
[]
[]
[]
[]
[]
[]
[]
[]
[]
[]
[]
[]
[]
[]
[]
[]
[]
[]
[]
[]
[]
[]
[]
[]
[]
[]
[]
[]
[]
[]
[]
[]
[]
[]
[]
[]
[]
[]
[]
[]
[]
[]
[]
[]
[]
[]
[]
[]
[]
[]
[]
[]
[]
[]
[]
[]
[]
[]
[]
[]
[]
[]
[]
[]
[]
[]
[]
[]
[]
[]
[]
[]
[]
[]
[]
[]
[]
[]
[]
[]
[]
[]
[]
[]
[]
[]
[]
[]
[]
[]
[]
[]
[]
[]
[]
[]
[]
[]
[]
[]
[]
[]
[]
[]
[]
[]
[]
[]
[]
[]
[]
[]
[]
[]
[]
[]
[]
[]
[]
[]
[]
[]
[]
[]
[]
[]
[]
[]
[]
[]
[]
[]
[]
[]
[]
[]
[]
[]
[]
[]
[]
[]
[]
[]
[]
[]
[]
[]
[]
[]
[]
[]
[]
[]
[]
[]
[]
[]
[]
[]
[]
[]
[]
[]
[]
[]
[]
[]
[]
[]
[]
[]
[]
[]
[]
[]
[]
[]
[]
[]
[]
[]
[]
[]
[]
[]
[]
[]
[]
[]
[]
[]
[]
[]
[]
[]
[]
[]
[]
[]
[]
[]
[]
[]
[]
[]
[]
[]
[]
[]
[]
[]
[]
[]
[]
[]
[]
[]
[]
[]
[]
[]
[]
[]
[]
[]
[]
[]
[]
[]
[]
[]
[]
[]
[]
[]
[]
[]
[]
[]
[]
[]
[]
[]
[]
[]
[]
[]
[]
[]
[]
[]
[]
[]
[]
[]
[]
[]
[]
[]
[]
[]
[]
[]
[]
[]
[]
[]
[]
[]
[]
[]
[]
[]
[]
[]
[]
[]
[]
[]
[]
[]
[]
[]
[]
[]
[]
[]
[]
[]
[]
[]
[]
[]
[]
[]
[]
[]
[]
[]
[]
[]
[]
[]
[]
[]
[]
[]
[]
[]
[]
[]
[]
[]
[]
[]
[]
[]
[]
[]
[]
[]
[]
[]
[]
[]
[]
[]
[]
[]
[]
[]
[]
[]
[]
[]
[]
[]
[]
[]
[]
[]
[]
[]
[]
[]
[]
[]
[]
[]
[]
[]
[]
[]
[]
[]
[]
[]
[]
[]
[]
[]
[]
[]
[]
[]
[]
[]
[]
[]
[]
[]
[]
[]
[]
[]
[]
[]
[]
[]
[]
[]
[]
[]
[]
[]
[]
[]
[]
[]
[]
[]
[]
[]
[]
[]
[]
[]
[]
[]
[]
[]
[]
[]
[]
[]
[]
[]
[]
[]
[]
[]
[]
[]
[]
[]
[]
[]
[]
[]
[]
[]
[]
[]
[]
[]
[]
[]
[]
[]
[]
[]
[]
[]
[]
[]
[]
[]
[]
[]
[]
[]
[]
[]
[]
[]
[]
[]
[]
[]
[]
[]
[]
[]
[]
[]
[]
[]
[]
[]
[]
[]
[]
[]
[]
[]
[]
[]
[]
[]
[]
[]
[]
[]
[]
[]
[]
[]
[]
[]
[]
[]
[]
[]
[]
[]
[]
[]
[]
[]
[]
[]
[]
[]
[]
[]
[]
[]
[]
[]
[]
[]
[]
[]
[]
[]
[]
[]
[]
[]
[]
[]
[]
[]
[]
[]
[]
[]
[]
[]
[]
[]
[]
[]
[]
[]
[]
[]
[]
[]
[]
[]
[]
[]
[]
[]
[]
[]
[]
[]
[]
[]
[]
[]
[]
[]
[]
[]
[]
[]
[]
[]
[]
[]
[]
[]
[]
[]
[]
[]
[]
[]
[]
[]
[]
[]
[]
[]
[]
[]
[]
[]
[]
[]
[]
[]
[]
[]
[]
[]
[]
[]
[]
[]
[]
[]
[]
[]
[]
[]
[]
[]
[]
[]
[]
[]
[]
[]
[]
[]
[]
[]
[]
[]
[]
[]
[]
[]
[]
[]
[]
[]
[]
[]
[]
[]
[]
[]
[]
[]
[]
[]
[]
[]
[]
[]
[]
[]
[]
[]
[]
[]
[]
[]
[]
[]
[]
[]
[]
[]
[]
[]
[]
[]
[]
[]
[]
[]
[]
[]
[]
[]
[]
[]
[]
[]
[]
[]
[]
[]
[]
[]
[]
[]
[]
[]
[]
[]
[]
[]
[]
[]
[]
[]
[]
[]
[]
[]
[]
[]
[]
[]
[]
[]
[]
[]
[]
[]
[]
[]
[]
[]
[]
[]
[]
[]
[]
[]
[]
[]
[]
[]
[]
[]
[]
[]
[]
[]
[]
[]
[]
[]
[]
[]
[]
[]
[]
[]
[]
[]
[]
[]
[]
[]
[]
[]
[]
[]
[]
[]
[]
[]
[]
[]
[]
[]
[]
[]
[]
[]
[]
[]
[]
[]
[]
[]
[]
[]
[]
[]
[]
[]
[]
[]
[]
[]
[]
[]
[]
[]
[]
[]
[]
[]
[]
[]
[]
[]
[]
[]
[]
[]
[]
[]
[]
[]
[]
[]
[]
[]
[]
[]
[]
[]
[]
[]
[]
[]
[]
[]
[]
[]
[]
[]
[]
[]
[]
[]
[]
[]
[]
[]
[]
[]
[]
[]
[]
[]
[]
[]
[]
[]
[]
[]
[]
[]
[]
[]
[]
[]
[]
[]
[]
[]
[]
[]
[]
[]
[]
[]
[]
[]
[]
[]
[]
[]
[]
[]
[]
[]
[]
[]
[]
[]
[]
[]
[]
[]
[]
[]
[]
[]
[]
[]
[]
[]
[]
[]
[]
[]
[]
[]
[]
[]
[]
[]
[]
[]
[]
[]
[]
[]
[]
[]
[]
[]
[]
[]
[]
[]
[]
[]
[]
[]
[]
[]
[]
[]
[]
[]
[]
[]
[]
[]
[]
[]
[]
[]
[]
[]
[]
[]
[]
[]
[]
[]
[]
[]
[]
[]
[]
[]
[]
[]
[]
[]
[]
[]
[]
[]
[]
[]
[]
[]
[]
[]
[]
[]
[]
[]
[]
[]
[]
[]
[]
[]
[]
[]
[]
[]
[]
[]
[]
[]
[]
[]
[]
[]
[]
[]
[]
[]
[]
[]
[]
[]
[]
[]
[]
[]
[]
[]
[]
[]
[]
[]
[]
[]
[]
[]
[]
[]
[]
[]
[]
[]
[]
[]
[]
[]
[]
[]
[]
[]
[]
[]
[]
[]
[]
[]
[]
[]
[]
[]
[]
[]
[]
[]
[]
[]
[]
[]
[]
[]
[]
[]
[]
[]
[]
[]
[]
[]
[]
[]
[]
[]
[]
[]
[]
[]
[]
[]
[]
[]
[]
[]
[]
[]
[]
[]
[]
[]
[]
[]
[]
[]
[]
[]
[]
[]
[]
[]
[]
[]
[]
[]
[]
[]
[]
[]
[]
[]
[]
[]
[]
[]
[]
[]
[]
[]
[]
[]
[]
[]
[]
[]
[]
[]
[]
[]
[]
[]
[]
[]
[]
[]
[]
[]
[]
[]
[]
[]
[]
[]
[]
[]
[]
[]
[]
[]
[]
[]
[]
[]
[]
[]
[]
[]
[]
[]
[]
[]
[]
[]
[]
[]
[]
[]
[]
[]
[]
[]
[]
[]
[]
[]
[]
[]
[]
[]
[]
[]
[]
[]
[]
[]
[]
[]
[]
[]
[]
[]
[]
[]
[]
[]
[]
[]
[]
[]
[]
[]
[]
[]
[]
[]
[]
[]
[]
[]
[]
[]
[]
[]
[]
[]
[]
[]
[]
[]
[]
[]
[]
[]
[]
[]
[]
[]
[]
[]
[]
[]
[]
[]
[]
[]
[]
[]
[]
[]
[]
[]
[]
[]
[]
[]
[]
[]
[]
[]
[]
[]
[]
[]
[]
[]
[]
[]
[]
[]
[]
[]
[]
[]
[]
[]
[]
[]
[]
[]
[]
[]
[]
[]
[]
[]
[]
[]
[]
[]
[]
[]
[]
[]
[]
[]
[]
[]
[]
[]
[]
[]
[]
[]
[]
[]
[]
[]
[]
[]
[]
[]
[]
[]
[]
[]
[]
[]
[]
[]
[]
[]
[]
[]
[]
[]
[]
[]
[]
[]
[]
[]
[]
[]
[]
[]
[]
[]
[]
[]
[]
[]
[]
[]
[]
[]
[]
[]
[]
[]
[]
[]
[]
[]
[]
[]
[]
[]
[]
[]
[]
[]
[]
[]
[]
[]
[]
[]
[]
[]
[]
[]
[]
[]
[]
[]
[]
[]
[]
[]
[]
[]
[]
[]
[]
[]
[]
[]
[]
[]
[]
[]
[]
[]
[]
[]
[]
[]
[]
[]
[]
[]
[]
[]
[]
[]
[]
[]
[]
[]
[]
[]
[]
[]
[]
[]
[]
[]
[]
[]
[]
[]
[]
[]
[]
[]
[]
[]
[]
[]
[]
[]
[]
[]
[]
[]
[]
[]
[]
[]
[]
[]
[]
[]
[]
[]
[]
[]
[]
[]
[]
[]
[]
[]
[]
[]
[]
[]
[]
[]
[]
[]
[]
[]
[]
[]
[]
[]
[]
[]
[]
[]
[]
[]
[]
[]
[]
[]
[]
[]
[]
[]
[]
[]
[]
[]
[]
[]
[]
[]
[]
[]
[]
[]
[]
[]
[]
[]
[]
[]
[]
[]
[]
[]
[]
[]
[]
[]
[]
[]
[]
[]
[]
[]
[]
[]
[]
[]
[]
[]
[]
[]
[]
[]
[]
[]
[]
[]
[]
[]
[]
[]
[]
[]
[]
[]
[]
[]
[]
[]
[]
[]
[]
[]
[]
[]
[]
[]
[]
[]
[]
[]
[]
[]
[]
[]
[]
[]
[]
[]
[]
[]
[]
[]
[]
[]
[]
[]
[]
[]
[]
[]
[]
[]
[]
[]
[]
[]
[]
[]
[]
[]
[]
[]
[]
[]
[]
[]
[]
[]
[]
[]
[]
[]
[]
[]
[]
[]
[]
[]
[]
[]
[]
[]
[]
[]
[]
[]
[]
[]
[]
[]
[]
[]
[]
[]
[]
[]
[]
[]
[]
[]
[]
[]
[]
[]
[]
[]
[]
[]
[]
[]
[]
[]
[]
[]
[]
[]
[]
[]
[]
[]
[]
[]
[]
[]
[]
[]
[]
[]
[]
[]
[]
[]
[]
[]
[]
[]
[]
[]
[]
[]
[]
[]
[]
[]
[]
[]
[]
[]
[]
[]
[]
[]
[]
[]
[]
[]
[]
[]
[]
[]
[]
[]
[]
[]
[]
[]
[]
[]
[]
[]
[]
[]
[]
[]
[]
[]
[]
[]
[]
[]
[]
[]
[]
[]
[]
[]
[]
[]
[]
[]
[]
[]
[]
[]
[]
[]
[]
[]
[]
[]
[]
[]
[]
[]
[]
[]
[]
[]
[]
[]
[]
[]
[]
[]
[]
[]
[]
[]
[]
[]
[]
[]
[]
[]
[]
[]
[]
[]
[]
[]
[]
[]
[]
[]
[]
[]
[]
[]
[]
[]
[]
[]
[]
[]
[]
[]
[]
[]
[]
[]
[]
[]
[]
[]
[]
[]
[]
[]
[]
[]
[]
[]
[]
[]
[]
[]
[]
[]
[]
[]
[]
[]
[]
[]
[]
[]
[]
[]
[]
[]
[]
[]
[]
[]
[]
[]
[]
[]
[]
[]
[]
[]
[]
[]
[]
[]
[]
[]
[]
[]
[]
[]
[]
[]
[]
[]
[]
[]
[]
[]
[]
[]
[]
[]
[]
[]
[]
[]
[]
[]
[]
[]
[]
[]
[]
[]
[]
[]
[]
[]
[]
[]
[]
[]
[]
[]
[]
[]
[]
[]
[]
[]
[]
[]
[]
[]
[]
[]
[]
[]
[]
[]
[]
[]
[]
[]
[]
[]
[]
[]
[]
[]
[]
[]
[]
[]
[]
[]
[]
[]
[]
[]
[]
[]
[]
[]
[]
[]
[]
[]
[]
[]
[]
[]
[]
[]
[]
[]
[]
[]
[]
[]
[]
[]
[]
[]
[]
[]
[]
[]
[]
[]
[]
[]
[]
[]
[]
[]
[]
[]
[]
[]
[]
[]
[]
[]
[]
[]
[]
[]
[]
[]
[]
[]
[]
[]
[]
[]
[]
[]
[]
[]
[]
[]
[]
[]
[]
[]
[]
[]
[]
[]
[]
[]
[]
[]
[]
[]
[]
[]
[]
[]
[]
[]
[]
[]
[]
[]
[]
[]
[]
[]
[]
[]
[]
[]
[]
[]
[]
[]
[]
[]
[]
[]
[]
[]
[]
[]
[]
[]
[]
[]
[]
[]
[]
[]
[]
[]
[]
[]
[]
[]
[]
[]
[]
[]
[]
[]
[]
[]
[]
[]
[]
[]
[]
[]
[]
[]
[]
[]
[]
[]
[]
[]
[]
[]
[]
[]
[]
[]
[]
[]
[]
[]
[]
[]
[]
[]
[]
[]
[]
[]
[]
[]
[]
[]
[]
[]
[]
[]
[]
[]
[]
[]
[]
[]
[]
[]
[]
[]
[]
[]
[]
[]
[]
[]
[]
[]
[]
[]
[]
[]
[]
[]
[]
[]
[]
[]
[]
[]
[]
[]
[]
[]
[]
[]
[]
[]
[]
[]
[]
[]
[]
[]
[]
[]
[]
[]
[]
[]
[]
[]
[]
[]
[]
[]
[]
[]
[]
[]
[]
[]
[]
[]
[]
[]
[]
[]
[]
[]
[]
[]
[]
[]
[]
[]
[]
[]
[]
[]
[]
[]
[]
[]
[]
[]
[]
[]
[]
[]
[]
[]
[]
[]
[]
[]
[]
[]
[]
[]
[]
[]
[]
[]
[]
[]
[]
[]
[]
[]
[]
[]
[]
[]
[]
[]
[]
[]
[]
[]
[]
[]
[]
[]
[]
[]
[]
[]
[]
[]
[]
[]
[]
[]
[]
[]
[]
[]
[]
[]
[]
[]
[]
[]
[]
[]
[]
[]
[]
[]
[]
[]
[]
[]
[]
[]
[]
[]
[]
[]
[]
[]
[]
[]
[]
[]
[]
[]
[]
[]
[]
[]
[]
[]
[]
[]
[]
[]
[]
[]
[]
[]
[]
[]
[]
[]
[]
[]
[]
[]
[]
[]
[]
[]
[]
[]
[]
[]
[]
[]
[]
[]
[]
[]
[]
[]
[]
[]
[]
[]
[]
[]
[]
[]
[]
[]
[]
[]
[]
[]
[]
[]
[]
[]
[]
[]
[]
[]
[]
[]
[]
[]
[]
[]
[]
[]
[]
[]
[]
[]
[]
[]
[]
[]
[]
[]
[]
[]
[]
[]
[]
[]
[]
[]
[]
[]
[]
[]
[]
[]
[]
[]
[]
[]
[]
[]
[]
[]
[]
[]
[]
[]
[]
[]
[]
[]
[]
[]
[]
[]
[]
[]
[]
[]
[]
[]
[]
[]
[]
[]
[]
[]
[]
[]
[]
[]
[]
[]
[]
[]
[]
[]
[]
[]
[]
[]
[]
[]
[]
[]
[]
[]
[]
[]
[]
[]
[]
[]
[]
[]
[]
[]
[]
[]
[]
[]
[]
[]
[]
[]
[]
[]
[]
[]
[]
[]
[]
[]
[]
[]
[]
[]
[]
[]
[]
[]
[]
[]
[]
[]
[]
[]
[]
[]
[]
[]
[null,null,null,null,null,null,null,null,null,null,null,null,null,null,null,null,null,null,null,null,null,null,null,null,null,null,null,null,null,null,null,null,null,null,null,null,null,null,null,null,null,null,null,null,null,null,null,null,null,null,null,null,null,null,null,null,null,null,null,null,null,null,null,null,null,null,null,null,null,null,null,null,null,null,null,null,null,null,null,null,null,null,null,null,null,null,null,null,null,null,null,null,null,null,null,null,null,null,null,null,null,null,null,null,null,null,null,null,null,null,null,null,null,null,null,null,null,null,null,null,null,null,null,null,null,null,null,null,null,null,null,null,null,null,null,null,null,null,null,null,null,null,null,null,null,null,null,null,null,null,null,null,null,null,null,null,null,null,null,null,null,null,null,null,null,null,null,null,null,null,null,null,null,null,null,null,null,null,null,null,null,null,null,null,null,null,null,null,null,null,null,null,null,null,null,null,null,null,null,null,null,null,null,null,null,null,null,null,null,null,null,null,null,null,null,null,null,null,null,null,null,null,null,null,null,null,null,null,null,null,null,null,null,null,null,null,null,null,null,null,null,null,null,null,null,null,null,null,null,null,null,null,null,null,null,null,null,null,null,null,null,null,null,null,null,null,null,null,null,null,null,null,null,null,null,null,null,null,null,null,null,null,null,null,null,null,null,null,null,null,null,null,null,null,null,null,null,null,null,null,null,null,null,null,null,null,null,null,null,null,null,null,null,null,null,null,null,null,null,null,null,null,null,null,null,null,null,null,null,null,null,null,null,null,null,null,null,null,null,null,null,null,null,null,null,null,null,null,null,null,null,null,null,null,null,null,null,null,null,null,null,null,null,null,null,null,null,null,null,null,null,null,null,null,null,null,null,null,null,null,null,null,null,null,null,null,null,null,null,null,null,null,null,null,null,null,null,null,null,null,null,null,null,null,null,null,null,null,null,null,null,null,null,null,null,null,null,null,null,null,null,null,null,null,null,null,null,null,null,null,null,null,null,null,null,null,null,null,null,null,null,null,null,null,null,null,null,null,null,null,null,null,null,null,null,null,null,null,null,null,null,null,null,null,null,null,null,null,null,null,null,null,null,null,null,null,null,null,null,null,null,null,null,null,null,null,null,null,null,null,null,null,null,null,null,null,null,null,null,null,null,null,null,null,null,null,null,null,null,null,null,null,null,null,null,null,null,null,null,null,null,null,null,null,null,null,null,null,null,null,null,null,null,null,null,null,null,null,null,null,null,null,null,null,null,null,null,null,null,null,null,null,null,null,null,null,null,null,null,null,null,null,null,null,null,null,null,null,null,null,null,null,null,null,null,null,null,null,null,null,null,null,null,null,null,null,null,null,null,null,null,null,null,null,null,null,null,null,null,null,null,null,null,null,null,null,null,null,null,null,null,null,null,null,null,null,null,null,null,null,null,null,null,null,null,null,null,null,null,null,null,null,null,null,null,null,null,null,null,null,null,null,null,null,null,null,null,null,null,null,null,null,null,null,null,null,null,null,null,null,null,null,null,null,null,null,null,null,null,null,null,null,null,null,null,null,null,null,null,null,null,null,null,null,null,null,null,null,null,null,null,null,null,null,null,null,null,null,null,null,null,null,null,null,null,null,null,null,null,null,null,null,null,null,null,null,null,null,null,null,null,null,null,null,null,null,null,null,null,null,null,null,null,null,null,null,null,null,null,null,null,null,null,null,null,null,null,null,null,null,null,null,null,null,null,null,null,null,null,null,null,null,null,null,null,null,null,null,null,null,null,null,null,null,null,null,null,null,null,null,null,null,null,null,null,null,null,null,null,null,null,null,null,null,null,null,null,null,null,null,null,null,null,null,null,null,null,null,null,null,null,null,null,null,null,null,null,null,null,null,null,null,null,null,null,null,null,null,null,null,null,null,null,null,null,null,null,null,null,null,null,null,null,null,null,null,null,null,null,null,null,null,null,null,null,null,null,null,null,null,null,null,null,null,null,null,null,null,null,null,null,null,null,null,null,null,null,null,null,null,null,null,null,null,null,null,null,null,null,null,null,null,null,null,null,null,null,null,null,null,null,null,null,null,null,null,null,null,null,null,null,null,null,null,null,null,null,null,null,null,null,null,null,null,null,null,null,null,null,null,null,null,null,null,null,null,null,null,null,null,null,null,null,null,null,null,null,null,null,null,null,null,null,null,null,null,null,null,null,null,null,null,null,null,null,null,null,null,null,null,null,null,null,null,null,null,null,null,null,null,null,null,null,null,null,null,null,null,null,null,null,null,null,null,null,null,null,null,null,null,null,null,null,null,null,null,null,null,null,null,null,null,null,null,null,null,null,null,null,null,null,null,null,null,null,null,null,null,null,null,null,null,null,null,null,null,null,null,null,null,null,null,null,null,null,null,null,null,null,null,null,null,null,null,null,null,null,null,null,null,null,null,null,null,null,null,null,null,null,null,null,null,null,null,null,null,null,null,null,null,null,null,null,null,null,null,null,null,null,null,null,null,null,null,null,null,null,null,null,null,null,null,null,null,null,null,null,null,null,null,null,null,null,null,null,null,null,null,null,null,null,null,null,null,null,null,null,null,null,null,null,null,null,null,null,null,null,null,null,null,null,null,null,null,null,null,null,null,null,null,null,null,null,null,null,null,null,null,null,null,null,null,null,null,null,null,null,null,null,null,null,null,null,null,null,null,null,null,null,null,null,null,null,null,null,null,null,null,null,null,null,null,null,null,null,null,null,null,null,null,null,null,null,null,null,null,null,null,null,null,null,null,null,null,null,null,null,null,null,null,null,null,null,null,null,null,null,null,null,null,null,null,null,null,null,null,null,null,null,null,null,null,null,null,null,null,null,null,null,null,null,null,null,null,null,null,null,null,null,null,null,null,null,null,null,null,null,null,null,null,null,null,null,null,null,null,null,null,null,null,null,null,null,null,null,null,null,null,null,null,null,null,null,null,null,null,null,null,null,null,null,null,null,null,null,null,null,null,null,null,null,null,null,null,null,null,null,null,null,null,null,null,null,null,null,null,null,null,null,null,null,null,null,null,null,null,null,null,null,null,null,null,null,null,null,null,null,null,null,null,null,null,null,null,null,null,null,null,null,null,null,null,null,null,null,null,null,null,null,null,null,null,null,null,null,null,null,null,null,null,null,null,null,null,null,null,null,null,null,null,null,null,null,null,null,null,null,null,null,null,null,null,null,null,null,null,null,null,null,null,null,null,null,null,null,null,null,null,null,null,null,null,null,null,null,null,null,null,null,null,null,null,null,null,null,null,null,null,null,null,null,null,null,null,null,null,null,null,null,null,null,null,null,null,null,null,null,null,null,null,null,null,null,null,null,null,null,null,null,null,null,null,null,null,null,null,null,null,null,null,null,null,null,null,null,null,null,null,null,null,null,null,null,null,null,null,null,null,null,null,null,null,null,null,null,null,null,null,null,null,null,null,null,null,null,null,null,null,null,null,null,null,null,null,null,null,null,null,null,null,null,null,null,null,null,null,null,null,null,null,null,null,null,null,null,null,null,null,null,null,null,null,null,null,null,null,null,null,null,null,null,null,null,null,null,null,null,null,null,null,null,null,null,null,null,null,null,null,null,null,null,null,null,null,null,null,null,null,null,null,null,null,null,null,null,null,null,null,null,null,null,null,null,null,null,null,null,null,null,null,null,null,null,null,null,null,null,null,null,null,null,null,null,null,null,null,null,null,null,null,null,null,null,null,null,null,null,null,null,null,null,null,null,null,null,null,null,null,null,null,null,null,null,null,null,null,null,null,null,null,null,null,null,null,null,null,null,null,null,null,null,null,null,null,null,null,null,null,null,null,null,null,null,null,null,null,null,null,null,null,null,null,null,null,null,null,null,null,null,null,null,null,null,null,null,null,null,null,null,null,null,null,null,null,null,null,null,null,null,null,null,null,null,null,null,null,null,null,null,null,null,null,null,null,null,null,null,null,null,null,null,null,null,null,null,null,null,null,null,null,null,null,null,null,null,null,null,null,null,null,null,null,null,null,null,null,null,null,null,null,null,null,null,null,null,null,null,null,null,null,null,null,null,null,null,null,null,null,null,null,null,null,null,null,null,null,null,null,null,null,null,null,null,null,null,null,null,null,null,null,null,null,null,null,null,null,null,null,null,null,null,null,null,null,null,null,null,null,null,null,null,null,null,null,null,null,null,null,null,null,null,null,null,null,null,null,null,null,null,null,null,null,null,null,null,null,null,null,null,null,null,null,null,null,null,null,null,null,null,null,null,null,null,null,null,null,null,null,null,null,null,null,null,null,null,null,null,null,null,null,null,null,null,null,null,null,null,null,null,null,null,null,null,null,null,null,null,null,null,null,null,null,null,null,null,null,null,null,null,null,null,null,null,null,null,null,null,null,null,null,null,null,null,null,null,null,null,null,null,null,null,null,null,null,null,null,null,null,null,null,null,null,null,null,null,null,null,null,null,null,null,null,null,null,null,null,null,null,null,null,null,null,null,null,null,null,null,null,null,null,null,null,null,null,null,null,null,null,null,null,null,null,null,null,null,null,null,null,null,null,null,null,null,null,null,null,null,null,null,null,null,null,null,null,null,null,null,null,null,null,null,null,null,null,null,null,null,null,null,null,null,null,null,null,null,null,null,null,null,null,null,null,null,null,null,null,null,null,null,null,null,null,null,null,null,null,null,null,null,null,null,null,null,null,null,null,null,null,null,null,null,null,null,null,null,null,null,null,null,null,null,null,null,null,null,null,null,null,null,null,null,null,null,null,null,null,null,null,null,null,null,null,null,null,null,null,null,null,null,null,null,null,null,null,null,null,null,null,null,null,null,null,null,null,null,null,null,null,null,null,null,null,null,null,null,null,null,null,null,null,null,null,null,null,null,null,null,null,null,null,null,null,null,null,null,null,null,null,null,null,null,null,null,null,null,null,null,null,null,null,null,null,null,null,null,null,null,null,null,null,null,null,null,null,null,null,null,null,null,null,null,null,null,null,null,null,null,null,null,null,null,null,null,null,null,null,null,null,null,null,null,null,null,null,null,null,null,null,null,null,null,null,null,null,null,null,null,null,null,null,null,null,null,null,null,null,null,null,null,null,null,null,null,null,null,null,null,null,null,null,null,null,null,null,null,null,null,null,null,null,null,null,null,null,null,null,null,null,null,null,null,null,null,null,null,null,null,null,null,null,null,null,null,null,null,null,null,null,null,null,null,null,null,null,null,null,null,null,null,null,null,null,null,null,null,null,null,null,null,null,null,null,null,null,null,null,null,null,null,null,null,null,null,null,null,null,null,null,null,null,null,null,null,null,null,null,null,null,null,null,null,null,null,null,null,null,null,null,null,null,null,null,null,null,null,null,null,null,null,null,null,null,null,null,null,null,null,null,null,null,null,null,null,null,null,null,null,null,null,null,null,null,null,null,null,null,null,null,null,null,null,null,null,null,null,null,null,null,null,null,null,null,null,null,null,null,null,null,null,null,null,null,null,null,null,null,null,null,null,null,null,null,null,null,null,null,null,null,null,null,null,null,null,null,null,null,null,null,null,null,null,null,null,null,null,null,null,null,null,null,null,null,null,null,null,null,null,null,null,null,null,null,null,null,null,null,null,null,null,null,null,null,null,null,null,null,null,null,null,null,null,null,null,null,null,null,null,null,null,null,null,null,null,null,null,null,null,null,null,null,null,null,null,null,null,null,null,null,null,null,null,null,null,null,null,null,null,null,null,null,null,null,null,null,null,null,null,null,null,null,null,null,null,null,null,null,null,null,null,null,null,null,null,null,null,null,null,null,null,null,null,null,null,null,null,null,null,null,null,null,null,null,null,null,null,null,null,null,null,null,null,null,null,null,null,null,null,null,null,null,null,null,null,null,null,null,null,null,null,null,null,null,null,null,null,null,null,null,null,null,null,null,null,null,null,null,null,null,null,null,null,null,null,null,null,null,null,null,null,null,null,null,null,null,null,null,null,null,null,null,null,null,null,null,null,null,null,null,null,null,null,null,null,null,null,null,null,null,null,null,null,null,null,null,null,null,null,null,null,null,null,null,null,null,null,null,null,null,null,null,null,null,null,null,null,null,null,null,null,null,null,null,null,null,null,null,null,null,null,null,null,null,null,null,null,null,null,null,null,null,null,null,null,null,null,null,null,null,null,null,null,null,null,null,null,null,null,null,null,null,null,null,null,null,null,null,null,null,null,null,null,null,null,null,null,null,null,null,null,null,null,null,null,null,null,null,null,null,null,null,null,null,null,null,null,null,null,null,null,null,null,null,null,null,null,null,null,null,null,null,null,null,null,null,null,null,null,null,null,null,null,null,null,null,null,null,null,null,null,null,null,null,null,null,null,null,null,null,null,null,null,null,null,null,null,null,null,null,null,null,null,null,null,null,null,null,null,null,null,null,null,null,null,null,null,null,null,null,null,null,null,null,null,null,null,null,null,null,null,null,null,null,null,null,null,null,null,null,null,null,null,null,null,null,null,null,null,null,null,null,null,null,null,null,null,null,null,null,null,null,null,null,null,null,null,null,null,null,null,null,null,null,null,null,null,null,null,null,null,null,null,null,null,null,null,null,null,null,null,null,null,null,null,null,null,null,null,null,null,null,null,null,null,null,null,null,null,null,null,null,null,null,null,null,null,null,null,null,null,null,null,null,null,null,null,null,null,null,null,null,null,null,null,null,null,null,null,null,null,null,null,null,null,null,null,null,null,null,null,null,null,null,null,null,null,null,null,null,null,null,null,null,null,null,null,null,null,null,null,null,null,null,null,null,null,null,null,null,null,null,null,null,null,null,null,null,null,null,null,null,null,null,null,null,null,null,null,null,null,null,null,null,null,null,null,null,null,null,null,null,null,null,null,null,null,null,null,null,null,null,null,null,null,null,null,null,null,null,null,null,null,null,null,null,null,null,null,null,null,null,null,null,null,null,null,null,null,null,null,null,null,null,null,null,null,null,null,null,null,null,null,null,null,null,null,null,null,null,null,null,null,null,null,null,null,null,null,null,null,null,null,null,null,null,null,null,null,null,null,null,null,null,null,null,null,null,null,null,null,null,null,null,null,null,null,null,null,null,null,null,null,null,null,null,null,null,null,null,null,null,null,null,null,null,null,null,null,null,null,null,null,null,null,null,null,null,null,null,null,null,null,null,null,null,null,null,null,null,null,null,null,null,null,null,null,null,null,null,null,null,null,null,null,null,null,null,null,null,null,null,null,null,null,null,null,null,null,null,null,null,null,null,null,null,null,null,null,null,null,null,null,null,null,null,null,null,null,null,null,null,null,null,null,null,null,null,null,null,null,null,null,null,null,null,null,null,null,null,null,null,null,null,null,null,null,null,null,null,null,null,null,null,null,null,null,null,null,null,null,null,null,null,null,null,null,null,null,null,null,null,null,null,null,null,null,null,null,null,null,null,null,null,null,null,null,null,null,null,null,null,null,null,null,null,null,null,null,null,null,null,null,null,null,null,null,null,null,null,null,null,null,null,null,null,null,null,null,null,null,null,null,null,null,null,null,null,null,null,null,null,null,null,null,null,null,null,null,null,null,null,null,null,null,null,null,null,null,null,null,null,null,null,null,null,null,null,null,null,null,null,null,null,null,null,null,null,null,null,null,null,null,null,null,null,null,null,null,null,null,null,null,null,null,null,null,null,null,null,null,null,null,null,null,null,null,null,null,null,null,null,null,null,null,null,null,null,null,null,null,null,null,null,null,null,null,null,null,null,null,null,null,null,null,null,null,null,null,null,null,null,null,null,null,null,null,null,null,null,null,null,null,null,null,null,null,null,null,null,null,null,null,null,null,null,null,null,null,null,null,null,null,null,null,null,null,null,null,null,null,null,null,null,null,null,null,null,null,null,null,null,null,null,null,null,null,null,null,null,null,null,null,null,null,null,null,null,null,null,null,null,null,null,null,null,null,null,null,null,null,null,null,null,null,null,null,null,null,null,null,null,null,null,null,null,null,null,null,null,null,null,null,null,null,null,null,null,null,null,null,null,null,null,null,null,null,null,null,null,null,null,null,null,null,null,null,null,null,null,null,null,null,null,null,null,null,null,null,null,null,null,null,null,null,null,null,null,null,null,null,null,null,null,null,null,null,null,null,null,null,null,null,null,null,null,null,null,null,null,null,null,null,null,null,null,null,null,null,null,null,null,null,null,null,null,null,null,null,null,null,null,null,null,null,null,null,null,null,null,null,null,null,null,null,null,null,null,null,null,null,null,null,null,null,null,null,null,null,null,null,null,null,null,null,null,null,null,null,null,null,null,null,null,null,null,null,null,null,null,null,null,null,null,null,null,null,null,null,null,null,null,null,null,null,null,null,null,null,null,null,null,null,null,null,null,null,null,null,null,null,null,null,null,null,null,null,null,null,null,null,null,null,null,null,null,null,null,null,null,null,null,null,null,null,null,null,null,null,null,null,null,null,null,null,null,null,null,null,null,null,null,null,null,null,null,null,null,null,null,null,null,null,null,null,null,null,null,null,null,null,null,null,null,null,null,null,null,null,null,null,null,null,null,null,null,null,null,null,null,null,null,null,null,null,null,null,null,null,null,null,null,null,null,null,null,null,null,null,null,null,null,null,null,null,null,null,null,null,null,null,null,null,null,null,null,null,null,null,null,null,null,null,null,null,null,null,null,null,null,null,null,null,null,null,null,null,null,null,null,null,null,null,null,null,null,null,null,null,null,null,null,null,null,null,null,null,null,null,null,null,null,null,null,null,null,null,null,null,null,null,null,null,null,null,null,null,null,null,null,null,null,null,null,null,null,null,null,null,null,null,null,null,null,null,null,null,null,null,null,null,null,null,null,null,null,null,null,null,null,null,null,null,null,null,null,null,null,null,null,null,null,null,null,null,null,null,null,null,null,null,null,null,null,null,null,null,null,null,null,null,null,null,null,null,null,null,null,null,null,null,null,null,null,null,null,null,null,null,null,null,null,null,null,null,null,null,null,null,null,null,null,null,null,null,null,null,null,null,null,null,null,null,null,null,null,null,null,null,null,null,null,null,null,null,null,null,null,null,null,null,null,null,null,null,null,null,null,null,null,null,null,null,null,null,null,null,null,null,null,null,null,null,null,null,null,null,null,null,null,null,null,null,null,null,null,null,null,null,null,null,null,null,null,null,null,null,null,null,null,null,null,null,null,null,null,null,null,null,null,null,null,null,null,null,null,null,null,null,null,null,null,null,null,null,null,null,null,null,null,null,null,null,null,null,null,null,null,null,null,null,null,null,null,null,null,null,null,null,null,null,null,null,null,null,null,null,null,null,null,null,null,null,null,null,null,null,null,null,null,null,null,null,null,null,null,null,null,null,null,null,null,null,null,null,null,null,null,null,null,null,null,null,null,null,null,null,null,null,null,null,null,null,null,null,null,null,null,null,null,null,null,null,null,null,null,null,null,null,null,null,null,null,null,null,null,null,null,null,null,null,null,null,null,null,null,null,null,null,null,null,null,null,null,null,null,null,null,null,null,null,null,null,null,null,null,null,null,null,null,null,null,null,null,null,null,null,null,null,null,null,null,null,null,null,null,null,null,null,null,null,null,null,null,null,null,null,null,null,null,null,null,null,null,null,null,null,null,null,null,null,null,null,null,null,null,null,null,null,null,null,null,null,null,null,null,null,null,null,null,null,null,null,null,null,null,null,null,null,null,null,null,null,null,null,null,null,null,null,null,null,null,null,null,null,null,null,null,null,null,null,null,null,null,null,null,null,null,null,null,null,null,null,null,null,null,null,null,null,null,null,null,null,null,null,null,null,null,null,null,null,null,null,null,null,null,null,null,null,null,null,null,null,null,null,null,null,null,null,null,null,null,null,null,null,null,null,null,null,null,null,null,null,null,null,null,null,null,null,null,null,null,null,null,null,null,null,null,null,null,null,null,null,null,null,null,null,null,null,null,null,null,null,null,null,null,null,null,null,null,null,null,null,null,null,null,null,null,null,null,null,null,null,null,null,null,null,null,null,null,null,null,null,null,null,null,null,null,null,null,null,null,null,null,null,null,null,null,null,null,null,null,null,null,null,null,null,null,null,null,null,null,null,null,null,null,null,null,null,null,null,null,null,null,null,null,null,null,null,null,null,null,null,null,null,null,null,null,null,null,null,null,null,null,null,null,null,null,null,null,null,null,null,null,null,null,null,null,null,null,null,null,null,null,null,null,null,null,null,null,null,null,null,null,null,null,null,null,null,null,null,null,null,null,null,null,null,null,null,null,null,null,null,null,null,null,null,null,null,null,null,null,null,null,null,null,null,null,null,null,null,null,null,null,null,null,null,null,null,null,null,null,null,null,null,null,null,null,null,null,null,null,null,null,null,null,null,null,null,null,null,null,null,null,null,null,null,null,null,null,null,null,null,null,null,null,null,null,null,null,null,null,null,null,null,null,null,null,null,null,null,null,null,null,null,null,null,null,null,null,null,null,null,null,null,null,null,null,null,null,null,null,null,null,null,null,null,null,null,null,null,null,null,null,null,null,null,null,null,null,null,null,null,null,null,null,null,null,null,null,null,null,null,null,null,null,null,null,null,null,null,null,null,null,null,null,null,null,null,null,null,null,null,null,null,null,null,null,null,null,null,null,null,null,null,null,null,null,null,null,null,null,null,null,null,null,null,null,null,null,null,null,null,null,null,null,null,null,null,null,null,null,null,null,null,null,null,null,null,null,null,null,null,null,null,null,null,null,null,null,null,null,null,null,null,null,null,null,null,null,null,null,null,null,null,null,null,null,null,null,null,null,null,null,null,null,null,null,null,null,null,null,null,null,null,null,null,null,null,null,null,null,null,null,null,null,null,null,null,null,null,null,null,null,null,null,null,null,null,null,null,null,null,null,null,null,null,null,null,null,null,null,null,null,null,null,null,null,null,null,null,null,null,null,null,null,null,null,null,null,null,null,null,null,null,null,null,null,null,null,null,null,null,null,null,null,null,null,null,null,null,null,null,null,null,null,null,null,null,null,null,null,null,null,null,null,null,null,null,null,null,null,null,null,null,null,null,null,null,null,null,null,null,null,null,null,null,null,null,null,null,null,null,null,null,null,null,null,null,null,null,null,null,null,null,null,null,null,null,null,null,null,null,null,null,null,null,null,null,null,null,null,null,null,null,null,null,null,null,null,null,null,null,null,null,null,null,null,null,null,null,null,null,null,null,null,null,null,null,null,null,null,null,null,null,null,null,null,null,null,null,null,null,null,null,null,null,null,null,null,null,null,null,null,null,null,null,null,null,null,null,null,null,null,null,null,null,null,null,null,null,null,null,null,null,null,null,null,null,null,null,null,null,null,null,null,null,null,null,null,null,null,null,null,null,null,null,null,null,null,null,null,null,null,null,null,null,null,null,null,null,null,null,null,null,null,null,null,null,null,null,null,null,null,null,null,null,null,null,null,null,null,null,null,null,null,null,null,null,null,null,null,null,null,null,null,null,null,null,null,null,null,null,null,null,null,null,null,null,null,null,null,null,null,null,null,null,null,null,null,null,null,null,null,null,null,null,null,null,null,null,null,null,null,null,null,null,null,null,null,null,null,null,null,null,null,null,null,null,null,null,null,null,null,null,null,null,null,null,null,null,null,null,null,null,null,null,null,null,null,null,null,null,null,null,null,null,null,null,null,null,null,null,null,null,null,null,null,null,null,null,null,null,null,null,null,null,null,null,null,null,null,null,null,null,null,null,null,null,null,null,null,null,null,null,null,null,null,null,null,null,null,null,null,null,null,null,null,null,null,null,null,null,null,null,null,null,null,null,null,null,null,null,null,null,null,null,null,null,null,null,null,null,null,null,null,null,null,null,null,null,null,null,null,null,null,null,null,null,null,null,null,null,null,null,null,null,null,null,null,null,null,null,null,null,null,null,null,null,null,null,null,null,null,null,null,null,null,null,null,null,null,null,null,null,null,null,null,null,null,null,null,null,null,null,null,null,null,null,null,null,null,null,null,null,null,null,null,null,null,null,null,null,null,null,null,null,null,null,null,null,null,null,null,null,null,null,null,null,null,null,null,null,null,null,null,null,null,null,null,null,null,null,null,null,null,null,null,null,null,null,null,null,null,null,null,null,null,null,null,null,null,null,null,null,null,null,null,null,null,null,null,null,null,null,null,null,null,null,null,null,null,null,null,null,null,null,null,null,null,null,null,null,null,null,null,null,null,null,null,null,null,null,null,null,null,null,null,null,null,null,null,null,null,null,null,null,null,null,null,null,null,null,null,null,null,null,null,null,null,null,null,null,null,null,null,null,null,null,null,null,null,null,null,null,null,null,null,null,null,null,null,null,null,null,null,null,null,null,null,null,null,null,null,null,null,null,null,null,null,null,null,null,null,null,null,null,null,null,null,null,null,null,null,null,null,null,null,null,null,null,null,null,null,null,null,null,null,null,null,null,null,null,null,null,null,null,null,null,null,null,null,null,null,null,null,null,null,null,null,null,null,null,null,null,null,null,null,null,null,null,null,null,null,null,null,null,null,null,null,null,null,null,null,null,null,null,null,null,null,null,null,null,null,null,null,null,null,null,null,null,null,null,null,null,null,null,null,null,null,null,null,null,null,null,null,null,null,null,null,null,null,null,null,null,null,null,null,null,null,null,null,null,null,null,null,null,null,null,null,null,null,null,null,null,null,null,null,null,null,null,null,null,null,null,null,null,null,null,null,null,null,null,null,null,null,null,null,null,null,null,null,null,null,null,null,null,null,null,null,null,null,null,null,null,null,null,null,null,null,null,null,null,null,null,null,null,null,null,null,null,null,null,null,null,null,null,null,null,null,null,null,null,null,null,null,null,null,null,null,null,null,null,null,null,null,null,null,null,null,null,null,null,null,null,null,null,null,null,null,null,null,null,null,null,null,null,null,null,null,null,null,null,null,null,null,null,null,null,null,null,null,null,null,null,null,null,null,null,null,null,null,null,null,null,null,null,null,null,null,null,null,null,null,null,null,null,null,null,null,null,null,null,null,null,null,null,null,null,null,null,null,null,null,null,null,null,null,null,null,null,null,null,null,null,null,null,null,null,null,null,null,null,null,null,null,null,null,null,null,null,null,null,null,null,null,null,null,null,null,null,null,null,null,null,null,null,null,null,null,null,null,null,null,null,null,null,null,null,null,null,null,null,null,null,null,null,null,null,null,null,null,null,null,null,null,null,null,null,null,null,null,null,null,null,null,null,null,null,null,null,null,null,null,null,null,null,null,null,null,null,null,null,null,null,null,null,null,null,null,null,null,null,null,null,null,null,null,null,null,null,null,null,null,null,null,null,null,null,null,null,null,null,null,null,null,null,null,null,null,null,null,null,null,null,null,null,null,null,null,null,null,null,null,null,null,null,null,null,null,null,null,null,null,null,null,null,null,null,null,null,null,null,null,null,null,null,null,null,null,null,null,null,null,null,null,null,null,null,null,null,null,null,null,null,null,null,null,null,null,null,null,null,null,null,null,null,null,null,null,null,null,null,null,null,null,null,null,null,null,null,null,null,null,null,null,null,null,null,null,null,null,null,null,null,null,null,null,null,null,null,null,null,null,null,null,null,null,null,null,null,null,null,null,null,null,null,null,null,null,null,null,null,null,null,null,null,null,null,null,null,null,null,null,null,null,null,null,null,null,null,null,null,null,null,null,null,null,null,null,null,null,null,null,null,null,null,null,null,null,null,null,null,null,null,null,null,null,null,null,null,null,null,null,null,null,null,null,null,null,null,null,null,null,null,null,null,null,null,null,null,null,null,null,null,null,null,null,null,null,null,null,null,null,null,null,null,null,null,null,null,null,null,null,null,null,null,null,null,null,null,null,null,null,null,null,null,null,null,null,null,null,null,null,null,null,null,null,null,null,null,null,null,null,null,null,null,null,null,null,null,null,null,null,null,null,null,null,null,null,null,null,null,null,null,null,null,null,null,null,null,null,null,null,null,null,null,null,null,null,null,null,null,null,null,null,null,null,null,null,null,null,null,null,null,null,null,null,null,null,null,null,null,null,null,null,null,null,null,null,null,null,null,null,null,null,null,null,null,null,null,null,null,null,null,null,null,null,null,null,null,null,null,null,null,null,null,null,null,null,null,null,null,null,null,null,null,null,null,null,null,null,null,null,null,null,null,null,null,null,null,null,null,null,null,null,null,null,null,null,null,null,null,null,null,null,null,null,null,null,null,null,null,null,null,null,null,null,null,null,null,null,null,null,null,null,null,null,null,null,null,null,null,null,null,null,null,null,null,null,null,null,null,null,null,null,null,null,null,null,null,null,null,null,null,null,null,null,null,null,null,null,null,null,null,null,null,null,null,null,null,null,null,null,null,null,null,null,null,null,null,null,null,null,null,null,null,null,null,null,null,null,null,null,null,null,null,null,null,null,null,null,null,null,null,null,null,null,null,null,null,null,null,null,null,null,null,null,null,null,null,null,null,null,null,null,null,null,null,null,null,null,null,null,null,null,null,null,null,null,null,null,null,null,null,null,null,null,null,null,null,null,null,null,null,null,null,null,null,null,null,null,null,null,null,null,null,null,null,null,null,null,null,null,null,null,null,null,null,null,null,null,null,null,null,null,null,null,null,null,null,null,null,null,null,null,null,null,null,null,null,null,null,null,null,null,null,null,null,null,null,null,null,null,null,null,null,null,null,null,null,null,null,null,null,null,null,null,null,null,null,null,null,null,null,null,null,null,null,null,null,null,null,null,null,null,null,null,null,null,null,null,null,null,null,null,null,null,null,null,null,null,null,null,null,null,null,null,null,null,null,null,null,null,null,null,null,null,null,null,null,null,null,null,null,null,null,null,null,null,null,null,null,null,null,null,null,null,null,null,null,null,null,null,null,null,null,null,null,null,null,null,null,null,null,null,null,null,null,null,null,null,null,null,null,null,null,null,null,null,null,null,null,null,null,null,null,null,null,null,null,null,null,null,null,null,null,null,null,null,null,null,null,null,null,null,null,null,null,null,null,null,null,null,null,null,null,null,null,null,null,null,null,null,null,null,null,null,null,null,null,null,null,null,null,null,null,null,null,null,null,null,null,null,null,null,null,null,null,null,null,null,null,null,null,null,null,null,null,null,null,null,null,null,null,null,null,null,null,null,null,null,null,null,null,null,null,null,null,null,null,null,null,null,null,null,null,null,null,null,null,null,null,null,null,null,null,null,null,null,null,null,null,null,null,null,null,null,null,null,null,null,null,null,null,null,null,null,null,null,null,null,null,null,null,null,null,null,null,null,null,null,null,null,null,null,null,null,null,null,null,null,null,null,null,null,null,null,null,null,null,null,null,null,null,null,null,null,null,null,null,null,null,null,null,null,null,null,null,null,null,null,null,null,null,null,null,null,null,null,null,null,null,null,null,null,null,null,null,null,null,null,null,null,null,null,null,null,null,null,null,null,null,null,null,null,null,null,null,null,null,null,null,null,null,null,null,null,null,null,null,null,null,null,null,null,null,null,null,null,null,null,null,null,null,null,null,null,null,null,null,null,null,null,null,null,null,null,null,null,null,null,null,null,null,null,null,null,null,null,null,null,null,null,null,null,null,null,null,null,null,null,null,null,null,null,null,null,null,null,null,null,null,null,null,null,null,null,null,null,null,null,null,null,null,null,null,null,null,null,null,null,null,null,null,null,null,null,null,null,null,null,null,null,null,null,null,null,null,null,null,null,null,null,null,null,null,null,null,null,null,null,null,null,null,null,null,null,null,null,null,null,null,null,null,null,null,null,null,null,null,null,null,null,null,null,null,null,null,null,null,null,null,null,null,null,null,null,null,null,null,null,null,null,null,null,null,null,null,null,null,null,null,null,null,null,null,null,null,null,null,null,null,null,null,null,null,null,null,null,null,null,null,null,null,null,null,null,null,null,null,null,null,null,null,null,null,null,null,null,null,null,null,null,null,null,null,null,null,null,null,null,null,null,null,null,null,null,null,null,null,null,null,null,null,null,null,null,null,null,null,null,null,null,null,null,null,null,null,null,null,null,null,null,null,null,null,null,null,null,null,null,null,null,null,null,null,null,null,null,null,null,null,null,null,null,null,null,null,null,null,null,null,null,null,null,null,null,null,null,null,null,null,null,null,null,null,null,null,null,null,null,null,null,null,null,null,null,null,null,null,null,null,null,null,null,null,null,null,null,null,null,null,null,null,null,null,null,null,null,null,null,null,null,null,null,null,null,null,null,null,null,null,null,null,null,null,null,null,null,null,null,null,null,null,null,null,null,null,null,null,null,null,null,null,null,null,null,null,null,null,null,null,null,null,null,null,null,null,null,null,null,null,null,null,null,null,null,null,null,null,null,null,null,null,null,null,null,null,null,null,null,null,null,null,null,null,null,null,null,null,null,null,null,null,null,null,null,null,null,null,null,null,null,null,null,null,null,null,null,null,null,null,null,null,null,null,null,null,null,null,null,null,null,null,null,null,null,null,null,null,null,null,null,null,null,null,null,null,null,null,null,null,null,null,null,null,null,null,null,null,null,null,null,null,null,null,null,null,null,null,null,null,null,null,null,null,null,null,null,null,null,null,null,null,null,null,null,null,null,null,null,null,null,null,null,null,null,null,null,null,null,null,null,null,null,null,null,null,null,null,null,null,null,null,null,null,null,null,null,null,null,null,null,null,null,null,null,null,null,null,null,null,null,null,null,null,null,null,null,null,null,null,null,null,null,null,null,null,null,null,null,null,null,null,null,null,null,null,null,null,null,null,null,null,null,null,null,null,null,null,null,null,null,null,null,null,null,null,null,null,null,null,null,null,null,null,null,null,null,null,null,null,null,null,null,null,null,null,null,null,null,null,null,null,null,null,null,null,null,null,null,null,null,null,null,null,null,null,null,null,null,null,null,null,null,null,null,null,null,null,null,null,null,null,null,null,null,null,null,null,null,null,null,null,null,null,null,null,null,null,null,null,null,null,null,null,null,null,null,null,null,null,null,null,null,null,null,null,null,null,null,null,null,null,null,null,null,null,null,null,null,null,null,null,null,null,null,null,null,null,null,null,null,null,null,null,null,null,null,null,null,null,null,null,null,null,null,null,null,null,null,null,null,null,null,null,null,null,null,null,null,null,null,null,null,null,null,null,null,null,null,null,null,null,null,null,null,null,null,null,null,null,null,null,null,null,null,null,null,null,null,null,null,null,null,null,null,null,null,null,null,null,null,null,null,null,null,null,null,null,null,null,null,null,null,null,null,null,null,null,null,null,null,null,null,null,null,null,null,null,null,null,null,null,null,null,null,null,null,null,null,null,null,null,null,null,null,null,null,null,null,null,null,null,null,null,null,null,null,null,null,null,null,null,null,null,null,null,null,null,null,null,null,null,null,null,null,null,null,null,null,null,null,null,null,null,null,null,null,null,null,null,null,null,null,null,null,null,null,null,null,null,null,null,null,null,null,null,null,null,null,null,null,null,null,null,null,null,null,null,null,null,null,null,null,null,null,null,null,null,null,null,null,null,null,null,null,null,null,null,null,null,null,null,null,null,null,null,null,null,null,null,null,null,null,null,null,null,null,null,null,null,null,null,null,null,null,null,null,null,null,null,null,null,null,null,null,null,null,null,null,null,null,null,null,null,null,null,null,null,null,null,null,null,null,null,null,null,null,null,null,null,null,null,null,null,null,null,null,null,null,null,null,null,null,null,null,null,null,null,null,null,null,null,null,null,null,null,null,null,null,null,null,null,null,null,null,null,null,null,null,null,null,null,null,null,null,null,null,null,null,null,null,null,null,null,null,null,null,null,null,null,null,null,null,null,null,null,null,null,null,null,null,null,null,null,null,null,null,null,null,null,null,null,null,null,null,null,null,null,null,null,null,null,null,null,null,null,null,null,null,null,null,null,null,null,null,null,null,null,null,null,null,null,null,null,null,null,null,null,null,null,null,null,null,null,null,null,null,null,null,null,null,null,null,null,null,null,null,null,null,null,null,null,null,null,null,null,null,null,null,null,null,null,null,null,null,null,null,null,null,null,null,null,null,null,null,null,null,null,null,null,null,null,null,null,null,null,null,null,null,null,null,null,null,null,null,null,null,null,null,null,null,null,null,null,null,null,null,null,null,null,null,null,null,null,null,null,null,null,null,null,null,null,null,null,null,null,null,null,null,null,null,null,null,null,null,null,null,null,null,null,null,null,null,null,null,null,null,null,null,null,null,null,null,null,null,null,null,null,null,null,null,null,null,null,null,null,null,null,null,null,null,null,null,null,null,null,null,null,null,null,null,null,null,null,null,null,null,null,null,null,null,null,null,null,null,null,null,null,null,null,null,null,null,null,null,null,null,null,null,null,null,null,null,null,null,null,null,null,null,null,null,null,null,null,null,null,null,null,null,null,null,null,null,null,null,null,null,null,null,null,null,null,null,null,null,null,null,null,null,null,null,null,null,null,null,null,null,null,null,null,null,null,null,null,null,null,null,null,null,null,null,null,null,null,null,null,null,null,null,null,null,null,null,null,null,null,null,null,null,null,null,null,null,null,null,null,null,null,null,null,null,null,null,null,null,null,null,null,null,null,null,null,null,null,null,null,null,null,null,null,null,null,null,null,null,null,null,null,null,null,null,null,null,null,null,null,null,null,null,null,null,null,null,null,null,null,null,null,null,null,null,null,null,null,null,null,null,null,null,null,null,null,null,null,null,null,null,null,null,null,null,null,null,null,null,null,null,null,null,null,null,null,null,null,null,null,null,null,null,null,null,null,null,null,null,null,null,null,null,null,null,null,null,null,null,null,null,null,null,null,null,null,null,null,null,null,null,null,null,null,null,null,null,null,null,null,null,null,null,null,null,null,null,null,null,null,null,null,null,null,null,null,null,null,null,null,null,null,null,null,null,null,null,null,null,null,null,null,null,null,null,null,null,null,null,null,null,null,null,null,null,null,null,null,null,null,null,null,null,null,null,null,null,null,null,null,null,null,null,null,null,null,null,null,null,null,null,null,null,null,null,null,null,null,null,null,null,null,null,null,null,null,null,null,null,null,null,null,null,null,null,null,null,null,null,null,null,null,null,null,null,null,null,null,null,null,null,null,null,null,null,null,null,null,null,null,null,null,null,null,null,null,null,null,null,null,null,null,null,null,null,null,null,null,null,null,null,null,null,null,null,null,null,null,null,null,null,null,null,null,null,null,null,null,null,null,null,null,null,null,null,null,null,null,null,null,null,null,null,null,null,null,null,null,null,null,null,null,null,null,null,null,null,null,null,null,null,null,null,null,null,null,null,null,null,null,null,null,null,null,null,null,null,null,null,null,null,null,null,null,null,null,null,null,null,null,null,null,null,null,null,null,null,null,null,null,null,null,null,null,null,null,null,null,null,null,null,null,null,null,null,null,null,null,null,null,null,null,null,null,null,null,null,null,null,null,null,null,null,null,null,null,null,null,null,null,null,null,null,null,null,null,null,null,null,null,null,null,null,null,null,null,null,null,null,null,null,null,null,null,null,null,null,null,null,null,null,null,null,null,null,null,null,null,null,null,null,null,null,null,null,null,null,null,null,null,null,null,null,null,null,null,null,null,null,null,null,null,null,null,null,null,null,null,null,null,null,null,null,null,null,null,null,null,null,null,null,null,null,null,null,null,null,null,null,null,null,null,null,null,null,null,null,null,null,null,null,null,null,null,null,null,null,null,null,null,null,null,null,null,null,null,null,null,null,null,null,null,null,null,null,null,null,null,null,null,null,null,null,null,null,null,null,null,null,null,null,null,null,null,null,null,null,null,null,null,null,null,null,null,null,null,null,null,null,null,null,null,null,null,null,null,null,null,null,null,null,null,null,null,null,null,null,null,null,null,null,null,null,null,null,null,null,null,null,null,null,null,null,null,null,null,null,null,null,null,null,null,null,null,null,null,null,null,null,null,null,null,null,null,null,null,null,null,null,null,null,null,null,null,null,null,null,null,null,null,null,null,null,null,null,null,null,null,null,null,null,null,null,null,null,null,null,null,null,null,null,null,null,null,null,null,null,null,null,null,null,null,null,null,null,null,null,null,null,null,null,null,null,null,null,null,null,null,null,null,null,null,null,null,null,null,null,null,null,null,null,null,null,null,null,null,null,null,null,null,null,null,null,null,null,null,null,null,null,null,null,null,null,null,null,null,null,null,null,null,null,null,null,null,null,null,null,null,null,null,null,null,null,null,null,null,null,null,null,null,null,null,null,null,null,null,null,null,null,null,null,null,null,null,null,null,null,null,null,null,null,null,null,null,null,null,null,null,null,null,null,null,null,null,null,null,null,null,null,null,null,null,null,null,null,null,null,null,null,null,null,null,null,null,null,null,null,null,null,null,null,null,null,null,null,null,null,null,null,null,null,null,null,null,null,null,null,null,null,null,null,null,null,null,null,null,null,null,null,null,null,null,null,null,null,null,null,null,null,null,null,null,null,null,null,null,null,null,null,null,null,null,null,null,null,null,null,null,null,null,null,null,null,null,null,null,null,null,null,null,null,null,null,null,null,null,null,null,null,null,null,null,null,null,null,null,null,null,null,null,null,null,null,null,null,null,null,null,null,null,null,null,null,null,null,null,null,null,null,null,null,null,null,null,null,null,null,null,null,null,null,null,null,null,null,null,null,null,null,null,null,null,null,null,null,null,null,null,null,null,null,null,null,null,null,null,null,null,null,null,null,null,null,null,null,null,null,null,null,null,null,null,null,null,null,null,null,null,null,null,null,null,null,null,null,null,null,null,null,null,null,null,null,null,null,null,null,null,null,null,null,null,null,null,null,null,null,null,null,null,null,null,null,null,null,null,null,null,null,null,null,null,null,null,null,null,null,null,null,null,null,null,null,null,null,null,null,null,null,null,null,null,null,null,null,null,null,null,null,null,null,null,null,null,null,null,null,null,null,null,null,null,null,null,null,null,null,null,null,null,null,null,null,null,null,null,null,null,null,null,null,null,null,null,null,null,null,null,null,null,null,null,null,null,null,null,null,null,null,null,null,null,null,null,null,null,null,null,null,null,null,null,null,null,null,null,null,null,null,null,null,null,null,null,null,null,null,null,null,null,null,null,null,null,null,null,null,null,null,null,null,null,null,null,null,null,null,null,null,null,null,null,null,null,null,null,null,null,null,null,null,null,null,null,null,null,null,null,null,null,null,null,null,null,null,null,null,null,null,null,null,null,null,null,null,null,null,null,null,null,null,null,null,null,null,null,null,null,null,null,null,null,null,null,null,null,null,null,null,null,null,null,null,null,null,null,null,null,null,null,null,null,null,null,null,null,null,null,null,null,null,null,null,null,null,null,null,null,null,null,null,null,null,null,null,null,null,null,null,null,null,null,null,null,null,null,null,null,null,null,null,null,null,null,null,null,null,null,null,null,null,null,null,null,null,null,null,null,null,null,null,null,null,null,null,null,null,null,null,null,null,null,null,null,null,null,null,null,null,null,null,null,null,null,null,null,null,null,null,null,null,null,null,null,null,null,null,null,null,null,null,null,null,null,null,null,null,null,null,null,null,null,null,null,null,null,null,null,null,null,null,null,null,null,null,null,null,null,null,null,null,null,null,null,null,null,null,null,null,null,null,null,null,null,null,null,null,null,null,null,null,null,null,null,null,null,null,null,null,null,null,null,null,null,null,null,null,null,null,null,null,null,null,null,null,null,null,null,null,null,null,null,null,null,null,null,null,null,null,null,null,null,null,null,null,null,null,null,null,null,null,null,null,null,null,null,null,null,null,null,null,null,null,null,null,null,null,null,null,null,null,null,null,null,null,null,null,null,null,null,null,null,null,null,null,null,null,null,null,null,null,null,null,null,null,null,null,null,null,null,null,null,null,null,null,null,null,null,null,null,null,null,null,null,null,null,null,null,null,null,null,null,null,null,null,null,null,null,null,null,null,null,null,null,null,null,null,null,null,null,null,null,null,null,null,null,null,null,null,null,null,null,null,null,null,null,null,null,null,null,null,null,null,null,null,null,null,null,null,null,null,null,null,null,null,null,null,null,null,null,null,null,null,null,null,null,null,null,null,null,null,null,null,null,null,null,null,null,null,null,null,null,null,null,null,null,null,null,null,null,null,null,null,null,null,null,null,null,null,null,null,null,null,null,null,null,null,null,null,null,null,null,null,null,null,null,null,null,null,null,null,null,null,null,null,null,null,null,null,null,null,null,null,null,null,null,null,null,null,null,null,null,null,null,null,null,null,null,null,null,null,null,null,null,null,null,null,null,null,null,null,null,null,null,null,null,null,null,null,null,null,null,null,null,null,null,null,null,null,null,null,null,null,null,null,null,null,null,null,null,null,null,null,null,null,null,null,null,null,null,null,null,null,null,null,null,null,null,null,null,null,null,null,null,null,null,null,null,null,null,null,null,null,null,null,null,null,null,null,null,null,null,null,null,null,null,null,null,null,null,null,null,null,null,null,null,null,null,null,null,null,null,null,null,null,null,null,null,null,null,null,null,null,null,null,null,null,null,null,null,null,null,null,null,null,null,null,null,null,null,null,null,null,null,null,null,null,null,null,null,null,null,null,null,null,null,null,null,null,null,null,null,null,null,null,null,null,null,null,null,null,null,null,null,null,null,null,null,null,null,null,null,null,null,null,null,null,null,null,null,null,null,null,null,null,null,null,null,null,null,null,null,null,null,null,null,null,null,null,null,null,null,null,null,null,null,null,null,null,null,null,null,null,null,null,null,null,null,null,null,null,null,null,null,null,null,null,null,null,null,null,null,null,null,null,null,null,null,null,null,null,null,null,null,null,null,null,null,null,null,null,null,null,null,null,null,null,null,null,null,null,null,null,null,null,null,null,null,null,null,null,null,null,null,null,null,null,null,null,null,null,null,null,null,null,null,null,null,null,null,null,null,null,null,null,null,null,null,null,null,null,null,null,null,null,null,null,null,null,null,null,null,null,null,null,null,null,null,null,null,null,null,null,null,null,null,null,null,null,null,null,null,null,null,null,null,null,null,null,null,null,null,null,null,null,null,null,null,null,null,null,null,null,null,null,null,null,null,null,null,null,null,null,null,null,null,null,null,null,null,null,null,null,null,null,null,null,null,null,null,null,null,null,null,null,null,null,null,null,null,null,null,null,null,null,null,null,null,null,null,null,null,null,null,null,null,null,null,null,null,null,null,null,null,null,null,null,null,null,null,null,null,null,null,null,null,null,null,null,null,null,null,null,null,null,null,null,null,null,null,null,null,null,null,null,null,null,null,null,null,null,null,null,null,null,null,null,null,null,null,null,null,null,null,null,null,null,null,null,null,null,null,null,null,null,null,null,null,null,null,null,null,null,null,null,null,null,null,null,null,null,null,null,null,null,null,null,null,null,null,null,null,null,null,null,null,null,null,null,null,null,null,null,null,null,null,null,null,null,null,null,null,null,null,null,null,null,null,null,null,null,null,null,null,null,null,null,null,null,null,null,null,null,null,null,null,null,null,null,null,null,null,null,null,null,null,null,null,null,null,null,null,null,null,null,null,null,null,null,null,null,null,null,null,null,null,null,null,null,null,null,null,null,null,null,null,null,null,null,null,null,null,null,null,null,null,null,null,null,null,null,null,null,null,null,null,null,null,null,null,null,null,null,null,null,null,null,null,null,null,null,null,null,null,null,null,null,null,null,null,null,null,null,null,null,null,null,null,null,null,null,null,null,null,null,null,null,null,null,null,null,null,null,null,null,null,null,null,null,null,null,null,null,null,null,null,null,null,null,null,null,null,null,null,null,null,null,null,null,null,null,null,null,null,null,null,null,null,null,null,null,null,null,null,null,null,null,null,null,null,null,null,null,null,null,null,null,null,null,null,null,null,null,null,null,null,null,null,null,null,null,null,null,null,null,null,null,null,null,null,null,null,null,null,null,null,null,null,null,null,null,null,null,null,null,null,null,null,null,null,null,null,null,null,null,null,null,null,null,null,null,null,null,null,null,null,null,null,null,null,null,null,null,null,null,null,null,null,null,null,null,null,null,null,null,null,null,null,null,null,null,null,null,null,null,null,null,null,null,null,null,null,null,null,null,null,null,null,null,null,null,null,null,null,null,null,null,null,null,null,null,null,null,null,null,null,null,null,null,null,null,null,null,null,null,null,null,null,null,null,null,null,null,null,null,null,null,null,null,null,null,null,null,null,null,null,null,null,null,null,null,null,null,null,null,null,null,null,null,null,null,null,null,null,null,null,null,null,null,null,null,null,null,null,null,null,null,null,null,null,null,null,null,null,null,null,null,null,null,null,null,null,null,null,null,null,null,null,null,null,null,null,null,null,null,null,null,null,null,null,null,null,null,null,null,null,null,null,null,null,null,null,null,null,null,null,null,null,null,null,null,null,null,null,null,null,null,null,null,null,null,null,null,null,null,null,null,null,null,null,null,null,null,null,null,null,null,null,null,null,null,null,null,null,null,null,null,null,null,null,null,null,null,null,null,null,null,null,null,null,null,null,null,null,null,null,null,null,null,null,null,null,null,null,null,null,null,null,null,null,null,null,null,null,null,null,null,null,null,null,null,null,null,null,null,null,null,null,null,null,null,null,null,null,null,null,null,null,null,null,null,null,null,null,null,null,null,null,null,null,null,null,null,null,null,null,null,null,null,null,null,null,null,null,null,null,null,null,null,null,null,null,null,null,null,null,null,null,null,null,null,null,null,null,null,null,null,null,null,null,null,null,null,null,null,null,null,null,null,null,null,null,null,null,null,null,null,null,null,null,null,null,null,null,null,null,null,null,null,null,null,null,null,null,null,null,null,null,null,null,null,null,null,null,null,null,null,null,null,null,null,null,null,null,null,null,null,null,null,null,null,null,null,null,null,null,null,null,null,null,null,null,null,null,null,null,null,null,null,null,null,null,null,null,null,null,null,null,null,null,null,null,null,null,null,null,null,null,null,null,null,null,null,null,null,null,null,null,null,null,null,null,null,null,null,null,null,null,null,null,null,null,null,null,null,null,null,null,null,null,null,null,null,null,null,null,null,null,null,null,null,null,null,null,null,null,null,null,null,null,null,null,null,null,null,null,null,null,null,null,null,null,null,null,null,null,null,null,null,null,null,null,null,null,null,null,null,null,null,null,null,null,null,null,null,null,null,null,null,null,null,null,null,null,null,null,null,null,null,null,null,null,null,null,null,null,null,null,null,null,null,null,null,null,null,null,null,null,null,null,null,null,null,null,null,null,null,null,null,null,null,null,null,null,null,null,null,null,null,null,null,null,null,null,null,null,null,null,null,null,null,null,null,null,null,null,null,null,null,null,null,null,null,null,null,null,null,null,null,null,null,null,null,null,null,null,null,null,null,null,null,null,null,null,null,null,null,null,null,null,null,null,null,null,null,null,null,null,null,null,null,null,null,null,null,null,null,null,null,null,null,null,null,null,null,null,null,null,null,null,null,null,null,null,null,null,null,null,null,null,null,null,null,null,null,null,null,null,null,null,null,null,null,null,null,null,null,null,null,null,null,null,null,null,null,null,null,null,null,null,null,null,null,null,null,null,null,null,null,null,null,null,null,null,null,null,null,null,null,null,null,null,null,null,null,null,null,null,null,null,null,null,null,null,null,null,null,null,null,null,null,null,null,null,null,null,null,null,null,null,null,null,null,null,null,null,null,null,null,null,null,null,null,null,null,null,null,null,null,null,null,null,null,null,null,null,null,null,null,null,null,null,null,null,null,null,null,null,null,null,null,null,null,null,null,null,null,null,null,null,null,null,null,null,null,null,null,null,null,null,null,null,null,null,null,null,null,null,null,null,null,null,null,null,null,null,null,null,null,null,null,null,null,null,null,null,null,null,null,null,null,null,null,null,null,null,null,null,null,null,null,null,null,null,null,null,null,null,null,null,null,null,null,null,null,null,null,null,null,null,null,null,null,null,null,null,null,null,null,null,null,null,null,null,null,null,null,null,null,null,null,null,null,null,null,null,null,null,null,null,null,null,null,null,null,null,null,null,null,null,null,null,null,null,null,null,null,null,null,null,null,null,null,null,null,null,null,null,null,null,null,null,null,null,null,null,null,null,null,null,null,null,null,null,null,null,null,null,null,null,null,null,null,null,null,null,null,null,null,null,null,null,null,null,null,null,null,null,null,null,null,null,null,null,null,null,null,null,null,null,null,null,null,null,null,null,null,null,null,null,null,null,null,null,null,null,null,null,null,null,null,null,null,null,null,null,null,null,null,null,null,null,null,null,null,null,null,null,null,null,null,null,null,null,null,null,null,null,null,null,null,null,null,null,null,null,null,null,null,null,null,null,null,null,null,null,null,null,null,null,null,null,null,null,null,null,null,null,null,null,null,null,null,null,null,null,null,null,null,null,null,null,null,null,null,null,null,null,null,null,null,null,null,null,null,null,null,null,null,null,null,null,null,null,null,null,null,null,null,null,null,null,null,null,null,null,null,null,null,null,null,null,null,null,null,null,null,null,null,null,null,null,null,null,null,null,null,null,null,null,null,null,null,null,null,null,null,null,null,null,null,null,null,null,null,null,null,null,null,null,null,null,null,null,null,null,null,null,null,null,null,null,null,null,null,null,null,null,null,null,null,null,null,null,null,null,null,null,null,null,null,null,null,null,null,null,null,null,null,null,null,null,null,null,null,null,null,null,null,null,null,null,null,null,null,null,null,null,null,null,null,null,null,null,null,null,null,null,null,null,null,null,null,null,null,null,null,null,null,null,null,null,null,null,null,null,null,null,null,null,null,null,null,null,null,null,null,null,null,null,null,null,null,null,null,null,null,null,null,null,null,null,null,null,null,null,null,null,null,null,null,null,null,null,null,null,null,null,null,null,null,null,null,null,null,null,null,null,null,null,null,null,null,null,null,null,null,null,null,null,null,null,null,null,null,null,null,null,null,null,null,null,null,null,null,null,null,null,null,null,null,null,null,null,null,null,null,null,null,null,null,null,null,null,null,null,null,null,null,null,null,null,null,null,null,null,null,null,null,null,null,null,null,null,null,null,null,null,null,null,null,null,null,null,null,null,null,null,null,null,null,null,null,null,null,null,null,null,null,null,null,null,null,null,null,null,null,null,null,null,null,null,null,null,null,null,null,null,null,null,null,null,null,null,null,null,null,null,null,null,null,null,null,null,null,null,null,null,null,null,null,null,null,null,null,null,null,null,null,null,null,null,null,null,null,null,null,null,null,null,null,null,null,null,null,null,null,null,null,null,null,null,null,null,null,null,null,null,null,null,null,null,null,null,null,null,null,null,null,null,null,null,null,null,null,null,null,null,null,null,null,null,null,null,null,null,null,null,null,null,null,null,null,null,null,null,null,null,null,null,null,null,null,null,null,null,null,null,null,null,null,null,null,null,null,null,null,null,null,null,null,null,null,null,null,null,null,null,null,null,null,null,null,null,null,null,null,null,null,null,null,null,null,null,null,null,null,null,null,null,null,null,null,null,null,null,null,null,null,null,null,null,null,null,null,null,null,null,null,null,null,null,null,null,null,null,null,null,null,null,null,null,null,null,null,null,null,null,null,null,null,null,null,null,null,null,null,null,null,null,null,null,null,null,null,null,null,null,null,null,null,null,null,null,null,null,null,null,null,null,null,null,null,null,null,null,null,null,null,null,null,null,null,null,null,null,null,null,null,null,null,null,null,null,null,null,null,null,null,null,null,null,null,null,null,null,null,null,null,null,null,null,null,null,null,null,null,null,null,null,null,null,null,null,null,null,null,null,null,null,null,null,null,null,null,null,null,null,null,null,null,null,null,null,null,null,null,null,null,null,null,null,null,null,null,null,null,null,null,null,null,null,null,null,null,null,null,null,null,null,null,null,null,null,null,null,null,null,null,null,null,null,null,null,null,null,null,null,null,null,null,null,null,null,null,null,null,null,null,null,null,null,null,null,null,null,null,null,null,null,null,null,null,null,null,null,null,null,null,null,null,null,null,null,null,null,null,null,null,null,null,null,null,null,null,null,null,null,null,null,null,null,null,null,null,null,null,null,null,null,null,null,null,null,null,null,null,null,null,null,null,null,null,null,null,null,null,null,null,null,null,null,null,null,null,null,null,null,null,null,null,null,null,null,null,null,null,null,null,null,null,null,null,null,null,null,null,null,null,null,null,null,null,null,null,null,null,null,null,null,null,null,null,null,null,null,null,null,null,null,null,null,null,null,null,null,null,null,null,null,null,null,null,null,null,null,null,null,null,null,null,null,null,null,null,null,null,null,null,null,null,null,null,null,null,null,null,null,null,null,null,null,null,null,null,null,null,null,null,null,null,null,null,null,null,null,null,null,null,null,null,null,null,null,null,null,null,null,null,null,null,null,null,null,null,null,null,null,null,null,null,null,null,null,null,null,null,null,null,null,null,null,null,null,null,null,null,null,null,null,null,null,null,null,null,null,null,null,null,null,null,null,null,null,null,null,null,null,null,null,null,null,null,null,null,null,null,null,null,null,null,null,null,null,null,null,null,null,null,null,null,null,null,null,null,null,null,null,null,null,null,null,null,null,null,null,null,null,null,null,null,null,null,null,null,null,null,null,null,null,null,null,null,null,null,null,null,null,null,null,null,null,null,null,null,null,null,null,null,null,null,null,null,null,null,null,null,null,null,null,null,null,null,null,null,null,null,null,null,null,null,null,null,null,null,null,null,null,null,null,null,null,null,null,null,null,null,null,null,null,null,null,null,null,null,null,null,null,null,null,null,null,null,null,null,null,null,null,null,null,null,null,null,null,null,null,null,null,null,null,null,null,null,null,null,null,null,null,null,null,null,null,null,null,null,null,null,null,null,null,null,null,null,null,null,null,null,null,null,null,null,null,null,null,null,null,null,null,null,null,null,null,null,null,null,null,null,null,null,null,null,null,null,null,null,null,null,null,null,null,null,null,null,null,null,null,null,null,null,null,null,null,null,null,null,null,null,null,null,null,null,null,null,null,null,null,null,null,null,null,null,null,null,null,null,null,null,null,null,null,null,null,null,null,null,null,null,null,null,null,null,null,null,null,null,null,null,null,null,null,null,null,null,null,null,null,null,null,null,null,null,null,null,null,null,null,null,null,null,null,null,null,null,null,null,null,null,null,null,null,null,null,null,null,null,null,null,null,null,null,null,null,null,null,null,null,null,null,null,null,null,null,null,null,null,null,null,null,null,null,null,null,null,null,null,null,null,null,null,null,null,null,null,null,null,null,null,null,null,null,null,null,null,null,null,null,null,null,null,null,null,null,null,null,null,null,null,null,null,null,null,null,null,null,null,null,null,null,null,null,null,null,null,null,null,null,null,null,null,null,null,null,null,null,null,null,null,null,null,null,null,null,null,null,null,null,null,null,null,null,null,null,null,null,null,null,null,null,null,null,null,null,null,null,null,null,null,null,null,null,null,null,null,null,null,null,null,null,null,null,null,null,null,null,null,null,null,null,null,null,null,null,null,null,null,null,null,null,null,null,null,null,null,null,null,null,null,null,null,null,null,null,null,null,null,null,null,null,null,null,null,null,null,null,null,null,null,null,null,null,null,null,null,null,null,null,null,null,null,null,null,null,null,null,null,null,null,null,null,null,null,null,null,null,null,null,null,null,null,null,null,null,null,null,null,null,null,null,null,null,null,null,null,null,null,null,null,null,null,null,null,null,null,null,null,null,null,null,null,null,null,null,null,null,null,null,null,null,null,null,null,null,null,null,null,null,null,null,null,null,null,null,null,null,null,null,null,null,null,null,null,null,null,null,null,null,null,null,null,null,null,null,null,null,null,null,null,null,null,null,null,null,null,null,null,null,null,null,null,null,null,null,null,null,null,null,null,null,null,null,null,null,null,null,null,null,null,null,null,null,null,null,null,null,null,null,null,null,null,null,null,null,null,null,null,null,null,null,null,null,null,null,null,null,null,null,null,null,null,null,null,null,null,null,null,null,null,null,null,null,null,null,null,null,null,null,null,null,null,null,null,null,null,null,null,null,null,null,null,null,null,null,null,null,null,null,null,null,null,null,null,null,null,null,null,null,null,null,null,null,null,null,null,null,null,null,null,null,null,null,null,null,null,null,null,null,null,null,null,null,null,null,null,null,null,null,null,null,null,null,null,null,null,null,null,null,null,null,null,null,null,null,null,null,null,null,null,null,null,null,null,null,null,null,null,null,null,null,null,null,null,null,null,null,null,null,null,null,null,null,null,null,null,null,null,null,null,null,null,null,null,null,null,null,null,null,null,null,null,null,null,null,null,null,null,null,null,null,null,null,null,null,null,null,null,null,null,null,null,null,null,null,null,null,null,null,null,null,null,null,null,null,null,null,null,null,null,null,null,null,null,null,null,null,null,null,null,null,null,null,null,null,null,null,null,null,null,null,null,null,null,null,null,null,null,null,null,null,null,null,null,null,null,null,null,null,null,null,null,null,null,null,null,null,null,null,null,null,null,null,null,null,null,null,null,null,null,null,null,null,null,null,null,null,null,null,null,null,null,null,null,null,null,null,null,null,null,null,null,null,null,null,null,null,null,null,null,null,null,null,null,null,null,null,null,null,null,null,null,null,null,null,null,null,null,null,null,null,null,null,null,null,null,null,null,null,null,null,null,null,null,null,null,null,null,null,null,null,null,null,null,null,null,null,null,null,null,null,null,null,null,null,null,null,null,null,null,null,null,null,null,null,null,null,null,null,null,null,null,null,null,null,null,null,null,null,null,null,null,null,null,null,null,null,null,null,null,null,null,null,null,null,null,null,null,null,null,null,null,null,null,null,null,null,null,null,null,null,null,null,null,null,null,null,null,null,null,null,null,null,null,null,null,null,null,null,null,null,null,null,null,null,null,null,null,null,null,null,null,null,null,null,null,null,null,null,null,null,null,null,null,null,null,null,null,null,null,null,null,null,null,null,null,null,null,null,null,null,null,null,null,null,null,null,null,null,null,null,null,null,null,null,null,null,null,null,null,null,null,null,null,null,null,null,null,null,null,null,null,null,null,null,null,null,null,null,null,null,null,null,null,null,null,null,null,null,null,null,null,null,null,null,null,null,null,null,null,null,null,null,null,null,null,null,null,null,null,null,null,null,null,null,null,null,null,null,null,null,null,null,null,null,null,null,null,null,null,null,null,null,null,null,null,null,null,null,null,null,null,null,null,null,null,null,null,null,null,null,null,null,null,null,null,null,null,null,null,null,null,null,null,null,null,null,null,null,null,null,null,null,null,null,null,null,null,null,null,null,null,null,null,null,null,null,null,null,null,null,null,null,null,null,null,null,null,null,null,null,null,null,null,null,null,null,null,null,null,null,null,null,null,null,null,null,null,null,null,null,null,null,null,null,null,null,null,null,null,null,null,null,null,null,null,null,null,null,null,null,null,null,null,null,null,null,null,null,null,null,null,null,null,null,null,null,null,null,null,null,null,null,null,null,null,null,null,null,null,null,null,null,null,null,null,null,null,null,null,null,null,null,null,null,null,null,null,null,null,null,null,null,null,null,null,null,null,null,null,null,null,null,null,null,null,null,null,null,null,null,null,null,null,null,null,null,null,null,null,null,null,null,null,null,null,null,null,null,null,null,null,null,null,null,null,null,null,null,null,null,null,null,null,null,null,null,null,null,null,null,null,null,null,null,null,null,null,null,null,null,null,null,null,null,null,null,null,null,null,null,null,null,null,null,null,null,null,null,null,null,null,null,null,null,null,null,null,null,null,null,null,null,null,null,null,null,null,null,null,null,null,null,null,null,null,null,null,null,null,null,null,null,null,null,null,null,null,null,null,null,null,null,null,null,null,null,null,null,null,null,null,null,null,null,null,null,null,null,null,null,null,null,null,null,null,null,null,null,null,null,null,null,null,null,null,null,null,null,null,null,null,null,null,null,null,null,null,null,null,null,null,null,null,null,null,null,null,null,null,null,null,null,null,null,null,null,null,null,null,null,null,null,null,null,null,null,null,null,null,null,null,null,null,null,null,null,null,null,null,null,null,null,null,null,null,null,null,null,null,null,null,null,null,null,null,null,null,null,null,null,null,null,null,null,null,null,null,null,null,null,null,null,null,null,null,null,null,null,null,null,null,null,null,null,null,null,null,null,null,null,null,null,null,null,null,null,null,null,null,null,null,null,null,null,null,null,null,null,null,null,null,null,null,null,null,null,null,null,null,null,null,null,null,null,null,null,null,null,null,null,null,null,null,null,null,null,null,null,null,null,null,null,null,null,null,null,null,null,null,null,null,null,null,null,null,null,null,null,null,null,null,null,null,null,null,null,null,null,null,null,null,null,null,null,null,null,null,null,null,null,null,null,null,null,null,null,null,null,null,null,null,null,null,null,null,null,null,null,null,null,null,null,null,null,null,null,null,null,null,null,null,null,null,null,null,null,null,null,null,null,null,null,null,null,null,null,null,null,null,null,null,null,null,null,null,null,null,null,null,null,null,null,null,null,null,null,null,null,null,null,null,null,null,null,null,null,null,null,null,null,null,null,null,null,null,null,null,null,null,null,null,null,null,null,null,null,null,null,null,null,null,null,null,null,null,null,null,null,null,null,null,null,null,null,null,null,null,null,null,null,null,null,null,null,null,null,null,null,null,null,null,null,null,null,null,null,null,null,null,null,null,null,null,null,null,null,null,null,null,null,null,null,null,null,null,null,null,null,null,null,null,null,null,null,null,null,null,null,null,null,null,null,null,null,null,null,null,null,null,null,null,null,null,null,null,null,null,null,null,null,null,null,null,null,null,null,null,null,null,null,null,null,null,null,null,null,null,null,null,null,null,null,null,null,null,null,null,null,null,null,null,null,null,null,null,null,null,null,null,null,null,null,null,null,null,null,null,null,null,null,null,null,null,null,null,null,null,null,null,null,null,null,null,null,null,null,null,null,null,null,null,null,null,null,null,null,null,null,null,null,null,null,null,null,null,null,null,null,null,null,null,null,null,null,null,null,null,null,null,null,null,null,null,null,null,null,null,null,null,null,null,null,null,null,null,null,null,null,null,null,null,null,null,null,null,null,null,null,null,null,null,null,null,null,null,null,null,null,null,null,null,null,null,null,null,null,null,null,null,null,null,null,null,null,null,null,null,null,null,null,null,null,null,null,null,null,null,null,null,null,null,null,null,null,null,null,null,null,null,null,null,null,null,null,null,null,null,null,null,null,null,null,null,null,null,null,null,null,null,null,null,null,null,null,null,null,null,null,null,null,null,null,null,null,null,null,null,null,null,null,null,null,null,null,null,null,null,null,null,null,null,null,null,null,null,null,null,null,null,null,null,null,null,null,null,null,null,null,null,null,null,null,null,null,null,null,null,null,null,null,null,null,null,null,null,null,null,null,null,null,null,null,null,null,null,null,null,null,null,null,null,null,null,null,null,null,null,null,null,null,null,null,null,null,null,null,null,null,null,null,null,null,null,null,null,null,null,null,null,null,null,null,null,null,null,null,null,null,null,null,null,null,null,null,null,null,null,null,null,null,null,null,null,null,null,null,null,null,null,null,null,null,null,null,null,null,null,null,null,null,null,null,null,null,null,null,null,null,null,null,null,null,null,null,null,null,null,null,null,null,null,null,null,null,null,null,null,null,null,null,null,null,null,null,null,null,null,null,null,null,null,null,null,null,null,null,null,null,null,null,null,null,null,null,null,null,null,null,null,null,null,null,null,null,null,null,null,null,null,null,null,null,null,null,null,null,null,null,null,null,null,null,null,null,null,null,null,null,null,null,null,null,null,null,null,null,null,null,null,null,null,null,null,null,null,null,null,null,null,null,null,null,null,null,null,null,null,null,null,null,null,null,null,null,null,null,null,null,null,null,null,null,null,null,null,null,null,null,null,null,null,null,null,null,null,null,null,null,null,null,null,null,null,null,null,null,null,null,null,null,null,null,null,null,null,null,null,null,null,null,null,null,null,null,null,null,null,null,null,null,null,null,null,null,null,null,null,null,null,null,null,null,null,null,null,null,null,null,null,null,null,null,null,null,null,null,null,null,null,null,null,null,null,null,null,null,null,null,null,null,null,null,null,null,null,null,null,null,null,null,null,null,null,null,null,null,null,null,null,null,null,null,null,null,null,null,null,null,null,null,null,null,null,null,null,null,null,null,null,null,null,null,null,null,null,null,null,null,null,null,null,null,null,null,null,null,null,null,null,null,null,null,null,null,null,null,null,null,null,null,null,null,null,null,null,null,null,null,null,null,null,null,null,null,null,null,null,null,null,null,null,null,null,null,null,null,null,null,null,null,null,null,null,null,null,null,null,null,null,null,null,null,null,null,null,null,null,null,null,null,null,null,null,null,null,null,null,null,null,null,null,null,null,null,null,null,null,null,null,null,null,null,null,null,null,null,null,null,null,null,null,null,null,null,null,null,null,null,null,null,null,null,null,null,null,null,null,null,null,null,null,null,null,null,null,null,null,null,null,null,null,null,null,null,null,null,null,null,null,null,null,null,null,null,null,null,null,null,null,null,null,null,null,null,null,null,null,null,null,null,null,null,null,null,null,null,null,null,null,null,null,null,null,null,null,null,null,null,null,null,null,null,null,null,null,null,null,null,null,null,null,null,null,null,null,null,null,null,null,null,null,null,null,null,null,null,null,null,null,null,null,null,null,null,null,null,null,null,null,null,null,null,null,null,null,null,null,null,null,null,null,null,null,null,null,null,null,null,null,null,null,null,null,null,null,null,null,null,null,null,null,null,null,null,null,null,null,null,null,null,null,null,null,null,null,null,null,null,null,null,null,null,null,null,null,null,null,null,null,null,null,null,null,null,null,null,null,null,null,null,null,null,null,null,null,null,null,null,null,null,null,null,null,null,null,null,null,null,null,null,null,null,null,null,null,null,null,null,null,null,null,null,null,null,null,null,null,null,null,null,null,null,null,null,null,null,null,null,null,null,null,null,null,null,null,null,null,null,null,null,null,null,null,null,null,null,null,null,null,null,null,null,null,null,null,null,null,null,null,null,null,null,null,null,null,null,null,null,null,null,null,null,null,null,null,null,null,null,null,null,null,null,null,null,null,null,null,null,null,null,null,null,null,null,null,null,null,null,null,null,null,null,null,null,null,null,null,null,null,null,null,null,null,null,null,null,null,null,null,null,null,null,null,null,null,null,null,null,null,null,null,null,null,null,null,null,null,null,null,null,null,null,null,null,null,null,null,null,null,null,null,null,null,null,null,null,null,null,null,null,null,null,null,null,null,null,null,null,null,null,null,null,null,null,null,null,null,null,null,null,null,null,null,null,null,null,null,null,null,null,null,null,null,null,null,null,null,null,null,null,null,null,null,null,null,null,null,null,null,null,null,null,null,null,null,null,null,null,null,null,null,null,null,null,null,null,null,null,null,null,null,null,null,null,null,null,null,null,null,null,null,null,null,null,null,null,null,null,null,null,null,null,null,null,null,null,null,null,null,null,null,null,null,null,null,null,null,null,null,null,null,null,null,null,null,null,null,null,null,null,null,null,null,null,null,null,null,null,null,null,null,null,null,null,null,null,null,null,null,null,null,null,null,null,null,null,null,null,null,null,null,null,null,null,null,null,null,null,null,null,null,null,null,null,null,null,null,null,null,null,null,null,null,null,null,null,null,null,null,null,null,null,null,null,null,null,null,null,null,null,null,null,null,null,null,null,null,null,null,null,null,null,null,null,null,null,null,null,null,null,null,null,null,null,null,null,null,null,null,null,null,null,null,null,null,null,null,null,null,null,null,null,null,null,null,null,null,null,null,null,null,null,null,null,null,null,null,null,null,null,null,null,null,null,null,null,null,null,null,null,null,null,null,null,null,null,null,null,null,null,null,null,null,null,null,null,null,null,null,null,null,null,null,null,null,null,null,null,null,null,null,null,null,null,null,null,null,null,null,null,null,null,null,null,null,null,null,null,null,null,null,null,null,null,null,null,null,null,null,null,null,null,null,null,null,null,null,null,null,null,null,null,null,null,null,null,null,null,null,null,null,null,null,null,null,null,null,null,null,null,null,null,null,null,null,null,null,null,null,null,null,null,null,null,null,null,null,null,null,null,null,null,null,null,null,null,null,null,null,null,null,null,null,null,null,null,null,null,null,null,null,null,null,null,null,null,null,null,null,null,null,null,null,null,null,null,null,null,null,null,null,null,null,null,null,null,null,null,null,null,null,null,null,null,null,null,null,null,null,null,null,null,null,null,null,null,null,null,null,null,null,null,null,null,null,null,null,null,null,null,null,null,null,null,null,null,null,null,null,null,null,null,null,null,null,null,null,null,null,null,null,null,null,null,null,null,null,null,null,null,null,null,null,null,null,null,null,null,null,null,null,null,null,null,null,null,null,null,null,null,null,null,null,null,null,null,null,null,null,null,null,null,null,null,null,null,null,null,null,null,null,null,null,null,null,null,null,null,null,null,null,null,null,null,null,null,null,null,null,null,null,null,null,null,null,null,null,null,null,null,null,null,null,null,null,null,null,null,null,null,null,null,null,null,null,null,null,null,null,null,null,null,null,null,null,null,null,null,null,null,null,null,null,null,null,null,null,null,null,null,null,null,null,null,null,null,null,null,null,null,null,null,null,null,null,null,null,null,null,null,null,null,null,null,null,null,null,null,null,null,null,null,null,null,null,null,null,null,null,null,null,null,null,null,null,null,null,null,null,null,null,null,null,null,null,null,null,null,null,null,null,null,null,null,null,null,null,null,null,null,null,null,null,null,null,null,null,null,null,null,null,null,null,null,null,null,null,null,null,null,null,null,null,null,null,null,null,null,null,null,null,null,null,null,null,null,null,null,null,null,null,null,null,null,null,null,null,null,null,null,null,null,null,null,null,null,null,null,null,null,null,null,null,null,null,null,null,null,null,null,null,null,null,null,null,null,null,null,null,null,null,null,null,null,null,null,null,null,null,null,null,null,null,null,null,null,null,null,null,null,null,null,null,null,null,null,null,null,null,null,null,null,null,null,null,null,null,null,null,null,null,null,null,null,null,null,null,null,null,null,null,null,null,null,null,null,null,null,null,null,null,null,null,null,null,null,null,null,null,null,null,null,null,null,null,null,null,null,null,null,null,null,null,null,null,null,null,null,null,null,null,null,null,null,null,null,null,null,null,null,null,null,null,null,null,null,null,null,null,null,null,null,null,null,null,null,null,null,null,null,null,null,null,null,null,null,null,null,"DAB2016"]

{"sheet":"BD Caminhos","index":16,"n_rows":14,"n_cols":10,"rows_kept":14,"cut":false,"hidden":false,"merged":[]}
[null,"ANO","MÊS","ATIVIDADE"]
[null,2016,"Janeiro","Atividade 1"]
[null,2016,"Fevereiro",{"$f":"D2","v":"Atividade 1"},null,null,null,null,null,"Suinocultura"]
[null,2016,"Março",{"$f":"D3","v":"Atividade 1"},null,null,null,null,null,"Lavoura de Soja"]
[null,2016,"Abril","Atividade 1",null,null,null,null,null,"Lavoura de Milho"]
[null,2016,"Maio","Atividade 1",null,null,null,null,null,"Bovinocultura de Leite"]
[null,2016,"Junho","Atividade 1",null,null,null,null,null,"Bovinocultura de Corte"]
[null,2016,"Julho","Atividade 1",null,null,null,null,null,"Atividade 7"]
[null,2016,"Agosto","Atividade 1",null,null,null,null,null,"Atividade 8"]
[null,2016,"Setembro","Atividade 1",null,null,null,null,null,"Atividade 9"]
[null,2016,"Outubro","Atividade 1",null,null,null,null,null,"Pessoais"]
[null,2016,"Novembro","Atividade 1",null,null,null,null,null,"Diversos"]
[null,2016,"Dezembro","Atividade 1"]
[null,2016,"TOTAL","Atividade 1"]